{"text_format":"1","workbook":"xlsx","n_sheets":14,"sheets":["PV","PV2","PV3","PV4","PV5","PV6","PV7","PV8","Vyplnenie PV","KMVP","vyplnenie KMVP","VEMA","Zoznam činností","Číselníky"],"not_rendered":{"charts":0,"images":1,"macros":0,"external_links":0,"defined_names":14,"comments":0,"pivot_tables":0},"unopened":[],"bounds":{"document_bytes":16777216,"sheet_cells":100000,"rows_first":2000,"rows_last":500,"rows_between":2000,"halvings":0,"cell_chars":16384,"cell_head_chars":4096},"cells_cut":0,"cells_raw":0,"read":"whole","date_system":"1900"}

{"sheet":"PV","index":0,"n_rows":199,"n_cols":26,"rows_kept":199,"cut":false,"hidden":false,"merged":[[138,0,138,6],[138,7,138,11],[137,0,137,6],[137,7,137,11],[135,7,135,11],[115,2,116,11],[136,7,136,11],[118,2,118,11],[5,5,5,7],[5,8,5,9],[120,0,120,2],[122,0,122,2],[120,3,120,5],[122,3,122,5],[120,9,120,11],[122,7,122,10],[14,0,14,4],[7,5,7,11],[7,0,7,4],[8,0,8,4],[9,0,9,4],[10,0,11,4],[12,0,12,4],[20,5,20,8],[33,5,33,8],[8,5,8,11],[9,5,9,11],[15,0,15,4],[18,4,19,4],[18,0,19,0],[18,1,19,1],[18,2,18,3],[16,0,16,4],[15,5,15,10],[136,0,136,6],[50,5,50,8],[51,5,51,8],[34,5,34,8],[36,5,36,8],[10,5,11,11],[14,5,14,11],[12,5,12,11],[18,11,19,11],[18,9,19,9],[16,5,16,9],[18,5,19,8],[26,5,26,8],[18,10,19,10],[111,5,111,8],[112,5,112,8],[30,5,30,8],[37,5,37,8],[39,5,39,8],[40,5,40,8],[38,5,38,8],[35,5,35,8],[32,5,32,8],[52,5,52,8],[141,0,141,11],[74,5,74,8],[127,0,128,11],[126,0,126,11],[124,0,125,11],[98,5,98,8],[107,5,107,8],[134,0,134,11],[135,0,135,6],[140,0,140,11],[101,5,101,8],[104,5,104,8],[110,5,110,8],[80,5,80,8],[83,5,83,8],[82,5,82,8],[84,5,84,8],[85,5,85,8],[87,5,87,8],[88,5,88,8],[90,5,90,8],[109,5,109,8],[100,5,100,8],[102,5,102,8],[54,5,54,8],[55,5,55,8],[57,5,57,8],[58,5,58,8],[60,5,60,8],[21,5,21,8],[22,5,22,8],[24,5,24,8],[25,5,25,8],[27,5,27,8],[28,5,28,8],[23,5,23,8],[29,5,29,8],[42,5,42,8],[41,5,41,8],[53,5,53,8],[47,5,47,8],[43,5,43,8],[45,5,45,8],[44,5,44,8],[46,5,46,8],[48,5,48,8],[49,5,49,8],[31,5,31,8],[67,5,67,8],[69,5,69,8],[70,5,70,8],[72,5,72,8],[68,5,68,8],[71,5,71,8],[61,5,61,8],[63,5,63,8],[56,5,56,8],[59,5,59,8],[64,5,64,8],[66,5,66,8],[65,5,65,8],[62,5,62,8],[73,5,73,8],[75,5,75,8],[76,5,76,8],[78,5,78,8],[79,5,79,8],[81,5,81,8],[77,5,77,8],[89,5,89,8],[86,5,86,8],[103,5,103,8],[105,5,105,8],[106,5,106,8],[108,5,108,8],[91,5,91,8],[93,5,93,8],[94,5,94,8],[96,5,96,8],[97,5,97,8],[99,5,99,8],[92,5,92,8],[95,5,95,8]]}
[]
[null,null,null,null,null,null,null,null,null,null,null,null,null,null,null,null,null,null,null,null,{"$f":"VLOOKUP(F17,A149:F160,6,0)","v":9}]
[null,null,null,null,null,null,null,null,null,null,null,null,null,null,null,null,null,null,null,null,{"$f":"IF(U17=\"\",\"\",LEFT(U17,1))","v":"M"}]
[null,null,null,null,null,null,null,null,null,null,null,null,null,null,null,null,null,null,null,null,{"$f":"IF(U17=\"\",\"\",LEFT(RIGHT(U17,LEN(U17)-FIND(\" \",U17,1)),1))","v":"P"}]
[]
[null,null,null,null,null,"PRACOVNÝ VÝKAZ č. ",null,null,{"$f":"IF(U2>9,CONCATENATE(U2,\"/\",U3,U4,\"/01\"),CONCATENATE(\"0\",U2,\"/\",U3,U4,\"/01\"))","v":"09/MP/01"},null,null,null,null,null,null,null,null,null,null,null,{"$f":"SUBSTITUTE(F15,\"Ing.\",\"\")","v":"Mgr. Meno Priezvisko, PhD."}]
[null,null,null,null,null,null,null,null,null,null,null,null,null,null,null,null,null,null,null,null,{"$f":"SUBSTITUTE(U6,\"Mgr.\",\"\")","v":" Meno Priezvisko, PhD."}]
["Operačný program:",null,null,null,null,"Ľudské zdroje",null,null,null,null,null,null,null,null,null,null,null,null,null,null,{"$f":"SUBSTITUTE(U7,\"Bc.\",\"\")","v":" Meno Priezvisko, PhD."}]
["Programové obdobie:",null,null,null,null,"2014-2020",null,null,null,null,null,null,null,null,null,null,null,null,null,null,{"$f":"SUBSTITUTE(U8,\"PaedDr.\",\"\")","v":" Meno Priezvisko, PhD."}]
["Prijímateľ:",null,null,null,null,"Metodicko-pedagogické centrum",null,null,null,null,null,null,null,null,null,null,null,null,null,null,{"$f":"SUBSTITUTE(U9,\"PhDr.\",\"\")","v":" Meno Priezvisko, PhD."}]
["Názov projektu:",null,null,null,null,"Profesijný rozvoj učiteľov (TEACHERS)",null,null,null,null,null,null,null,null,null,null,null,null,null,null,{"$f":"SUBSTITUTE(U10,\"Doc.\",\"\")","v":" Meno Priezvisko, PhD."}]
[null,null,null,null,null,null,null,null,null,null,null,null,null,null,null,null,null,null,null,null,{"$f":"SUBSTITUTE(U11,\"ThDr.\",\"\")","v":" Meno Priezvisko, PhD."}]
["Kód ITMS projektu:",null,null,null,null,"312011AUN7",null,null,null,null,null,null,null,null,null,null,null,null,null,null,{"$f":"SUBSTITUTE(U12,\"MUDr.\",\"\")","v":" Meno Priezvisko, PhD."}]
[null,null,null,null,null,null,null,null,null,null,null,null,null,null,null,null,null,null,null,null,{"$f":"SUBSTITUTE(U13,\"Dr.\",\"\")","v":" Meno Priezvisko, PhD."}]
["Meno a priezvisko osoby:",null,null,null,null,"Mgr. Meno Priezvisko, PhD.",null,null,null,null,null,null,null,null,null,null,null,null,null,null,{"$f":"SUBSTITUTE(U14,\"habil.\",\"\")","v":" Meno Priezvisko, PhD."}]
["Funkcia/Právny vzťah",null,null,null,null,null,null,null,null,null,null,"PP",null,null,null,null,null,null,null,null,{"$f":"SUBSTITUTE(U15,\"MUDr.\",\"\")","v":" Meno Priezvisko, PhD."}]
["Obdobie vykonávania činností:",null,null,null,null,"September",null,null,null,null,2020,null,null,null,null,null,null,null,null,null,{"$f":"TRIM(U16)","v":"Meno Priezvisko, PhD."}]
[]
["Dátum","Deň","Čas vykonania\n prác",null,"Počet \nodpracovaných hodín*","Detailný popis činností vykonávaných na základe zmluvy o poskytnutí NFP a popis výsledkov vykonanej činnosti",null,null,null,"Počet odpracovaných hodín MRR*","Počet odpracovaných hodín VRR*","Miesto výkonávania činnosti",null,null,null,null,null,null,null,null,"Nastavenie času vzhľadom na obed"]
[null,null,"Od","Do",null,null,null,null,null,null,null,null,null,"Pozícia","VRR","Miesto","Činnosť","Pracovný pomer",null,null,null,"PV","PV2","PV3","PV4","Všetky PV"]
[1,{"$f":"IF($D$144=1,\"Po\",IF($D$144=2,\"Ut\",IF($D$144=3,\"St\",IF($D$144=4,\"Št\",IF($D$144=5,\"Pi\",IF($D$144=6,\"So\",IF($D$144=7,\"Ne\",\"Nastala chyba\")))))))","v":"Ut"},null,null,{"$f":"IF(OR(U21=\"dobre\",U21=\"obed\"),IF(OR(B21=\"So\",B21=\"Ne\"),\"\",IF(OR(D21<=VEMA!P$18,C21>=VEMA!Q$18),(D21-C21)*24,(D21-C21)*24-VEMA!R$18)),\"<< zlý čas\")","v":0},null,null,null,null,{"$f":"IF(B21=\"\",\"\",IF(B21=\"So\",\"\",(IF(B21=\"Ne\",\"\",(ROUND(E21-K21,2))))))","v":0},{"$f":"IF(B21=\"So\",\"\",(IF(B21=\"Ne\",\"\",(IF(B21=\"\",\"\",(IF(COUNTIF(Pozicia,$F$16),ROUND(VRR*E21,2),0)))))))","v":0},null,null,"4.1.2. Člen expertnej skupiny",0.13689999999999999,"Bratislava","4.1.2. ČES: Spracovanie východísk inovácie a tvorby nových profesijných štandardov.","PP",{"$f":"IF(SUM(E21:E23)=0,\"\",SUM(E21:E23))","v":""},null,{"$f":"IF(OR(B21=\"So\",B21=\"Ne\"),\"dobre\",IF(C21>D21,\"zle\",IF(AND(C21<=VEMA!P$18,VEMA!Q$18<=D21),\"obed\",IF(OR(D21<=VEMA!P$18,VEMA!Q$18<=C21),\"dobre\",\"zle\"))))","v":"dobre"},{"$f":"IF(COUNTIF(U21:U23,\"obed\")>0,\"obed\",\"\")","v":""},{"$f":"IF(COUNTIF('PV2'!U21:U23,\"obed\")>0,\"obed\",\"\")","v":""},{"$f":"IF(COUNTIF('PV3'!U21:U23,\"obed\")>0,\"obed\",\"\")","v":""},{"$f":"IF(COUNTIF('PV4'!U21:U23,\"obed\")>0,\"obed\",\"\")","v":""},{"$f":"IF(COUNTIF(V21:Y21,\"obed\")>0,\"obed\",\"\")","v":""}]
[null,{"$f":"B21","v":"Ut"},null,null,{"$f":"IF(OR(U22=\"dobre\",U22=\"obed\"),IF(OR(B22=\"So\",B22=\"Ne\"),\"\",IF(OR(D22<=VEMA!P$18,C22>=VEMA!Q$18),(D22-C22)*24,(D22-C22)*24-VEMA!R$18)),\"<< zlý čas\")","v":0},null,null,null,null,0,0,null,null,"4.1.4. Člen pracovnej skupiny",0.13689999999999999,"Banská Bystrica","4.1.2. ČES: Určenie základných princípov revízie profesijných štandardov.","D","",null,{"$f":"IF(OR(B22=\"So\",B22=\"Ne\"),\"dobre\",IF(C22>D22,\"zle\",IF(AND(C22<=VEMA!P$18,VEMA!Q$18<=D22),\"obed\",IF(OR(D22<=VEMA!P$18,VEMA!Q$18<=C22),\"dobre\",\"zle\"))))","v":"dobre"}]
[null,{"$f":"B22","v":"Ut"},null,null,{"$f":"IF(OR(U23=\"dobre\",U23=\"obed\"),IF(OR(B23=\"So\",B23=\"Ne\"),\"\",IF(OR(D23<=VEMA!P$18,C23>=VEMA!Q$18),(D23-C23)*24,(D23-C23)*24-VEMA!R$18)),\"<< zlý čas\")","v":0},null,null,null,null,0,0,null,null,"4.1.8. Regionálny odborný riešiteľ 1.2",0.13689999999999999,"Prešov","4.1.2. ČES: Stanovenie východísk pre inovovaný a nový profesijný štandard; vypracovanie vzorového profesijného štandardu (modelu) ","F","",null,{"$f":"IF(OR(B23=\"So\",B23=\"Ne\"),\"dobre\",IF(C23>D23,\"zle\",IF(AND(C23<=VEMA!P$18,VEMA!Q$18<=D23),\"obed\",IF(OR(D23<=VEMA!P$18,VEMA!Q$18<=C23),\"dobre\",\"zle\"))))","v":"dobre"}]
[{"$f":"IF(A21=\"\",\"\",IF(A21+1<=$D$146,A21+1,\"\"))","v":2},{"$f":"IF(A24=\"\",\"\",IF(B21=\"Po\",\"Ut\",IF(B21=\"Ut\",\"St\",IF(B21=\"St\",\"Št\",IF(B21=\"Št\",\"Pi\",IF(B21=\"Pi\",\"So\",IF(B21=\"So\",\"Ne\",IF(B21=\"Ne\",\"Po\",\"\"))))))))","v":"St"},null,null,{"$f":"IF(OR(U24=\"dobre\",U24=\"obed\"),IF(OR(B24=\"So\",B24=\"Ne\"),\"\",IF(OR(D24<=VEMA!P$19,C24>=VEMA!Q$19),(D24-C24)*24,(D24-C24)*24-VEMA!R$19)),\"<< zlý čas\")","v":0},null,null,null,null,0,0,null,null,"4.1.9. Odborný personál podaktivity 1.2",0.13689999999999999,"Košice","4.1.2. ČES: Určenie základných princípov  tvorby nových profesijných štandardov.","I",{"$f":"IF(SUM(E24:E26)=0,\"\",SUM(E24:E26))","v":""},null,{"$f":"IF(OR(B24=\"So\",B24=\"Ne\"),\"dobre\",IF(C24>D24,\"zle\",IF(AND(C24<=VEMA!P$19,VEMA!Q$19<=D24),\"obed\",IF(OR(D24<=VEMA!P$19,VEMA!Q$19<=C24),\"dobre\",\"zle\"))))","v":"dobre"},{"$f":"IF(COUNTIF(U24:U26,\"obed\")>0,\"obed\",\"\")","v":""},{"$f":"IF(COUNTIF('PV2'!U24:U26,\"obed\")>0,\"obed\",\"\")","v":""},{"$f":"IF(COUNTIF('PV3'!U24:U26,\"obed\")>0,\"obed\",\"\")","v":""},{"$f":"IF(COUNTIF('PV4'!U24:U26,\"obed\")>0,\"obed\",\"\")","v":""},{"$f":"IF(COUNTIF(V24:Y24,\"obed\")>0,\"obed\",\"\")","v":""}]
[null,{"$f":"B24","v":"St"},null,null,{"$f":"IF(OR(U25=\"dobre\",U25=\"obed\"),IF(OR(B25=\"So\",B25=\"Ne\"),\"\",IF(OR(D25<=VEMA!P$19,C25>=VEMA!Q$19),(D25-C25)*24,(D25-C25)*24-VEMA!R$19)),\"<< zlý čas\")","v":0},null,null,null,null,0,0,null,null,"4.1.12. Odborný konzultant NOPS",0.13689999999999999,"Komárno","4.1.2. ČES: Účasť na zasadnutí/porade expertnej skupiny.","DD",null,null,{"$f":"IF(OR(B25=\"So\",B25=\"Ne\"),\"dobre\",IF(C25>D25,\"zle\",IF(AND(C25<=VEMA!P$19,VEMA!Q$19<=D25),\"obed\",IF(OR(D25<=VEMA!P$19,VEMA!Q$19<=C25),\"dobre\",\"zle\"))))","v":"dobre"}]
[null,{"$f":"B25","v":"St"},null,null,{"$f":"IF(OR(U26=\"dobre\",U26=\"obed\"),IF(OR(B26=\"So\",B26=\"Ne\"),\"\",IF(OR(D26<=VEMA!P$19,C26>=VEMA!Q$19),(D26-C26)*24,(D26-C26)*24-VEMA!R$19)),\"<< zlý čas\")","v":0},null,null,null,null,0,0,null,null,"4.1.15. Hodnotiteľ NOPS",0.13689999999999999,"Nitra","4.1.2. ČES: Plnenie úloh na základe pokynov Hlavného odborného riešiteľa 1.1.",null,null,null,{"$f":"IF(OR(B26=\"So\",B26=\"Ne\"),\"dobre\",IF(C26>D26,\"zle\",IF(AND(C26<=VEMA!P$19,VEMA!Q$19<=D26),\"obed\",IF(OR(D26<=VEMA!P$19,VEMA!Q$19<=C26),\"dobre\",\"zle\"))))","v":"dobre"}]
[{"$f":"IF(A24=\"\",\"\",IF(A24+1<=$D$146,A24+1,\"\"))","v":3},{"$f":"IF(A27=\"\",\"\",IF(B24=\"Po\",\"Ut\",IF(B24=\"Ut\",\"St\",IF(B24=\"St\",\"Št\",IF(B24=\"Št\",\"Pi\",IF(B24=\"Pi\",\"So\",IF(B24=\"So\",\"Ne\",IF(B24=\"Ne\",\"Po\",\"\"))))))))","v":"Št"},null,null,{"$f":"IF(OR(U27=\"dobre\",U27=\"obed\"),IF(OR(B27=\"So\",B27=\"Ne\"),\"\",IF(OR(D27<=VEMA!P$20,C27>=VEMA!Q$20),(D27-C27)*24,(D27-C27)*24-VEMA!R$20)),\"<< zlý čas\")","v":0},null,null,null,null,0,0,null,null,"4.1.17. Moderátor konferencie",0.13689999999999999,"Trenčín","4.1.2. ČES: Analýza profesijných štandardov, posúdenie obsahu a formálnej štruktúry, identifikácia nedostatkov, návrh na inováciu",null,{"$f":"IF(SUM(E27:E29)=0,\"\",SUM(E27:E29))","v":""},null,{"$f":"IF(OR(B27=\"So\",B27=\"Ne\"),\"dobre\",IF(C27>D27,\"zle\",IF(AND(C27<=VEMA!P$20,VEMA!Q$20<=D27),\"obed\",IF(OR(D27<=VEMA!P$20,VEMA!Q$20<=C27),\"dobre\",\"zle\"))))","v":"dobre"},{"$f":"IF(COUNTIF(U27:U29,\"obed\")>0,\"obed\",\"\")","v":""},{"$f":"IF(COUNTIF('PV2'!U27:U29,\"obed\")>0,\"obed\",\"\")","v":""},{"$f":"IF(COUNTIF('PV3'!U27:U29,\"obed\")>0,\"obed\",\"\")","v":""},{"$f":"IF(COUNTIF('PV4'!U27:U29,\"obed\")>0,\"obed\",\"\")","v":""},{"$f":"IF(COUNTIF(V27:Y27,\"obed\")>0,\"obed\",\"\")","v":""}]
[null,{"$f":"B27","v":"Št"},null,null,{"$f":"IF(OR(U28=\"dobre\",U28=\"obed\"),IF(OR(B28=\"So\",B28=\"Ne\"),\"\",IF(OR(D28<=VEMA!P$20,C28>=VEMA!Q$20),(D28-C28)*24,(D28-C28)*24-VEMA!R$20)),\"<< zlý čas\")","v":0},null,null,null,null,0,0,null,null,"4.1.18. Odborný personál konfrencie",0.13689999999999999,"Trnava","4.1.2.ČES: Koordinácia činností pracovných skupín, usmerňovanie aktivít, konzultácia s členmi pracovných skupín, práca s členmi pracovných skupín, prenos informácií",null,null,null,{"$f":"IF(OR(B28=\"So\",B28=\"Ne\"),\"dobre\",IF(C28>D28,\"zle\",IF(AND(C28<=VEMA!P$20,VEMA!Q$20<=D28),\"obed\",IF(OR(D28<=VEMA!P$20,VEMA!Q$20<=C28),\"dobre\",\"zle\"))))","v":"dobre"}]
[null,{"$f":"B28","v":"Št"},null,null,{"$f":"IF(OR(U29=\"dobre\",U29=\"obed\"),IF(OR(B29=\"So\",B29=\"Ne\"),\"\",IF(OR(D29<=VEMA!P$20,C29>=VEMA!Q$20),(D29-C29)*24,(D29-C29)*24-VEMA!R$20)),\"<< zlý čas\")","v":0},null,null,null,null,0,0,null,null,"4.1.20. Lektor učiteľských fór",0.13689999999999999,"Žilina","4.1.4. ČPS: Analýza profesijného štandardu, identifikácia nedostatkov ",null,null,null,{"$f":"IF(OR(B29=\"So\",B29=\"Ne\"),\"dobre\",IF(C29>D29,\"zle\",IF(AND(C29<=VEMA!P$20,VEMA!Q$20<=D29),\"obed\",IF(OR(D29<=VEMA!P$20,VEMA!Q$20<=C29),\"dobre\",\"zle\"))))","v":"dobre"}]
[{"$f":"IF(A27=\"\",\"\",IF(A27+1<=$D$146,A27+1,\"\"))","v":4},{"$f":"IF(A30=\"\",\"\",IF(B27=\"Po\",\"Ut\",IF(B27=\"Ut\",\"St\",IF(B27=\"St\",\"Št\",IF(B27=\"Št\",\"Pi\",IF(B27=\"Pi\",\"So\",IF(B27=\"So\",\"Ne\",IF(B27=\"Ne\",\"Po\",\"\"))))))))","v":"Pi"},null,null,{"$f":"IF(OR(U30=\"dobre\",U30=\"obed\"),IF(OR(B30=\"So\",B30=\"Ne\"),\"\",IF(OR(D30<=VEMA!P$21,C30>=VEMA!Q$21),(D30-C30)*24,(D30-C30)*24-VEMA!R$21)),\"<< zlý čas\")","v":0},null,null,null,null,0,0,null,null,"4.1.22. Moderátor učiteľských fór",0.13689999999999999,"home office ","4.1.4. ČPS: Predloženie návrhu na inováciu resp. tvorbu profesijného štandardu.",null,{"$f":"IF(SUM(E30:E32)=0,\"\",SUM(E30:E32))","v":""},null,{"$f":"IF(OR(B30=\"So\",B30=\"Ne\"),\"dobre\",IF(C30>D30,\"zle\",IF(AND(C30<=VEMA!P$21,VEMA!Q$21<=D30),\"obed\",IF(OR(D30<=VEMA!P$21,VEMA!Q$21<=C30),\"dobre\",\"zle\"))))","v":"dobre"},{"$f":"IF(COUNTIF(U30:U32,\"obed\")>0,\"obed\",\"\")","v":""},{"$f":"IF(COUNTIF('PV2'!U30:U32,\"obed\")>0,\"obed\",\"\")","v":""},{"$f":"IF(COUNTIF('PV3'!U30:U32,\"obed\")>0,\"obed\",\"\")","v":""},{"$f":"IF(COUNTIF('PV4'!U30:U32,\"obed\")>0,\"obed\",\"\")","v":""},{"$f":"IF(COUNTIF(V30:Y30,\"obed\")>0,\"obed\",\"\")","v":""}]
[null,{"$f":"B30","v":"Pi"},null,null,{"$f":"IF(OR(U31=\"dobre\",U31=\"obed\"),IF(OR(B31=\"So\",B31=\"Ne\"),\"\",IF(OR(D31<=VEMA!P$21,C31>=VEMA!Q$21),(D31-C31)*24,(D31-C31)*24-VEMA!R$21)),\"<< zlý čas\")","v":0},null,null,null,null,0,0,null,null,"4.1.23. Analytik",0.13689999999999999,"home office (miesto trvalého bydliska)","4.1.4. ČPS: Priebežné spracovávanie profesijného štandardu.",null,null,null,{"$f":"IF(OR(B31=\"So\",B31=\"Ne\"),\"dobre\",IF(C31>D31,\"zle\",IF(AND(C31<=VEMA!P$21,VEMA!Q$21<=D31),\"obed\",IF(OR(D31<=VEMA!P$21,VEMA!Q$21<=C31),\"dobre\",\"zle\"))))","v":"dobre"}]
[null,{"$f":"B31","v":"Pi"},null,null,{"$f":"IF(OR(U32=\"dobre\",U32=\"obed\"),IF(OR(B32=\"So\",B32=\"Ne\"),\"\",IF(OR(D32<=VEMA!P$21,C32>=VEMA!Q$21),(D32-C32)*24,(D32-C32)*24-VEMA!R$21)),\"<< zlý čas\")","v":0},null,null,null,null,0,0,null,null,"4.1. 25. Tvorca PV a UZ",0.13689999999999999,null,"4.1.4. ČPS: Finálne spracovanie a odovzdanie profesijného štandardu.",null,null,null,{"$f":"IF(OR(B32=\"So\",B32=\"Ne\"),\"dobre\",IF(C32>D32,\"zle\",IF(AND(C32<=VEMA!P$21,VEMA!Q$21<=D32),\"obed\",IF(OR(D32<=VEMA!P$21,VEMA!Q$21<=C32),\"dobre\",\"zle\"))))","v":"dobre"}]
[{"$f":"IF(A30=\"\",\"\",IF(A30+1<=$D$146,A30+1,\"\"))","v":5},{"$f":"IF(A33=\"\",\"\",IF(B30=\"Po\",\"Ut\",IF(B30=\"Ut\",\"St\",IF(B30=\"St\",\"Št\",IF(B30=\"Št\",\"Pi\",IF(B30=\"Pi\",\"So\",IF(B30=\"So\",\"Ne\",IF(B30=\"Ne\",\"Po\",\"\"))))))))","v":"So"},null,null,{"$f":"IF(OR(U33=\"dobre\",U33=\"obed\"),IF(OR(B33=\"So\",B33=\"Ne\"),\"\",IF(OR(D33<=VEMA!P$22,C33>=VEMA!Q$22),(D33-C33)*24,(D33-C33)*24-VEMA!R$22)),\"<< zlý čas\")","v":""},null,null,null,null,"","",null,null,"4.1.28. Odborný garant PV - inovačné programy (podľa zákona č. 138/2019 Z.z.)",0.13689999999999999,null,"4.1.4. ČPS: Plnenie úloh na základe pokynov Hlavného odborného riešiteľa 1.1.",null,{"$f":"IF(SUM(E33:E35)=0,\"\",SUM(E33:E35))","v":""},null,{"$f":"IF(OR(B33=\"So\",B33=\"Ne\"),\"dobre\",IF(C33>D33,\"zle\",IF(AND(C33<=VEMA!P$22,VEMA!Q$22<=D33),\"obed\",IF(OR(D33<=VEMA!P$22,VEMA!Q$22<=C33),\"dobre\",\"zle\"))))","v":"dobre"},{"$f":"IF(COUNTIF(U33:U35,\"obed\")>0,\"obed\",\"\")","v":""},{"$f":"IF(COUNTIF('PV2'!U33:U35,\"obed\")>0,\"obed\",\"\")","v":""},{"$f":"IF(COUNTIF('PV3'!U33:U35,\"obed\")>0,\"obed\",\"\")","v":""},{"$f":"IF(COUNTIF('PV4'!U33:U35,\"obed\")>0,\"obed\",\"\")","v":""},{"$f":"IF(COUNTIF(V33:Y33,\"obed\")>0,\"obed\",\"\")","v":""}]
[null,{"$f":"B33","v":"So"},null,null,{"$f":"IF(OR(U34=\"dobre\",U34=\"obed\"),IF(OR(B34=\"So\",B34=\"Ne\"),\"\",IF(OR(D34<=VEMA!P$22,C34>=VEMA!Q$22),(D34-C34)*24,(D34-C34)*24-VEMA!R$22)),\"<< zlý čas\")","v":""},null,null,null,null,"","",null,null,"4.1.29. Vedúci vzdelávacej skupiny",0.13689999999999999,null,"4.1.4. ČPS: Účasť na zasadnutí/porade pracovnej skupiny.",null,null,null,{"$f":"IF(OR(B34=\"So\",B34=\"Ne\"),\"dobre\",IF(C34>D34,\"zle\",IF(AND(C34<=VEMA!P$22,VEMA!Q$22<=D34),\"obed\",IF(OR(D34<=VEMA!P$22,VEMA!Q$22<=C34),\"dobre\",\"zle\"))))","v":"dobre"}]
[null,{"$f":"B34","v":"So"},null,null,{"$f":"IF(OR(U35=\"dobre\",U35=\"obed\"),IF(OR(B35=\"So\",B35=\"Ne\"),\"\",IF(OR(D35<=VEMA!P$22,C35>=VEMA!Q$22),(D35-C35)*24,(D35-C35)*24-VEMA!R$22)),\"<< zlý čas\")","v":""},null,null,null,null,"","",null,null,"4.1.30. Lektor PV",0.13689999999999999,null,"4.1.4. ČPS: Zapracovanie pripomienok hodnotiteľa profesijného štandardu, úprava profesijného štandardu na základe hodnotiaceho posudku.",null,null,null,{"$f":"IF(OR(B35=\"So\",B35=\"Ne\"),\"dobre\",IF(C35>D35,\"zle\",IF(AND(C35<=VEMA!P$22,VEMA!Q$22<=D35),\"obed\",IF(OR(D35<=VEMA!P$22,VEMA!Q$22<=C35),\"dobre\",\"zle\"))))","v":"dobre"}]
[{"$f":"IF(A33=\"\",\"\",IF(A33+1<=$D$146,A33+1,\"\"))","v":6},{"$f":"IF(A36=\"\",\"\",IF(B33=\"Po\",\"Ut\",IF(B33=\"Ut\",\"St\",IF(B33=\"St\",\"Št\",IF(B33=\"Št\",\"Pi\",IF(B33=\"Pi\",\"So\",IF(B33=\"So\",\"Ne\",IF(B33=\"Ne\",\"Po\",\"\"))))))))","v":"Ne"},null,null,{"$f":"IF(OR(U36=\"dobre\",U36=\"obed\"),IF(OR(B36=\"So\",B36=\"Ne\"),\"\",IF(OR(D36<=VEMA!P$23,C36>=VEMA!Q$23),(D36-C36)*24,(D36-C36)*24-VEMA!R$23)),\"<< zlý čas\")","v":""},null,null,null,null,"","",null,null,"4.1.32. Poradcovia v školách ",0.13689999999999999,null,"4.1.8. ROR 1.2: Koordinovanie odborných aktivít realizovaných v národnom projekte.",null,{"$f":"IF(SUM(E36:E38)=0,\"\",SUM(E36:E38))","v":""},null,{"$f":"IF(OR(B36=\"So\",B36=\"Ne\"),\"dobre\",IF(C36>D36,\"zle\",IF(AND(C36<=VEMA!P$23,VEMA!Q$23<=D36),\"obed\",IF(OR(D36<=VEMA!P$23,VEMA!Q$23<=C36),\"dobre\",\"zle\"))))","v":"dobre"},{"$f":"IF(COUNTIF(U36:U38,\"obed\")>0,\"obed\",\"\")","v":""},{"$f":"IF(COUNTIF('PV2'!U36:U38,\"obed\")>0,\"obed\",\"\")","v":""},{"$f":"IF(COUNTIF('PV3'!U36:U38,\"obed\")>0,\"obed\",\"\")","v":""},{"$f":"IF(COUNTIF('PV4'!U36:U38,\"obed\")>0,\"obed\",\"\")","v":""},{"$f":"IF(COUNTIF(V36:Y36,\"obed\")>0,\"obed\",\"\")","v":""}]
[null,{"$f":"B36","v":"Ne"},null,null,{"$f":"IF(OR(U37=\"dobre\",U37=\"obed\"),IF(OR(B37=\"So\",B37=\"Ne\"),\"\",IF(OR(D37<=VEMA!P$23,C37>=VEMA!Q$23),(D37-C37)*24,(D37-C37)*24-VEMA!R$23)),\"<< zlý čas\")","v":""},null,null,null,null,"","",null,null,"4.1.33. Poradcovia v školách ",0.13689999999999999,null,"4.1.8. ROR 1.2: Kontrola plnenia čiastkových  úloh na jednotlivých činnostiach/aktivitách.",null,null,null,{"$f":"IF(OR(B37=\"So\",B37=\"Ne\"),\"dobre\",IF(C37>D37,\"zle\",IF(AND(C37<=VEMA!P$23,VEMA!Q$23<=D37),\"obed\",IF(OR(D37<=VEMA!P$23,VEMA!Q$23<=C37),\"dobre\",\"zle\"))))","v":"dobre"}]
[null,{"$f":"B37","v":"Ne"},null,null,{"$f":"IF(OR(U38=\"dobre\",U38=\"obed\"),IF(OR(B38=\"So\",B38=\"Ne\"),\"\",IF(OR(D38<=VEMA!P$23,C38>=VEMA!Q$23),(D38-C38)*24,(D38-C38)*24-VEMA!R$23)),\"<< zlý čas\")","v":""},null,null,null,null,"","",null,null,null,null,null,"4.1.8. ROR 1.2: Účasť na zasadnutí/porade s hlavným odborným riešiteľom podaktivity.",null,null,null,{"$f":"IF(OR(B38=\"So\",B38=\"Ne\"),\"dobre\",IF(C38>D38,\"zle\",IF(AND(C38<=VEMA!P$23,VEMA!Q$23<=D38),\"obed\",IF(OR(D38<=VEMA!P$23,VEMA!Q$23<=C38),\"dobre\",\"zle\"))))","v":"dobre"}]
[{"$f":"IF(A36=\"\",\"\",IF(A36+1<=$D$146,A36+1,\"\"))","v":7},{"$f":"IF(A39=\"\",\"\",IF(B36=\"Po\",\"Ut\",IF(B36=\"Ut\",\"St\",IF(B36=\"St\",\"Št\",IF(B36=\"Št\",\"Pi\",IF(B36=\"Pi\",\"So\",IF(B36=\"So\",\"Ne\",IF(B36=\"Ne\",\"Po\",\"\"))))))))","v":"Po"},null,null,{"$f":"IF(OR(U39=\"dobre\",U39=\"obed\"),IF(OR(B39=\"So\",B39=\"Ne\"),\"\",IF(OR(D39<=VEMA!P$24,C39>=VEMA!Q$24),(D39-C39)*24,(D39-C39)*24-VEMA!R$24)),\"<< zlý čas\")","v":0},null,null,null,null,0,0,null,null,null,null,null,"4.1.8. ROR 1.2: Účasť na porade k národnému projektu ",null,{"$f":"IF(SUM(E39:E41)=0,\"\",SUM(E39:E41))","v":""},null,{"$f":"IF(OR(B39=\"So\",B39=\"Ne\"),\"dobre\",IF(C39>D39,\"zle\",IF(AND(C39<=VEMA!P$24,VEMA!Q$24<=D39),\"obed\",IF(OR(D39<=VEMA!P$24,VEMA!Q$24<=C39),\"dobre\",\"zle\"))))","v":"dobre"},{"$f":"IF(COUNTIF(U39:U41,\"obed\")>0,\"obed\",\"\")","v":""},{"$f":"IF(COUNTIF('PV2'!U39:U41,\"obed\")>0,\"obed\",\"\")","v":""},{"$f":"IF(COUNTIF('PV3'!U39:U41,\"obed\")>0,\"obed\",\"\")","v":""},{"$f":"IF(COUNTIF('PV4'!U39:U41,\"obed\")>0,\"obed\",\"\")","v":""},{"$f":"IF(COUNTIF(V39:Y39,\"obed\")>0,\"obed\",\"\")","v":""}]
[null,{"$f":"B39","v":"Po"},null,null,{"$f":"IF(OR(U40=\"dobre\",U40=\"obed\"),IF(OR(B40=\"So\",B40=\"Ne\"),\"\",IF(OR(D40<=VEMA!P$24,C40>=VEMA!Q$24),(D40-C40)*24,(D40-C40)*24-VEMA!R$24)),\"<< zlý čas\")","v":0},null,null,null,null,0,0,null,null,null,null,null,"4.1.8. ROR 1.2: Koordinovanie odborných aktivít a priebežná kontrola plnenia úloh realizovaných v národnom projekte.",null,null,null,{"$f":"IF(OR(B40=\"So\",B40=\"Ne\"),\"dobre\",IF(C40>D40,\"zle\",IF(AND(C40<=VEMA!P$24,VEMA!Q$24<=D40),\"obed\",IF(OR(D40<=VEMA!P$24,VEMA!Q$24<=C40),\"dobre\",\"zle\"))))","v":"dobre"}]
[null,{"$f":"B40","v":"Po"},null,null,{"$f":"IF(OR(U41=\"dobre\",U41=\"obed\"),IF(OR(B41=\"So\",B41=\"Ne\"),\"\",IF(OR(D41<=VEMA!P$24,C41>=VEMA!Q$24),(D41-C41)*24,(D41-C41)*24-VEMA!R$24)),\"<< zlý čas\")","v":0},null,null,null,null,0,0,null,null,null,null,null,"4.1.9. OPP:  Výkon odbornej činnosti podľa pokynov hlavného odborného riešiteľa podaktivity1.2.",null,null,null,{"$f":"IF(OR(B41=\"So\",B41=\"Ne\"),\"dobre\",IF(C41>D41,\"zle\",IF(AND(C41<=VEMA!P$24,VEMA!Q$24<=D41),\"obed\",IF(OR(D41<=VEMA!P$24,VEMA!Q$24<=C41),\"dobre\",\"zle\"))))","v":"dobre"}]
[{"$f":"IF(A39=\"\",\"\",IF(A39+1<=$D$146,A39+1,\"\"))","v":8},{"$f":"IF(A42=\"\",\"\",IF(B39=\"Po\",\"Ut\",IF(B39=\"Ut\",\"St\",IF(B39=\"St\",\"Št\",IF(B39=\"Št\",\"Pi\",IF(B39=\"Pi\",\"So\",IF(B39=\"So\",\"Ne\",IF(B39=\"Ne\",\"Po\",\"\"))))))))","v":"Ut"},null,null,{"$f":"IF(OR(U42=\"dobre\",U42=\"obed\"),IF(OR(B42=\"So\",B42=\"Ne\"),\"\",IF(OR(D42<=VEMA!P$25,C42>=VEMA!Q$25),(D42-C42)*24,(D42-C42)*24-VEMA!R$25)),\"<< zlý čas\")","v":0},null,null,null,null,0,0,null,null,null,null,null,"4.1.9. OPP: Výkon odbornej činnosti podľa pokynov regionálneho odborného riešiteľa podaktivity 1.2.",null,{"$f":"IF(SUM(E42:E44)=0,\"\",SUM(E42:E44))","v":""},null,{"$f":"IF(OR(B42=\"So\",B42=\"Ne\"),\"dobre\",IF(C42>D42,\"zle\",IF(AND(C42<=VEMA!P$25,VEMA!Q$25<=D42),\"obed\",IF(OR(D42<=VEMA!P$25,VEMA!Q$25<=C42),\"dobre\",\"zle\"))))","v":"dobre"},{"$f":"IF(COUNTIF(U42:U44,\"obed\")>0,\"obed\",\"\")","v":""},{"$f":"IF(COUNTIF('PV2'!U42:U44,\"obed\")>0,\"obed\",\"\")","v":""},{"$f":"IF(COUNTIF('PV3'!U42:U44,\"obed\")>0,\"obed\",\"\")","v":""},{"$f":"IF(COUNTIF('PV4'!U42:U44,\"obed\")>0,\"obed\",\"\")","v":""},{"$f":"IF(COUNTIF(V42:Y42,\"obed\")>0,\"obed\",\"\")","v":""}]
[null,{"$f":"B42","v":"Ut"},null,null,{"$f":"IF(OR(U43=\"dobre\",U43=\"obed\"),IF(OR(B43=\"So\",B43=\"Ne\"),\"\",IF(OR(D43<=VEMA!P$25,C43>=VEMA!Q$25),(D43-C43)*24,(D43-C43)*24-VEMA!R$25)),\"<< zlý čas\")","v":0},null,null,null,null,0,0,null,null,null,null,null,"4.1.9. OPP: Účasť na zasadnutí/porade s hlavným odborným riešiteľom podaktivity.",null,null,null,{"$f":"IF(OR(B43=\"So\",B43=\"Ne\"),\"dobre\",IF(C43>D43,\"zle\",IF(AND(C43<=VEMA!P$25,VEMA!Q$25<=D43),\"obed\",IF(OR(D43<=VEMA!P$25,VEMA!Q$25<=C43),\"dobre\",\"zle\"))))","v":"dobre"}]
[null,{"$f":"B43","v":"Ut"},null,null,{"$f":"IF(OR(U44=\"dobre\",U44=\"obed\"),IF(OR(B44=\"So\",B44=\"Ne\"),\"\",IF(OR(D44<=VEMA!P$25,C44>=VEMA!Q$25),(D44-C44)*24,(D44-C44)*24-VEMA!R$25)),\"<< zlý čas\")","v":0},null,null,null,null,0,0,null,null,null,null,null,"4.1.9. OPP: Účasť na zasadnutí/porade v MPC k implementácii národného projektu.",null,null,null,{"$f":"IF(OR(B44=\"So\",B44=\"Ne\"),\"dobre\",IF(C44>D44,\"zle\",IF(AND(C44<=VEMA!P$25,VEMA!Q$25<=D44),\"obed\",IF(OR(D44<=VEMA!P$25,VEMA!Q$25<=C44),\"dobre\",\"zle\"))))","v":"dobre"}]
[{"$f":"IF(A42=\"\",\"\",IF(A42+1<=$D$146,A42+1,\"\"))","v":9},{"$f":"IF(A45=\"\",\"\",IF(B42=\"Po\",\"Ut\",IF(B42=\"Ut\",\"St\",IF(B42=\"St\",\"Št\",IF(B42=\"Št\",\"Pi\",IF(B42=\"Pi\",\"So\",IF(B42=\"So\",\"Ne\",IF(B42=\"Ne\",\"Po\",\"\"))))))))","v":"St"},null,null,{"$f":"IF(OR(U45=\"dobre\",U45=\"obed\"),IF(OR(B45=\"So\",B45=\"Ne\"),\"\",IF(OR(D45<=VEMA!P$26,C45>=VEMA!Q$26),(D45-C45)*24,(D45-C45)*24-VEMA!R$26)),\"<< zlý čas\")","v":0},null,null,null,null,0,0,null,null,null,null,null,"4.1.9. OPP: Výkon odbornej činnosti (podpora pri plánovaní a realizácií NOPS, vzdelávacích aktivít, konferencií, poradenstva, UF).",null,{"$f":"IF(SUM(E45:E47)=0,\"\",SUM(E45:E47))","v":""},null,{"$f":"IF(OR(B45=\"So\",B45=\"Ne\"),\"dobre\",IF(C45>D45,\"zle\",IF(AND(C45<=VEMA!P$26,VEMA!Q$26<=D45),\"obed\",IF(OR(D45<=VEMA!P$26,VEMA!Q$26<=C45),\"dobre\",\"zle\"))))","v":"dobre"},{"$f":"IF(COUNTIF(U45:U47,\"obed\")>0,\"obed\",\"\")","v":""},{"$f":"IF(COUNTIF('PV2'!U45:U47,\"obed\")>0,\"obed\",\"\")","v":""},{"$f":"IF(COUNTIF('PV3'!U45:U47,\"obed\")>0,\"obed\",\"\")","v":""},{"$f":"IF(COUNTIF('PV4'!U45:U47,\"obed\")>0,\"obed\",\"\")","v":""},{"$f":"IF(COUNTIF(V45:Y45,\"obed\")>0,\"obed\",\"\")","v":""}]
[null,{"$f":"B45","v":"St"},null,null,{"$f":"IF(OR(U46=\"dobre\",U46=\"obed\"),IF(OR(B46=\"So\",B46=\"Ne\"),\"\",IF(OR(D46<=VEMA!P$26,C46>=VEMA!Q$26),(D46-C46)*24,(D46-C46)*24-VEMA!R$26)),\"<< zlý čas\")","v":0},null,null,null,null,0,0,null,null,null,null,null,"4.1.12. OK NOPS: Odborné konzultácie pri prihlasovaní a v procese  spracovania NOPS.",null,null,null,{"$f":"IF(OR(B46=\"So\",B46=\"Ne\"),\"dobre\",IF(C46>D46,\"zle\",IF(AND(C46<=VEMA!P$26,VEMA!Q$26<=D46),\"obed\",IF(OR(D46<=VEMA!P$26,VEMA!Q$26<=C46),\"dobre\",\"zle\"))))","v":"dobre"}]
[null,{"$f":"B46","v":"St"},null,null,{"$f":"IF(OR(U47=\"dobre\",U47=\"obed\"),IF(OR(B47=\"So\",B47=\"Ne\"),\"\",IF(OR(D47<=VEMA!P$26,C47>=VEMA!Q$26),(D47-C47)*24,(D47-C47)*24-VEMA!R$26)),\"<< zlý čas\")","v":0},null,null,null,null,0,0,null,null,null,null,null,"4.1.12. OK NOPS: Priebežné pripomienkovanie materiálu  pri procese  spracovania NOPS.",null,null,null,{"$f":"IF(OR(B47=\"So\",B47=\"Ne\"),\"dobre\",IF(C47>D47,\"zle\",IF(AND(C47<=VEMA!P$26,VEMA!Q$26<=D47),\"obed\",IF(OR(D47<=VEMA!P$26,VEMA!Q$26<=C47),\"dobre\",\"zle\"))))","v":"dobre"}]
[{"$f":"IF(A45=\"\",\"\",IF(A45+1<=$D$146,A45+1,\"\"))","v":10},{"$f":"IF(A48=\"\",\"\",IF(B45=\"Po\",\"Ut\",IF(B45=\"Ut\",\"St\",IF(B45=\"St\",\"Št\",IF(B45=\"Št\",\"Pi\",IF(B45=\"Pi\",\"So\",IF(B45=\"So\",\"Ne\",IF(B45=\"Ne\",\"Po\",\"\"))))))))","v":"Št"},null,null,{"$f":"IF(OR(U48=\"dobre\",U48=\"obed\"),IF(OR(B48=\"So\",B48=\"Ne\"),\"\",IF(OR(D48<=VEMA!P$27,C48>=VEMA!Q$27),(D48-C48)*24,(D48-C48)*24-VEMA!R$27)),\"<< zlý čas\")","v":0},null,null,null,null,0,0,null,null,null,null,null,"4.1.12. OK NOPS: Poskytovanie súčinnosti garantovi NOPS pri tvorbe smernice, vyhlasovaní výzvy na spracovanie NOPS, vyhodnotení doručených prihlášok a podkladov k uzatváraniu zmluvných vzťahov s vybranými spracovateľmi NOPS.",null,{"$f":"IF(SUM(E48:E50)=0,\"\",SUM(E48:E50))","v":""},null,{"$f":"IF(OR(B48=\"So\",B48=\"Ne\"),\"dobre\",IF(C48>D48,\"zle\",IF(AND(C48<=VEMA!P$27,VEMA!Q$27<=D48),\"obed\",IF(OR(D48<=VEMA!P$27,VEMA!Q$27<=C48),\"dobre\",\"zle\"))))","v":"dobre"},{"$f":"IF(COUNTIF(U48:U50,\"obed\")>0,\"obed\",\"\")","v":""},{"$f":"IF(COUNTIF('PV2'!U48:U50,\"obed\")>0,\"obed\",\"\")","v":""},{"$f":"IF(COUNTIF('PV3'!U48:U50,\"obed\")>0,\"obed\",\"\")","v":""},{"$f":"IF(COUNTIF('PV4'!U48:U50,\"obed\")>0,\"obed\",\"\")","v":""},{"$f":"IF(COUNTIF(V48:Y48,\"obed\")>0,\"obed\",\"\")","v":""}]
[null,{"$f":"B48","v":"Št"},null,null,{"$f":"IF(OR(U49=\"dobre\",U49=\"obed\"),IF(OR(B49=\"So\",B49=\"Ne\"),\"\",IF(OR(D49<=VEMA!P$27,C49>=VEMA!Q$27),(D49-C49)*24,(D49-C49)*24-VEMA!R$27)),\"<< zlý čas\")","v":0},null,null,null,null,0,0,null,null,null,null,null,"4.1.12. OK NOPS: Preberanie odovzdaných NOPS, predkladanie návrhu interných hodnotiteľov.",null,null,null,{"$f":"IF(OR(B49=\"So\",B49=\"Ne\"),\"dobre\",IF(C49>D49,\"zle\",IF(AND(C49<=VEMA!P$27,VEMA!Q$27<=D49),\"obed\",IF(OR(D49<=VEMA!P$27,VEMA!Q$27<=C49),\"dobre\",\"zle\"))))","v":"dobre"}]
[null,{"$f":"B49","v":"Št"},null,null,{"$f":"IF(OR(U50=\"dobre\",U50=\"obed\"),IF(OR(B50=\"So\",B50=\"Ne\"),\"\",IF(OR(D50<=VEMA!P$27,C50>=VEMA!Q$27),(D50-C50)*24,(D50-C50)*24-VEMA!R$27)),\"<< zlý čas\")","v":0},null,null,null,null,0,0,null,null,null,null,null,"4.1.12. OK NOPS: Odborné konzultácie/podpora  pri procese  spracovania  a finalizácii NOPS.",null,null,null,{"$f":"IF(OR(B50=\"So\",B50=\"Ne\"),\"dobre\",IF(C50>D50,\"zle\",IF(AND(C50<=VEMA!P$27,VEMA!Q$27<=D50),\"obed\",IF(OR(D50<=VEMA!P$27,VEMA!Q$27<=C50),\"dobre\",\"zle\"))))","v":"dobre"}]
[{"$f":"IF(A48=\"\",\"\",IF(A48+1<=$D$146,A48+1,\"\"))","v":11},{"$f":"IF(A51=\"\",\"\",IF(B48=\"Po\",\"Ut\",IF(B48=\"Ut\",\"St\",IF(B48=\"St\",\"Št\",IF(B48=\"Št\",\"Pi\",IF(B48=\"Pi\",\"So\",IF(B48=\"So\",\"Ne\",IF(B48=\"Ne\",\"Po\",\"\"))))))))","v":"Pi"},null,null,{"$f":"IF(OR(U51=\"dobre\",U51=\"obed\"),IF(OR(B51=\"So\",B51=\"Ne\"),\"\",IF(OR(D51<=VEMA!P$28,C51>=VEMA!Q$28),(D51-C51)*24,(D51-C51)*24-VEMA!R$28)),\"<< zlý čas\")","v":0},null,null,null,null,0,0,null,null,null,null,null,"4.1.15. H NOPS: Spracovanie hodnotenia dokumentu NOPS podľa schválenej prihlášky, v danej štruktúre a určenej šablóne dokumentu.",null,{"$f":"IF(SUM(E51:E53)=0,\"\",SUM(E51:E53))","v":""},null,{"$f":"IF(OR(B51=\"So\",B51=\"Ne\"),\"dobre\",IF(C51>D51,\"zle\",IF(AND(C51<=VEMA!P$28,VEMA!Q$28<=D51),\"obed\",IF(OR(D51<=VEMA!P$28,VEMA!Q$28<=C51),\"dobre\",\"zle\"))))","v":"dobre"},{"$f":"IF(COUNTIF(U51:U53,\"obed\")>0,\"obed\",\"\")","v":""},{"$f":"IF(COUNTIF('PV2'!U51:U53,\"obed\")>0,\"obed\",\"\")","v":""},{"$f":"IF(COUNTIF('PV3'!U51:U53,\"obed\")>0,\"obed\",\"\")","v":""},{"$f":"IF(COUNTIF('PV4'!U51:U53,\"obed\")>0,\"obed\",\"\")","v":""},{"$f":"IF(COUNTIF(V51:Y51,\"obed\")>0,\"obed\",\"\")","v":""}]
[null,{"$f":"B51","v":"Pi"},null,null,{"$f":"IF(OR(U52=\"dobre\",U52=\"obed\"),IF(OR(B52=\"So\",B52=\"Ne\"),\"\",IF(OR(D52<=VEMA!P$28,C52>=VEMA!Q$28),(D52-C52)*24,(D52-C52)*24-VEMA!R$28)),\"<< zlý čas\")","v":0},null,null,null,null,0,0,null,null,null,null,null,"4.1.15. H NOPS: Finalizácia hodnotenia dokumentu NOPS podľa schválenej prihlášky, v danej štruktúre a určenej šablóne dokumentu.",null,null,null,{"$f":"IF(OR(B52=\"So\",B52=\"Ne\"),\"dobre\",IF(C52>D52,\"zle\",IF(AND(C52<=VEMA!P$28,VEMA!Q$28<=D52),\"obed\",IF(OR(D52<=VEMA!P$28,VEMA!Q$28<=C52),\"dobre\",\"zle\"))))","v":"dobre"}]
[null,{"$f":"B52","v":"Pi"},null,null,{"$f":"IF(OR(U53=\"dobre\",U53=\"obed\"),IF(OR(B53=\"So\",B53=\"Ne\"),\"\",IF(OR(D53<=VEMA!P$28,C53>=VEMA!Q$28),(D53-C53)*24,(D53-C53)*24-VEMA!R$28)),\"<< zlý čas\")","v":0},null,null,null,null,{"$f":"IF(B53=\"\",\"\",IF(B53=\"So\",\"\",(IF(B53=\"Ne\",\"\",(ROUND(E53-K53,2))))))","v":0},{"$f":"IF(B53=\"So\",\"\",(IF(B53=\"Ne\",\"\",(IF(B53=\"\",\"\",(IF(COUNTIF(Pozicia,$F$16),ROUND(VRR*E53,2),0)))))))","v":0},null,null,null,null,null,"4.1.17. MK: Odborné zabezpečenie prípravy, programových  zložiek a priebehu konferencie. ",null,null,null,{"$f":"IF(OR(B53=\"So\",B53=\"Ne\"),\"dobre\",IF(C53>D53,\"zle\",IF(AND(C53<=VEMA!P$28,VEMA!Q$28<=D53),\"obed\",IF(OR(D53<=VEMA!P$28,VEMA!Q$28<=C53),\"dobre\",\"zle\"))))","v":"dobre"}]
[{"$f":"IF(A51=\"\",\"\",IF(A51+1<=$D$146,A51+1,\"\"))","v":12},{"$f":"IF(A54=\"\",\"\",IF(B51=\"Po\",\"Ut\",IF(B51=\"Ut\",\"St\",IF(B51=\"St\",\"Št\",IF(B51=\"Št\",\"Pi\",IF(B51=\"Pi\",\"So\",IF(B51=\"So\",\"Ne\",IF(B51=\"Ne\",\"Po\",\"\"))))))))","v":"So"},null,null,{"$f":"IF(OR(U54=\"dobre\",U54=\"obed\"),IF(OR(B54=\"So\",B54=\"Ne\"),\"\",IF(OR(D54<=VEMA!P$29,C54>=VEMA!Q$29),(D54-C54)*24,(D54-C54)*24-VEMA!R$29)),\"<< zlý čas\")","v":""},null,null,null,null,"","",null,null,null,null,null,"4.1.17. MK: Odborné zabezpečenie priebehu konferencie (moderovanie/vedenie). ",null,{"$f":"IF(SUM(E54:E56)=0,\"\",SUM(E54:E56))","v":""},null,{"$f":"IF(OR(B54=\"So\",B54=\"Ne\"),\"dobre\",IF(C54>D54,\"zle\",IF(AND(C54<=VEMA!P$29,VEMA!Q$29<=D54),\"obed\",IF(OR(D54<=VEMA!P$29,VEMA!Q$29<=C54),\"dobre\",\"zle\"))))","v":"dobre"},{"$f":"IF(COUNTIF(U54:U56,\"obed\")>0,\"obed\",\"\")","v":""},{"$f":"IF(COUNTIF('PV2'!U54:U56,\"obed\")>0,\"obed\",\"\")","v":""},{"$f":"IF(COUNTIF('PV3'!U54:U56,\"obed\")>0,\"obed\",\"\")","v":""},{"$f":"IF(COUNTIF('PV4'!U54:U56,\"obed\")>0,\"obed\",\"\")","v":""},{"$f":"IF(COUNTIF(V54:Y54,\"obed\")>0,\"obed\",\"\")","v":""}]
[null,{"$f":"B54","v":"So"},null,null,{"$f":"IF(OR(U55=\"dobre\",U55=\"obed\"),IF(OR(B55=\"So\",B55=\"Ne\"),\"\",IF(OR(D55<=VEMA!P$29,C55>=VEMA!Q$29),(D55-C55)*24,(D55-C55)*24-VEMA!R$29)),\"<< zlý čas\")","v":""},null,null,null,null,"","",null,null,null,null,null,"4.1.17. MK: Odborné vedenie sekcií (diskusných skupín) a workshopov.",null,null,null,{"$f":"IF(OR(B55=\"So\",B55=\"Ne\"),\"dobre\",IF(C55>D55,\"zle\",IF(AND(C55<=VEMA!P$29,VEMA!Q$29<=D55),\"obed\",IF(OR(D55<=VEMA!P$29,VEMA!Q$29<=C55),\"dobre\",\"zle\"))))","v":"dobre"}]
[null,{"$f":"B55","v":"So"},null,null,{"$f":"IF(OR(U56=\"dobre\",U56=\"obed\"),IF(OR(B56=\"So\",B56=\"Ne\"),\"\",IF(OR(D56<=VEMA!P$29,C56>=VEMA!Q$29),(D56-C56)*24,(D56-C56)*24-VEMA!R$29)),\"<< zlý čas\")","v":""},null,null,null,null,"","",null,null,null,null,null,"4.1.17. MK: Odborné zabezpečenie prípravy a celého priebehu konferencie.",null,null,null,{"$f":"IF(OR(B56=\"So\",B56=\"Ne\"),\"dobre\",IF(C56>D56,\"zle\",IF(AND(C56<=VEMA!P$29,VEMA!Q$29<=D56),\"obed\",IF(OR(D56<=VEMA!P$29,VEMA!Q$29<=C56),\"dobre\",\"zle\"))))","v":"dobre"}]
[{"$f":"IF(A54=\"\",\"\",IF(A54+1<=$D$146,A54+1,\"\"))","v":13},{"$f":"IF(A57=\"\",\"\",IF(B54=\"Po\",\"Ut\",IF(B54=\"Ut\",\"St\",IF(B54=\"St\",\"Št\",IF(B54=\"Št\",\"Pi\",IF(B54=\"Pi\",\"So\",IF(B54=\"So\",\"Ne\",IF(B54=\"Ne\",\"Po\",\"\"))))))))","v":"Ne"},null,null,{"$f":"IF(OR(U57=\"dobre\",U57=\"obed\"),IF(OR(B57=\"So\",B57=\"Ne\"),\"\",IF(OR(D57<=VEMA!P$30,C57>=VEMA!Q$30),(D57-C57)*24,(D57-C57)*24-VEMA!R$30)),\"<< zlý čas\")","v":""},null,null,null,null,"","",null,null,null,null,null,"4.1.18. OPK: Odborné zabezpečenie prípravy konferencie.",null,{"$f":"IF(SUM(E57:E59)=0,\"\",SUM(E57:E59))","v":""},null,{"$f":"IF(OR(B57=\"So\",B57=\"Ne\"),\"dobre\",IF(C57>D57,\"zle\",IF(AND(C57<=VEMA!P$30,VEMA!Q$30<=D57),\"obed\",IF(OR(D57<=VEMA!P$30,VEMA!Q$30<=C57),\"dobre\",\"zle\"))))","v":"dobre"},{"$f":"IF(COUNTIF(U57:U59,\"obed\")>0,\"obed\",\"\")","v":""},{"$f":"IF(COUNTIF('PV2'!U57:U59,\"obed\")>0,\"obed\",\"\")","v":""},{"$f":"IF(COUNTIF('PV3'!U57:U59,\"obed\")>0,\"obed\",\"\")","v":""},{"$f":"IF(COUNTIF('PV4'!U57:U59,\"obed\")>0,\"obed\",\"\")","v":""},{"$f":"IF(COUNTIF(V57:Y57,\"obed\")>0,\"obed\",\"\")","v":""}]
[null,{"$f":"B57","v":"Ne"},null,null,{"$f":"IF(OR(U58=\"dobre\",U58=\"obed\"),IF(OR(B58=\"So\",B58=\"Ne\"),\"\",IF(OR(D58<=VEMA!P$30,C58>=VEMA!Q$30),(D58-C58)*24,(D58-C58)*24-VEMA!R$30)),\"<< zlý čas\")","v":""},null,null,null,null,"","",null,null,null,null,null,"4.1.18. OPK: Organizačné zabezpečenie prípravy konferencie. ",null,null,null,{"$f":"IF(OR(B58=\"So\",B58=\"Ne\"),\"dobre\",IF(C58>D58,\"zle\",IF(AND(C58<=VEMA!P$30,VEMA!Q$30<=D58),\"obed\",IF(OR(D58<=VEMA!P$30,VEMA!Q$30<=C58),\"dobre\",\"zle\"))))","v":"dobre"}]
[null,{"$f":"B58","v":"Ne"},null,null,{"$f":"IF(OR(U59=\"dobre\",U59=\"obed\"),IF(OR(B59=\"So\",B59=\"Ne\"),\"\",IF(OR(D59<=VEMA!P$30,C59>=VEMA!Q$30),(D59-C59)*24,(D59-C59)*24-VEMA!R$30)),\"<< zlý čas\")","v":""},null,null,null,null,"","",null,null,null,null,null,"4.1.18. OPK: Odborné/organizačné zabezpečenie  priebehu konferencie.",null,null,null,{"$f":"IF(OR(B59=\"So\",B59=\"Ne\"),\"dobre\",IF(C59>D59,\"zle\",IF(AND(C59<=VEMA!P$30,VEMA!Q$30<=D59),\"obed\",IF(OR(D59<=VEMA!P$30,VEMA!Q$30<=C59),\"dobre\",\"zle\"))))","v":"dobre"}]
[{"$f":"IF(A57=\"\",\"\",IF(A57+1<=$D$146,A57+1,\"\"))","v":14},{"$f":"IF(A60=\"\",\"\",IF(B57=\"Po\",\"Ut\",IF(B57=\"Ut\",\"St\",IF(B57=\"St\",\"Št\",IF(B57=\"Št\",\"Pi\",IF(B57=\"Pi\",\"So\",IF(B57=\"So\",\"Ne\",IF(B57=\"Ne\",\"Po\",\"\"))))))))","v":"Po"},null,null,{"$f":"IF(OR(U60=\"dobre\",U60=\"obed\"),IF(OR(B60=\"So\",B60=\"Ne\"),\"\",IF(OR(D60<=VEMA!P$31,C60>=VEMA!Q$31),(D60-C60)*24,(D60-C60)*24-VEMA!R$31)),\"<< zlý čas\")","v":0},null,null,null,null,0,0,null,null,null,null,null,"4.1.18. OPK:  Spracovanie výstupov z realizovanej konferencie.",null,{"$f":"IF(SUM(E60:E62)=0,\"\",SUM(E60:E62))","v":""},null,{"$f":"IF(OR(B60=\"So\",B60=\"Ne\"),\"dobre\",IF(C60>D60,\"zle\",IF(AND(C60<=VEMA!P$31,VEMA!Q$31<=D60),\"obed\",IF(OR(D60<=VEMA!P$31,VEMA!Q$31<=C60),\"dobre\",\"zle\"))))","v":"dobre"},{"$f":"IF(COUNTIF(U60:U62,\"obed\")>0,\"obed\",\"\")","v":""},{"$f":"IF(COUNTIF('PV2'!U60:U62,\"obed\")>0,\"obed\",\"\")","v":""},{"$f":"IF(COUNTIF('PV3'!U60:U62,\"obed\")>0,\"obed\",\"\")","v":""},{"$f":"IF(COUNTIF('PV4'!U60:U62,\"obed\")>0,\"obed\",\"\")","v":""},{"$f":"IF(COUNTIF(V60:Y60,\"obed\")>0,\"obed\",\"\")","v":""}]
[null,{"$f":"B60","v":"Po"},null,null,{"$f":"IF(OR(U61=\"dobre\",U61=\"obed\"),IF(OR(B61=\"So\",B61=\"Ne\"),\"\",IF(OR(D61<=VEMA!P$31,C61>=VEMA!Q$31),(D61-C61)*24,(D61-C61)*24-VEMA!R$31)),\"<< zlý čas\")","v":0},null,null,null,null,0,0,null,null,null,null,null,"4.1.18. OPK:  Spracovanie diskusií z jednotlivých sekcií a  z jednotlivých workshopov.",null,null,null,{"$f":"IF(OR(B61=\"So\",B61=\"Ne\"),\"dobre\",IF(C61>D61,\"zle\",IF(AND(C61<=VEMA!P$31,VEMA!Q$31<=D61),\"obed\",IF(OR(D61<=VEMA!P$31,VEMA!Q$31<=C61),\"dobre\",\"zle\"))))","v":"dobre"}]
[null,{"$f":"B61","v":"Po"},null,null,{"$f":"IF(OR(U62=\"dobre\",U62=\"obed\"),IF(OR(B62=\"So\",B62=\"Ne\"),\"\",IF(OR(D62<=VEMA!P$31,C62>=VEMA!Q$31),(D62-C62)*24,(D62-C62)*24-VEMA!R$31)),\"<< zlý čas\")","v":0},null,null,null,null,0,0,null,null,null,null,null,"4.1.20. LUF: Výkon činnosti lektora v rámci učiteľského fóra podľa opisu a schváleného plánu práce.  ",null,null,null,{"$f":"IF(OR(B62=\"So\",B62=\"Ne\"),\"dobre\",IF(C62>D62,\"zle\",IF(AND(C62<=VEMA!P$31,VEMA!Q$31<=D62),\"obed\",IF(OR(D62<=VEMA!P$31,VEMA!Q$31<=C62),\"dobre\",\"zle\"))))","v":"dobre"}]
[{"$f":"IF(A60=\"\",\"\",IF(A60+1<=$D$146,A60+1,\"\"))","v":15},{"$f":"IF(A63=\"\",\"\",IF(B60=\"Po\",\"Ut\",IF(B60=\"Ut\",\"St\",IF(B60=\"St\",\"Št\",IF(B60=\"Št\",\"Pi\",IF(B60=\"Pi\",\"So\",IF(B60=\"So\",\"Ne\",IF(B60=\"Ne\",\"Po\",\"\"))))))))","v":"Ut"},null,null,{"$f":"IF(OR(U63=\"dobre\",U63=\"obed\"),IF(OR(B63=\"So\",B63=\"Ne\"),\"\",IF(OR(D63<=VEMA!P$32,C63>=VEMA!Q$32),(D63-C63)*24,(D63-C63)*24-VEMA!R$32)),\"<< zlý čas\")","v":0},null,null,null,null,0,0,null,null,null,null,null,"4.1.20. LUF: Príprava programu a scenára stretnutia učiteľského fóra.",null,{"$f":"IF(SUM(E63:E65)=0,\"\",SUM(E63:E65))","v":""},null,{"$f":"IF(OR(B63=\"So\",B63=\"Ne\"),\"dobre\",IF(C63>D63,\"zle\",IF(AND(C63<=VEMA!P$32,VEMA!Q$32<=D63),\"obed\",IF(OR(D63<=VEMA!P$32,VEMA!Q$32<=C63),\"dobre\",\"zle\"))))","v":"dobre"},{"$f":"IF(COUNTIF(U63:U65,\"obed\")>0,\"obed\",\"\")","v":""},{"$f":"IF(COUNTIF('PV2'!U63:U65,\"obed\")>0,\"obed\",\"\")","v":""},{"$f":"IF(COUNTIF('PV3'!U63:U65,\"obed\")>0,\"obed\",\"\")","v":""},{"$f":"IF(COUNTIF('PV4'!U63:U65,\"obed\")>0,\"obed\",\"\")","v":""},{"$f":"IF(COUNTIF(V63:Y63,\"obed\")>0,\"obed\",\"\")","v":""}]
[null,{"$f":"B63","v":"Ut"},null,null,{"$f":"IF(OR(U64=\"dobre\",U64=\"obed\"),IF(OR(B64=\"So\",B64=\"Ne\"),\"\",IF(OR(D64<=VEMA!P$32,C64>=VEMA!Q$32),(D64-C64)*24,(D64-C64)*24-VEMA!R$32)),\"<< zlý čas\")","v":0},null,null,null,null,0,0,null,null,null,null,null,"4.1.20 LUF: Odborné vedenie diskusie účastníkov fóra v rámci diskusných skupín, diskusných fór.",null,null,null,{"$f":"IF(OR(B64=\"So\",B64=\"Ne\"),\"dobre\",IF(C64>D64,\"zle\",IF(AND(C64<=VEMA!P$32,VEMA!Q$32<=D64),\"obed\",IF(OR(D64<=VEMA!P$32,VEMA!Q$32<=C64),\"dobre\",\"zle\"))))","v":"dobre"}]
[null,{"$f":"B64","v":"Ut"},null,null,{"$f":"IF(OR(U65=\"dobre\",U65=\"obed\"),IF(OR(B65=\"So\",B65=\"Ne\"),\"\",IF(OR(D65<=VEMA!P$32,C65>=VEMA!Q$32),(D65-C65)*24,(D65-C65)*24-VEMA!R$32)),\"<< zlý čas\")","v":0},null,null,null,null,0,0,null,null,null,null,null,"4.1.20. LUF: Príprava programu a dokumentácie, realizácia učiteľského fóra.",null,null,null,{"$f":"IF(OR(B65=\"So\",B65=\"Ne\"),\"dobre\",IF(C65>D65,\"zle\",IF(AND(C65<=VEMA!P$32,VEMA!Q$32<=D65),\"obed\",IF(OR(D65<=VEMA!P$32,VEMA!Q$32<=C65),\"dobre\",\"zle\"))))","v":"dobre"}]
[{"$f":"IF(A63=\"\",\"\",IF(A63+1<=$D$146,A63+1,\"\"))","v":16},{"$f":"IF(A66=\"\",\"\",IF(B63=\"Po\",\"Ut\",IF(B63=\"Ut\",\"St\",IF(B63=\"St\",\"Št\",IF(B63=\"Št\",\"Pi\",IF(B63=\"Pi\",\"So\",IF(B63=\"So\",\"Ne\",IF(B63=\"Ne\",\"Po\",\"\"))))))))","v":"St"},null,null,{"$f":"IF(OR(U66=\"dobre\",U66=\"obed\"),IF(OR(B66=\"So\",B66=\"Ne\"),\"\",IF(OR(D66<=VEMA!P$33,C66>=VEMA!Q$33),(D66-C66)*24,(D66-C66)*24-VEMA!R$33)),\"<< zlý čas\")","v":0},null,null,null,null,0,0,null,null,null,null,null,"4.1.22. MUF: Založenie skupiny účastníkov fóra v CIS MPC, Moodle a používaných aplikáciách.",null,{"$f":"IF(SUM(E66:E68)=0,\"\",SUM(E66:E68))","v":""},null,{"$f":"IF(OR(B66=\"So\",B66=\"Ne\"),\"dobre\",IF(C66>D66,\"zle\",IF(AND(C66<=VEMA!P$33,VEMA!Q$33<=D66),\"obed\",IF(OR(D66<=VEMA!P$33,VEMA!Q$33<=C66),\"dobre\",\"zle\"))))","v":"dobre"},{"$f":"IF(COUNTIF(U66:U68,\"obed\")>0,\"obed\",\"\")","v":""},{"$f":"IF(COUNTIF('PV2'!U66:U68,\"obed\")>0,\"obed\",\"\")","v":""},{"$f":"IF(COUNTIF('PV3'!U66:U68,\"obed\")>0,\"obed\",\"\")","v":""},{"$f":"IF(COUNTIF('PV4'!U66:U68,\"obed\")>0,\"obed\",\"\")","v":""},{"$f":"IF(COUNTIF(V66:Y66,\"obed\")>0,\"obed\",\"\")","v":""}]
[null,{"$f":"B66","v":"St"},null,null,{"$f":"IF(OR(U67=\"dobre\",U67=\"obed\"),IF(OR(B67=\"So\",B67=\"Ne\"),\"\",IF(OR(D67<=VEMA!P$33,C67>=VEMA!Q$33),(D67-C67)*24,(D67-C67)*24-VEMA!R$33)),\"<< zlý čas\")","v":0},null,null,null,null,0,0,null,null,null,null,null,"4.1.22. MUF: Správa skupiny účastníkov fóra v CIS MPC, Moodle a používaných aplikáciách.",null,null,null,{"$f":"IF(OR(B67=\"So\",B67=\"Ne\"),\"dobre\",IF(C67>D67,\"zle\",IF(AND(C67<=VEMA!P$33,VEMA!Q$33<=D67),\"obed\",IF(OR(D67<=VEMA!P$33,VEMA!Q$33<=C67),\"dobre\",\"zle\"))))","v":"dobre"}]
[null,{"$f":"B67","v":"St"},null,null,{"$f":"IF(OR(U68=\"dobre\",U68=\"obed\"),IF(OR(B68=\"So\",B68=\"Ne\"),\"\",IF(OR(D68<=VEMA!P$33,C68>=VEMA!Q$33),(D68-C68)*24,(D68-C68)*24-VEMA!R$33)),\"<< zlý čas\")","v":0},null,null,null,null,0,0,null,null,null,null,null,"4.1.22. MUF: Snímanie aktuálnych potrieb PZ a OZ pred založením a v priebehu činnosti fóra.",null,null,null,{"$f":"IF(OR(B68=\"So\",B68=\"Ne\"),\"dobre\",IF(C68>D68,\"zle\",IF(AND(C68<=VEMA!P$33,VEMA!Q$33<=D68),\"obed\",IF(OR(D68<=VEMA!P$33,VEMA!Q$33<=C68),\"dobre\",\"zle\"))))","v":"dobre"}]
[{"$f":"IF(A66=\"\",\"\",IF(A66+1<=$D$146,A66+1,\"\"))","v":17},{"$f":"IF(A69=\"\",\"\",IF(B66=\"Po\",\"Ut\",IF(B66=\"Ut\",\"St\",IF(B66=\"St\",\"Št\",IF(B66=\"Št\",\"Pi\",IF(B66=\"Pi\",\"So\",IF(B66=\"So\",\"Ne\",IF(B66=\"Ne\",\"Po\",\"\"))))))))","v":"Št"},null,null,{"$f":"IF(OR(U69=\"dobre\",U69=\"obed\"),IF(OR(B69=\"So\",B69=\"Ne\"),\"\",IF(OR(D69<=VEMA!P$34,C69>=VEMA!Q$34),(D69-C69)*24,(D69-C69)*24-VEMA!R$34)),\"<< zlý čas\")","v":0},null,null,null,null,0,0,null,null,null,null,null,"4.1.22. MUF: Iniciovanie, príprava a realizácia prieskumov realizovaných v rámci fóra učiteľov",null,{"$f":"IF(SUM(E69:E71)=0,\"\",SUM(E69:E71))","v":""},null,{"$f":"IF(OR(B69=\"So\",B69=\"Ne\"),\"dobre\",IF(C69>D69,\"zle\",IF(AND(C69<=VEMA!P$34,VEMA!Q$34<=D69),\"obed\",IF(OR(D69<=VEMA!P$34,VEMA!Q$34<=C69),\"dobre\",\"zle\"))))","v":"dobre"},{"$f":"IF(COUNTIF(U69:U71,\"obed\")>0,\"obed\",\"\")","v":""},{"$f":"IF(COUNTIF('PV2'!U69:U71,\"obed\")>0,\"obed\",\"\")","v":""},{"$f":"IF(COUNTIF('PV3'!U69:U71,\"obed\")>0,\"obed\",\"\")","v":""},{"$f":"IF(COUNTIF('PV4'!U69:U71,\"obed\")>0,\"obed\",\"\")","v":""},{"$f":"IF(COUNTIF(V69:Y69,\"obed\")>0,\"obed\",\"\")","v":""}]
[null,{"$f":"B69","v":"Št"},null,null,{"$f":"IF(OR(U70=\"dobre\",U70=\"obed\"),IF(OR(B70=\"So\",B70=\"Ne\"),\"\",IF(OR(D70<=VEMA!P$34,C70>=VEMA!Q$34),(D70-C70)*24,(D70-C70)*24-VEMA!R$34)),\"<< zlý čas\")","v":0},null,null,null,null,0,0,null,null,null,null,null,"4.1.22. MUF: Riadenie pracovnej skupiny lektorov v rámci fóra učiteľov.",null,null,null,{"$f":"IF(OR(B70=\"So\",B70=\"Ne\"),\"dobre\",IF(C70>D70,\"zle\",IF(AND(C70<=VEMA!P$34,VEMA!Q$34<=D70),\"obed\",IF(OR(D70<=VEMA!P$34,VEMA!Q$34<=C70),\"dobre\",\"zle\"))))","v":"dobre"}]
[null,{"$f":"B70","v":"Št"},null,null,{"$f":"IF(OR(U71=\"dobre\",U71=\"obed\"),IF(OR(B71=\"So\",B71=\"Ne\"),\"\",IF(OR(D71<=VEMA!P$34,C71>=VEMA!Q$34),(D71-C71)*24,(D71-C71)*24-VEMA!R$34)),\"<< zlý čas\")","v":0},null,null,null,null,0,0,null,null,null,null,null,"4.1.22. MUF: Podpora lektorov pri príprave materiálov učiteľského fóra.",null,null,null,{"$f":"IF(OR(B71=\"So\",B71=\"Ne\"),\"dobre\",IF(C71>D71,\"zle\",IF(AND(C71<=VEMA!P$34,VEMA!Q$34<=D71),\"obed\",IF(OR(D71<=VEMA!P$34,VEMA!Q$34<=C71),\"dobre\",\"zle\"))))","v":"dobre"}]
[{"$f":"IF(A69=\"\",\"\",IF(A69+1<=$D$146,A69+1,\"\"))","v":18},{"$f":"IF(A72=\"\",\"\",IF(B69=\"Po\",\"Ut\",IF(B69=\"Ut\",\"St\",IF(B69=\"St\",\"Št\",IF(B69=\"Št\",\"Pi\",IF(B69=\"Pi\",\"So\",IF(B69=\"So\",\"Ne\",IF(B69=\"Ne\",\"Po\",\"\"))))))))","v":"Pi"},null,null,{"$f":"IF(OR(U72=\"dobre\",U72=\"obed\"),IF(OR(B72=\"So\",B72=\"Ne\"),\"\",IF(OR(D72<=VEMA!P$35,C72>=VEMA!Q$35),(D72-C72)*24,(D72-C72)*24-VEMA!R$35)),\"<< zlý čas\")","v":0},null,null,null,null,0,0,null,null,null,null,null,"4.1.22. MUF: Spracovanie výstupov zo stretnutia učiteľského fóra, spracovanie prehľadov a sumárnych výstupov z činnosti fóra učiteľov.",null,{"$f":"IF(SUM(E72:E74)=0,\"\",SUM(E72:E74))","v":""},null,{"$f":"IF(OR(B72=\"So\",B72=\"Ne\"),\"dobre\",IF(C72>D72,\"zle\",IF(AND(C72<=VEMA!P$35,VEMA!Q$35<=D72),\"obed\",IF(OR(D72<=VEMA!P$35,VEMA!Q$35<=C72),\"dobre\",\"zle\"))))","v":"dobre"},{"$f":"IF(COUNTIF(U72:U74,\"obed\")>0,\"obed\",\"\")","v":""},{"$f":"IF(COUNTIF('PV2'!U72:U74,\"obed\")>0,\"obed\",\"\")","v":""},{"$f":"IF(COUNTIF('PV3'!U72:U74,\"obed\")>0,\"obed\",\"\")","v":""},{"$f":"IF(COUNTIF('PV4'!U72:U74,\"obed\")>0,\"obed\",\"\")","v":""},{"$f":"IF(COUNTIF(V72:Y72,\"obed\")>0,\"obed\",\"\")","v":""}]
[null,{"$f":"B72","v":"Pi"},null,null,{"$f":"IF(OR(U73=\"dobre\",U73=\"obed\"),IF(OR(B73=\"So\",B73=\"Ne\"),\"\",IF(OR(D73<=VEMA!P$35,C73>=VEMA!Q$35),(D73-C73)*24,(D73-C73)*24-VEMA!R$35)),\"<< zlý čas\")","v":0},null,null,null,null,0,0,null,null,null,null,null,"4.1.22. MUF: Moderovanie priebehu v rámci prezenčných a on-line stretnutí.",null,null,null,{"$f":"IF(OR(B73=\"So\",B73=\"Ne\"),\"dobre\",IF(C73>D73,\"zle\",IF(AND(C73<=VEMA!P$35,VEMA!Q$35<=D73),\"obed\",IF(OR(D73<=VEMA!P$35,VEMA!Q$35<=C73),\"dobre\",\"zle\"))))","v":"dobre"}]
[null,{"$f":"B73","v":"Pi"},null,null,{"$f":"IF(OR(U74=\"dobre\",U74=\"obed\"),IF(OR(B74=\"So\",B74=\"Ne\"),\"\",IF(OR(D74<=VEMA!P$35,C74>=VEMA!Q$35),(D74-C74)*24,(D74-C74)*24-VEMA!R$35)),\"<< zlý čas\")","v":0},null,null,null,null,0,0,null,null,null,null,null,"4.1.22. MUF: Moderovanie priebehu v rámci  príspevkov v diskusných (on-line) fórach v rámci používaných aplikácií.",null,null,null,{"$f":"IF(OR(B74=\"So\",B74=\"Ne\"),\"dobre\",IF(C74>D74,\"zle\",IF(AND(C74<=VEMA!P$35,VEMA!Q$35<=D74),\"obed\",IF(OR(D74<=VEMA!P$35,VEMA!Q$35<=C74),\"dobre\",\"zle\"))))","v":"dobre"}]
[{"$f":"IF(A72=\"\",\"\",IF(A72+1<=$D$146,A72+1,\"\"))","v":19},{"$f":"IF(A75=\"\",\"\",IF(B72=\"Po\",\"Ut\",IF(B72=\"Ut\",\"St\",IF(B72=\"St\",\"Št\",IF(B72=\"Št\",\"Pi\",IF(B72=\"Pi\",\"So\",IF(B72=\"So\",\"Ne\",IF(B72=\"Ne\",\"Po\",\"\"))))))))","v":"So"},null,null,{"$f":"IF(OR(U75=\"dobre\",U75=\"obed\"),IF(OR(B75=\"So\",B75=\"Ne\"),\"\",IF(OR(D75<=VEMA!P$36,C75>=VEMA!Q$36),(D75-C75)*24,(D75-C75)*24-VEMA!R$36)),\"<< zlý čas\")","v":""},null,null,null,null,"","",null,null,null,null,null,"4.1.22. MUF: Moderovanie v organizovanom virtuálnom mieste asynchrónnych online diskusií.",null,{"$f":"IF(SUM(E75:E77)=0,\"\",SUM(E75:E77))","v":""},null,{"$f":"IF(OR(B75=\"So\",B75=\"Ne\"),\"dobre\",IF(C75>D75,\"zle\",IF(AND(C75<=VEMA!P$36,VEMA!Q$36<=D75),\"obed\",IF(OR(D75<=VEMA!P$36,VEMA!Q$36<=C75),\"dobre\",\"zle\"))))","v":"dobre"},{"$f":"IF(COUNTIF(U75:U77,\"obed\")>0,\"obed\",\"\")","v":""},{"$f":"IF(COUNTIF('PV2'!U75:U77,\"obed\")>0,\"obed\",\"\")","v":""},{"$f":"IF(COUNTIF('PV3'!U75:U77,\"obed\")>0,\"obed\",\"\")","v":""},{"$f":"IF(COUNTIF('PV4'!U75:U77,\"obed\")>0,\"obed\",\"\")","v":""},{"$f":"IF(COUNTIF(V75:Y75,\"obed\")>0,\"obed\",\"\")","v":""}]
[null,{"$f":"B75","v":"So"},null,null,{"$f":"IF(OR(U76=\"dobre\",U76=\"obed\"),IF(OR(B76=\"So\",B76=\"Ne\"),\"\",IF(OR(D76<=VEMA!P$36,C76>=VEMA!Q$36),(D76-C76)*24,(D76-C76)*24-VEMA!R$36)),\"<< zlý čas\")","v":""},null,null,null,null,"","",null,null,null,null,null,"4.1.22. MUF: Konzultovanie tém, ktoré navrhnú účastníci fóra (vrátanej offline formy).",null,null,null,{"$f":"IF(OR(B76=\"So\",B76=\"Ne\"),\"dobre\",IF(C76>D76,\"zle\",IF(AND(C76<=VEMA!P$36,VEMA!Q$36<=D76),\"obed\",IF(OR(D76<=VEMA!P$36,VEMA!Q$36<=C76),\"dobre\",\"zle\"))))","v":"dobre"}]
[null,{"$f":"B76","v":"So"},null,null,{"$f":"IF(OR(U77=\"dobre\",U77=\"obed\"),IF(OR(B77=\"So\",B77=\"Ne\"),\"\",IF(OR(D77<=VEMA!P$36,C77>=VEMA!Q$36),(D77-C77)*24,(D77-C77)*24-VEMA!R$36)),\"<< zlý čas\")","v":""},null,null,null,null,"","",null,null,null,null,null,"4.1.22. MUF: Moderovanie učiteľského fóra.",null,null,null,{"$f":"IF(OR(B77=\"So\",B77=\"Ne\"),\"dobre\",IF(C77>D77,\"zle\",IF(AND(C77<=VEMA!P$36,VEMA!Q$36<=D77),\"obed\",IF(OR(D77<=VEMA!P$36,VEMA!Q$36<=C77),\"dobre\",\"zle\"))))","v":"dobre"}]
[{"$f":"IF(A75=\"\",\"\",IF(A75+1<=$D$146,A75+1,\"\"))","v":20},{"$f":"IF(A78=\"\",\"\",IF(B75=\"Po\",\"Ut\",IF(B75=\"Ut\",\"St\",IF(B75=\"St\",\"Št\",IF(B75=\"Št\",\"Pi\",IF(B75=\"Pi\",\"So\",IF(B75=\"So\",\"Ne\",IF(B75=\"Ne\",\"Po\",\"\"))))))))","v":"Ne"},null,null,{"$f":"IF(OR(U78=\"dobre\",U78=\"obed\"),IF(OR(B78=\"So\",B78=\"Ne\"),\"\",IF(OR(D78<=VEMA!P$37,C78>=VEMA!Q$37),(D78-C78)*24,(D78-C78)*24-VEMA!R$37)),\"<< zlý čas\")","v":""},null,null,null,null,"","",null,null,null,null,null,"4.1.23. A: Realizácia prieskumnej činnosti v projekte.",null,{"$f":"IF(SUM(E78:E80)=0,\"\",SUM(E78:E80))","v":""},null,{"$f":"IF(OR(B78=\"So\",B78=\"Ne\"),\"dobre\",IF(C78>D78,\"zle\",IF(AND(C78<=VEMA!P$37,VEMA!Q$37<=D78),\"obed\",IF(OR(D78<=VEMA!P$37,VEMA!Q$37<=C78),\"dobre\",\"zle\"))))","v":"dobre"},{"$f":"IF(COUNTIF(U78:U80,\"obed\")>0,\"obed\",\"\")","v":""},{"$f":"IF(COUNTIF('PV2'!U78:U80,\"obed\")>0,\"obed\",\"\")","v":""},{"$f":"IF(COUNTIF('PV3'!U78:U80,\"obed\")>0,\"obed\",\"\")","v":""},{"$f":"IF(COUNTIF('PV4'!U78:U80,\"obed\")>0,\"obed\",\"\")","v":""},{"$f":"IF(COUNTIF(V78:Y78,\"obed\")>0,\"obed\",\"\")","v":""}]
[null,{"$f":"B78","v":"Ne"},null,null,{"$f":"IF(OR(U79=\"dobre\",U79=\"obed\"),IF(OR(B79=\"So\",B79=\"Ne\"),\"\",IF(OR(D79<=VEMA!P$37,C79>=VEMA!Q$37),(D79-C79)*24,(D79-C79)*24-VEMA!R$37)),\"<< zlý čas\")","v":""},null,null,null,null,"","",null,null,null,null,null,"4.1.23. A: Návrh zámeru prieskumu, cieľov, metodiky, nástrojov zisťovania a cieľovej skupiny.",null,null,null,{"$f":"IF(OR(B79=\"So\",B79=\"Ne\"),\"dobre\",IF(C79>D79,\"zle\",IF(AND(C79<=VEMA!P$37,VEMA!Q$37<=D79),\"obed\",IF(OR(D79<=VEMA!P$37,VEMA!Q$37<=C79),\"dobre\",\"zle\"))))","v":"dobre"}]
[null,{"$f":"B79","v":"Ne"},null,null,{"$f":"IF(OR(U80=\"dobre\",U80=\"obed\"),IF(OR(B80=\"So\",B80=\"Ne\"),\"\",IF(OR(D80<=VEMA!P$37,C80>=VEMA!Q$37),(D80-C80)*24,(D80-C80)*24-VEMA!R$37)),\"<< zlý čas\")","v":""},null,null,null,null,"","",null,null,null,null,null,"4.1.23. A: Určenie postupu, termínu a miesta realizácie opytovania.",null,null,null,{"$f":"IF(OR(B80=\"So\",B80=\"Ne\"),\"dobre\",IF(C80>D80,\"zle\",IF(AND(C80<=VEMA!P$37,VEMA!Q$37<=D80),\"obed\",IF(OR(D80<=VEMA!P$37,VEMA!Q$37<=C80),\"dobre\",\"zle\"))))","v":"dobre"}]
[{"$f":"IF(A78=\"\",\"\",IF(A78+1<=$D$146,A78+1,\"\"))","v":21},{"$f":"IF(A81=\"\",\"\",IF(B78=\"Po\",\"Ut\",IF(B78=\"Ut\",\"St\",IF(B78=\"St\",\"Št\",IF(B78=\"Št\",\"Pi\",IF(B78=\"Pi\",\"So\",IF(B78=\"So\",\"Ne\",IF(B78=\"Ne\",\"Po\",\"\"))))))))","v":"Po"},null,null,{"$f":"IF(OR(U81=\"dobre\",U81=\"obed\"),IF(OR(B81=\"So\",B81=\"Ne\"),\"\",IF(OR(D81<=VEMA!P$38,C81>=VEMA!Q$38),(D81-C81)*24,(D81-C81)*24-VEMA!R$38)),\"<< zlý čas\")","v":0},null,null,null,null,0,0,null,null,null,null,null,"4.1.23. A:  Spracovanie a interpretácia zistenia z opytovania.",null,{"$f":"IF(SUM(E81:E83)=0,\"\",SUM(E81:E83))","v":""},null,{"$f":"IF(OR(B81=\"So\",B81=\"Ne\"),\"dobre\",IF(C81>D81,\"zle\",IF(AND(C81<=VEMA!P$38,VEMA!Q$38<=D81),\"obed\",IF(OR(D81<=VEMA!P$38,VEMA!Q$38<=C81),\"dobre\",\"zle\"))))","v":"dobre"},{"$f":"IF(COUNTIF(U81:U83,\"obed\")>0,\"obed\",\"\")","v":""},{"$f":"IF(COUNTIF('PV2'!U81:U83,\"obed\")>0,\"obed\",\"\")","v":""},{"$f":"IF(COUNTIF('PV3'!U81:U83,\"obed\")>0,\"obed\",\"\")","v":""},{"$f":"IF(COUNTIF('PV4'!U81:U83,\"obed\")>0,\"obed\",\"\")","v":""},{"$f":"IF(COUNTIF(V81:Y81,\"obed\")>0,\"obed\",\"\")","v":""}]
[null,{"$f":"B81","v":"Po"},null,null,{"$f":"IF(OR(U82=\"dobre\",U82=\"obed\"),IF(OR(B82=\"So\",B82=\"Ne\"),\"\",IF(OR(D82<=VEMA!P$38,C82>=VEMA!Q$38),(D82-C82)*24,(D82-C82)*24-VEMA!R$38)),\"<< zlý čas\")","v":0},null,null,null,null,0,0,null,null,null,null,null,"4.1.23. A: Formulovanie návrhov a odporúčaní vyplývajúcich z prieskumu pre realizáciu projektu.",null,null,null,{"$f":"IF(OR(B82=\"So\",B82=\"Ne\"),\"dobre\",IF(C82>D82,\"zle\",IF(AND(C82<=VEMA!P$38,VEMA!Q$38<=D82),\"obed\",IF(OR(D82<=VEMA!P$38,VEMA!Q$38<=C82),\"dobre\",\"zle\"))))","v":"dobre"}]
[null,{"$f":"B82","v":"Po"},null,null,{"$f":"IF(OR(U83=\"dobre\",U83=\"obed\"),IF(OR(B83=\"So\",B83=\"Ne\"),\"\",IF(OR(D83<=VEMA!P$38,C83>=VEMA!Q$38),(D83-C83)*24,(D83-C83)*24-VEMA!R$38)),\"<< zlý čas\")","v":0},null,null,null,null,0,0,null,null,null,null,null,"4.1.23. A: Realizácia prieskumnej činnosti v projekte, následne spracovanie a interpretácia zistenia z opytovania, finalizácia prieskumu.",null,null,null,{"$f":"IF(OR(B83=\"So\",B83=\"Ne\"),\"dobre\",IF(C83>D83,\"zle\",IF(AND(C83<=VEMA!P$38,VEMA!Q$38<=D83),\"obed\",IF(OR(D83<=VEMA!P$38,VEMA!Q$38<=C83),\"dobre\",\"zle\"))))","v":"dobre"}]
[{"$f":"IF(A81=\"\",\"\",IF(A81+1<=$D$146,A81+1,\"\"))","v":22},{"$f":"IF(A84=\"\",\"\",IF(B81=\"Po\",\"Ut\",IF(B81=\"Ut\",\"St\",IF(B81=\"St\",\"Št\",IF(B81=\"Št\",\"Pi\",IF(B81=\"Pi\",\"So\",IF(B81=\"So\",\"Ne\",IF(B81=\"Ne\",\"Po\",\"\"))))))))","v":"Ut"},null,null,{"$f":"IF(OR(U84=\"dobre\",U84=\"obed\"),IF(OR(B84=\"So\",B84=\"Ne\"),\"\",IF(OR(D84<=VEMA!P$39,C84>=VEMA!Q$39),(D84-C84)*24,(D84-C84)*24-VEMA!R$39)),\"<< zlý čas\")","v":0},null,null,null,null,0,0,null,null,null,null,null,"4.1.25. T PV a UZ: Návrh programu vzdelávania.",null,{"$f":"IF(SUM(E84:E86)=0,\"\",SUM(E84:E86))","v":""},null,{"$f":"IF(OR(B84=\"So\",B84=\"Ne\"),\"dobre\",IF(C84>D84,\"zle\",IF(AND(C84<=VEMA!P$39,VEMA!Q$39<=D84),\"obed\",IF(OR(D84<=VEMA!P$39,VEMA!Q$39<=C84),\"dobre\",\"zle\"))))","v":"dobre"},{"$f":"IF(COUNTIF(U84:U86,\"obed\")>0,\"obed\",\"\")","v":""},{"$f":"IF(COUNTIF('PV2'!U84:U86,\"obed\")>0,\"obed\",\"\")","v":""},{"$f":"IF(COUNTIF('PV3'!U84:U86,\"obed\")>0,\"obed\",\"\")","v":""},{"$f":"IF(COUNTIF('PV4'!U84:U86,\"obed\")>0,\"obed\",\"\")","v":""},{"$f":"IF(COUNTIF(V84:Y84,\"obed\")>0,\"obed\",\"\")","v":""}]
[null,{"$f":"B84","v":"Ut"},null,null,{"$f":"IF(OR(U85=\"dobre\",U85=\"obed\"),IF(OR(B85=\"So\",B85=\"Ne\"),\"\",IF(OR(D85<=VEMA!P$39,C85>=VEMA!Q$39),(D85-C85)*24,(D85-C85)*24-VEMA!R$39)),\"<< zlý čas\")","v":0},null,null,null,null,{"$f":"IF(B85=\"\",\"\",IF(B85=\"So\",\"\",(IF(B85=\"Ne\",\"\",(ROUND(E85-K85,2))))))","v":0},{"$f":"IF(B85=\"So\",\"\",(IF(B85=\"Ne\",\"\",(IF(B85=\"\",\"\",(IF(COUNTIF(Pozicia,$F$16),ROUND(VRR*E85,2),0)))))))","v":0},null,null,null,null,null,"4.1.25. T PV a UZ: Spracovanie programu vzdelávania.",null,null,null,{"$f":"IF(OR(B85=\"So\",B85=\"Ne\"),\"dobre\",IF(C85>D85,\"zle\",IF(AND(C85<=VEMA!P$39,VEMA!Q$39<=D85),\"obed\",IF(OR(D85<=VEMA!P$39,VEMA!Q$39<=C85),\"dobre\",\"zle\"))))","v":"dobre"}]
[null,{"$f":"B85","v":"Ut"},null,null,{"$f":"IF(OR(U86=\"dobre\",U86=\"obed\"),IF(OR(B86=\"So\",B86=\"Ne\"),\"\",IF(OR(D86<=VEMA!P$39,C86>=VEMA!Q$39),(D86-C86)*24,(D86-C86)*24-VEMA!R$39)),\"<< zlý čas\")","v":0},null,null,null,null,0,0,null,null,null,null,null,"4.1.25. T PV a UZ: Finálne spracovanie programu vzdelávania.",null,null,null,{"$f":"IF(OR(B86=\"So\",B86=\"Ne\"),\"dobre\",IF(C86>D86,\"zle\",IF(AND(C86<=VEMA!P$39,VEMA!Q$39<=D86),\"obed\",IF(OR(D86<=VEMA!P$39,VEMA!Q$39<=C86),\"dobre\",\"zle\"))))","v":"dobre"}]
[{"$f":"IF(A84=\"\",\"\",IF(A84+1<=$D$146,A84+1,\"\"))","v":23},{"$f":"IF(A87=\"\",\"\",IF(B84=\"Po\",\"Ut\",IF(B84=\"Ut\",\"St\",IF(B84=\"St\",\"Št\",IF(B84=\"Št\",\"Pi\",IF(B84=\"Pi\",\"So\",IF(B84=\"So\",\"Ne\",IF(B84=\"Ne\",\"Po\",\"\"))))))))","v":"St"},null,null,{"$f":"IF(OR(U87=\"dobre\",U87=\"obed\"),IF(OR(B87=\"So\",B87=\"Ne\"),\"\",IF(OR(D87<=VEMA!P$40,C87>=VEMA!Q$40),(D87-C87)*24,(D87-C87)*24-VEMA!R$40)),\"<< zlý čas\")","v":0},null,null,null,null,0,0,null,null,null,null,null,"4.1.25. T PV a UZ: Zapracovanie pripomienok do  programu vzdelávania.",null,{"$f":"IF(SUM(E87:E89)=0,\"\",SUM(E87:E89))","v":""},null,{"$f":"IF(OR(B87=\"So\",B87=\"Ne\"),\"dobre\",IF(C87>D87,\"zle\",IF(AND(C87<=VEMA!P$40,VEMA!Q$40<=D87),\"obed\",IF(OR(D87<=VEMA!P$40,VEMA!Q$40<=C87),\"dobre\",\"zle\"))))","v":"dobre"},{"$f":"IF(COUNTIF(U87:U89,\"obed\")>0,\"obed\",\"\")","v":""},{"$f":"IF(COUNTIF('PV2'!U87:U89,\"obed\")>0,\"obed\",\"\")","v":""},{"$f":"IF(COUNTIF('PV3'!U87:U89,\"obed\")>0,\"obed\",\"\")","v":""},{"$f":"IF(COUNTIF('PV4'!U87:U89,\"obed\")>0,\"obed\",\"\")","v":""},{"$f":"IF(COUNTIF(V87:Y87,\"obed\")>0,\"obed\",\"\")","v":""}]
[null,{"$f":"B87","v":"St"},null,null,{"$f":"IF(OR(U88=\"dobre\",U88=\"obed\"),IF(OR(B88=\"So\",B88=\"Ne\"),\"\",IF(OR(D88<=VEMA!P$40,C88>=VEMA!Q$40),(D88-C88)*24,(D88-C88)*24-VEMA!R$40)),\"<< zlý čas\")","v":0},null,null,null,null,0,0,null,null,null,null,null,"4.1.25. T PV a UZ: Návrh učebných zdrojov k programu vzdelávania.",null,null,null,{"$f":"IF(OR(B88=\"So\",B88=\"Ne\"),\"dobre\",IF(C88>D88,\"zle\",IF(AND(C88<=VEMA!P$40,VEMA!Q$40<=D88),\"obed\",IF(OR(D88<=VEMA!P$40,VEMA!Q$40<=C88),\"dobre\",\"zle\"))))","v":"dobre"}]
[null,{"$f":"B88","v":"St"},null,null,{"$f":"IF(OR(U89=\"dobre\",U89=\"obed\"),IF(OR(B89=\"So\",B89=\"Ne\"),\"\",IF(OR(D89<=VEMA!P$40,C89>=VEMA!Q$40),(D89-C89)*24,(D89-C89)*24-VEMA!R$40)),\"<< zlý čas\")","v":0},null,null,null,null,0,0,null,null,null,null,null,"4.1.25. T PV a UZ: Spracovanie  učebných zdrojov k programu vzdelávania.",null,null,null,{"$f":"IF(OR(B89=\"So\",B89=\"Ne\"),\"dobre\",IF(C89>D89,\"zle\",IF(AND(C89<=VEMA!P$40,VEMA!Q$40<=D89),\"obed\",IF(OR(D89<=VEMA!P$40,VEMA!Q$40<=C89),\"dobre\",\"zle\"))))","v":"dobre"}]
[{"$f":"IF(A87=\"\",\"\",IF(A87+1<=$D$146,A87+1,\"\"))","v":24},{"$f":"IF(A90=\"\",\"\",IF(B87=\"Po\",\"Ut\",IF(B87=\"Ut\",\"St\",IF(B87=\"St\",\"Št\",IF(B87=\"Št\",\"Pi\",IF(B87=\"Pi\",\"So\",IF(B87=\"So\",\"Ne\",IF(B87=\"Ne\",\"Po\",\"\"))))))))","v":"Št"},null,null,{"$f":"IF(OR(U90=\"dobre\",U90=\"obed\"),IF(OR(B90=\"So\",B90=\"Ne\"),\"\",IF(OR(D90<=VEMA!P$41,C90>=VEMA!Q$41),(D90-C90)*24,(D90-C90)*24-VEMA!R$41)),\"<< zlý čas\")","v":0},null,null,null,null,0,0,null,null,null,null,null,"4.1.25. T PV a UZ: Zapracovanie pripomienok do  programu vzdelávania a do učebných zdrojov.",null,{"$f":"IF(SUM(E90:E92)=0,\"\",SUM(E90:E92))","v":""},null,{"$f":"IF(OR(B90=\"So\",B90=\"Ne\"),\"dobre\",IF(C90>D90,\"zle\",IF(AND(C90<=VEMA!P$41,VEMA!Q$41<=D90),\"obed\",IF(OR(D90<=VEMA!P$41,VEMA!Q$41<=C90),\"dobre\",\"zle\"))))","v":"dobre"},{"$f":"IF(COUNTIF(U90:U92,\"obed\")>0,\"obed\",\"\")","v":""},{"$f":"IF(COUNTIF('PV2'!U90:U92,\"obed\")>0,\"obed\",\"\")","v":""},{"$f":"IF(COUNTIF('PV3'!U90:U92,\"obed\")>0,\"obed\",\"\")","v":""},{"$f":"IF(COUNTIF('PV4'!U90:U92,\"obed\")>0,\"obed\",\"\")","v":""},{"$f":"IF(COUNTIF(V90:Y90,\"obed\")>0,\"obed\",\"\")","v":""}]
[null,{"$f":"B90","v":"Št"},null,null,{"$f":"IF(OR(U91=\"dobre\",U91=\"obed\"),IF(OR(B91=\"So\",B91=\"Ne\"),\"\",IF(OR(D91<=VEMA!P$41,C91>=VEMA!Q$41),(D91-C91)*24,(D91-C91)*24-VEMA!R$41)),\"<< zlý čas\")","v":0},null,null,null,null,0,0,null,null,null,null,null,"4.1.25. T PV a UZ:  Návrh  a spracovanie programu vzdelávania a učebných zdrojov.",null,null,null,{"$f":"IF(OR(B91=\"So\",B91=\"Ne\"),\"dobre\",IF(C91>D91,\"zle\",IF(AND(C91<=VEMA!P$41,VEMA!Q$41<=D91),\"obed\",IF(OR(D91<=VEMA!P$41,VEMA!Q$41<=C91),\"dobre\",\"zle\"))))","v":"dobre"}]
[null,{"$f":"B91","v":"Št"},null,null,{"$f":"IF(OR(U92=\"dobre\",U92=\"obed\"),IF(OR(B92=\"So\",B92=\"Ne\"),\"\",IF(OR(D92<=VEMA!P$41,C92>=VEMA!Q$41),(D92-C92)*24,(D92-C92)*24-VEMA!R$41)),\"<< zlý čas\")","v":0},null,null,null,null,0,0,null,null,null,null,null,"4.1.25. T PV a UZ: Finalizácia vzdelávacieho programu a učebných zdrojov.",null,null,null,{"$f":"IF(OR(B92=\"So\",B92=\"Ne\"),\"dobre\",IF(C92>D92,\"zle\",IF(AND(C92<=VEMA!P$41,VEMA!Q$41<=D92),\"obed\",IF(OR(D92<=VEMA!P$41,VEMA!Q$41<=C92),\"dobre\",\"zle\"))))","v":"dobre"}]
[{"$f":"IF(A90=\"\",\"\",IF(A90+1<=$D$146,A90+1,\"\"))","v":25},{"$f":"IF(A93=\"\",\"\",IF(B90=\"Po\",\"Ut\",IF(B90=\"Ut\",\"St\",IF(B90=\"St\",\"Št\",IF(B90=\"Št\",\"Pi\",IF(B90=\"Pi\",\"So\",IF(B90=\"So\",\"Ne\",IF(B90=\"Ne\",\"Po\",\"\"))))))))","v":"Pi"},null,null,{"$f":"IF(OR(U93=\"dobre\",U93=\"obed\"),IF(OR(B93=\"So\",B93=\"Ne\"),\"\",IF(OR(D93<=VEMA!P$42,C93>=VEMA!Q$42),(D93-C93)*24,(D93-C93)*24-VEMA!R$42)),\"<< zlý čas\")","v":0},null,null,null,null,0,0,null,null,null,null,null,"4.1.25. T PV a UZ: Konzultovanie pripomienok s konzultantom obsahu PV a UZ.",null,{"$f":"IF(SUM(E93:E95)=0,\"\",SUM(E93:E95))","v":""},null,{"$f":"IF(OR(B93=\"So\",B93=\"Ne\"),\"dobre\",IF(C93>D93,\"zle\",IF(AND(C93<=VEMA!P$42,VEMA!Q$42<=D93),\"obed\",IF(OR(D93<=VEMA!P$42,VEMA!Q$42<=C93),\"dobre\",\"zle\"))))","v":"dobre"},{"$f":"IF(COUNTIF(U93:U95,\"obed\")>0,\"obed\",\"\")","v":""},{"$f":"IF(COUNTIF('PV2'!U93:U95,\"obed\")>0,\"obed\",\"\")","v":""},{"$f":"IF(COUNTIF('PV3'!U93:U95,\"obed\")>0,\"obed\",\"\")","v":""},{"$f":"IF(COUNTIF('PV4'!U93:U95,\"obed\")>0,\"obed\",\"\")","v":""},{"$f":"IF(COUNTIF(V93:Y93,\"obed\")>0,\"obed\",\"\")","v":""}]
[null,{"$f":"B93","v":"Pi"},null,null,{"$f":"IF(OR(U94=\"dobre\",U94=\"obed\"),IF(OR(B94=\"So\",B94=\"Ne\"),\"\",IF(OR(D94<=VEMA!P$42,C94>=VEMA!Q$42),(D94-C94)*24,(D94-C94)*24-VEMA!R$42)),\"<< zlý čas\")","v":0},null,null,null,null,0,0,null,null,null,null,null,"4.1.28. OG IV: Dohľad pri realizácii vzdelávacích aktivít v inovačných programoch vzdelávania.",null,null,null,{"$f":"IF(OR(B94=\"So\",B94=\"Ne\"),\"dobre\",IF(C94>D94,\"zle\",IF(AND(C94<=VEMA!P$42,VEMA!Q$42<=D94),\"obed\",IF(OR(D94<=VEMA!P$42,VEMA!Q$42<=C94),\"dobre\",\"zle\"))))","v":"dobre"}]
[null,{"$f":"B94","v":"Pi"},null,null,{"$f":"IF(OR(U95=\"dobre\",U95=\"obed\"),IF(OR(B95=\"So\",B95=\"Ne\"),\"\",IF(OR(D95<=VEMA!P$42,C95>=VEMA!Q$42),(D95-C95)*24,(D95-C95)*24-VEMA!R$42)),\"<< zlý čas\")","v":0},null,null,null,null,0,0,null,null,null,null,null,"4.1.28. OG IV: Príprava a vedie lektorov.",null,null,null,{"$f":"IF(OR(B95=\"So\",B95=\"Ne\"),\"dobre\",IF(C95>D95,\"zle\",IF(AND(C95<=VEMA!P$42,VEMA!Q$42<=D95),\"obed\",IF(OR(D95<=VEMA!P$42,VEMA!Q$42<=C95),\"dobre\",\"zle\"))))","v":"dobre"}]
[{"$f":"IF(A93=\"\",\"\",IF(A93+1<=$D$146,A93+1,\"\"))","v":26},{"$f":"IF(A96=\"\",\"\",IF(B93=\"Po\",\"Ut\",IF(B93=\"Ut\",\"St\",IF(B93=\"St\",\"Št\",IF(B93=\"Št\",\"Pi\",IF(B93=\"Pi\",\"So\",IF(B93=\"So\",\"Ne\",IF(B93=\"Ne\",\"Po\",\"\"))))))))","v":"So"},null,null,{"$f":"IF(OR(U96=\"dobre\",U96=\"obed\"),IF(OR(B96=\"So\",B96=\"Ne\"),\"\",IF(OR(D96<=VEMA!P$43,C96>=VEMA!Q$43),(D96-C96)*24,(D96-C96)*24-VEMA!R$43)),\"<< zlý čas\")","v":""},null,null,null,null,"","",null,null,null,null,null,"4.1.28. OG IV: Kontrola priebehu  realizácie vzdelávacích programov.",null,{"$f":"IF(SUM(E96:E98)=0,\"\",SUM(E96:E98))","v":""},null,{"$f":"IF(OR(B96=\"So\",B96=\"Ne\"),\"dobre\",IF(C96>D96,\"zle\",IF(AND(C96<=VEMA!P$43,VEMA!Q$43<=D96),\"obed\",IF(OR(D96<=VEMA!P$43,VEMA!Q$43<=C96),\"dobre\",\"zle\"))))","v":"dobre"},{"$f":"IF(COUNTIF(U96:U98,\"obed\")>0,\"obed\",\"\")","v":""},{"$f":"IF(COUNTIF('PV2'!U96:U98,\"obed\")>0,\"obed\",\"\")","v":""},{"$f":"IF(COUNTIF('PV3'!U96:U98,\"obed\")>0,\"obed\",\"\")","v":""},{"$f":"IF(COUNTIF('PV4'!U96:U98,\"obed\")>0,\"obed\",\"\")","v":""},{"$f":"IF(COUNTIF(V96:Y96,\"obed\")>0,\"obed\",\"\")","v":""}]
[null,{"$f":"B96","v":"So"},null,null,{"$f":"IF(OR(U97=\"dobre\",U97=\"obed\"),IF(OR(B97=\"So\",B97=\"Ne\"),\"\",IF(OR(D97<=VEMA!P$43,C97>=VEMA!Q$43),(D97-C97)*24,(D97-C97)*24-VEMA!R$43)),\"<< zlý čas\")","v":""},null,null,null,null,"","",null,null,null,null,null,"4.1.28. OG IV: Kontrola ukončenia realizácie vzdelávacích programov.",null,null,null,{"$f":"IF(OR(B97=\"So\",B97=\"Ne\"),\"dobre\",IF(C97>D97,\"zle\",IF(AND(C97<=VEMA!P$43,VEMA!Q$43<=D97),\"obed\",IF(OR(D97<=VEMA!P$43,VEMA!Q$43<=C97),\"dobre\",\"zle\"))))","v":"dobre"}]
[null,{"$f":"B97","v":"So"},null,null,{"$f":"IF(OR(U98=\"dobre\",U98=\"obed\"),IF(OR(B98=\"So\",B98=\"Ne\"),\"\",IF(OR(D98<=VEMA!P$43,C98>=VEMA!Q$43),(D98-C98)*24,(D98-C98)*24-VEMA!R$43)),\"<< zlý čas\")","v":""},null,null,null,null,"","",null,null,null,null,null,"4.1.28. OG IV: Vyhodnotenie realizácie programu vzdelávania.",null,null,null,{"$f":"IF(OR(B98=\"So\",B98=\"Ne\"),\"dobre\",IF(C98>D98,\"zle\",IF(AND(C98<=VEMA!P$43,VEMA!Q$43<=D98),\"obed\",IF(OR(D98<=VEMA!P$43,VEMA!Q$43<=C98),\"dobre\",\"zle\"))))","v":"dobre"}]
[{"$f":"IF(A96=\"\",\"\",IF(A96+1<=$D$146,A96+1,\"\"))","v":27},{"$f":"IF(A99=\"\",\"\",IF(B96=\"Po\",\"Ut\",IF(B96=\"Ut\",\"St\",IF(B96=\"St\",\"Št\",IF(B96=\"Št\",\"Pi\",IF(B96=\"Pi\",\"So\",IF(B96=\"So\",\"Ne\",IF(B96=\"Ne\",\"Po\",\"\"))))))))","v":"Ne"},null,null,{"$f":"IF(OR(U99=\"dobre\",U99=\"obed\"),IF(OR(B99=\"So\",B99=\"Ne\"),\"\",IF(OR(D99<=VEMA!P$44,C99>=VEMA!Q$44),(D99-C99)*24,(D99-C99)*24-VEMA!R$44)),\"<< zlý čas\")","v":""},null,null,null,null,"","",null,null,null,null,null,"4.1.28. OG IV: Príprava podkladov na archiváciu v zmysle interných a projektových pokynov.",null,{"$f":"IF(SUM(E99:E101)=0,\"\",SUM(E99:E101))","v":""},null,{"$f":"IF(OR(B99=\"So\",B99=\"Ne\"),\"dobre\",IF(C99>D99,\"zle\",IF(AND(C99<=VEMA!P$44,VEMA!Q$44<=D99),\"obed\",IF(OR(D99<=VEMA!P$44,VEMA!Q$44<=C99),\"dobre\",\"zle\"))))","v":"dobre"},{"$f":"IF(COUNTIF(U99:U101,\"obed\")>0,\"obed\",\"\")","v":""},{"$f":"IF(COUNTIF('PV2'!U99:U101,\"obed\")>0,\"obed\",\"\")","v":""},{"$f":"IF(COUNTIF('PV3'!U99:U101,\"obed\")>0,\"obed\",\"\")","v":""},{"$f":"IF(COUNTIF('PV4'!U99:U101,\"obed\")>0,\"obed\",\"\")","v":""},{"$f":"IF(COUNTIF(V99:Y99,\"obed\")>0,\"obed\",\"\")","v":""}]
[null,{"$f":"B99","v":"Ne"},null,null,{"$f":"IF(OR(U100=\"dobre\",U100=\"obed\"),IF(OR(B100=\"So\",B100=\"Ne\"),\"\",IF(OR(D100<=VEMA!P$44,C100>=VEMA!Q$44),(D100-C100)*24,(D100-C100)*24-VEMA!R$44)),\"<< zlý čas\")","v":""},null,null,null,null,"","",null,null,null,null,null,"4.1.28. OG IV: Kontrola zapracovaných pripomienok.",null,null,null,{"$f":"IF(OR(B100=\"So\",B100=\"Ne\"),\"dobre\",IF(C100>D100,\"zle\",IF(AND(C100<=VEMA!P$44,VEMA!Q$44<=D100),\"obed\",IF(OR(D100<=VEMA!P$44,VEMA!Q$44<=C100),\"dobre\",\"zle\"))))","v":"dobre"}]
[null,{"$f":"B100","v":"Ne"},null,null,{"$f":"IF(OR(U101=\"dobre\",U101=\"obed\"),IF(OR(B101=\"So\",B101=\"Ne\"),\"\",IF(OR(D101<=VEMA!P$44,C101>=VEMA!Q$44),(D101-C101)*24,(D101-C101)*24-VEMA!R$44)),\"<< zlý čas\")","v":""},null,null,null,null,"","",null,null,null,null,null,"4.1.28. OG IV: Účasť na porade k vzdelávacím programom v rámci národného projektu.",null,null,null,{"$f":"IF(OR(B101=\"So\",B101=\"Ne\"),\"dobre\",IF(C101>D101,\"zle\",IF(AND(C101<=VEMA!P$44,VEMA!Q$44<=D101),\"obed\",IF(OR(D101<=VEMA!P$44,VEMA!Q$44<=C101),\"dobre\",\"zle\"))))","v":"dobre"}]
[{"$f":"IF(A99=\"\",\"\",IF(A99+1<=$D$146,A99+1,\"\"))","v":28},{"$f":"IF(A102=\"\",\"\",IF(B99=\"Po\",\"Ut\",IF(B99=\"Ut\",\"St\",IF(B99=\"St\",\"Št\",IF(B99=\"Št\",\"Pi\",IF(B99=\"Pi\",\"So\",IF(B99=\"So\",\"Ne\",IF(B99=\"Ne\",\"Po\",\"\"))))))))","v":"Po"},null,null,{"$f":"IF(OR(U102=\"dobre\",U102=\"obed\"),IF(OR(B102=\"So\",B102=\"Ne\"),\"\",IF(OR(D102<=VEMA!P$45,C102>=VEMA!Q$45),(D102-C102)*24,(D102-C102)*24-VEMA!R$45)),\"<< zlý čas\")","v":0},null,null,null,null,0,0,null,null,null,null,null,"4.1.28. OG IV: Priebežné vyhodnocovanie výstupov z realizovaných vzdelávacích programov.",null,{"$f":"IF(SUM(E102:E104)=0,\"\",SUM(E102:E104))","v":""},null,{"$f":"IF(OR(B102=\"So\",B102=\"Ne\"),\"dobre\",IF(C102>D102,\"zle\",IF(AND(C102<=VEMA!P$45,VEMA!Q$45<=D102),\"obed\",IF(OR(D102<=VEMA!P$45,VEMA!Q$45<=C102),\"dobre\",\"zle\"))))","v":"dobre"},{"$f":"IF(COUNTIF(U102:U104,\"obed\")>0,\"obed\",\"\")","v":""},{"$f":"IF(COUNTIF('PV2'!U102:U104,\"obed\")>0,\"obed\",\"\")","v":""},{"$f":"IF(COUNTIF('PV3'!U102:U104,\"obed\")>0,\"obed\",\"\")","v":""},{"$f":"IF(COUNTIF('PV4'!U102:U104,\"obed\")>0,\"obed\",\"\")","v":""},{"$f":"IF(COUNTIF(V102:Y102,\"obed\")>0,\"obed\",\"\")","v":""}]
[null,{"$f":"B102","v":"Po"},null,null,{"$f":"IF(OR(U103=\"dobre\",U103=\"obed\"),IF(OR(B103=\"So\",B103=\"Ne\"),\"\",IF(OR(D103<=VEMA!P$45,C103>=VEMA!Q$45),(D103-C103)*24,(D103-C103)*24-VEMA!R$45)),\"<< zlý čas\")","v":0},null,null,null,null,0,0,null,null,null,null,null,"4.1.28. OG IV: Vyhodnotenie programu vzdelávania.",null,null,null,{"$f":"IF(OR(B103=\"So\",B103=\"Ne\"),\"dobre\",IF(C103>D103,\"zle\",IF(AND(C103<=VEMA!P$45,VEMA!Q$45<=D103),\"obed\",IF(OR(D103<=VEMA!P$45,VEMA!Q$45<=C103),\"dobre\",\"zle\"))))","v":"dobre"}]
[null,{"$f":"B103","v":"Po"},null,null,{"$f":"IF(OR(U104=\"dobre\",U104=\"obed\"),IF(OR(B104=\"So\",B104=\"Ne\"),\"\",IF(OR(D104<=VEMA!P$45,C104>=VEMA!Q$45),(D104-C104)*24,(D104-C104)*24-VEMA!R$45)),\"<< zlý čas\")","v":0},null,null,null,null,0,0,null,null,null,null,null,"4.1.28. OG IV: Účasť na porade k vzdelávacím programom v rámci národného projektu a vyhodnotenie programu vzdelávania.",null,null,null,{"$f":"IF(OR(B104=\"So\",B104=\"Ne\"),\"dobre\",IF(C104>D104,\"zle\",IF(AND(C104<=VEMA!P$45,VEMA!Q$45<=D104),\"obed\",IF(OR(D104<=VEMA!P$45,VEMA!Q$45<=C104),\"dobre\",\"zle\"))))","v":"dobre"}]
[{"$f":"IF(A102=\"\",\"\",IF(A102+1<=$D$146,A102+1,\"\"))","v":29},{"$f":"IF(A105=\"\",\"\",IF(B102=\"Po\",\"Ut\",IF(B102=\"Ut\",\"St\",IF(B102=\"St\",\"Št\",IF(B102=\"Št\",\"Pi\",IF(B102=\"Pi\",\"So\",IF(B102=\"So\",\"Ne\",IF(B102=\"Ne\",\"Po\",\"\"))))))))","v":"Ut"},null,null,{"$f":"IF(OR(U105=\"dobre\",U105=\"obed\"),IF(OR(B105=\"So\",B105=\"Ne\",B105=\"\"),\"\",IF(OR(D105<=VEMA!P$46,C105>=VEMA!Q$46),(D105-C105)*24,(D105-C105)*24-VEMA!R$46)),\"<< zlý čas\")","v":0},null,null,null,null,0,0,null,null,null,null,null,"4.1.29 VVS: Zakladanie vzdelávacej skupiny.",null,{"$f":"IF(SUM(E105:E107)=0,\"\",SUM(E105:E107))","v":""},null,{"$f":"IF(OR(B105=\"So\",B105=\"Ne\"),\"dobre\",IF(C105>D105,\"zle\",IF(AND(C105<=VEMA!P$46,VEMA!Q$46<=D105),\"obed\",IF(OR(D105<=VEMA!P$46,VEMA!Q$46<=C105),\"dobre\",\"zle\"))))","v":"dobre"},{"$f":"IF(COUNTIF(U105:U107,\"obed\")>0,\"obed\",\"\")","v":""},{"$f":"IF(COUNTIF('PV2'!U105:U107,\"obed\")>0,\"obed\",\"\")","v":""},{"$f":"IF(COUNTIF('PV3'!U105:U107,\"obed\")>0,\"obed\",\"\")","v":""},{"$f":"IF(COUNTIF('PV4'!U105:U107,\"obed\")>0,\"obed\",\"\")","v":""},{"$f":"IF(COUNTIF(V105:Y105,\"obed\")>0,\"obed\",\"\")","v":""}]
[null,{"$f":"B105","v":"Ut"},null,null,{"$f":"IF(OR(U106=\"dobre\",U106=\"obed\"),IF(OR(B106=\"So\",B106=\"Ne\",B106=\"\"),\"\",IF(OR(D106<=VEMA!P$46,C106>=VEMA!Q$46),(D106-C106)*24,(D106-C106)*24-VEMA!R$46)),\"<< zlý čas\")","v":0},null,null,null,null,0,0,null,null,null,null,null,"4.1.29. VVS: Správa databázy účastníkov, tvorba materiálov (pozvánky, prezenčné listiny, triednu knihu skupiny).",null,null,null,{"$f":"IF(OR(B106=\"So\",B106=\"Ne\"),\"dobre\",IF(C106>D106,\"zle\",IF(AND(C106<=VEMA!P$46,VEMA!Q$46<=D106),\"obed\",IF(OR(D106<=VEMA!P$46,VEMA!Q$46<=C106),\"dobre\",\"zle\"))))","v":"dobre"}]
[null,{"$f":"B106","v":"Ut"},null,null,{"$f":"IF(OR(U107=\"dobre\",U107=\"obed\"),IF(OR(B107=\"So\",B107=\"Ne\",B107=\"\"),\"\",IF(OR(D107<=VEMA!P$46,C107>=VEMA!Q$46),(D107-C107)*24,(D107-C107)*24-VEMA!R$46)),\"<< zlý čas\")","v":0},null,null,null,null,0,0,null,null,null,null,null,"4.1.29. VVS: Sumarizácia dištančných úloh.",null,null,null,{"$f":"IF(OR(B107=\"So\",B107=\"Ne\"),\"dobre\",IF(C107>D107,\"zle\",IF(AND(C107<=VEMA!P$46,VEMA!Q$46<=D107),\"obed\",IF(OR(D107<=VEMA!P$46,VEMA!Q$46<=C107),\"dobre\",\"zle\"))))","v":"dobre"}]
[{"$f":"IF(A105=\"\",\"\",IF(A105+1<=$D$146,A105+1,\"\"))","v":30},{"$f":"IF(A108=\"\",\"\",IF(B105=\"Po\",\"Ut\",IF(B105=\"Ut\",\"St\",IF(B105=\"St\",\"Št\",IF(B105=\"Št\",\"Pi\",IF(B105=\"Pi\",\"So\",IF(B105=\"So\",\"Ne\",IF(B105=\"Ne\",\"Po\",\"\"))))))))","v":"St"},null,null,{"$f":"IF(OR(U108=\"dobre\",U108=\"obed\"),IF(OR(B108=\"So\",B108=\"Ne\",B108=\"\"),\"\",IF(OR(D108<=VEMA!P$47,C108>=VEMA!Q$47),(D108-C108)*24,(D108-C108)*24-VEMA!R$47)),\"<< zlý čas\")","v":0},null,null,null,null,0,0,null,null,null,null,null,"4.1.29. VVS: Plánovanie a príprava harmonogramu vzdelávacích aktivít.",null,{"$f":"IF(SUM(E108:E110)=0,\"\",SUM(E108:E110))","v":""},null,{"$f":"IF(OR(B108=\"So\",B108=\"Ne\"),\"dobre\",IF(C108>D108,\"zle\",IF(AND(C108<=VEMA!P$47,VEMA!Q$47<=D108),\"obed\",IF(OR(D108<=VEMA!P$47,VEMA!Q$47<=C108),\"dobre\",\"zle\"))))","v":"dobre"},{"$f":"IF(COUNTIF(U108:U110,\"obed\")>0,\"obed\",\"\")","v":""},{"$f":"IF(COUNTIF('PV2'!U108:U110,\"obed\")>0,\"obed\",\"\")","v":""},{"$f":"IF(COUNTIF('PV3'!U108:U110,\"obed\")>0,\"obed\",\"\")","v":""},{"$f":"IF(COUNTIF('PV4'!U108:U110,\"obed\")>0,\"obed\",\"\")","v":""},{"$f":"IF(COUNTIF(V108:Y108,\"obed\")>0,\"obed\",\"\")","v":""}]
[null,{"$f":"B108","v":"St"},null,null,{"$f":"IF(OR(U109=\"dobre\",U109=\"obed\"),IF(OR(B109=\"So\",B109=\"Ne\",B109=\"\"),\"\",IF(OR(D109<=VEMA!P$47,C109>=VEMA!Q$47),(D109-C109)*24,(D109-C109)*24-VEMA!R$47)),\"<< zlý čas\")","v":0},null,null,null,null,0,0,null,null,null,null,null,"4.1.29. VVS: Sumarizácia dištančných úloh a záverečných prezentácii, príprava a spracovanie záverov, vrátane podkladov na spracovanie osvedčení a protokolov. ",null,null,null,{"$f":"IF(OR(B109=\"So\",B109=\"Ne\"),\"dobre\",IF(C109>D109,\"zle\",IF(AND(C109<=VEMA!P$47,VEMA!Q$47<=D109),\"obed\",IF(OR(D109<=VEMA!P$47,VEMA!Q$47<=C109),\"dobre\",\"zle\"))))","v":"dobre"}]
[null,{"$f":"B109","v":"St"},null,null,{"$f":"IF(OR(U110=\"dobre\",U110=\"obed\"),IF(OR(B110=\"So\",B110=\"Ne\",B110=\"\"),\"\",IF(OR(D110<=VEMA!P$47,C110>=VEMA!Q$47),(D110-C110)*24,(D110-C110)*24-VEMA!R$47)),\"<< zlý čas\")","v":0},null,null,null,null,0,0,null,null,null,null,null,"4.1.29. VVS: Príprava podkladov na archiváciu v zmysle interných a projektových pokynov.",null,null,null,{"$f":"IF(OR(B110=\"So\",B110=\"Ne\"),\"dobre\",IF(C110>D110,\"zle\",IF(AND(C110<=VEMA!P$47,VEMA!Q$47<=D110),\"obed\",IF(OR(D110<=VEMA!P$47,VEMA!Q$47<=C110),\"dobre\",\"zle\"))))","v":"dobre"}]
[{"$f":"IF(A108=\"\",\"\",IF(A108+1<=$D$146,A108+1,\"\"))","v":""},{"$f":"IF(A111=\"\",\"\",IF(B108=\"Po\",\"Ut\",IF(B108=\"Ut\",\"St\",IF(B108=\"St\",\"Št\",IF(B108=\"Št\",\"Pi\",IF(B108=\"Pi\",\"So\",IF(B108=\"So\",\"Ne\",IF(B108=\"Ne\",\"Po\",\"\"))))))))","v":""},null,null,{"$f":"IF(OR(U111=\"dobre\",U111=\"obed\"),IF(OR(B111=\"So\",B111=\"Ne\",B111=\"\"),\"\",IF(OR(D111<=VEMA!P$48,C111>=VEMA!Q$48),(D111-C111)*24,(D111-C111)*24-VEMA!R$48)),\"<< zlý čas\")","v":""},null,null,null,null,"","",null,null,null,null,null,"4.1.29. VVS: Koordinovanie vzdelávacích skupín.",null,{"$f":"IF(SUM(E111:E113)=0,\"\",SUM(E111:E113))","v":""},null,{"$f":"IF(OR(B111=\"So\",B111=\"Ne\",B111=\"\"),\"dobre\",IF(C111>D111,\"zle\",IF(AND(C111<=VEMA!P$48,VEMA!Q$48<=D111),\"obed\",IF(OR(D111<=VEMA!P$48,VEMA!Q$48<=C111),\"dobre\",\"zle\"))))","v":"dobre"},{"$f":"IF(COUNTIF(U111:U113,\"obed\")>0,\"obed\",\"\")","v":""},{"$f":"IF(COUNTIF('PV2'!U111:U113,\"obed\")>0,\"obed\",\"\")","v":""},{"$f":"IF(COUNTIF('PV3'!U111:U113,\"obed\")>0,\"obed\",\"\")","v":""},{"$f":"IF(COUNTIF('PV4'!U111:U113,\"obed\")>0,\"obed\",\"\")","v":""},{"$f":"IF(COUNTIF(V111:Y111,\"obed\")>0,\"obed\",\"\")","v":""}]
[null,{"$f":"B111","v":""},null,null,{"$f":"IF(OR(U112=\"dobre\",U112=\"obed\"),IF(OR(B112=\"So\",B112=\"Ne\",B112=\"\"),\"\",IF(OR(D112<=VEMA!P$48,C112>=VEMA!Q$48),(D112-C112)*24,(D112-C112)*24-VEMA!R$48)),\"<< zlý čas\")","v":""},null,null,null,null,{"$f":"IF(B112=\"\",\"\",IF(B112=\"So\",\"\",(IF(B112=\"Ne\",\"\",(ROUND(E112-K112,2))))))","v":""},"",null,null,null,null,null,"4.1.30. L: Príprava na lektorskú činnosť.",null,null,null,{"$f":"IF(OR(B112=\"So\",B112=\"Ne\",B112=\"\"),\"dobre\",IF(C112>D112,\"zle\",IF(AND(C112<=VEMA!P$48,VEMA!Q$48<=D112),\"obed\",IF(OR(D112<=VEMA!P$48,VEMA!Q$48<=C112),\"dobre\",\"zle\"))))","v":"dobre"}]
[null,{"$f":"B112","v":""},null,null,{"$f":"IF(OR(U113=\"dobre\",U113=\"obed\"),IF(OR(B113=\"So\",B113=\"Ne\",B113=\"\"),\"\",IF(OR(D113<=VEMA!P$48,C113>=VEMA!Q$48),(D113-C113)*24,(D113-C113)*24-VEMA!R$48)),\"<< zlý čas\")","v":""},null,null,null,null,"","",null,null,null,null,null,"4.1.30. L: Úprava materiálov pre účastníkov vzdelávania.",null,null,null,{"$f":"IF(OR(B113=\"So\",B113=\"Ne\",B113=\"\"),\"dobre\",IF(C113>D113,\"zle\",IF(AND(C113<=VEMA!P$48,VEMA!Q$48<=D113),\"obed\",IF(OR(D113<=VEMA!P$48,VEMA!Q$48<=C113),\"dobre\",\"zle\"))))","v":"dobre"}]
["Spolu:",null,null,null,{"$f":"SUMIF(B21:B111,\"Po\",E21:E113)+SUMIF(B21:B111,\"Ut\",E21:E111)+SUMIF(B21:B111,\"St\",E21:E111)+SUMIF(B21:B111,\"Št\",E21:E111)+SUMIF(B21:B111,\"Pi\",E21:E111)","v":0},null,null,null,null,{"$f":"SUM(J21:J111)","v":0},{"$f":"SUM(K21:K111)","v":0},null,null,null,null,null,"4.1.30. L: Lektorovanie programu vzdelávania."]
["Čestné vyhlásenie:",null,null,null,null,null,null,null,null,null,null,null,null,null,null,null,"4.1.30. L: Ukončovanie  vzdelávacieho programu (člen skúšobnej komisie). "]
[null,null,"❶Ako prijímateľ vyhlasujem, že údaje uvedené v pracovnom výkaze sú pravdivé, reálne a správne a som si vedomý následkov spojených s uvedením/predložením nesprávneho, neúplného alebo falšovaného výkazu.",null,null,null,null,null,null,null,null,null,null,null,null,null,"4.1.30. L: Ukončovanie  vzdelávacieho programu (predseda skúšobnej komisie). "]
["X",null,null,null,null,null,null,null,null,null,null,null,null,"X",null,null,"4.1.30. L: Vyhodnotenie programu vzdelávania za skupinu."]
[null,null,null,null,null,null,null,null,null,null,null,null,null,null,null,null,"4.1.30. L: Príprava na lektorskú činnosť.  Úprava materiálov pre účastníkov vzdelávania."]
[null,null,"❷Svojim podpisom potvrdzujem, že v uvedenom mesiaci som mal iba jediný pracovnoprávny vzťah,  nevykonával som iné činnosti u tohto zamestnávateľa ani u iných zamestnávateľov, údaje uvedené v pracovnom výkaze sú pravdivé, reálne a správne a som si vedomý následkov spojených s uvedením/predložením nesprávneho, neúplného alebo falšovaného pracovného výkazu.",null,null,null,null,null,null,null,null,null,null,null,null,null,"4.1.30. L: Príprava na lektorskú činnosť a lektorovanie programu vzdelávania."]
[null,null,null,null,null,null,null,null,null,null,null,null,null,null,null,null,"4.1.32. P.: Realizácia individuálneho poradenstva pedagogickým zamestnancom s dôrazom na aplikáciu poznatkov zo vzdelávacích programov a aktivít v školskej praxi."]
["Dátum odovzdania: ",null,null,null,null,null,null,"Dátum prevzatia:",null,null,null,null,null,null,null,null,"4.1.32. P.: Poskytovanie spätnej väzby na pozorované edukačné procesy."]
[null,null,null,null,null,null,null,null,null,null,null,null,null,null,null,null,"4.1.32. P.: Realizácia poradenského projektu."]
["Podpis osoby***:",null,null,null,null,null,null,"Podpis štatutárneho orgánu prijímateľa:**",null,null,null,null,null,null,null,null,"4.1.32. P.: Návrh a vypracovanie odporúčaní na zvýšenie kvality výchovno-vzdelávacieho procesu."]
[null,null,null,null,null,null,null,null,null,null,null,null,null,null,null,null,"4.1.32. P.: Vyhodnotenie realizácie poradenského projektu."]
["Poznámka: Osobou sa rozumie zamestnanec v pracovnoprávnom vzťahu (pracovný pomer, dohody) ako aj osoba pracujúca na základe iných ako pracovnoprávnych vzťahov, resp. osoba pracujúca pre dodávateľa, ktorý vykonáva činnosť pre prijímateľa.                                                                                                         \n*Počet hodín je uvádzaný pre 60 minútový interval.",null,null,null,null,null,null,null,null,null,null,null,null,null,null,null,"4.1.32. P: Príprava podkladom na realizáciu poradenského projektu, realizácia poradenského projektu."]
[null,null,null,null,null,null,null,null,null,null,null,null,null,null,null,null,"4.1.32. P: Príprava poradenského projektu."]
["**V prípade splmonocnenia sa uvedia osoba splnomocnená štatutárnym orgánom na podpisovanie pracovných výkazov",null,null,null,null,null,null,null,null,null,null,null,null,null,null,null,"sviatok"]
["***V prípade dodávateľských vzťahov sa uvedie podpis osoby, ktorá vykonala činnosti a výstupy uvádzané v PV a podpis osoby, ktorá zastupuje dodávateľa. Ak osoby sú totožné uvedie sa iba jeden podpis",null,null,null,null,null,null,null,null,null,null,null,null,null,null,null,"dovolenka"]
[null,null,null,null,null,null,null,null,null,null,null,null,null,null,null,null,"iné náhrady"]
["❶",null,"osoba  pracujúca na rôzne pracovnoprávne vzťahy u jedného resp. rôznych zamestnávateľov ",null,null,null,null,null,null,null,null,null,null,null,null,null,"lekár"]
["❷",null,"osoba pracujúca 100% na projekt, ktorá mala iba jediný pracovnoprávny vzťah",null,null,null,null,null,null,null,null,null,null,null,null,null,"sprevádzanie člena rodiny"]
[null,null,null,null,null,null,null,null,null,null,null,null,null,null,null,null,"PN"]
[null,null,null,null,null,null,null,null,null,null,null,null,null,null,null,null,"OČR"]
[null,null,null,null,null,null,null,null,null,null,null,null,null,null,null,null,"neplatené voľno"]
["PRÁCA NADČAS*"]
["Mesiac ",null,null,null,null,null,null,{"$f":"F17","v":"September"}]
["Fond pracovného času v príslušnom mesiaci "]
["Celkový počet odpracovaných hodín v príslušnom mesiaci "]
["Nariadená/dododnutá práca nadčas financovaná v rámci projektu**"]
[]
["* vypĺňa sa iba v prípade, ak sa v rámci projektu v danom mesiaci financuje v projekte práca nadčas"]
["** práca nadčas je oprávnená iba vo výnimočných a odôvodnených prípadoch. musí byť vykonávaná na príkaz zamestnávateľa alebo s jeho súhlasom. Nadčas je oprávneným výdavkom iba v prípade, ak činnosti vykonávané počas práce nadčas priamo súvisia s aktivitami projektu. Pri využívaní nadčas je potrebné dodržiavať platnú legislatívu SR (najmä zákonník práce).\n"]
[]
["Začiatok mesiaca",null,null,{"$f":"VLOOKUP(F17,A163:E174,(VLOOKUP(K17,A177:B180,2,0)),0)","v":2}]
[]
["Počet dní v mesiaci",null,null,{"$f":"VLOOKUP(F17,A183:C194,(VLOOKUP(K17,A196:B199,2,0)),0)","v":30}]
[]
["Vyberte",2019,2020,2021,2022]
["Január","ut","st","pi","so",1]
["Február","pi","so","po","ut",2]
["Marec","pi","ne","po","ut",3]
["Apríl","po","st","št","pi",4]
["Máj","st","pi","so","ne",5]
["Jún","so","po","ut","st",6]
["Júl","po","st","št","pi",7]
["August","št","so","ne","po",8]
["September","ne","ut","st","št",9]
["Október","ut","št","pi","so",10]
["November","pi","ne","po","ut",11]
["December","ne","ut","st","št",12]
[]
[null,2019,2020,2021,2022]
["Január",2,3,5,6]
["Február",5,6,1,2]
["Marec",5,7,1,2]
["Apríl",1,3,4,5]
["Máj",3,5,6,7]
["Jún",6,1,2,3]
["Júl",1,3,4,5]
["August",4,6,7,1]
["September",7,2,3,4]
["Október",2,4,5,6]
["November",5,7,1,2]
["December",7,2,3,4]
[]
[]
[2019,{"$f":"COLUMN(B162)","v":2}]
[2020,{"$f":"COLUMN($C$162)","v":3}]
[2021,{"$f":"COLUMN($D$162)","v":4}]
[2022,{"$f":"COLUMN($E$162)","v":5}]
[]
[null,"ostatné",2020]
["Január",31,31]
["Február",28,29]
["Marec",31,31]
["Apríl",30,30]
["Máj",31,31]
["Jún",30,30]
["Júl",31,31]
["August",31,31]
["September",30,30]
["Október",31,31]
["November",30,30]
["December",31,31]
[]
[2019,{"$f":"COLUMN(B182)","v":2}]
[2020,{"$f":"COLUMN($C$182)","v":3}]
[2021,{"$f":"COLUMN($B$182)","v":2}]
[2022,{"$f":"COLUMN($B$182)","v":2}]

{"sheet":"PV2","index":1,"n_rows":199,"n_cols":21,"rows_kept":199,"cut":false,"hidden":false,"merged":[[124,0,125,11],[126,0,126,11],[127,0,128,11],[134,0,134,11],[135,0,135,6],[135,7,135,11],[140,0,140,11],[141,0,141,11],[136,0,136,6],[136,7,136,11],[137,0,137,6],[137,7,137,11],[138,0,138,6],[138,7,138,11],[111,5,111,8],[112,5,112,8],[115,2,116,11],[118,2,118,11],[120,0,120,2],[120,3,120,5],[120,9,120,11],[122,0,122,2],[122,3,122,5],[122,7,122,10],[102,5,102,8],[103,5,103,8],[104,5,104,8],[105,5,105,8],[106,5,106,8],[107,5,107,8],[108,5,108,8],[109,5,109,8],[110,5,110,8],[92,5,92,8],[93,5,93,8],[94,5,94,8],[96,5,96,8],[97,5,97,8],[98,5,98,8],[99,5,99,8],[100,5,100,8],[101,5,101,8],[95,5,95,8],[83,5,83,8],[84,5,84,8],[85,5,85,8],[86,5,86,8],[87,5,87,8],[88,5,88,8],[89,5,89,8],[90,5,90,8],[91,5,91,8],[74,5,74,8],[75,5,75,8],[76,5,76,8],[77,5,77,8],[78,5,78,8],[79,5,79,8],[80,5,80,8],[81,5,81,8],[82,5,82,8],[65,5,65,8],[66,5,66,8],[67,5,67,8],[68,5,68,8],[69,5,69,8],[70,5,70,8],[71,5,71,8],[72,5,72,8],[73,5,73,8],[56,5,56,8],[57,5,57,8],[58,5,58,8],[59,5,59,8],[60,5,60,8],[61,5,61,8],[62,5,62,8],[63,5,63,8],[64,5,64,8],[47,5,47,8],[48,5,48,8],[49,5,49,8],[50,5,50,8],[51,5,51,8],[52,5,52,8],[53,5,53,8],[54,5,54,8],[55,5,55,8],[38,5,38,8],[39,5,39,8],[40,5,40,8],[41,5,41,8],[42,5,42,8],[43,5,43,8],[44,5,44,8],[45,5,45,8],[46,5,46,8],[29,5,29,8],[30,5,30,8],[31,5,31,8],[32,5,32,8],[33,5,33,8],[34,5,34,8],[35,5,35,8],[36,5,36,8],[37,5,37,8],[20,5,20,8],[21,5,21,8],[22,5,22,8],[23,5,23,8],[24,5,24,8],[25,5,25,8],[26,5,26,8],[27,5,27,8],[28,5,28,8],[12,0,12,4],[12,5,12,11],[14,0,14,4],[14,5,14,11],[15,0,15,4],[16,0,16,4],[16,5,16,9],[18,0,19,0],[18,1,19,1],[18,2,18,3],[18,4,19,4],[18,5,19,8],[18,9,19,9],[18,10,19,10],[18,11,19,11],[15,5,15,10],[5,5,5,7],[5,8,5,9],[7,0,7,4],[7,5,7,11],[8,0,8,4],[8,5,8,11],[9,0,9,4],[9,5,9,11],[10,0,11,4],[10,5,11,11]]}
[]
[null,null,null,null,null,null,null,null,null,null,null,null,null,null,null,null,null,null,null,null,{"$f":"VLOOKUP(F17,PV!A149:'PV'!F160,6,0)","v":9}]
[null,null,null,null,null,null,null,null,null,null,null,null,null,null,null,null,null,null,null,null,{"$f":"IF(U17=\"\",\"\",LEFT(U17,1))","v":"M"}]
[null,null,null,null,null,null,null,null,null,null,null,null,null,null,null,null,null,null,null,null,{"$f":"IF(U17=\"\",\"\",LEFT(RIGHT(U17,LEN(U17)-FIND(\" \",U17,1)),1))","v":"P"}]
[]
[null,null,null,null,null,"PRACOVNÝ VÝKAZ č. ",null,null,{"$f":"IF(U2>9,CONCATENATE(U2,\"/\",U3,U4,\"/02\"),CONCATENATE(\"0\",U2,\"/\",U3,U4,\"/02\"))","v":"09/MP/02"},null,null,null,null,null,null,null,null,null,null,null,{"$f":"SUBSTITUTE(F15,\"Ing.\",\"\")","v":"Mgr. Meno Priezvisko, PhD."}]
[null,null,null,null,null,null,null,null,null,null,null,null,null,null,null,null,null,null,null,null,{"$f":"SUBSTITUTE(U6,\"Mgr.\",\"\")","v":" Meno Priezvisko, PhD."}]
["Operačný program:",null,null,null,null,"Ľudské zdroje",null,null,null,null,null,null,null,null,null,null,null,null,null,null,{"$f":"SUBSTITUTE(U7,\"Bc.\",\"\")","v":" Meno Priezvisko, PhD."}]
["Programové obdobie:",null,null,null,null,"2014-2020",null,null,null,null,null,null,null,null,null,null,null,null,null,null,{"$f":"SUBSTITUTE(U8,\"PaedDr.\",\"\")","v":" Meno Priezvisko, PhD."}]
["Prijímateľ:",null,null,null,null,"Metodicko-pedagogické centrum",null,null,null,null,null,null,null,null,null,null,null,null,null,null,{"$f":"SUBSTITUTE(U9,\"PhDr.\",\"\")","v":" Meno Priezvisko, PhD."}]
["Názov projektu:",null,null,null,null,"Profesijný rozvoj učiteľov (TEACHERS)",null,null,null,null,null,null,null,null,null,null,null,null,null,null,{"$f":"SUBSTITUTE(U10,\"Doc.\",\"\")","v":" Meno Priezvisko, PhD."}]
[null,null,null,null,null,null,null,null,null,null,null,null,null,null,null,null,null,null,null,null,{"$f":"SUBSTITUTE(U11,\"ThDr.\",\"\")","v":" Meno Priezvisko, PhD."}]
["Kód ITMS projektu:",null,null,null,null,"312011AUN7",null,null,null,null,null,null,null,null,null,null,null,null,null,null,{"$f":"SUBSTITUTE(U12,\"MUDr.\",\"\")","v":" Meno Priezvisko, PhD."}]
[null,null,null,null,null,null,null,null,null,null,null,null,null,null,null,null,null,null,null,null,{"$f":"SUBSTITUTE(U13,\"Dr.\",\"\")","v":" Meno Priezvisko, PhD."}]
["Meno a priezvisko osoby:",null,null,null,null,{"$f":"PV!F15","v":"Mgr. Meno Priezvisko, PhD."},null,null,null,null,null,null,null,null,null,null,null,null,null,null,{"$f":"SUBSTITUTE(U14,\"habil.\",\"\")","v":" Meno Priezvisko, PhD."}]
["Funkcia/Právny vzťah",null,null,null,null,null,null,null,null,null,null,"PP",null,null,null,null,null,null,null,null,{"$f":"SUBSTITUTE(U15,\"MUDr.\",\"\")","v":" Meno Priezvisko, PhD."}]
["Obdobie vykonávania činností:",null,null,null,null,{"$f":"PV!F17","v":"September"},null,null,null,null,{"$f":"PV!K17","v":2020},null,null,null,null,null,null,null,null,null,{"$f":"TRIM(U16)","v":"Meno Priezvisko, PhD."}]
[]
["Dátum","Deň","Čas vykonania\n prác",null,"Počet \nodpracovaných hodín*","Detailný popis činností vykonávaných na základe zmluvy o poskytnutí NFP a popis výsledkov vykonanej činnosti",null,null,null,"Počet odpracovaných hodín MRR*","Počet odpracovaných hodín VRR*","Miesto výkonávania činnosti",null,null,null,null,null,null,null,null,"Nastavenie času vzhľadom na obed"]
[null,null,"Od","Do",null,null,null,null,null,null,null,null,null,"Pozícia","VRR","Miesto","Činnosť","Pracovný pomer"]
[1,{"$f":"IF($D$144=1,\"Po\",IF($D$144=2,\"Ut\",IF($D$144=3,\"St\",IF($D$144=4,\"Št\",IF($D$144=5,\"Pi\",IF($D$144=6,\"So\",IF($D$144=7,\"Ne\",\"Nastala chyba\")))))))","v":"Ut"},null,null,{"$f":"IF(OR(U21=\"dobre\",U21=\"obed\"),IF(OR(B21=\"So\",B21=\"Ne\"),\"\",IF(OR(D21<=VEMA!P$18,C21>=VEMA!Q$18),(D21-C21)*24,(D21-C21)*24-VEMA!R$18)),\"<< zlý čas\")","v":0},null,null,null,null,{"$f":"IF(B21=\"\",\"\",IF(B21=\"So\",\"\",(IF(B21=\"Ne\",\"\",(ROUND(E21-K21,2))))))","v":0},{"$f":"IF(B21=\"So\",\"\",(IF(B21=\"Ne\",\"\",(IF(B21=\"\",\"\",(IF(COUNTIF(Pozicia,$F$16),ROUND(VRR*E21,2),0)))))))","v":0},null,null,"4.1.2. Člen expertnej skupiny",0.13689999999999999,"Bratislava","4.1.2. ČES: Spracovanie východísk inovácie a tvorby nových profesijných štandardov.","PP",{"$f":"IF(SUM(E21:E23)=0,\"\",SUM(E21:E23))","v":""},null,{"$f":"IF(OR(B21=\"So\",B21=\"Ne\"),\"dobre\",IF(C21>D21,\"zle\",IF(AND(C21<=VEMA!P$18,VEMA!Q$18<=D21),\"obed\",IF(OR(D21<=VEMA!P$18,VEMA!Q$18<=C21),\"dobre\",\"zle\"))))","v":"dobre"}]
[null,{"$f":"B21","v":"Ut"},null,null,{"$f":"IF(OR(U22=\"dobre\",U22=\"obed\"),IF(OR(B22=\"So\",B22=\"Ne\"),\"\",IF(OR(D22<=VEMA!P$18,C22>=VEMA!Q$18),(D22-C22)*24,(D22-C22)*24-VEMA!R$18)),\"<< zlý čas\")","v":0},null,null,null,null,0,0,null,null,"4.1.4. Člen pracovnej skupiny",0.13689999999999999,"Banská Bystrica","4.1.2. ČES: Určenie základných princípov revízie profesijných štandardov.","D","",null,{"$f":"IF(OR(B22=\"So\",B22=\"Ne\"),\"dobre\",IF(C22>D22,\"zle\",IF(AND(C22<=VEMA!P$18,VEMA!Q$18<=D22),\"obed\",IF(OR(D22<=VEMA!P$18,VEMA!Q$18<=C22),\"dobre\",\"zle\"))))","v":"dobre"}]
[null,{"$f":"B22","v":"Ut"},null,null,{"$f":"IF(OR(U23=\"dobre\",U23=\"obed\"),IF(OR(B23=\"So\",B23=\"Ne\"),\"\",IF(OR(D23<=VEMA!P$18,C23>=VEMA!Q$18),(D23-C23)*24,(D23-C23)*24-VEMA!R$18)),\"<< zlý čas\")","v":0},null,null,null,null,0,0,null,null,"4.1.8. Regionálny odborný riešiteľ 1.2",0.13689999999999999,"Prešov","4.1.2. ČES: Stanovenie východísk pre inovovaný a nový profesijný štandard; vypracovanie vzorového profesijného štandardu (modelu) ","F","",null,{"$f":"IF(OR(B23=\"So\",B23=\"Ne\"),\"dobre\",IF(C23>D23,\"zle\",IF(AND(C23<=VEMA!P$18,VEMA!Q$18<=D23),\"obed\",IF(OR(D23<=VEMA!P$18,VEMA!Q$18<=C23),\"dobre\",\"zle\"))))","v":"dobre"}]
[{"$f":"IF(A21=\"\",\"\",IF(A21+1<=$D$146,A21+1,\"\"))","v":2},{"$f":"IF(A24=\"\",\"\",IF(B21=\"Po\",\"Ut\",IF(B21=\"Ut\",\"St\",IF(B21=\"St\",\"Št\",IF(B21=\"Št\",\"Pi\",IF(B21=\"Pi\",\"So\",IF(B21=\"So\",\"Ne\",IF(B21=\"Ne\",\"Po\",\"\"))))))))","v":"St"},null,null,{"$f":"IF(OR(U24=\"dobre\",U24=\"obed\"),IF(OR(B24=\"So\",B24=\"Ne\"),\"\",IF(OR(D24<=VEMA!P$19,C24>=VEMA!Q$19),(D24-C24)*24,(D24-C24)*24-VEMA!R$19)),\"<< zlý čas\")","v":0},null,null,null,null,0,0,null,null,"4.1.9. Odborný personál podaktivity 1.2",0.13689999999999999,"Košice","4.1.2. ČES: Určenie základných princípov  tvorby nových profesijných štandardov.","I",{"$f":"IF(SUM(E24:E26)=0,\"\",SUM(E24:E26))","v":""},null,{"$f":"IF(OR(B24=\"So\",B24=\"Ne\"),\"dobre\",IF(C24>D24,\"zle\",IF(AND(C24<=VEMA!P$19,VEMA!Q$19<=D24),\"obed\",IF(OR(D24<=VEMA!P$19,VEMA!Q$19<=C24),\"dobre\",\"zle\"))))","v":"dobre"}]
[null,{"$f":"B24","v":"St"},null,null,{"$f":"IF(OR(U25=\"dobre\",U25=\"obed\"),IF(OR(B25=\"So\",B25=\"Ne\"),\"\",IF(OR(D25<=VEMA!P$19,C25>=VEMA!Q$19),(D25-C25)*24,(D25-C25)*24-VEMA!R$19)),\"<< zlý čas\")","v":0},null,null,null,null,0,0,null,null,"4.1.12. Odborný konzultant NOPS",0.13689999999999999,"Komárno","4.1.2. ČES: Účasť na zasadnutí/porade expertnej skupiny.","DD",null,null,{"$f":"IF(OR(B25=\"So\",B25=\"Ne\"),\"dobre\",IF(C25>D25,\"zle\",IF(AND(C25<=VEMA!P$19,VEMA!Q$19<=D25),\"obed\",IF(OR(D25<=VEMA!P$19,VEMA!Q$19<=C25),\"dobre\",\"zle\"))))","v":"dobre"}]
[null,{"$f":"B25","v":"St"},null,null,{"$f":"IF(OR(U26=\"dobre\",U26=\"obed\"),IF(OR(B26=\"So\",B26=\"Ne\"),\"\",IF(OR(D26<=VEMA!P$19,C26>=VEMA!Q$19),(D26-C26)*24,(D26-C26)*24-VEMA!R$19)),\"<< zlý čas\")","v":0},null,null,null,null,0,0,null,null,"4.1.15. Hodnotiteľ NOPS",0.13689999999999999,"Nitra","4.1.2. ČES: Plnenie úloh na základe pokynov Hlavného odborného riešiteľa 1.1.",null,null,null,{"$f":"IF(OR(B26=\"So\",B26=\"Ne\"),\"dobre\",IF(C26>D26,\"zle\",IF(AND(C26<=VEMA!P$19,VEMA!Q$19<=D26),\"obed\",IF(OR(D26<=VEMA!P$19,VEMA!Q$19<=C26),\"dobre\",\"zle\"))))","v":"dobre"}]
[{"$f":"IF(A24=\"\",\"\",IF(A24+1<=$D$146,A24+1,\"\"))","v":3},{"$f":"IF(A27=\"\",\"\",IF(B24=\"Po\",\"Ut\",IF(B24=\"Ut\",\"St\",IF(B24=\"St\",\"Št\",IF(B24=\"Št\",\"Pi\",IF(B24=\"Pi\",\"So\",IF(B24=\"So\",\"Ne\",IF(B24=\"Ne\",\"Po\",\"\"))))))))","v":"Št"},null,null,{"$f":"IF(OR(U27=\"dobre\",U27=\"obed\"),IF(OR(B27=\"So\",B27=\"Ne\"),\"\",IF(OR(D27<=VEMA!P$20,C27>=VEMA!Q$20),(D27-C27)*24,(D27-C27)*24-VEMA!R$20)),\"<< zlý čas\")","v":0},null,null,null,null,0,0,null,null,"4.1.17. Moderátor konferencie",0.13689999999999999,"Trenčín","4.1.2. ČES: Analýza profesijných štandardov, posúdenie obsahu a formálnej štruktúry, identifikácia nedostatkov, návrh na inováciu",null,{"$f":"IF(SUM(E27:E29)=0,\"\",SUM(E27:E29))","v":""},null,{"$f":"IF(OR(B27=\"So\",B27=\"Ne\"),\"dobre\",IF(C27>D27,\"zle\",IF(AND(C27<=VEMA!P$20,VEMA!Q$20<=D27),\"obed\",IF(OR(D27<=VEMA!P$20,VEMA!Q$20<=C27),\"dobre\",\"zle\"))))","v":"dobre"}]
[null,{"$f":"B27","v":"Št"},null,null,{"$f":"IF(OR(U28=\"dobre\",U28=\"obed\"),IF(OR(B28=\"So\",B28=\"Ne\"),\"\",IF(OR(D28<=VEMA!P$20,C28>=VEMA!Q$20),(D28-C28)*24,(D28-C28)*24-VEMA!R$20)),\"<< zlý čas\")","v":0},null,null,null,null,0,0,null,null,"4.1.18. Odborný personál konfrencie",0.13689999999999999,"Trnava","4.1.2.ČES: Koordinácia činností pracovných skupín, usmerňovanie aktivít, konzultácia s členmi pracovných skupín, práca s členmi pracovných skupín, prenos informácií",null,null,null,{"$f":"IF(OR(B28=\"So\",B28=\"Ne\"),\"dobre\",IF(C28>D28,\"zle\",IF(AND(C28<=VEMA!P$20,VEMA!Q$20<=D28),\"obed\",IF(OR(D28<=VEMA!P$20,VEMA!Q$20<=C28),\"dobre\",\"zle\"))))","v":"dobre"}]
[null,{"$f":"B28","v":"Št"},null,null,{"$f":"IF(OR(U29=\"dobre\",U29=\"obed\"),IF(OR(B29=\"So\",B29=\"Ne\"),\"\",IF(OR(D29<=VEMA!P$20,C29>=VEMA!Q$20),(D29-C29)*24,(D29-C29)*24-VEMA!R$20)),\"<< zlý čas\")","v":0},null,null,null,null,0,0,null,null,"4.1.20. Lektor učiteľských fór",0.13689999999999999,"Žilina","4.1.4. ČPS: Analýza profesijného štandardu, identifikácia nedostatkov ",null,null,null,{"$f":"IF(OR(B29=\"So\",B29=\"Ne\"),\"dobre\",IF(C29>D29,\"zle\",IF(AND(C29<=VEMA!P$20,VEMA!Q$20<=D29),\"obed\",IF(OR(D29<=VEMA!P$20,VEMA!Q$20<=C29),\"dobre\",\"zle\"))))","v":"dobre"}]
[{"$f":"IF(A27=\"\",\"\",IF(A27+1<=$D$146,A27+1,\"\"))","v":4},{"$f":"IF(A30=\"\",\"\",IF(B27=\"Po\",\"Ut\",IF(B27=\"Ut\",\"St\",IF(B27=\"St\",\"Št\",IF(B27=\"Št\",\"Pi\",IF(B27=\"Pi\",\"So\",IF(B27=\"So\",\"Ne\",IF(B27=\"Ne\",\"Po\",\"\"))))))))","v":"Pi"},null,null,{"$f":"IF(OR(U30=\"dobre\",U30=\"obed\"),IF(OR(B30=\"So\",B30=\"Ne\"),\"\",IF(OR(D30<=VEMA!P$21,C30>=VEMA!Q$21),(D30-C30)*24,(D30-C30)*24-VEMA!R$21)),\"<< zlý čas\")","v":0},null,null,null,null,0,0,null,null,"4.1.22. Moderátor učiteľských fór",0.13689999999999999,"home office ","4.1.4. ČPS: Predloženie návrhu na inováciu resp. tvorbu profesijného štandardu.",null,{"$f":"IF(SUM(E30:E32)=0,\"\",SUM(E30:E32))","v":""},null,{"$f":"IF(OR(B30=\"So\",B30=\"Ne\"),\"dobre\",IF(C30>D30,\"zle\",IF(AND(C30<=VEMA!P$21,VEMA!Q$21<=D30),\"obed\",IF(OR(D30<=VEMA!P$21,VEMA!Q$21<=C30),\"dobre\",\"zle\"))))","v":"dobre"}]
[null,{"$f":"B30","v":"Pi"},null,null,{"$f":"IF(OR(U31=\"dobre\",U31=\"obed\"),IF(OR(B31=\"So\",B31=\"Ne\"),\"\",IF(OR(D31<=VEMA!P$21,C31>=VEMA!Q$21),(D31-C31)*24,(D31-C31)*24-VEMA!R$21)),\"<< zlý čas\")","v":0},null,null,null,null,0,0,null,null,"4.1.23. Analytik",0.13689999999999999,"home office (miesto trvalého bydliska)","4.1.4. ČPS: Priebežné spracovávanie profesijného štandardu.",null,null,null,{"$f":"IF(OR(B31=\"So\",B31=\"Ne\"),\"dobre\",IF(C31>D31,\"zle\",IF(AND(C31<=VEMA!P$21,VEMA!Q$21<=D31),\"obed\",IF(OR(D31<=VEMA!P$21,VEMA!Q$21<=C31),\"dobre\",\"zle\"))))","v":"dobre"}]
[null,{"$f":"B31","v":"Pi"},null,null,{"$f":"IF(OR(U32=\"dobre\",U32=\"obed\"),IF(OR(B32=\"So\",B32=\"Ne\"),\"\",IF(OR(D32<=VEMA!P$21,C32>=VEMA!Q$21),(D32-C32)*24,(D32-C32)*24-VEMA!R$21)),\"<< zlý čas\")","v":0},null,null,null,null,0,0,null,null,"4.1. 25. Tvorca PV a UZ",0.13689999999999999,null,"4.1.4. ČPS: Finálne spracovanie a odovzdanie profesijného štandardu.",null,null,null,{"$f":"IF(OR(B32=\"So\",B32=\"Ne\"),\"dobre\",IF(C32>D32,\"zle\",IF(AND(C32<=VEMA!P$21,VEMA!Q$21<=D32),\"obed\",IF(OR(D32<=VEMA!P$21,VEMA!Q$21<=C32),\"dobre\",\"zle\"))))","v":"dobre"}]
[{"$f":"IF(A30=\"\",\"\",IF(A30+1<=$D$146,A30+1,\"\"))","v":5},{"$f":"IF(A33=\"\",\"\",IF(B30=\"Po\",\"Ut\",IF(B30=\"Ut\",\"St\",IF(B30=\"St\",\"Št\",IF(B30=\"Št\",\"Pi\",IF(B30=\"Pi\",\"So\",IF(B30=\"So\",\"Ne\",IF(B30=\"Ne\",\"Po\",\"\"))))))))","v":"So"},null,null,{"$f":"IF(OR(U33=\"dobre\",U33=\"obed\"),IF(OR(B33=\"So\",B33=\"Ne\"),\"\",IF(OR(D33<=VEMA!P$22,C33>=VEMA!Q$22),(D33-C33)*24,(D33-C33)*24-VEMA!R$22)),\"<< zlý čas\")","v":""},null,null,null,null,"","",null,null,"4.1.28. Odborný garant PV - inovačné programy (podľa zákona č. 138/2019 Z.z.)",0.13689999999999999,null,"4.1.4. ČPS: Plnenie úloh na základe pokynov Hlavného odborného riešiteľa 1.1.",null,{"$f":"IF(SUM(E33:E35)=0,\"\",SUM(E33:E35))","v":""},null,{"$f":"IF(OR(B33=\"So\",B33=\"Ne\"),\"dobre\",IF(C33>D33,\"zle\",IF(AND(C33<=VEMA!P$22,VEMA!Q$22<=D33),\"obed\",IF(OR(D33<=VEMA!P$22,VEMA!Q$22<=C33),\"dobre\",\"zle\"))))","v":"dobre"}]
[null,{"$f":"B33","v":"So"},null,null,{"$f":"IF(OR(U34=\"dobre\",U34=\"obed\"),IF(OR(B34=\"So\",B34=\"Ne\"),\"\",IF(OR(D34<=VEMA!P$22,C34>=VEMA!Q$22),(D34-C34)*24,(D34-C34)*24-VEMA!R$22)),\"<< zlý čas\")","v":""},null,null,null,null,"","",null,null,"4.1.29. Vedúci vzdelávacej skupiny",0.13689999999999999,null,"4.1.4. ČPS: Účasť na zasadnutí/porade pracovnej skupiny.",null,null,null,{"$f":"IF(OR(B34=\"So\",B34=\"Ne\"),\"dobre\",IF(C34>D34,\"zle\",IF(AND(C34<=VEMA!P$22,VEMA!Q$22<=D34),\"obed\",IF(OR(D34<=VEMA!P$22,VEMA!Q$22<=C34),\"dobre\",\"zle\"))))","v":"dobre"}]
[null,{"$f":"B34","v":"So"},null,null,{"$f":"IF(OR(U35=\"dobre\",U35=\"obed\"),IF(OR(B35=\"So\",B35=\"Ne\"),\"\",IF(OR(D35<=VEMA!P$22,C35>=VEMA!Q$22),(D35-C35)*24,(D35-C35)*24-VEMA!R$22)),\"<< zlý čas\")","v":""},null,null,null,null,"","",null,null,"4.1.30. Lektor PV",0.13689999999999999,null,"4.1.4. ČPS: Zapracovanie pripomienok hodnotiteľa profesijného štandardu, úprava profesijného štandardu na základe hodnotiaceho posudku.",null,null,null,{"$f":"IF(OR(B35=\"So\",B35=\"Ne\"),\"dobre\",IF(C35>D35,\"zle\",IF(AND(C35<=VEMA!P$22,VEMA!Q$22<=D35),\"obed\",IF(OR(D35<=VEMA!P$22,VEMA!Q$22<=C35),\"dobre\",\"zle\"))))","v":"dobre"}]
[{"$f":"IF(A33=\"\",\"\",IF(A33+1<=$D$146,A33+1,\"\"))","v":6},{"$f":"IF(A36=\"\",\"\",IF(B33=\"Po\",\"Ut\",IF(B33=\"Ut\",\"St\",IF(B33=\"St\",\"Št\",IF(B33=\"Št\",\"Pi\",IF(B33=\"Pi\",\"So\",IF(B33=\"So\",\"Ne\",IF(B33=\"Ne\",\"Po\",\"\"))))))))","v":"Ne"},null,null,{"$f":"IF(OR(U36=\"dobre\",U36=\"obed\"),IF(OR(B36=\"So\",B36=\"Ne\"),\"\",IF(OR(D36<=VEMA!P$23,C36>=VEMA!Q$23),(D36-C36)*24,(D36-C36)*24-VEMA!R$23)),\"<< zlý čas\")","v":""},null,null,null,null,"","",null,null,"4.1.32. Poradcovia v školách ",0.13689999999999999,null,"4.1.8. ROR 1.2: Koordinovanie odborných aktivít realizovaných v národnom projekte.",null,{"$f":"IF(SUM(E36:E38)=0,\"\",SUM(E36:E38))","v":""},null,{"$f":"IF(OR(B36=\"So\",B36=\"Ne\"),\"dobre\",IF(C36>D36,\"zle\",IF(AND(C36<=VEMA!P$23,VEMA!Q$23<=D36),\"obed\",IF(OR(D36<=VEMA!P$23,VEMA!Q$23<=C36),\"dobre\",\"zle\"))))","v":"dobre"}]
[null,{"$f":"B36","v":"Ne"},null,null,{"$f":"IF(OR(U37=\"dobre\",U37=\"obed\"),IF(OR(B37=\"So\",B37=\"Ne\"),\"\",IF(OR(D37<=VEMA!P$23,C37>=VEMA!Q$23),(D37-C37)*24,(D37-C37)*24-VEMA!R$23)),\"<< zlý čas\")","v":""},null,null,null,null,"","",null,null,"4.1.33. Poradcovia v školách ",0.13689999999999999,null,"4.1.8. ROR 1.2: Kontrola plnenia čiastkových  úloh na jednotlivých činnostiach/aktivitách.",null,null,null,{"$f":"IF(OR(B37=\"So\",B37=\"Ne\"),\"dobre\",IF(C37>D37,\"zle\",IF(AND(C37<=VEMA!P$23,VEMA!Q$23<=D37),\"obed\",IF(OR(D37<=VEMA!P$23,VEMA!Q$23<=C37),\"dobre\",\"zle\"))))","v":"dobre"}]
[null,{"$f":"B37","v":"Ne"},null,null,{"$f":"IF(OR(U38=\"dobre\",U38=\"obed\"),IF(OR(B38=\"So\",B38=\"Ne\"),\"\",IF(OR(D38<=VEMA!P$23,C38>=VEMA!Q$23),(D38-C38)*24,(D38-C38)*24-VEMA!R$23)),\"<< zlý čas\")","v":""},null,null,null,null,"","",null,null,null,null,null,"4.1.8. ROR 1.2: Účasť na zasadnutí/porade s hlavným odborným riešiteľom podaktivity.",null,null,null,{"$f":"IF(OR(B38=\"So\",B38=\"Ne\"),\"dobre\",IF(C38>D38,\"zle\",IF(AND(C38<=VEMA!P$23,VEMA!Q$23<=D38),\"obed\",IF(OR(D38<=VEMA!P$23,VEMA!Q$23<=C38),\"dobre\",\"zle\"))))","v":"dobre"}]
[{"$f":"IF(A36=\"\",\"\",IF(A36+1<=$D$146,A36+1,\"\"))","v":7},{"$f":"IF(A39=\"\",\"\",IF(B36=\"Po\",\"Ut\",IF(B36=\"Ut\",\"St\",IF(B36=\"St\",\"Št\",IF(B36=\"Št\",\"Pi\",IF(B36=\"Pi\",\"So\",IF(B36=\"So\",\"Ne\",IF(B36=\"Ne\",\"Po\",\"\"))))))))","v":"Po"},null,null,{"$f":"IF(OR(U39=\"dobre\",U39=\"obed\"),IF(OR(B39=\"So\",B39=\"Ne\"),\"\",IF(OR(D39<=VEMA!P$24,C39>=VEMA!Q$24),(D39-C39)*24,(D39-C39)*24-VEMA!R$24)),\"<< zlý čas\")","v":0},null,null,null,null,0,0,null,null,null,null,null,"4.1.8. ROR 1.2: Účasť na porade k národnému projektu ",null,{"$f":"IF(SUM(E39:E41)=0,\"\",SUM(E39:E41))","v":""},null,{"$f":"IF(OR(B39=\"So\",B39=\"Ne\"),\"dobre\",IF(C39>D39,\"zle\",IF(AND(C39<=VEMA!P$24,VEMA!Q$24<=D39),\"obed\",IF(OR(D39<=VEMA!P$24,VEMA!Q$24<=C39),\"dobre\",\"zle\"))))","v":"dobre"}]
[null,{"$f":"B39","v":"Po"},null,null,{"$f":"IF(OR(U40=\"dobre\",U40=\"obed\"),IF(OR(B40=\"So\",B40=\"Ne\"),\"\",IF(OR(D40<=VEMA!P$24,C40>=VEMA!Q$24),(D40-C40)*24,(D40-C40)*24-VEMA!R$24)),\"<< zlý čas\")","v":0},null,null,null,null,0,0,null,null,null,null,null,"4.1.8. ROR 1.2: Koordinovanie odborných aktivít a priebežná kontrola plnenia úloh realizovaných v národnom projekte.",null,null,null,{"$f":"IF(OR(B40=\"So\",B40=\"Ne\"),\"dobre\",IF(C40>D40,\"zle\",IF(AND(C40<=VEMA!P$24,VEMA!Q$24<=D40),\"obed\",IF(OR(D40<=VEMA!P$24,VEMA!Q$24<=C40),\"dobre\",\"zle\"))))","v":"dobre"}]
[null,{"$f":"B40","v":"Po"},null,null,{"$f":"IF(OR(U41=\"dobre\",U41=\"obed\"),IF(OR(B41=\"So\",B41=\"Ne\"),\"\",IF(OR(D41<=VEMA!P$24,C41>=VEMA!Q$24),(D41-C41)*24,(D41-C41)*24-VEMA!R$24)),\"<< zlý čas\")","v":0},null,null,null,null,0,0,null,null,null,null,null,"4.1.9. OPP:  Výkon odbornej činnosti podľa pokynov hlavného odborného riešiteľa podaktivity1.2.",null,null,null,{"$f":"IF(OR(B41=\"So\",B41=\"Ne\"),\"dobre\",IF(C41>D41,\"zle\",IF(AND(C41<=VEMA!P$24,VEMA!Q$24<=D41),\"obed\",IF(OR(D41<=VEMA!P$24,VEMA!Q$24<=C41),\"dobre\",\"zle\"))))","v":"dobre"}]
[{"$f":"IF(A39=\"\",\"\",IF(A39+1<=$D$146,A39+1,\"\"))","v":8},{"$f":"IF(A42=\"\",\"\",IF(B39=\"Po\",\"Ut\",IF(B39=\"Ut\",\"St\",IF(B39=\"St\",\"Št\",IF(B39=\"Št\",\"Pi\",IF(B39=\"Pi\",\"So\",IF(B39=\"So\",\"Ne\",IF(B39=\"Ne\",\"Po\",\"\"))))))))","v":"Ut"},null,null,{"$f":"IF(OR(U42=\"dobre\",U42=\"obed\"),IF(OR(B42=\"So\",B42=\"Ne\"),\"\",IF(OR(D42<=VEMA!P$25,C42>=VEMA!Q$25),(D42-C42)*24,(D42-C42)*24-VEMA!R$25)),\"<< zlý čas\")","v":0},null,null,null,null,0,0,null,null,null,null,null,"4.1.9. OPP: Výkon odbornej činnosti podľa pokynov regionálneho odborného riešiteľa podaktivity 1.2.",null,{"$f":"IF(SUM(E42:E44)=0,\"\",SUM(E42:E44))","v":""},null,{"$f":"IF(OR(B42=\"So\",B42=\"Ne\"),\"dobre\",IF(C42>D42,\"zle\",IF(AND(C42<=VEMA!P$25,VEMA!Q$25<=D42),\"obed\",IF(OR(D42<=VEMA!P$25,VEMA!Q$25<=C42),\"dobre\",\"zle\"))))","v":"dobre"}]
[null,{"$f":"B42","v":"Ut"},null,null,{"$f":"IF(OR(U43=\"dobre\",U43=\"obed\"),IF(OR(B43=\"So\",B43=\"Ne\"),\"\",IF(OR(D43<=VEMA!P$25,C43>=VEMA!Q$25),(D43-C43)*24,(D43-C43)*24-VEMA!R$25)),\"<< zlý čas\")","v":0},null,null,null,null,0,0,null,null,null,null,null,"4.1.9. OPP: Účasť na zasadnutí/porade s hlavným odborným riešiteľom podaktivity.",null,null,null,{"$f":"IF(OR(B43=\"So\",B43=\"Ne\"),\"dobre\",IF(C43>D43,\"zle\",IF(AND(C43<=VEMA!P$25,VEMA!Q$25<=D43),\"obed\",IF(OR(D43<=VEMA!P$25,VEMA!Q$25<=C43),\"dobre\",\"zle\"))))","v":"dobre"}]
[null,{"$f":"B43","v":"Ut"},null,null,{"$f":"IF(OR(U44=\"dobre\",U44=\"obed\"),IF(OR(B44=\"So\",B44=\"Ne\"),\"\",IF(OR(D44<=VEMA!P$25,C44>=VEMA!Q$25),(D44-C44)*24,(D44-C44)*24-VEMA!R$25)),\"<< zlý čas\")","v":0},null,null,null,null,0,0,null,null,null,null,null,"4.1.9. OPP: Účasť na zasadnutí/porade v MPC k implementácii národného projektu.",null,null,null,{"$f":"IF(OR(B44=\"So\",B44=\"Ne\"),\"dobre\",IF(C44>D44,\"zle\",IF(AND(C44<=VEMA!P$25,VEMA!Q$25<=D44),\"obed\",IF(OR(D44<=VEMA!P$25,VEMA!Q$25<=C44),\"dobre\",\"zle\"))))","v":"dobre"}]
[{"$f":"IF(A42=\"\",\"\",IF(A42+1<=$D$146,A42+1,\"\"))","v":9},{"$f":"IF(A45=\"\",\"\",IF(B42=\"Po\",\"Ut\",IF(B42=\"Ut\",\"St\",IF(B42=\"St\",\"Št\",IF(B42=\"Št\",\"Pi\",IF(B42=\"Pi\",\"So\",IF(B42=\"So\",\"Ne\",IF(B42=\"Ne\",\"Po\",\"\"))))))))","v":"St"},null,null,{"$f":"IF(OR(U45=\"dobre\",U45=\"obed\"),IF(OR(B45=\"So\",B45=\"Ne\"),\"\",IF(OR(D45<=VEMA!P$26,C45>=VEMA!Q$26),(D45-C45)*24,(D45-C45)*24-VEMA!R$26)),\"<< zlý čas\")","v":0},null,null,null,null,0,0,null,null,null,null,null,"4.1.9. OPP: Výkon odbornej činnosti (podpora pri plánovaní a realizácií NOPS, vzdelávacích aktivít, konferencií, poradenstva, UF).",null,{"$f":"IF(SUM(E45:E47)=0,\"\",SUM(E45:E47))","v":""},null,{"$f":"IF(OR(B45=\"So\",B45=\"Ne\"),\"dobre\",IF(C45>D45,\"zle\",IF(AND(C45<=VEMA!P$26,VEMA!Q$26<=D45),\"obed\",IF(OR(D45<=VEMA!P$26,VEMA!Q$26<=C45),\"dobre\",\"zle\"))))","v":"dobre"}]
[null,{"$f":"B45","v":"St"},null,null,{"$f":"IF(OR(U46=\"dobre\",U46=\"obed\"),IF(OR(B46=\"So\",B46=\"Ne\"),\"\",IF(OR(D46<=VEMA!P$26,C46>=VEMA!Q$26),(D46-C46)*24,(D46-C46)*24-VEMA!R$26)),\"<< zlý čas\")","v":0},null,null,null,null,0,0,null,null,null,null,null,"4.1.12. OK NOPS: Odborné konzultácie pri prihlasovaní a v procese  spracovania NOPS.",null,null,null,{"$f":"IF(OR(B46=\"So\",B46=\"Ne\"),\"dobre\",IF(C46>D46,\"zle\",IF(AND(C46<=VEMA!P$26,VEMA!Q$26<=D46),\"obed\",IF(OR(D46<=VEMA!P$26,VEMA!Q$26<=C46),\"dobre\",\"zle\"))))","v":"dobre"}]
[null,{"$f":"B46","v":"St"},null,null,{"$f":"IF(OR(U47=\"dobre\",U47=\"obed\"),IF(OR(B47=\"So\",B47=\"Ne\"),\"\",IF(OR(D47<=VEMA!P$26,C47>=VEMA!Q$26),(D47-C47)*24,(D47-C47)*24-VEMA!R$26)),\"<< zlý čas\")","v":0},null,null,null,null,0,0,null,null,null,null,null,"4.1.12. OK NOPS: Priebežné pripomienkovanie materiálu  pri procese  spracovania NOPS.",null,null,null,{"$f":"IF(OR(B47=\"So\",B47=\"Ne\"),\"dobre\",IF(C47>D47,\"zle\",IF(AND(C47<=VEMA!P$26,VEMA!Q$26<=D47),\"obed\",IF(OR(D47<=VEMA!P$26,VEMA!Q$26<=C47),\"dobre\",\"zle\"))))","v":"dobre"}]
[{"$f":"IF(A45=\"\",\"\",IF(A45+1<=$D$146,A45+1,\"\"))","v":10},{"$f":"IF(A48=\"\",\"\",IF(B45=\"Po\",\"Ut\",IF(B45=\"Ut\",\"St\",IF(B45=\"St\",\"Št\",IF(B45=\"Št\",\"Pi\",IF(B45=\"Pi\",\"So\",IF(B45=\"So\",\"Ne\",IF(B45=\"Ne\",\"Po\",\"\"))))))))","v":"Št"},null,null,{"$f":"IF(OR(U48=\"dobre\",U48=\"obed\"),IF(OR(B48=\"So\",B48=\"Ne\"),\"\",IF(OR(D48<=VEMA!P$27,C48>=VEMA!Q$27),(D48-C48)*24,(D48-C48)*24-VEMA!R$27)),\"<< zlý čas\")","v":0},null,null,null,null,0,0,null,null,null,null,null,"4.1.12. OK NOPS: Poskytovanie súčinnosti garantovi NOPS pri tvorbe smernice, vyhlasovaní výzvy na spracovanie NOPS, vyhodnotení doručených prihlášok a podkladov k uzatváraniu zmluvných vzťahov s vybranými spracovateľmi NOPS.",null,{"$f":"IF(SUM(E48:E50)=0,\"\",SUM(E48:E50))","v":""},null,{"$f":"IF(OR(B48=\"So\",B48=\"Ne\"),\"dobre\",IF(C48>D48,\"zle\",IF(AND(C48<=VEMA!P$27,VEMA!Q$27<=D48),\"obed\",IF(OR(D48<=VEMA!P$27,VEMA!Q$27<=C48),\"dobre\",\"zle\"))))","v":"dobre"}]
[null,{"$f":"B48","v":"Št"},null,null,{"$f":"IF(OR(U49=\"dobre\",U49=\"obed\"),IF(OR(B49=\"So\",B49=\"Ne\"),\"\",IF(OR(D49<=VEMA!P$27,C49>=VEMA!Q$27),(D49-C49)*24,(D49-C49)*24-VEMA!R$27)),\"<< zlý čas\")","v":0},null,null,null,null,0,0,null,null,null,null,null,"4.1.12. OK NOPS: Preberanie odovzdaných NOPS, predkladanie návrhu interných hodnotiteľov.",null,null,null,{"$f":"IF(OR(B49=\"So\",B49=\"Ne\"),\"dobre\",IF(C49>D49,\"zle\",IF(AND(C49<=VEMA!P$27,VEMA!Q$27<=D49),\"obed\",IF(OR(D49<=VEMA!P$27,VEMA!Q$27<=C49),\"dobre\",\"zle\"))))","v":"dobre"}]
[null,{"$f":"B49","v":"Št"},null,null,{"$f":"IF(OR(U50=\"dobre\",U50=\"obed\"),IF(OR(B50=\"So\",B50=\"Ne\"),\"\",IF(OR(D50<=VEMA!P$27,C50>=VEMA!Q$27),(D50-C50)*24,(D50-C50)*24-VEMA!R$27)),\"<< zlý čas\")","v":0},null,null,null,null,0,0,null,null,null,null,null,"4.1.12. OK NOPS: Odborné konzultácie/podpora  pri procese  spracovania  a finalizácii NOPS.",null,null,null,{"$f":"IF(OR(B50=\"So\",B50=\"Ne\"),\"dobre\",IF(C50>D50,\"zle\",IF(AND(C50<=VEMA!P$27,VEMA!Q$27<=D50),\"obed\",IF(OR(D50<=VEMA!P$27,VEMA!Q$27<=C50),\"dobre\",\"zle\"))))","v":"dobre"}]
[{"$f":"IF(A48=\"\",\"\",IF(A48+1<=$D$146,A48+1,\"\"))","v":11},{"$f":"IF(A51=\"\",\"\",IF(B48=\"Po\",\"Ut\",IF(B48=\"Ut\",\"St\",IF(B48=\"St\",\"Št\",IF(B48=\"Št\",\"Pi\",IF(B48=\"Pi\",\"So\",IF(B48=\"So\",\"Ne\",IF(B48=\"Ne\",\"Po\",\"\"))))))))","v":"Pi"},null,null,{"$f":"IF(OR(U51=\"dobre\",U51=\"obed\"),IF(OR(B51=\"So\",B51=\"Ne\"),\"\",IF(OR(D51<=VEMA!P$28,C51>=VEMA!Q$28),(D51-C51)*24,(D51-C51)*24-VEMA!R$28)),\"<< zlý čas\")","v":0},null,null,null,null,0,0,null,null,null,null,null,"4.1.15. H NOPS: Spracovanie hodnotenia dokumentu NOPS podľa schválenej prihlášky, v danej štruktúre a určenej šablóne dokumentu.",null,{"$f":"IF(SUM(E51:E53)=0,\"\",SUM(E51:E53))","v":""},null,{"$f":"IF(OR(B51=\"So\",B51=\"Ne\"),\"dobre\",IF(C51>D51,\"zle\",IF(AND(C51<=VEMA!P$28,VEMA!Q$28<=D51),\"obed\",IF(OR(D51<=VEMA!P$28,VEMA!Q$28<=C51),\"dobre\",\"zle\"))))","v":"dobre"}]
[null,{"$f":"B51","v":"Pi"},null,null,{"$f":"IF(OR(U52=\"dobre\",U52=\"obed\"),IF(OR(B52=\"So\",B52=\"Ne\"),\"\",IF(OR(D52<=VEMA!P$28,C52>=VEMA!Q$28),(D52-C52)*24,(D52-C52)*24-VEMA!R$28)),\"<< zlý čas\")","v":0},null,null,null,null,0,0,null,null,null,null,null,"4.1.15. H NOPS: Finalizácia hodnotenia dokumentu NOPS podľa schválenej prihlášky, v danej štruktúre a určenej šablóne dokumentu.",null,null,null,{"$f":"IF(OR(B52=\"So\",B52=\"Ne\"),\"dobre\",IF(C52>D52,\"zle\",IF(AND(C52<=VEMA!P$28,VEMA!Q$28<=D52),\"obed\",IF(OR(D52<=VEMA!P$28,VEMA!Q$28<=C52),\"dobre\",\"zle\"))))","v":"dobre"}]
[null,{"$f":"B52","v":"Pi"},null,null,{"$f":"IF(OR(U53=\"dobre\",U53=\"obed\"),IF(OR(B53=\"So\",B53=\"Ne\"),\"\",IF(OR(D53<=VEMA!P$28,C53>=VEMA!Q$28),(D53-C53)*24,(D53-C53)*24-VEMA!R$28)),\"<< zlý čas\")","v":0},null,null,null,null,{"$f":"IF(B53=\"\",\"\",IF(B53=\"So\",\"\",(IF(B53=\"Ne\",\"\",(ROUND(E53-K53,2))))))","v":0},{"$f":"IF(B53=\"So\",\"\",(IF(B53=\"Ne\",\"\",(IF(B53=\"\",\"\",(IF(COUNTIF(Pozicia,$F$16),ROUND(VRR*E53,2),0)))))))","v":0},null,null,null,null,null,"4.1.17. MK: Odborné zabezpečenie prípravy, programových  zložiek a priebehu konferencie. ",null,null,null,{"$f":"IF(OR(B53=\"So\",B53=\"Ne\"),\"dobre\",IF(C53>D53,\"zle\",IF(AND(C53<=VEMA!P$28,VEMA!Q$28<=D53),\"obed\",IF(OR(D53<=VEMA!P$28,VEMA!Q$28<=C53),\"dobre\",\"zle\"))))","v":"dobre"}]
[{"$f":"IF(A51=\"\",\"\",IF(A51+1<=$D$146,A51+1,\"\"))","v":12},{"$f":"IF(A54=\"\",\"\",IF(B51=\"Po\",\"Ut\",IF(B51=\"Ut\",\"St\",IF(B51=\"St\",\"Št\",IF(B51=\"Št\",\"Pi\",IF(B51=\"Pi\",\"So\",IF(B51=\"So\",\"Ne\",IF(B51=\"Ne\",\"Po\",\"\"))))))))","v":"So"},null,null,{"$f":"IF(OR(U54=\"dobre\",U54=\"obed\"),IF(OR(B54=\"So\",B54=\"Ne\"),\"\",IF(OR(D54<=VEMA!P$29,C54>=VEMA!Q$29),(D54-C54)*24,(D54-C54)*24-VEMA!R$29)),\"<< zlý čas\")","v":""},null,null,null,null,"","",null,null,null,null,null,"4.1.17. MK: Odborné zabezpečenie priebehu konferencie (moderovanie/vedenie). ",null,{"$f":"IF(SUM(E54:E56)=0,\"\",SUM(E54:E56))","v":""},null,{"$f":"IF(OR(B54=\"So\",B54=\"Ne\"),\"dobre\",IF(C54>D54,\"zle\",IF(AND(C54<=VEMA!P$29,VEMA!Q$29<=D54),\"obed\",IF(OR(D54<=VEMA!P$29,VEMA!Q$29<=C54),\"dobre\",\"zle\"))))","v":"dobre"}]
[null,{"$f":"B54","v":"So"},null,null,{"$f":"IF(OR(U55=\"dobre\",U55=\"obed\"),IF(OR(B55=\"So\",B55=\"Ne\"),\"\",IF(OR(D55<=VEMA!P$29,C55>=VEMA!Q$29),(D55-C55)*24,(D55-C55)*24-VEMA!R$29)),\"<< zlý čas\")","v":""},null,null,null,null,"","",null,null,null,null,null,"4.1.17. MK: Odborné vedenie sekcií (diskusných skupín) a workshopov.",null,null,null,{"$f":"IF(OR(B55=\"So\",B55=\"Ne\"),\"dobre\",IF(C55>D55,\"zle\",IF(AND(C55<=VEMA!P$29,VEMA!Q$29<=D55),\"obed\",IF(OR(D55<=VEMA!P$29,VEMA!Q$29<=C55),\"dobre\",\"zle\"))))","v":"dobre"}]
[null,{"$f":"B55","v":"So"},null,null,{"$f":"IF(OR(U56=\"dobre\",U56=\"obed\"),IF(OR(B56=\"So\",B56=\"Ne\"),\"\",IF(OR(D56<=VEMA!P$29,C56>=VEMA!Q$29),(D56-C56)*24,(D56-C56)*24-VEMA!R$29)),\"<< zlý čas\")","v":""},null,null,null,null,"","",null,null,null,null,null,"4.1.17. MK: Odborné zabezpečenie prípravy a celého priebehu konferencie.",null,null,null,{"$f":"IF(OR(B56=\"So\",B56=\"Ne\"),\"dobre\",IF(C56>D56,\"zle\",IF(AND(C56<=VEMA!P$29,VEMA!Q$29<=D56),\"obed\",IF(OR(D56<=VEMA!P$29,VEMA!Q$29<=C56),\"dobre\",\"zle\"))))","v":"dobre"}]
[{"$f":"IF(A54=\"\",\"\",IF(A54+1<=$D$146,A54+1,\"\"))","v":13},{"$f":"IF(A57=\"\",\"\",IF(B54=\"Po\",\"Ut\",IF(B54=\"Ut\",\"St\",IF(B54=\"St\",\"Št\",IF(B54=\"Št\",\"Pi\",IF(B54=\"Pi\",\"So\",IF(B54=\"So\",\"Ne\",IF(B54=\"Ne\",\"Po\",\"\"))))))))","v":"Ne"},null,null,{"$f":"IF(OR(U57=\"dobre\",U57=\"obed\"),IF(OR(B57=\"So\",B57=\"Ne\"),\"\",IF(OR(D57<=VEMA!P$30,C57>=VEMA!Q$30),(D57-C57)*24,(D57-C57)*24-VEMA!R$30)),\"<< zlý čas\")","v":""},null,null,null,null,"","",null,null,null,null,null,"4.1.18. OPK: Odborné zabezpečenie prípravy konferencie.",null,{"$f":"IF(SUM(E57:E59)=0,\"\",SUM(E57:E59))","v":""},null,{"$f":"IF(OR(B57=\"So\",B57=\"Ne\"),\"dobre\",IF(C57>D57,\"zle\",IF(AND(C57<=VEMA!P$30,VEMA!Q$30<=D57),\"obed\",IF(OR(D57<=VEMA!P$30,VEMA!Q$30<=C57),\"dobre\",\"zle\"))))","v":"dobre"}]
[null,{"$f":"B57","v":"Ne"},null,null,{"$f":"IF(OR(U58=\"dobre\",U58=\"obed\"),IF(OR(B58=\"So\",B58=\"Ne\"),\"\",IF(OR(D58<=VEMA!P$30,C58>=VEMA!Q$30),(D58-C58)*24,(D58-C58)*24-VEMA!R$30)),\"<< zlý čas\")","v":""},null,null,null,null,"","",null,null,null,null,null,"4.1.18. OPK: Organizačné zabezpečenie prípravy konferencie. ",null,null,null,{"$f":"IF(OR(B58=\"So\",B58=\"Ne\"),\"dobre\",IF(C58>D58,\"zle\",IF(AND(C58<=VEMA!P$30,VEMA!Q$30<=D58),\"obed\",IF(OR(D58<=VEMA!P$30,VEMA!Q$30<=C58),\"dobre\",\"zle\"))))","v":"dobre"}]
[null,{"$f":"B58","v":"Ne"},null,null,{"$f":"IF(OR(U59=\"dobre\",U59=\"obed\"),IF(OR(B59=\"So\",B59=\"Ne\"),\"\",IF(OR(D59<=VEMA!P$30,C59>=VEMA!Q$30),(D59-C59)*24,(D59-C59)*24-VEMA!R$30)),\"<< zlý čas\")","v":""},null,null,null,null,"","",null,null,null,null,null,"4.1.18. OPK: Odborné/organizačné zabezpečenie  priebehu konferencie.",null,null,null,{"$f":"IF(OR(B59=\"So\",B59=\"Ne\"),\"dobre\",IF(C59>D59,\"zle\",IF(AND(C59<=VEMA!P$30,VEMA!Q$30<=D59),\"obed\",IF(OR(D59<=VEMA!P$30,VEMA!Q$30<=C59),\"dobre\",\"zle\"))))","v":"dobre"}]
[{"$f":"IF(A57=\"\",\"\",IF(A57+1<=$D$146,A57+1,\"\"))","v":14},{"$f":"IF(A60=\"\",\"\",IF(B57=\"Po\",\"Ut\",IF(B57=\"Ut\",\"St\",IF(B57=\"St\",\"Št\",IF(B57=\"Št\",\"Pi\",IF(B57=\"Pi\",\"So\",IF(B57=\"So\",\"Ne\",IF(B57=\"Ne\",\"Po\",\"\"))))))))","v":"Po"},null,null,{"$f":"IF(OR(U60=\"dobre\",U60=\"obed\"),IF(OR(B60=\"So\",B60=\"Ne\"),\"\",IF(OR(D60<=VEMA!P$31,C60>=VEMA!Q$31),(D60-C60)*24,(D60-C60)*24-VEMA!R$31)),\"<< zlý čas\")","v":0},null,null,null,null,0,0,null,null,null,null,null,"4.1.18. OPK:  Spracovanie výstupov z realizovanej konferencie.",null,{"$f":"IF(SUM(E60:E62)=0,\"\",SUM(E60:E62))","v":""},null,{"$f":"IF(OR(B60=\"So\",B60=\"Ne\"),\"dobre\",IF(C60>D60,\"zle\",IF(AND(C60<=VEMA!P$31,VEMA!Q$31<=D60),\"obed\",IF(OR(D60<=VEMA!P$31,VEMA!Q$31<=C60),\"dobre\",\"zle\"))))","v":"dobre"}]
[null,{"$f":"B60","v":"Po"},null,null,{"$f":"IF(OR(U61=\"dobre\",U61=\"obed\"),IF(OR(B61=\"So\",B61=\"Ne\"),\"\",IF(OR(D61<=VEMA!P$31,C61>=VEMA!Q$31),(D61-C61)*24,(D61-C61)*24-VEMA!R$31)),\"<< zlý čas\")","v":0},null,null,null,null,0,0,null,null,null,null,null,"4.1.18. OPK:  Spracovanie diskusií z jednotlivých sekcií a  z jednotlivých workshopov.",null,null,null,{"$f":"IF(OR(B61=\"So\",B61=\"Ne\"),\"dobre\",IF(C61>D61,\"zle\",IF(AND(C61<=VEMA!P$31,VEMA!Q$31<=D61),\"obed\",IF(OR(D61<=VEMA!P$31,VEMA!Q$31<=C61),\"dobre\",\"zle\"))))","v":"dobre"}]
[null,{"$f":"B61","v":"Po"},null,null,{"$f":"IF(OR(U62=\"dobre\",U62=\"obed\"),IF(OR(B62=\"So\",B62=\"Ne\"),\"\",IF(OR(D62<=VEMA!P$31,C62>=VEMA!Q$31),(D62-C62)*24,(D62-C62)*24-VEMA!R$31)),\"<< zlý čas\")","v":0},null,null,null,null,0,0,null,null,null,null,null,"4.1.20. LUF: Výkon činnosti lektora v rámci učiteľského fóra podľa opisu a schváleného plánu práce.  ",null,null,null,{"$f":"IF(OR(B62=\"So\",B62=\"Ne\"),\"dobre\",IF(C62>D62,\"zle\",IF(AND(C62<=VEMA!P$31,VEMA!Q$31<=D62),\"obed\",IF(OR(D62<=VEMA!P$31,VEMA!Q$31<=C62),\"dobre\",\"zle\"))))","v":"dobre"}]
[{"$f":"IF(A60=\"\",\"\",IF(A60+1<=$D$146,A60+1,\"\"))","v":15},{"$f":"IF(A63=\"\",\"\",IF(B60=\"Po\",\"Ut\",IF(B60=\"Ut\",\"St\",IF(B60=\"St\",\"Št\",IF(B60=\"Št\",\"Pi\",IF(B60=\"Pi\",\"So\",IF(B60=\"So\",\"Ne\",IF(B60=\"Ne\",\"Po\",\"\"))))))))","v":"Ut"},null,null,{"$f":"IF(OR(U63=\"dobre\",U63=\"obed\"),IF(OR(B63=\"So\",B63=\"Ne\"),\"\",IF(OR(D63<=VEMA!P$32,C63>=VEMA!Q$32),(D63-C63)*24,(D63-C63)*24-VEMA!R$32)),\"<< zlý čas\")","v":0},null,null,null,null,0,0,null,null,null,null,null,"4.1.20. LUF: Príprava programu a scenára stretnutia učiteľského fóra.",null,{"$f":"IF(SUM(E63:E65)=0,\"\",SUM(E63:E65))","v":""},null,{"$f":"IF(OR(B63=\"So\",B63=\"Ne\"),\"dobre\",IF(C63>D63,\"zle\",IF(AND(C63<=VEMA!P$32,VEMA!Q$32<=D63),\"obed\",IF(OR(D63<=VEMA!P$32,VEMA!Q$32<=C63),\"dobre\",\"zle\"))))","v":"dobre"}]
[null,{"$f":"B63","v":"Ut"},null,null,{"$f":"IF(OR(U64=\"dobre\",U64=\"obed\"),IF(OR(B64=\"So\",B64=\"Ne\"),\"\",IF(OR(D64<=VEMA!P$32,C64>=VEMA!Q$32),(D64-C64)*24,(D64-C64)*24-VEMA!R$32)),\"<< zlý čas\")","v":0},null,null,null,null,0,0,null,null,null,null,null,"4.1.20 LUF: Odborné vedenie diskusie účastníkov fóra v rámci diskusných skupín, diskusných fór.",null,null,null,{"$f":"IF(OR(B64=\"So\",B64=\"Ne\"),\"dobre\",IF(C64>D64,\"zle\",IF(AND(C64<=VEMA!P$32,VEMA!Q$32<=D64),\"obed\",IF(OR(D64<=VEMA!P$32,VEMA!Q$32<=C64),\"dobre\",\"zle\"))))","v":"dobre"}]
[null,{"$f":"B64","v":"Ut"},null,null,{"$f":"IF(OR(U65=\"dobre\",U65=\"obed\"),IF(OR(B65=\"So\",B65=\"Ne\"),\"\",IF(OR(D65<=VEMA!P$32,C65>=VEMA!Q$32),(D65-C65)*24,(D65-C65)*24-VEMA!R$32)),\"<< zlý čas\")","v":0},null,null,null,null,0,0,null,null,null,null,null,"4.1.20. LUF: Príprava programu a dokumentácie, realizácia učiteľského fóra.",null,null,null,{"$f":"IF(OR(B65=\"So\",B65=\"Ne\"),\"dobre\",IF(C65>D65,\"zle\",IF(AND(C65<=VEMA!P$32,VEMA!Q$32<=D65),\"obed\",IF(OR(D65<=VEMA!P$32,VEMA!Q$32<=C65),\"dobre\",\"zle\"))))","v":"dobre"}]
[{"$f":"IF(A63=\"\",\"\",IF(A63+1<=$D$146,A63+1,\"\"))","v":16},{"$f":"IF(A66=\"\",\"\",IF(B63=\"Po\",\"Ut\",IF(B63=\"Ut\",\"St\",IF(B63=\"St\",\"Št\",IF(B63=\"Št\",\"Pi\",IF(B63=\"Pi\",\"So\",IF(B63=\"So\",\"Ne\",IF(B63=\"Ne\",\"Po\",\"\"))))))))","v":"St"},null,null,{"$f":"IF(OR(U66=\"dobre\",U66=\"obed\"),IF(OR(B66=\"So\",B66=\"Ne\"),\"\",IF(OR(D66<=VEMA!P$33,C66>=VEMA!Q$33),(D66-C66)*24,(D66-C66)*24-VEMA!R$33)),\"<< zlý čas\")","v":0},null,null,null,null,0,0,null,null,null,null,null,"4.1.22. MUF: Založenie skupiny účastníkov fóra v CIS MPC, Moodle a používaných aplikáciách.",null,{"$f":"IF(SUM(E66:E68)=0,\"\",SUM(E66:E68))","v":""},null,{"$f":"IF(OR(B66=\"So\",B66=\"Ne\"),\"dobre\",IF(C66>D66,\"zle\",IF(AND(C66<=VEMA!P$33,VEMA!Q$33<=D66),\"obed\",IF(OR(D66<=VEMA!P$33,VEMA!Q$33<=C66),\"dobre\",\"zle\"))))","v":"dobre"}]
[null,{"$f":"B66","v":"St"},null,null,{"$f":"IF(OR(U67=\"dobre\",U67=\"obed\"),IF(OR(B67=\"So\",B67=\"Ne\"),\"\",IF(OR(D67<=VEMA!P$33,C67>=VEMA!Q$33),(D67-C67)*24,(D67-C67)*24-VEMA!R$33)),\"<< zlý čas\")","v":0},null,null,null,null,0,0,null,null,null,null,null,"4.1.22. MUF: Správa skupiny účastníkov fóra v CIS MPC, Moodle a používaných aplikáciách.",null,null,null,{"$f":"IF(OR(B67=\"So\",B67=\"Ne\"),\"dobre\",IF(C67>D67,\"zle\",IF(AND(C67<=VEMA!P$33,VEMA!Q$33<=D67),\"obed\",IF(OR(D67<=VEMA!P$33,VEMA!Q$33<=C67),\"dobre\",\"zle\"))))","v":"dobre"}]
[null,{"$f":"B67","v":"St"},null,null,{"$f":"IF(OR(U68=\"dobre\",U68=\"obed\"),IF(OR(B68=\"So\",B68=\"Ne\"),\"\",IF(OR(D68<=VEMA!P$33,C68>=VEMA!Q$33),(D68-C68)*24,(D68-C68)*24-VEMA!R$33)),\"<< zlý čas\")","v":0},null,null,null,null,0,0,null,null,null,null,null,"4.1.22. MUF: Snímanie aktuálnych potrieb PZ a OZ pred založením a v priebehu činnosti fóra.",null,null,null,{"$f":"IF(OR(B68=\"So\",B68=\"Ne\"),\"dobre\",IF(C68>D68,\"zle\",IF(AND(C68<=VEMA!P$33,VEMA!Q$33<=D68),\"obed\",IF(OR(D68<=VEMA!P$33,VEMA!Q$33<=C68),\"dobre\",\"zle\"))))","v":"dobre"}]
[{"$f":"IF(A66=\"\",\"\",IF(A66+1<=$D$146,A66+1,\"\"))","v":17},{"$f":"IF(A69=\"\",\"\",IF(B66=\"Po\",\"Ut\",IF(B66=\"Ut\",\"St\",IF(B66=\"St\",\"Št\",IF(B66=\"Št\",\"Pi\",IF(B66=\"Pi\",\"So\",IF(B66=\"So\",\"Ne\",IF(B66=\"Ne\",\"Po\",\"\"))))))))","v":"Št"},null,null,{"$f":"IF(OR(U69=\"dobre\",U69=\"obed\"),IF(OR(B69=\"So\",B69=\"Ne\"),\"\",IF(OR(D69<=VEMA!P$34,C69>=VEMA!Q$34),(D69-C69)*24,(D69-C69)*24-VEMA!R$34)),\"<< zlý čas\")","v":0},null,null,null,null,0,0,null,null,null,null,null,"4.1.22. MUF: Iniciovanie, príprava a realizácia prieskumov realizovaných v rámci fóra učiteľov",null,{"$f":"IF(SUM(E69:E71)=0,\"\",SUM(E69:E71))","v":""},null,{"$f":"IF(OR(B69=\"So\",B69=\"Ne\"),\"dobre\",IF(C69>D69,\"zle\",IF(AND(C69<=VEMA!P$34,VEMA!Q$34<=D69),\"obed\",IF(OR(D69<=VEMA!P$34,VEMA!Q$34<=C69),\"dobre\",\"zle\"))))","v":"dobre"}]
[null,{"$f":"B69","v":"Št"},null,null,{"$f":"IF(OR(U70=\"dobre\",U70=\"obed\"),IF(OR(B70=\"So\",B70=\"Ne\"),\"\",IF(OR(D70<=VEMA!P$34,C70>=VEMA!Q$34),(D70-C70)*24,(D70-C70)*24-VEMA!R$34)),\"<< zlý čas\")","v":0},null,null,null,null,0,0,null,null,null,null,null,"4.1.22. MUF: Riadenie pracovnej skupiny lektorov v rámci fóra učiteľov.",null,null,null,{"$f":"IF(OR(B70=\"So\",B70=\"Ne\"),\"dobre\",IF(C70>D70,\"zle\",IF(AND(C70<=VEMA!P$34,VEMA!Q$34<=D70),\"obed\",IF(OR(D70<=VEMA!P$34,VEMA!Q$34<=C70),\"dobre\",\"zle\"))))","v":"dobre"}]
[null,{"$f":"B70","v":"Št"},null,null,{"$f":"IF(OR(U71=\"dobre\",U71=\"obed\"),IF(OR(B71=\"So\",B71=\"Ne\"),\"\",IF(OR(D71<=VEMA!P$34,C71>=VEMA!Q$34),(D71-C71)*24,(D71-C71)*24-VEMA!R$34)),\"<< zlý čas\")","v":0},null,null,null,null,0,0,null,null,null,null,null,"4.1.22. MUF: Podpora lektorov pri príprave materiálov učiteľského fóra.",null,null,null,{"$f":"IF(OR(B71=\"So\",B71=\"Ne\"),\"dobre\",IF(C71>D71,\"zle\",IF(AND(C71<=VEMA!P$34,VEMA!Q$34<=D71),\"obed\",IF(OR(D71<=VEMA!P$34,VEMA!Q$34<=C71),\"dobre\",\"zle\"))))","v":"dobre"}]
[{"$f":"IF(A69=\"\",\"\",IF(A69+1<=$D$146,A69+1,\"\"))","v":18},{"$f":"IF(A72=\"\",\"\",IF(B69=\"Po\",\"Ut\",IF(B69=\"Ut\",\"St\",IF(B69=\"St\",\"Št\",IF(B69=\"Št\",\"Pi\",IF(B69=\"Pi\",\"So\",IF(B69=\"So\",\"Ne\",IF(B69=\"Ne\",\"Po\",\"\"))))))))","v":"Pi"},null,null,{"$f":"IF(OR(U72=\"dobre\",U72=\"obed\"),IF(OR(B72=\"So\",B72=\"Ne\"),\"\",IF(OR(D72<=VEMA!P$35,C72>=VEMA!Q$35),(D72-C72)*24,(D72-C72)*24-VEMA!R$35)),\"<< zlý čas\")","v":0},null,null,null,null,0,0,null,null,null,null,null,"4.1.22. MUF: Spracovanie výstupov zo stretnutia učiteľského fóra, spracovanie prehľadov a sumárnych výstupov z činnosti fóra učiteľov.",null,{"$f":"IF(SUM(E72:E74)=0,\"\",SUM(E72:E74))","v":""},null,{"$f":"IF(OR(B72=\"So\",B72=\"Ne\"),\"dobre\",IF(C72>D72,\"zle\",IF(AND(C72<=VEMA!P$35,VEMA!Q$35<=D72),\"obed\",IF(OR(D72<=VEMA!P$35,VEMA!Q$35<=C72),\"dobre\",\"zle\"))))","v":"dobre"}]
[null,{"$f":"B72","v":"Pi"},null,null,{"$f":"IF(OR(U73=\"dobre\",U73=\"obed\"),IF(OR(B73=\"So\",B73=\"Ne\"),\"\",IF(OR(D73<=VEMA!P$35,C73>=VEMA!Q$35),(D73-C73)*24,(D73-C73)*24-VEMA!R$35)),\"<< zlý čas\")","v":0},null,null,null,null,0,0,null,null,null,null,null,"4.1.22. MUF: Moderovanie priebehu v rámci prezenčných a on-line stretnutí.",null,null,null,{"$f":"IF(OR(B73=\"So\",B73=\"Ne\"),\"dobre\",IF(C73>D73,\"zle\",IF(AND(C73<=VEMA!P$35,VEMA!Q$35<=D73),\"obed\",IF(OR(D73<=VEMA!P$35,VEMA!Q$35<=C73),\"dobre\",\"zle\"))))","v":"dobre"}]
[null,{"$f":"B73","v":"Pi"},null,null,{"$f":"IF(OR(U74=\"dobre\",U74=\"obed\"),IF(OR(B74=\"So\",B74=\"Ne\"),\"\",IF(OR(D74<=VEMA!P$35,C74>=VEMA!Q$35),(D74-C74)*24,(D74-C74)*24-VEMA!R$35)),\"<< zlý čas\")","v":0},null,null,null,null,0,0,null,null,null,null,null,"4.1.22. MUF: Moderovanie priebehu v rámci  príspevkov v diskusných (on-line) fórach v rámci používaných aplikácií.",null,null,null,{"$f":"IF(OR(B74=\"So\",B74=\"Ne\"),\"dobre\",IF(C74>D74,\"zle\",IF(AND(C74<=VEMA!P$35,VEMA!Q$35<=D74),\"obed\",IF(OR(D74<=VEMA!P$35,VEMA!Q$35<=C74),\"dobre\",\"zle\"))))","v":"dobre"}]
[{"$f":"IF(A72=\"\",\"\",IF(A72+1<=$D$146,A72+1,\"\"))","v":19},{"$f":"IF(A75=\"\",\"\",IF(B72=\"Po\",\"Ut\",IF(B72=\"Ut\",\"St\",IF(B72=\"St\",\"Št\",IF(B72=\"Št\",\"Pi\",IF(B72=\"Pi\",\"So\",IF(B72=\"So\",\"Ne\",IF(B72=\"Ne\",\"Po\",\"\"))))))))","v":"So"},null,null,{"$f":"IF(OR(U75=\"dobre\",U75=\"obed\"),IF(OR(B75=\"So\",B75=\"Ne\"),\"\",IF(OR(D75<=VEMA!P$36,C75>=VEMA!Q$36),(D75-C75)*24,(D75-C75)*24-VEMA!R$36)),\"<< zlý čas\")","v":""},null,null,null,null,"","",null,null,null,null,null,"4.1.22. MUF: Moderovanie v organizovanom virtuálnom mieste asynchrónnych online diskusií.",null,{"$f":"IF(SUM(E75:E77)=0,\"\",SUM(E75:E77))","v":""},null,{"$f":"IF(OR(B75=\"So\",B75=\"Ne\"),\"dobre\",IF(C75>D75,\"zle\",IF(AND(C75<=VEMA!P$36,VEMA!Q$36<=D75),\"obed\",IF(OR(D75<=VEMA!P$36,VEMA!Q$36<=C75),\"dobre\",\"zle\"))))","v":"dobre"}]
[null,{"$f":"B75","v":"So"},null,null,{"$f":"IF(OR(U76=\"dobre\",U76=\"obed\"),IF(OR(B76=\"So\",B76=\"Ne\"),\"\",IF(OR(D76<=VEMA!P$36,C76>=VEMA!Q$36),(D76-C76)*24,(D76-C76)*24-VEMA!R$36)),\"<< zlý čas\")","v":""},null,null,null,null,"","",null,null,null,null,null,"4.1.22. MUF: Konzultovanie tém, ktoré navrhnú účastníci fóra (vrátanej offline formy).",null,null,null,{"$f":"IF(OR(B76=\"So\",B76=\"Ne\"),\"dobre\",IF(C76>D76,\"zle\",IF(AND(C76<=VEMA!P$36,VEMA!Q$36<=D76),\"obed\",IF(OR(D76<=VEMA!P$36,VEMA!Q$36<=C76),\"dobre\",\"zle\"))))","v":"dobre"}]
[null,{"$f":"B76","v":"So"},null,null,{"$f":"IF(OR(U77=\"dobre\",U77=\"obed\"),IF(OR(B77=\"So\",B77=\"Ne\"),\"\",IF(OR(D77<=VEMA!P$36,C77>=VEMA!Q$36),(D77-C77)*24,(D77-C77)*24-VEMA!R$36)),\"<< zlý čas\")","v":""},null,null,null,null,"","",null,null,null,null,null,"4.1.22. MUF: Moderovanie učiteľského fóra.",null,null,null,{"$f":"IF(OR(B77=\"So\",B77=\"Ne\"),\"dobre\",IF(C77>D77,\"zle\",IF(AND(C77<=VEMA!P$36,VEMA!Q$36<=D77),\"obed\",IF(OR(D77<=VEMA!P$36,VEMA!Q$36<=C77),\"dobre\",\"zle\"))))","v":"dobre"}]
[{"$f":"IF(A75=\"\",\"\",IF(A75+1<=$D$146,A75+1,\"\"))","v":20},{"$f":"IF(A78=\"\",\"\",IF(B75=\"Po\",\"Ut\",IF(B75=\"Ut\",\"St\",IF(B75=\"St\",\"Št\",IF(B75=\"Št\",\"Pi\",IF(B75=\"Pi\",\"So\",IF(B75=\"So\",\"Ne\",IF(B75=\"Ne\",\"Po\",\"\"))))))))","v":"Ne"},null,null,{"$f":"IF(OR(U78=\"dobre\",U78=\"obed\"),IF(OR(B78=\"So\",B78=\"Ne\"),\"\",IF(OR(D78<=VEMA!P$37,C78>=VEMA!Q$37),(D78-C78)*24,(D78-C78)*24-VEMA!R$37)),\"<< zlý čas\")","v":""},null,null,null,null,"","",null,null,null,null,null,"4.1.23. A: Realizácia prieskumnej činnosti v projekte.",null,{"$f":"IF(SUM(E78:E80)=0,\"\",SUM(E78:E80))","v":""},null,{"$f":"IF(OR(B78=\"So\",B78=\"Ne\"),\"dobre\",IF(C78>D78,\"zle\",IF(AND(C78<=VEMA!P$37,VEMA!Q$37<=D78),\"obed\",IF(OR(D78<=VEMA!P$37,VEMA!Q$37<=C78),\"dobre\",\"zle\"))))","v":"dobre"}]
[null,{"$f":"B78","v":"Ne"},null,null,{"$f":"IF(OR(U79=\"dobre\",U79=\"obed\"),IF(OR(B79=\"So\",B79=\"Ne\"),\"\",IF(OR(D79<=VEMA!P$37,C79>=VEMA!Q$37),(D79-C79)*24,(D79-C79)*24-VEMA!R$37)),\"<< zlý čas\")","v":""},null,null,null,null,"","",null,null,null,null,null,"4.1.23. A: Návrh zámeru prieskumu, cieľov, metodiky, nástrojov zisťovania a cieľovej skupiny.",null,null,null,{"$f":"IF(OR(B79=\"So\",B79=\"Ne\"),\"dobre\",IF(C79>D79,\"zle\",IF(AND(C79<=VEMA!P$37,VEMA!Q$37<=D79),\"obed\",IF(OR(D79<=VEMA!P$37,VEMA!Q$37<=C79),\"dobre\",\"zle\"))))","v":"dobre"}]
[null,{"$f":"B79","v":"Ne"},null,null,{"$f":"IF(OR(U80=\"dobre\",U80=\"obed\"),IF(OR(B80=\"So\",B80=\"Ne\"),\"\",IF(OR(D80<=VEMA!P$37,C80>=VEMA!Q$37),(D80-C80)*24,(D80-C80)*24-VEMA!R$37)),\"<< zlý čas\")","v":""},null,null,null,null,"","",null,null,null,null,null,"4.1.23. A: Určenie postupu, termínu a miesta realizácie opytovania.",null,null,null,{"$f":"IF(OR(B80=\"So\",B80=\"Ne\"),\"dobre\",IF(C80>D80,\"zle\",IF(AND(C80<=VEMA!P$37,VEMA!Q$37<=D80),\"obed\",IF(OR(D80<=VEMA!P$37,VEMA!Q$37<=C80),\"dobre\",\"zle\"))))","v":"dobre"}]
[{"$f":"IF(A78=\"\",\"\",IF(A78+1<=$D$146,A78+1,\"\"))","v":21},{"$f":"IF(A81=\"\",\"\",IF(B78=\"Po\",\"Ut\",IF(B78=\"Ut\",\"St\",IF(B78=\"St\",\"Št\",IF(B78=\"Št\",\"Pi\",IF(B78=\"Pi\",\"So\",IF(B78=\"So\",\"Ne\",IF(B78=\"Ne\",\"Po\",\"\"))))))))","v":"Po"},null,null,{"$f":"IF(OR(U81=\"dobre\",U81=\"obed\"),IF(OR(B81=\"So\",B81=\"Ne\"),\"\",IF(OR(D81<=VEMA!P$38,C81>=VEMA!Q$38),(D81-C81)*24,(D81-C81)*24-VEMA!R$38)),\"<< zlý čas\")","v":0},null,null,null,null,0,0,null,null,null,null,null,"4.1.23. A:  Spracovanie a interpretácia zistenia z opytovania.",null,{"$f":"IF(SUM(E81:E83)=0,\"\",SUM(E81:E83))","v":""},null,{"$f":"IF(OR(B81=\"So\",B81=\"Ne\"),\"dobre\",IF(C81>D81,\"zle\",IF(AND(C81<=VEMA!P$38,VEMA!Q$38<=D81),\"obed\",IF(OR(D81<=VEMA!P$38,VEMA!Q$38<=C81),\"dobre\",\"zle\"))))","v":"dobre"}]
[null,{"$f":"B81","v":"Po"},null,null,{"$f":"IF(OR(U82=\"dobre\",U82=\"obed\"),IF(OR(B82=\"So\",B82=\"Ne\"),\"\",IF(OR(D82<=VEMA!P$38,C82>=VEMA!Q$38),(D82-C82)*24,(D82-C82)*24-VEMA!R$38)),\"<< zlý čas\")","v":0},null,null,null,null,0,0,null,null,null,null,null,"4.1.23. A: Formulovanie návrhov a odporúčaní vyplývajúcich z prieskumu pre realizáciu projektu.",null,null,null,{"$f":"IF(OR(B82=\"So\",B82=\"Ne\"),\"dobre\",IF(C82>D82,\"zle\",IF(AND(C82<=VEMA!P$38,VEMA!Q$38<=D82),\"obed\",IF(OR(D82<=VEMA!P$38,VEMA!Q$38<=C82),\"dobre\",\"zle\"))))","v":"dobre"}]
[null,{"$f":"B82","v":"Po"},null,null,{"$f":"IF(OR(U83=\"dobre\",U83=\"obed\"),IF(OR(B83=\"So\",B83=\"Ne\"),\"\",IF(OR(D83<=VEMA!P$38,C83>=VEMA!Q$38),(D83-C83)*24,(D83-C83)*24-VEMA!R$38)),\"<< zlý čas\")","v":0},null,null,null,null,0,0,null,null,null,null,null,"4.1.23. A: Realizácia prieskumnej činnosti v projekte, následne spracovanie a interpretácia zistenia z opytovania, finalizácia prieskumu.",null,null,null,{"$f":"IF(OR(B83=\"So\",B83=\"Ne\"),\"dobre\",IF(C83>D83,\"zle\",IF(AND(C83<=VEMA!P$38,VEMA!Q$38<=D83),\"obed\",IF(OR(D83<=VEMA!P$38,VEMA!Q$38<=C83),\"dobre\",\"zle\"))))","v":"dobre"}]
[{"$f":"IF(A81=\"\",\"\",IF(A81+1<=$D$146,A81+1,\"\"))","v":22},{"$f":"IF(A84=\"\",\"\",IF(B81=\"Po\",\"Ut\",IF(B81=\"Ut\",\"St\",IF(B81=\"St\",\"Št\",IF(B81=\"Št\",\"Pi\",IF(B81=\"Pi\",\"So\",IF(B81=\"So\",\"Ne\",IF(B81=\"Ne\",\"Po\",\"\"))))))))","v":"Ut"},null,null,{"$f":"IF(OR(U84=\"dobre\",U84=\"obed\"),IF(OR(B84=\"So\",B84=\"Ne\"),\"\",IF(OR(D84<=VEMA!P$39,C84>=VEMA!Q$39),(D84-C84)*24,(D84-C84)*24-VEMA!R$39)),\"<< zlý čas\")","v":0},null,null,null,null,0,0,null,null,null,null,null,"4.1.25. T PV a UZ: Návrh programu vzdelávania.",null,{"$f":"IF(SUM(E84:E86)=0,\"\",SUM(E84:E86))","v":""},null,{"$f":"IF(OR(B84=\"So\",B84=\"Ne\"),\"dobre\",IF(C84>D84,\"zle\",IF(AND(C84<=VEMA!P$39,VEMA!Q$39<=D84),\"obed\",IF(OR(D84<=VEMA!P$39,VEMA!Q$39<=C84),\"dobre\",\"zle\"))))","v":"dobre"}]
[null,{"$f":"B84","v":"Ut"},null,null,{"$f":"IF(OR(U85=\"dobre\",U85=\"obed\"),IF(OR(B85=\"So\",B85=\"Ne\"),\"\",IF(OR(D85<=VEMA!P$39,C85>=VEMA!Q$39),(D85-C85)*24,(D85-C85)*24-VEMA!R$39)),\"<< zlý čas\")","v":0},null,null,null,null,{"$f":"IF(B85=\"\",\"\",IF(B85=\"So\",\"\",(IF(B85=\"Ne\",\"\",(ROUND(E85-K85,2))))))","v":0},{"$f":"IF(B85=\"So\",\"\",(IF(B85=\"Ne\",\"\",(IF(B85=\"\",\"\",(IF(COUNTIF(Pozicia,$F$16),ROUND(VRR*E85,2),0)))))))","v":0},null,null,null,null,null,"4.1.25. T PV a UZ: Spracovanie programu vzdelávania.",null,null,null,{"$f":"IF(OR(B85=\"So\",B85=\"Ne\"),\"dobre\",IF(C85>D85,\"zle\",IF(AND(C85<=VEMA!P$39,VEMA!Q$39<=D85),\"obed\",IF(OR(D85<=VEMA!P$39,VEMA!Q$39<=C85),\"dobre\",\"zle\"))))","v":"dobre"}]
[null,{"$f":"B85","v":"Ut"},null,null,{"$f":"IF(OR(U86=\"dobre\",U86=\"obed\"),IF(OR(B86=\"So\",B86=\"Ne\"),\"\",IF(OR(D86<=VEMA!P$39,C86>=VEMA!Q$39),(D86-C86)*24,(D86-C86)*24-VEMA!R$39)),\"<< zlý čas\")","v":0},null,null,null,null,0,0,null,null,null,null,null,"4.1.25. T PV a UZ: Finálne spracovanie programu vzdelávania.",null,null,null,{"$f":"IF(OR(B86=\"So\",B86=\"Ne\"),\"dobre\",IF(C86>D86,\"zle\",IF(AND(C86<=VEMA!P$39,VEMA!Q$39<=D86),\"obed\",IF(OR(D86<=VEMA!P$39,VEMA!Q$39<=C86),\"dobre\",\"zle\"))))","v":"dobre"}]
[{"$f":"IF(A84=\"\",\"\",IF(A84+1<=$D$146,A84+1,\"\"))","v":23},{"$f":"IF(A87=\"\",\"\",IF(B84=\"Po\",\"Ut\",IF(B84=\"Ut\",\"St\",IF(B84=\"St\",\"Št\",IF(B84=\"Št\",\"Pi\",IF(B84=\"Pi\",\"So\",IF(B84=\"So\",\"Ne\",IF(B84=\"Ne\",\"Po\",\"\"))))))))","v":"St"},null,null,{"$f":"IF(OR(U87=\"dobre\",U87=\"obed\"),IF(OR(B87=\"So\",B87=\"Ne\"),\"\",IF(OR(D87<=VEMA!P$40,C87>=VEMA!Q$40),(D87-C87)*24,(D87-C87)*24-VEMA!R$40)),\"<< zlý čas\")","v":0},null,null,null,null,0,0,null,null,null,null,null,"4.1.25. T PV a UZ: Zapracovanie pripomienok do  programu vzdelávania.",null,{"$f":"IF(SUM(E87:E89)=0,\"\",SUM(E87:E89))","v":""},null,{"$f":"IF(OR(B87=\"So\",B87=\"Ne\"),\"dobre\",IF(C87>D87,\"zle\",IF(AND(C87<=VEMA!P$40,VEMA!Q$40<=D87),\"obed\",IF(OR(D87<=VEMA!P$40,VEMA!Q$40<=C87),\"dobre\",\"zle\"))))","v":"dobre"}]
[null,{"$f":"B87","v":"St"},null,null,{"$f":"IF(OR(U88=\"dobre\",U88=\"obed\"),IF(OR(B88=\"So\",B88=\"Ne\"),\"\",IF(OR(D88<=VEMA!P$40,C88>=VEMA!Q$40),(D88-C88)*24,(D88-C88)*24-VEMA!R$40)),\"<< zlý čas\")","v":0},null,null,null,null,0,0,null,null,null,null,null,"4.1.25. T PV a UZ: Návrh učebných zdrojov k programu vzdelávania.",null,null,null,{"$f":"IF(OR(B88=\"So\",B88=\"Ne\"),\"dobre\",IF(C88>D88,\"zle\",IF(AND(C88<=VEMA!P$40,VEMA!Q$40<=D88),\"obed\",IF(OR(D88<=VEMA!P$40,VEMA!Q$40<=C88),\"dobre\",\"zle\"))))","v":"dobre"}]
[null,{"$f":"B88","v":"St"},null,null,{"$f":"IF(OR(U89=\"dobre\",U89=\"obed\"),IF(OR(B89=\"So\",B89=\"Ne\"),\"\",IF(OR(D89<=VEMA!P$40,C89>=VEMA!Q$40),(D89-C89)*24,(D89-C89)*24-VEMA!R$40)),\"<< zlý čas\")","v":0},null,null,null,null,0,0,null,null,null,null,null,"4.1.25. T PV a UZ: Spracovanie  učebných zdrojov k programu vzdelávania.",null,null,null,{"$f":"IF(OR(B89=\"So\",B89=\"Ne\"),\"dobre\",IF(C89>D89,\"zle\",IF(AND(C89<=VEMA!P$40,VEMA!Q$40<=D89),\"obed\",IF(OR(D89<=VEMA!P$40,VEMA!Q$40<=C89),\"dobre\",\"zle\"))))","v":"dobre"}]
[{"$f":"IF(A87=\"\",\"\",IF(A87+1<=$D$146,A87+1,\"\"))","v":24},{"$f":"IF(A90=\"\",\"\",IF(B87=\"Po\",\"Ut\",IF(B87=\"Ut\",\"St\",IF(B87=\"St\",\"Št\",IF(B87=\"Št\",\"Pi\",IF(B87=\"Pi\",\"So\",IF(B87=\"So\",\"Ne\",IF(B87=\"Ne\",\"Po\",\"\"))))))))","v":"Št"},null,null,{"$f":"IF(OR(U90=\"dobre\",U90=\"obed\"),IF(OR(B90=\"So\",B90=\"Ne\"),\"\",IF(OR(D90<=VEMA!P$41,C90>=VEMA!Q$41),(D90-C90)*24,(D90-C90)*24-VEMA!R$41)),\"<< zlý čas\")","v":0},null,null,null,null,0,0,null,null,null,null,null,"4.1.25. T PV a UZ: Zapracovanie pripomienok do  programu vzdelávania a do učebných zdrojov.",null,{"$f":"IF(SUM(E90:E92)=0,\"\",SUM(E90:E92))","v":""},null,{"$f":"IF(OR(B90=\"So\",B90=\"Ne\"),\"dobre\",IF(C90>D90,\"zle\",IF(AND(C90<=VEMA!P$41,VEMA!Q$41<=D90),\"obed\",IF(OR(D90<=VEMA!P$41,VEMA!Q$41<=C90),\"dobre\",\"zle\"))))","v":"dobre"}]
[null,{"$f":"B90","v":"Št"},null,null,{"$f":"IF(OR(U91=\"dobre\",U91=\"obed\"),IF(OR(B91=\"So\",B91=\"Ne\"),\"\",IF(OR(D91<=VEMA!P$41,C91>=VEMA!Q$41),(D91-C91)*24,(D91-C91)*24-VEMA!R$41)),\"<< zlý čas\")","v":0},null,null,null,null,0,0,null,null,null,null,null,"4.1.25. T PV a UZ:  Návrh  a spracovanie programu vzdelávania a učebných zdrojov.",null,null,null,{"$f":"IF(OR(B91=\"So\",B91=\"Ne\"),\"dobre\",IF(C91>D91,\"zle\",IF(AND(C91<=VEMA!P$41,VEMA!Q$41<=D91),\"obed\",IF(OR(D91<=VEMA!P$41,VEMA!Q$41<=C91),\"dobre\",\"zle\"))))","v":"dobre"}]
[null,{"$f":"B91","v":"Št"},null,null,{"$f":"IF(OR(U92=\"dobre\",U92=\"obed\"),IF(OR(B92=\"So\",B92=\"Ne\"),\"\",IF(OR(D92<=VEMA!P$41,C92>=VEMA!Q$41),(D92-C92)*24,(D92-C92)*24-VEMA!R$41)),\"<< zlý čas\")","v":0},null,null,null,null,0,0,null,null,null,null,null,"4.1.25. T PV a UZ: Finalizácia vzdelávacieho programu a učebných zdrojov.",null,null,null,{"$f":"IF(OR(B92=\"So\",B92=\"Ne\"),\"dobre\",IF(C92>D92,\"zle\",IF(AND(C92<=VEMA!P$41,VEMA!Q$41<=D92),\"obed\",IF(OR(D92<=VEMA!P$41,VEMA!Q$41<=C92),\"dobre\",\"zle\"))))","v":"dobre"}]
[{"$f":"IF(A90=\"\",\"\",IF(A90+1<=$D$146,A90+1,\"\"))","v":25},{"$f":"IF(A93=\"\",\"\",IF(B90=\"Po\",\"Ut\",IF(B90=\"Ut\",\"St\",IF(B90=\"St\",\"Št\",IF(B90=\"Št\",\"Pi\",IF(B90=\"Pi\",\"So\",IF(B90=\"So\",\"Ne\",IF(B90=\"Ne\",\"Po\",\"\"))))))))","v":"Pi"},null,null,{"$f":"IF(OR(U93=\"dobre\",U93=\"obed\"),IF(OR(B93=\"So\",B93=\"Ne\"),\"\",IF(OR(D93<=VEMA!P$42,C93>=VEMA!Q$42),(D93-C93)*24,(D93-C93)*24-VEMA!R$42)),\"<< zlý čas\")","v":0},null,null,null,null,0,0,null,null,null,null,null,"4.1.25. T PV a UZ: Konzultovanie pripomienok s konzultantom obsahu PV a UZ.",null,{"$f":"IF(SUM(E93:E95)=0,\"\",SUM(E93:E95))","v":""},null,{"$f":"IF(OR(B93=\"So\",B93=\"Ne\"),\"dobre\",IF(C93>D93,\"zle\",IF(AND(C93<=VEMA!P$42,VEMA!Q$42<=D93),\"obed\",IF(OR(D93<=VEMA!P$42,VEMA!Q$42<=C93),\"dobre\",\"zle\"))))","v":"dobre"}]
[null,{"$f":"B93","v":"Pi"},null,null,{"$f":"IF(OR(U94=\"dobre\",U94=\"obed\"),IF(OR(B94=\"So\",B94=\"Ne\"),\"\",IF(OR(D94<=VEMA!P$42,C94>=VEMA!Q$42),(D94-C94)*24,(D94-C94)*24-VEMA!R$42)),\"<< zlý čas\")","v":0},null,null,null,null,0,0,null,null,null,null,null,"4.1.28. OG IV: Dohľad pri realizácii vzdelávacích aktivít v inovačných programoch vzdelávania.",null,null,null,{"$f":"IF(OR(B94=\"So\",B94=\"Ne\"),\"dobre\",IF(C94>D94,\"zle\",IF(AND(C94<=VEMA!P$42,VEMA!Q$42<=D94),\"obed\",IF(OR(D94<=VEMA!P$42,VEMA!Q$42<=C94),\"dobre\",\"zle\"))))","v":"dobre"}]
[null,{"$f":"B94","v":"Pi"},null,null,{"$f":"IF(OR(U95=\"dobre\",U95=\"obed\"),IF(OR(B95=\"So\",B95=\"Ne\"),\"\",IF(OR(D95<=VEMA!P$42,C95>=VEMA!Q$42),(D95-C95)*24,(D95-C95)*24-VEMA!R$42)),\"<< zlý čas\")","v":0},null,null,null,null,0,0,null,null,null,null,null,"4.1.28. OG IV: Príprava a vedie lektorov.",null,null,null,{"$f":"IF(OR(B95=\"So\",B95=\"Ne\"),\"dobre\",IF(C95>D95,\"zle\",IF(AND(C95<=VEMA!P$42,VEMA!Q$42<=D95),\"obed\",IF(OR(D95<=VEMA!P$42,VEMA!Q$42<=C95),\"dobre\",\"zle\"))))","v":"dobre"}]
[{"$f":"IF(A93=\"\",\"\",IF(A93+1<=$D$146,A93+1,\"\"))","v":26},{"$f":"IF(A96=\"\",\"\",IF(B93=\"Po\",\"Ut\",IF(B93=\"Ut\",\"St\",IF(B93=\"St\",\"Št\",IF(B93=\"Št\",\"Pi\",IF(B93=\"Pi\",\"So\",IF(B93=\"So\",\"Ne\",IF(B93=\"Ne\",\"Po\",\"\"))))))))","v":"So"},null,null,{"$f":"IF(OR(U96=\"dobre\",U96=\"obed\"),IF(OR(B96=\"So\",B96=\"Ne\"),\"\",IF(OR(D96<=VEMA!P$43,C96>=VEMA!Q$43),(D96-C96)*24,(D96-C96)*24-VEMA!R$43)),\"<< zlý čas\")","v":""},null,null,null,null,"","",null,null,null,null,null,"4.1.28. OG IV: Kontrola priebehu  realizácie vzdelávacích programov.",null,{"$f":"IF(SUM(E96:E98)=0,\"\",SUM(E96:E98))","v":""},null,{"$f":"IF(OR(B96=\"So\",B96=\"Ne\"),\"dobre\",IF(C96>D96,\"zle\",IF(AND(C96<=VEMA!P$43,VEMA!Q$43<=D96),\"obed\",IF(OR(D96<=VEMA!P$43,VEMA!Q$43<=C96),\"dobre\",\"zle\"))))","v":"dobre"}]
[null,{"$f":"B96","v":"So"},null,null,{"$f":"IF(OR(U97=\"dobre\",U97=\"obed\"),IF(OR(B97=\"So\",B97=\"Ne\"),\"\",IF(OR(D97<=VEMA!P$43,C97>=VEMA!Q$43),(D97-C97)*24,(D97-C97)*24-VEMA!R$43)),\"<< zlý čas\")","v":""},null,null,null,null,"","",null,null,null,null,null,"4.1.28. OG IV: Kontrola ukončenia realizácie vzdelávacích programov.",null,null,null,{"$f":"IF(OR(B97=\"So\",B97=\"Ne\"),\"dobre\",IF(C97>D97,\"zle\",IF(AND(C97<=VEMA!P$43,VEMA!Q$43<=D97),\"obed\",IF(OR(D97<=VEMA!P$43,VEMA!Q$43<=C97),\"dobre\",\"zle\"))))","v":"dobre"}]
[null,{"$f":"B97","v":"So"},null,null,{"$f":"IF(OR(U98=\"dobre\",U98=\"obed\"),IF(OR(B98=\"So\",B98=\"Ne\"),\"\",IF(OR(D98<=VEMA!P$43,C98>=VEMA!Q$43),(D98-C98)*24,(D98-C98)*24-VEMA!R$43)),\"<< zlý čas\")","v":""},null,null,null,null,"","",null,null,null,null,null,"4.1.28. OG IV: Vyhodnotenie realizácie programu vzdelávania.",null,null,null,{"$f":"IF(OR(B98=\"So\",B98=\"Ne\"),\"dobre\",IF(C98>D98,\"zle\",IF(AND(C98<=VEMA!P$43,VEMA!Q$43<=D98),\"obed\",IF(OR(D98<=VEMA!P$43,VEMA!Q$43<=C98),\"dobre\",\"zle\"))))","v":"dobre"}]
[{"$f":"IF(A96=\"\",\"\",IF(A96+1<=$D$146,A96+1,\"\"))","v":27},{"$f":"IF(A99=\"\",\"\",IF(B96=\"Po\",\"Ut\",IF(B96=\"Ut\",\"St\",IF(B96=\"St\",\"Št\",IF(B96=\"Št\",\"Pi\",IF(B96=\"Pi\",\"So\",IF(B96=\"So\",\"Ne\",IF(B96=\"Ne\",\"Po\",\"\"))))))))","v":"Ne"},null,null,{"$f":"IF(OR(U99=\"dobre\",U99=\"obed\"),IF(OR(B99=\"So\",B99=\"Ne\"),\"\",IF(OR(D99<=VEMA!P$44,C99>=VEMA!Q$44),(D99-C99)*24,(D99-C99)*24-VEMA!R$44)),\"<< zlý čas\")","v":""},null,null,null,null,"","",null,null,null,null,null,"4.1.28. OG IV: Príprava podkladov na archiváciu v zmysle interných a projektových pokynov.",null,{"$f":"IF(SUM(E99:E101)=0,\"\",SUM(E99:E101))","v":""},null,{"$f":"IF(OR(B99=\"So\",B99=\"Ne\"),\"dobre\",IF(C99>D99,\"zle\",IF(AND(C99<=VEMA!P$44,VEMA!Q$44<=D99),\"obed\",IF(OR(D99<=VEMA!P$44,VEMA!Q$44<=C99),\"dobre\",\"zle\"))))","v":"dobre"}]
[null,{"$f":"B99","v":"Ne"},null,null,{"$f":"IF(OR(U100=\"dobre\",U100=\"obed\"),IF(OR(B100=\"So\",B100=\"Ne\"),\"\",IF(OR(D100<=VEMA!P$44,C100>=VEMA!Q$44),(D100-C100)*24,(D100-C100)*24-VEMA!R$44)),\"<< zlý čas\")","v":""},null,null,null,null,"","",null,null,null,null,null,"4.1.28. OG IV: Kontrola zapracovaných pripomienok.",null,null,null,{"$f":"IF(OR(B100=\"So\",B100=\"Ne\"),\"dobre\",IF(C100>D100,\"zle\",IF(AND(C100<=VEMA!P$44,VEMA!Q$44<=D100),\"obed\",IF(OR(D100<=VEMA!P$44,VEMA!Q$44<=C100),\"dobre\",\"zle\"))))","v":"dobre"}]
[null,{"$f":"B100","v":"Ne"},null,null,{"$f":"IF(OR(U101=\"dobre\",U101=\"obed\"),IF(OR(B101=\"So\",B101=\"Ne\"),\"\",IF(OR(D101<=VEMA!P$44,C101>=VEMA!Q$44),(D101-C101)*24,(D101-C101)*24-VEMA!R$44)),\"<< zlý čas\")","v":""},null,null,null,null,"","",null,null,null,null,null,"4.1.28. OG IV: Účasť na porade k vzdelávacím programom v rámci národného projektu.",null,null,null,{"$f":"IF(OR(B101=\"So\",B101=\"Ne\"),\"dobre\",IF(C101>D101,\"zle\",IF(AND(C101<=VEMA!P$44,VEMA!Q$44<=D101),\"obed\",IF(OR(D101<=VEMA!P$44,VEMA!Q$44<=C101),\"dobre\",\"zle\"))))","v":"dobre"}]
[{"$f":"IF(A99=\"\",\"\",IF(A99+1<=$D$146,A99+1,\"\"))","v":28},{"$f":"IF(A102=\"\",\"\",IF(B99=\"Po\",\"Ut\",IF(B99=\"Ut\",\"St\",IF(B99=\"St\",\"Št\",IF(B99=\"Št\",\"Pi\",IF(B99=\"Pi\",\"So\",IF(B99=\"So\",\"Ne\",IF(B99=\"Ne\",\"Po\",\"\"))))))))","v":"Po"},null,null,{"$f":"IF(OR(U102=\"dobre\",U102=\"obed\"),IF(OR(B102=\"So\",B102=\"Ne\"),\"\",IF(OR(D102<=VEMA!P$45,C102>=VEMA!Q$45),(D102-C102)*24,(D102-C102)*24-VEMA!R$45)),\"<< zlý čas\")","v":0},null,null,null,null,0,0,null,null,null,null,null,"4.1.28. OG IV: Priebežné vyhodnocovanie výstupov z realizovaných vzdelávacích programov.",null,{"$f":"IF(SUM(E102:E104)=0,\"\",SUM(E102:E104))","v":""},null,{"$f":"IF(OR(B102=\"So\",B102=\"Ne\"),\"dobre\",IF(C102>D102,\"zle\",IF(AND(C102<=VEMA!P$45,VEMA!Q$45<=D102),\"obed\",IF(OR(D102<=VEMA!P$45,VEMA!Q$45<=C102),\"dobre\",\"zle\"))))","v":"dobre"}]
[null,{"$f":"B102","v":"Po"},null,null,{"$f":"IF(OR(U103=\"dobre\",U103=\"obed\"),IF(OR(B103=\"So\",B103=\"Ne\"),\"\",IF(OR(D103<=VEMA!P$45,C103>=VEMA!Q$45),(D103-C103)*24,(D103-C103)*24-VEMA!R$45)),\"<< zlý čas\")","v":0},null,null,null,null,0,0,null,null,null,null,null,"4.1.28. OG IV: Vyhodnotenie programu vzdelávania.",null,null,null,{"$f":"IF(OR(B103=\"So\",B103=\"Ne\"),\"dobre\",IF(C103>D103,\"zle\",IF(AND(C103<=VEMA!P$45,VEMA!Q$45<=D103),\"obed\",IF(OR(D103<=VEMA!P$45,VEMA!Q$45<=C103),\"dobre\",\"zle\"))))","v":"dobre"}]
[null,{"$f":"B103","v":"Po"},null,null,{"$f":"IF(OR(U104=\"dobre\",U104=\"obed\"),IF(OR(B104=\"So\",B104=\"Ne\"),\"\",IF(OR(D104<=VEMA!P$45,C104>=VEMA!Q$45),(D104-C104)*24,(D104-C104)*24-VEMA!R$45)),\"<< zlý čas\")","v":0},null,null,null,null,0,0,null,null,null,null,null,"4.1.28. OG IV: Účasť na porade k vzdelávacím programom v rámci národného projektu a vyhodnotenie programu vzdelávania.",null,null,null,{"$f":"IF(OR(B104=\"So\",B104=\"Ne\"),\"dobre\",IF(C104>D104,\"zle\",IF(AND(C104<=VEMA!P$45,VEMA!Q$45<=D104),\"obed\",IF(OR(D104<=VEMA!P$45,VEMA!Q$45<=C104),\"dobre\",\"zle\"))))","v":"dobre"}]
[{"$f":"IF(A102=\"\",\"\",IF(A102+1<=$D$146,A102+1,\"\"))","v":29},{"$f":"IF(A105=\"\",\"\",IF(B102=\"Po\",\"Ut\",IF(B102=\"Ut\",\"St\",IF(B102=\"St\",\"Št\",IF(B102=\"Št\",\"Pi\",IF(B102=\"Pi\",\"So\",IF(B102=\"So\",\"Ne\",IF(B102=\"Ne\",\"Po\",\"\"))))))))","v":"Ut"},null,null,{"$f":"IF(OR(U105=\"dobre\",U105=\"obed\"),IF(OR(B105=\"So\",B105=\"Ne\",B105=\"\"),\"\",IF(OR(D105<=VEMA!P$46,C105>=VEMA!Q$46),(D105-C105)*24,(D105-C105)*24-VEMA!R$46)),\"<< zlý čas\")","v":0},null,null,null,null,0,0,null,null,null,null,null,"4.1.29 VVS: Zakladanie vzdelávacej skupiny.",null,{"$f":"IF(SUM(E105:E107)=0,\"\",SUM(E105:E107))","v":""},null,{"$f":"IF(OR(B105=\"So\",B105=\"Ne\"),\"dobre\",IF(C105>D105,\"zle\",IF(AND(C105<=VEMA!P$46,VEMA!Q$46<=D105),\"obed\",IF(OR(D105<=VEMA!P$46,VEMA!Q$46<=C105),\"dobre\",\"zle\"))))","v":"dobre"}]
[null,{"$f":"B105","v":"Ut"},null,null,{"$f":"IF(OR(U106=\"dobre\",U106=\"obed\"),IF(OR(B106=\"So\",B106=\"Ne\",B106=\"\"),\"\",IF(OR(D106<=VEMA!P$46,C106>=VEMA!Q$46),(D106-C106)*24,(D106-C106)*24-VEMA!R$46)),\"<< zlý čas\")","v":0},null,null,null,null,0,0,null,null,null,null,null,"4.1.29. VVS: Správa databázy účastníkov, tvorba materiálov (pozvánky, prezenčné listiny, triednu knihu skupiny).",null,null,null,{"$f":"IF(OR(B106=\"So\",B106=\"Ne\"),\"dobre\",IF(C106>D106,\"zle\",IF(AND(C106<=VEMA!P$46,VEMA!Q$46<=D106),\"obed\",IF(OR(D106<=VEMA!P$46,VEMA!Q$46<=C106),\"dobre\",\"zle\"))))","v":"dobre"}]
[null,{"$f":"B106","v":"Ut"},null,null,{"$f":"IF(OR(U107=\"dobre\",U107=\"obed\"),IF(OR(B107=\"So\",B107=\"Ne\",B107=\"\"),\"\",IF(OR(D107<=VEMA!P$46,C107>=VEMA!Q$46),(D107-C107)*24,(D107-C107)*24-VEMA!R$46)),\"<< zlý čas\")","v":0},null,null,null,null,0,0,null,null,null,null,null,"4.1.29. VVS: Sumarizácia dištančných úloh.",null,null,null,{"$f":"IF(OR(B107=\"So\",B107=\"Ne\"),\"dobre\",IF(C107>D107,\"zle\",IF(AND(C107<=VEMA!P$46,VEMA!Q$46<=D107),\"obed\",IF(OR(D107<=VEMA!P$46,VEMA!Q$46<=C107),\"dobre\",\"zle\"))))","v":"dobre"}]
[{"$f":"IF(A105=\"\",\"\",IF(A105+1<=$D$146,A105+1,\"\"))","v":30},{"$f":"IF(A108=\"\",\"\",IF(B105=\"Po\",\"Ut\",IF(B105=\"Ut\",\"St\",IF(B105=\"St\",\"Št\",IF(B105=\"Št\",\"Pi\",IF(B105=\"Pi\",\"So\",IF(B105=\"So\",\"Ne\",IF(B105=\"Ne\",\"Po\",\"\"))))))))","v":"St"},null,null,{"$f":"IF(OR(U108=\"dobre\",U108=\"obed\"),IF(OR(B108=\"So\",B108=\"Ne\",B108=\"\"),\"\",IF(OR(D108<=VEMA!P$47,C108>=VEMA!Q$47),(D108-C108)*24,(D108-C108)*24-VEMA!R$47)),\"<< zlý čas\")","v":0},null,null,null,null,0,0,null,null,null,null,null,"4.1.29. VVS: Plánovanie a príprava harmonogramu vzdelávacích aktivít.",null,{"$f":"IF(SUM(E108:E110)=0,\"\",SUM(E108:E110))","v":""},null,{"$f":"IF(OR(B108=\"So\",B108=\"Ne\"),\"dobre\",IF(C108>D108,\"zle\",IF(AND(C108<=VEMA!P$47,VEMA!Q$47<=D108),\"obed\",IF(OR(D108<=VEMA!P$47,VEMA!Q$47<=C108),\"dobre\",\"zle\"))))","v":"dobre"}]
[null,{"$f":"B108","v":"St"},null,null,{"$f":"IF(OR(U109=\"dobre\",U109=\"obed\"),IF(OR(B109=\"So\",B109=\"Ne\",B109=\"\"),\"\",IF(OR(D109<=VEMA!P$47,C109>=VEMA!Q$47),(D109-C109)*24,(D109-C109)*24-VEMA!R$47)),\"<< zlý čas\")","v":0},null,null,null,null,0,0,null,null,null,null,null,"4.1.29. VVS: Sumarizácia dištančných úloh a záverečných prezentácii, príprava a spracovanie záverov, vrátane podkladov na spracovanie osvedčení a protokolov. ",null,null,null,{"$f":"IF(OR(B109=\"So\",B109=\"Ne\"),\"dobre\",IF(C109>D109,\"zle\",IF(AND(C109<=VEMA!P$47,VEMA!Q$47<=D109),\"obed\",IF(OR(D109<=VEMA!P$47,VEMA!Q$47<=C109),\"dobre\",\"zle\"))))","v":"dobre"}]
[null,{"$f":"B109","v":"St"},null,null,{"$f":"IF(OR(U110=\"dobre\",U110=\"obed\"),IF(OR(B110=\"So\",B110=\"Ne\",B110=\"\"),\"\",IF(OR(D110<=VEMA!P$47,C110>=VEMA!Q$47),(D110-C110)*24,(D110-C110)*24-VEMA!R$47)),\"<< zlý čas\")","v":0},null,null,null,null,0,0,null,null,null,null,null,"4.1.29. VVS: Príprava podkladov na archiváciu v zmysle interných a projektových pokynov.",null,null,null,{"$f":"IF(OR(B110=\"So\",B110=\"Ne\"),\"dobre\",IF(C110>D110,\"zle\",IF(AND(C110<=VEMA!P$47,VEMA!Q$47<=D110),\"obed\",IF(OR(D110<=VEMA!P$47,VEMA!Q$47<=C110),\"dobre\",\"zle\"))))","v":"dobre"}]
[{"$f":"IF(A108=\"\",\"\",IF(A108+1<=$D$146,A108+1,\"\"))","v":""},{"$f":"IF(A111=\"\",\"\",IF(B108=\"Po\",\"Ut\",IF(B108=\"Ut\",\"St\",IF(B108=\"St\",\"Št\",IF(B108=\"Št\",\"Pi\",IF(B108=\"Pi\",\"So\",IF(B108=\"So\",\"Ne\",IF(B108=\"Ne\",\"Po\",\"\"))))))))","v":""},null,null,{"$f":"IF(OR(U111=\"dobre\",U111=\"obed\"),IF(OR(B111=\"So\",B111=\"Ne\",B111=\"\"),\"\",IF(OR(D111<=VEMA!P$48,C111>=VEMA!Q$48),(D111-C111)*24,(D111-C111)*24-VEMA!R$48)),\"<< zlý čas\")","v":""},null,null,null,null,"",{"$f":"IF(AND(B111=\"So\"),\"\",(IF(AND(B111=\"Ne\"),\"\",(IF(AND(B111=\"\"),\"\",(SUMIF(N21:N48,F16,O21:O48))*E111)))))","v":""},null,null,null,null,null,"4.1.29. VVS: Koordinovanie vzdelávacích skupín.",null,{"$f":"IF(SUM(E111:E113)=0,\"\",SUM(E111:E113))","v":""},null,{"$f":"IF(OR(B111=\"So\",B111=\"Ne\",B111=\"\"),\"dobre\",IF(C111>D111,\"zle\",IF(AND(C111<=VEMA!P$48,VEMA!Q$48<=D111),\"obed\",IF(OR(D111<=VEMA!P$48,VEMA!Q$48<=C111),\"dobre\",\"zle\"))))","v":"dobre"}]
[null,{"$f":"B111","v":""},null,null,{"$f":"IF(OR(U112=\"dobre\",U112=\"obed\"),IF(OR(B112=\"So\",B112=\"Ne\",B112=\"\"),\"\",IF(OR(D112<=VEMA!P$48,C112>=VEMA!Q$48),(D112-C112)*24,(D112-C112)*24-VEMA!R$48)),\"<< zlý čas\")","v":""},null,null,null,null,{"$f":"IF(AND(B112=\"\"),\"\",IF(AND(B112=\"So\"),\"\",(IF(AND(B112=\"Ne\"),\"\",(ROUND(E112-K112,2))))))","v":""},{"$f":"IF(AND(B112=\"So\"),\"\",(IF(AND(B112=\"Ne\"),\"\",(IF(AND(B112=\"\"),\"\",(SUMIF(N21:N48,F16,O21:O48))*E112)))))","v":""},null,null,null,null,null,"4.1.30. L: Príprava na lektorskú činnosť.",null,null,null,{"$f":"IF(OR(B112=\"So\",B112=\"Ne\",B112=\"\"),\"dobre\",IF(C112>D112,\"zle\",IF(AND(C112<=VEMA!P$48,VEMA!Q$48<=D112),\"obed\",IF(OR(D112<=VEMA!P$48,VEMA!Q$48<=C112),\"dobre\",\"zle\"))))","v":"dobre"}]
[null,{"$f":"B112","v":""},null,null,{"$f":"IF(OR(U113=\"dobre\",U113=\"obed\"),IF(OR(B113=\"So\",B113=\"Ne\",B113=\"\"),\"\",IF(OR(D113<=VEMA!P$48,C113>=VEMA!Q$48),(D113-C113)*24,(D113-C113)*24-VEMA!R$48)),\"<< zlý čas\")","v":""},null,null,null,null,{"$f":"IF(AND(B113=\"\"),\"\",IF(AND(B113=\"So\"),\"\",(IF(AND(B113=\"Ne\"),\"\",(ROUND(E113-K113,2))))))","v":""},{"$f":"IF(AND(B113=\"So\"),\"\",(IF(AND(B113=\"Ne\"),\"\",(IF(AND(B113=\"\"),\"\",(SUMIF(N21:N48,F16,O21:O48))*E113)))))","v":""},null,null,null,null,null,"4.1.30. L: Úprava materiálov pre účastníkov vzdelávania.",null,null,null,{"$f":"IF(OR(B113=\"So\",B113=\"Ne\",B113=\"\"),\"dobre\",IF(C113>D113,\"zle\",IF(AND(C113<=VEMA!P$48,VEMA!Q$48<=D113),\"obed\",IF(OR(D113<=VEMA!P$48,VEMA!Q$48<=C113),\"dobre\",\"zle\"))))","v":"dobre"}]
["Spolu:",null,null,null,{"$f":"SUMIF(B21:B111,\"Po\",E21:E113)+SUMIF(B21:B111,\"Ut\",E21:E111)+SUMIF(B21:B111,\"St\",E21:E111)+SUMIF(B21:B111,\"Št\",E21:E111)+SUMIF(B21:B111,\"Pi\",E21:E111)","v":0},null,null,null,null,{"$f":"SUM(J21:J111)","v":0},{"$f":"SUM(K21:K111)","v":0},null,null,null,null,null,"4.1.30. L: Lektorovanie programu vzdelávania."]
["Čestné vyhlásenie:",null,null,null,null,null,null,null,null,null,null,null,null,null,null,null,"4.1.30. L: Ukončovanie  vzdelávacieho programu (člen skúšobnej komisie). "]
[null,null,"❶Ako prijímateľ vyhlasujem, že údaje uvedené v pracovnom výkaze sú pravdivé, reálne a správne a som si vedomý následkov spojených s uvedením/predložením nesprávneho, neúplného alebo falšovaného výkazu.",null,null,null,null,null,null,null,null,null,null,null,null,null,"4.1.30. L: Ukončovanie  vzdelávacieho programu (predseda skúšobnej komisie). "]
["X",null,null,null,null,null,null,null,null,null,null,null,null,"X",null,null,"4.1.30. L: Vyhodnotenie programu vzdelávania za skupinu."]
[null,null,null,null,null,null,null,null,null,null,null,null,null,null,null,null,"4.1.30. L: Príprava na lektorskú činnosť.  Úprava materiálov pre účastníkov vzdelávania."]
[null,null,"❷Svojim podpisom potvrdzujem, že v uvedenom mesiaci som mal iba jediný pracovnoprávny vzťah,  nevykonával som iné činnosti u tohto zamestnávateľa ani u iných zamestnávateľov, údaje uvedené v pracovnom výkaze sú pravdivé, reálne a správne a som si vedomý následkov spojených s uvedením/predložením nesprávneho, neúplného alebo falšovaného pracovného výkazu.",null,null,null,null,null,null,null,null,null,null,null,null,null,"4.1.30. L: Príprava na lektorskú činnosť a lektorovanie programu vzdelávania."]
[null,null,null,null,null,null,null,null,null,null,null,null,null,null,null,null,"4.1.32. P.: Realizácia individuálneho poradenstva pedagogickým zamestnancom s dôrazom na aplikáciu poznatkov zo vzdelávacích programov a aktivít v školskej praxi."]
["Dátum odovzdania: ",null,null,null,null,null,null,"Dátum prevzatia:",null,null,null,null,null,null,null,null,"4.1.32. P.: Poskytovanie spätnej väzby na pozorované edukačné procesy."]
[null,null,null,null,null,null,null,null,null,null,null,null,null,null,null,null,"4.1.32. P.: Realizácia poradenského projektu."]
["Podpis osoby***:",null,null,null,null,null,null,"Podpis štatutárneho orgánu prijímateľa:**",null,null,null,null,null,null,null,null,"4.1.32. P.: Návrh a vypracovanie odporúčaní na zvýšenie kvality výchovno-vzdelávacieho procesu."]
[null,null,null,null,null,null,null,null,null,null,null,null,null,null,null,null,"4.1.32. P.: Vyhodnotenie realizácie poradenského projektu."]
["Poznámka: Osobou sa rozumie zamestnanec v pracovnoprávnom vzťahu (pracovný pomer, dohody) ako aj osoba pracujúca na základe iných ako pracovnoprávnych vzťahov, resp. osoba pracujúca pre dodávateľa, ktorý vykonáva činnosť pre prijímateľa.                                                                                                         \n*Počet hodín je uvádzaný pre 60 minútový interval.",null,null,null,null,null,null,null,null,null,null,null,null,null,null,null,"4.1.32. P: Príprava podkladom na realizáciu poradenského projektu, realizácia poradenského projektu."]
[null,null,null,null,null,null,null,null,null,null,null,null,null,null,null,null,"4.1.32. P: Príprava poradenského projektu."]
["**V prípade splmonocnenia sa uvedia osoba splnomocnená štatutárnym orgánom na podpisovanie pracovných výkazov",null,null,null,null,null,null,null,null,null,null,null,null,null,null,null,"sviatok"]
["***V prípade dodávateľských vzťahov sa uvedie podpis osoby, ktorá vykonala činnosti a výstupy uvádzané v PV a podpis osoby, ktorá zastupuje dodávateľa. Ak osoby sú totožné uvedie sa iba jeden podpis",null,null,null,null,null,null,null,null,null,null,null,null,null,null,null,"dovolenka"]
[null,null,null,null,null,null,null,null,null,null,null,null,null,null,null,null,"iné náhrady"]
["❶",null,"osoba  pracujúca na rôzne pracovnoprávne vzťahy u jedného resp. rôznych zamestnávateľov ",null,null,null,null,null,null,null,null,null,null,null,null,null,"lekár"]
["❷",null,"osoba pracujúca 100% na projekt, ktorá mala iba jediný pracovnoprávny vzťah",null,null,null,null,null,null,null,null,null,null,null,null,null,"sprevádzanie člena rodiny"]
[null,null,null,null,null,null,null,null,null,null,null,null,null,null,null,null,"PN"]
[null,null,null,null,null,null,null,null,null,null,null,null,null,null,null,null,"OČR"]
[null,null,null,null,null,null,null,null,null,null,null,null,null,null,null,null,"neplatené voľno"]
["PRÁCA NADČAS*"]
["Mesiac ",null,null,null,null,null,null,{"$f":"F17","v":"September"}]
["Fond pracovného času v príslušnom mesiaci "]
["Celkový počet odpracovaných hodín v príslušnom mesiaci "]
["Nariadená/dododnutá práca nadčas financovaná v rámci projektu**"]
[]
["* vypĺňa sa iba v prípade, ak sa v rámci projektu v danom mesiaci financuje v projekte práca nadčas"]
["** práca nadčas je oprávnená iba vo výnimočných a odôvodnených prípadoch. musí byť vykonávaná na príkaz zamestnávateľa alebo s jeho súhlasom. Nadčas je oprávneným výdavkom iba v prípade, ak činnosti vykonávané počas práce nadčas priamo súvisia s aktivitami projektu. Pri využívaní nadčas je potrebné dodržiavať platnú legislatívu SR (najmä zákonník práce).\n"]
[]
["Začiatok mesiaca",null,null,{"$f":"VLOOKUP(F17,A163:E174,(VLOOKUP(K17,A177:B180,2,0)),0)","v":2}]
[]
["Počet dní v mesiaci",null,null,{"$f":"VLOOKUP(F17,A183:C194,(VLOOKUP(K17,A196:B199,2,0)),0)","v":30}]
[]
["Vyberte",2019,2020,2021,2022]
["Január","ut","st","pi","so"]
["Február","pi","so","po","ut"]
["Marec","pi","ne","po","ut"]
["Apríl","po","st","št","pi"]
["Máj","st","pi","so","ne"]
["Jún","so","po","ut","st"]
["Júl","po","st","št","pi"]
["August","št","so","ne","po"]
["September","ne","ut","st","št"]
["Október","ut","št","pi","so"]
["November","pi","ne","po","ut"]
["December","ne","ut","st","št"]
[]
[null,2019,2020,2021,2022]
["Január",2,3,5,6]
["Február",5,6,1,2]
["Marec",5,7,1,2]
["Apríl",1,3,4,5]
["Máj",3,5,6,7]
["Jún",6,1,2,3]
["Júl",1,3,4,5]
["August",4,6,7,1]
["September",7,2,3,4]
["Október",2,4,5,6]
["November",5,7,1,2]
["December",7,2,3,4]
[]
[]
[2019,{"$f":"COLUMN(B162)","v":2}]
[2020,{"$f":"COLUMN($C$162)","v":3}]
[2021,{"$f":"COLUMN($D$162)","v":4}]
[2022,{"$f":"COLUMN($E$162)","v":5}]
[]
[null,"ostatné",2020]
["Január",31,31]
["Február",28,29]
["Marec",31,31]
["Apríl",30,30]
["Máj",31,31]
["Jún",30,30]
["Júl",31,31]
["August",31,31]
["September",30,30]
["Október",31,31]
["November",30,30]
["December",31,31]
[]
[2019,{"$f":"COLUMN(B182)","v":2}]
[2020,{"$f":"COLUMN($C$182)","v":3}]
[2021,{"$f":"COLUMN($B$182)","v":2}]
[2022,{"$f":"COLUMN($B$182)","v":2}]

{"sheet":"PV3","index":2,"n_rows":199,"n_cols":21,"rows_kept":199,"cut":false,"hidden":false,"merged":[[5,5,5,7],[5,8,5,9],[7,0,7,4],[7,5,7,11],[8,0,8,4],[8,5,8,11],[14,0,14,4],[14,5,14,11],[15,0,15,4],[15,5,15,10],[16,0,16,4],[16,5,16,9],[9,0,9,4],[9,5,9,11],[10,0,11,4],[10,5,11,11],[12,0,12,4],[12,5,12,11],[18,10,19,10],[18,11,19,11],[18,9,19,9],[20,5,20,8],[21,5,21,8],[22,5,22,8],[23,5,23,8],[18,0,19,0],[18,1,19,1],[18,2,18,3],[18,4,19,4],[18,5,19,8],[30,5,30,8],[31,5,31,8],[32,5,32,8],[33,5,33,8],[34,5,34,8],[35,5,35,8],[24,5,24,8],[25,5,25,8],[26,5,26,8],[27,5,27,8],[28,5,28,8],[29,5,29,8],[42,5,42,8],[43,5,43,8],[44,5,44,8],[45,5,45,8],[46,5,46,8],[47,5,47,8],[36,5,36,8],[37,5,37,8],[38,5,38,8],[39,5,39,8],[40,5,40,8],[41,5,41,8],[54,5,54,8],[55,5,55,8],[56,5,56,8],[57,5,57,8],[58,5,58,8],[59,5,59,8],[48,5,48,8],[49,5,49,8],[50,5,50,8],[51,5,51,8],[52,5,52,8],[53,5,53,8],[66,5,66,8],[67,5,67,8],[68,5,68,8],[69,5,69,8],[70,5,70,8],[71,5,71,8],[60,5,60,8],[61,5,61,8],[62,5,62,8],[63,5,63,8],[64,5,64,8],[65,5,65,8],[78,5,78,8],[79,5,79,8],[80,5,80,8],[81,5,81,8],[82,5,82,8],[83,5,83,8],[72,5,72,8],[73,5,73,8],[74,5,74,8],[75,5,75,8],[76,5,76,8],[77,5,77,8],[90,5,90,8],[91,5,91,8],[92,5,92,8],[93,5,93,8],[94,5,94,8],[96,5,96,8],[84,5,84,8],[85,5,85,8],[86,5,86,8],[87,5,87,8],[88,5,88,8],[89,5,89,8],[95,5,95,8],[103,5,103,8],[104,5,104,8],[105,5,105,8],[106,5,106,8],[107,5,107,8],[108,5,108,8],[97,5,97,8],[98,5,98,8],[99,5,99,8],[100,5,100,8],[101,5,101,8],[102,5,102,8],[120,0,120,2],[120,3,120,5],[120,9,120,11],[122,0,122,2],[122,3,122,5],[122,7,122,10],[109,5,109,8],[110,5,110,8],[111,5,111,8],[112,5,112,8],[115,2,116,11],[118,2,118,11],[140,0,140,11],[141,0,141,11],[136,0,136,6],[136,7,136,11],[137,0,137,6],[137,7,137,11],[138,0,138,6],[138,7,138,11],[124,0,125,11],[126,0,126,11],[127,0,128,11],[134,0,134,11],[135,0,135,6],[135,7,135,11]]}
[]
[null,null,null,null,null,null,null,null,null,null,null,null,null,null,null,null,null,null,null,null,{"$f":"VLOOKUP(F17,PV!A149:'PV'!F160,6,0)","v":9}]
[null,null,null,null,null,null,null,null,null,null,null,null,null,null,null,null,null,null,null,null,{"$f":"IF(U17=\"\",\"\",LEFT(U17,1))","v":"M"}]
[null,null,null,null,null,null,null,null,null,null,null,null,null,null,null,null,null,null,null,null,{"$f":"IF(U17=\"\",\"\",LEFT(RIGHT(U17,LEN(U17)-FIND(\" \",U17,1)),1))","v":"P"}]
[]
[null,null,null,null,null,"PRACOVNÝ VÝKAZ č. ",null,null,{"$f":"IF(U2>9,CONCATENATE(U2,\"/\",U3,U4,\"/03\"),CONCATENATE(\"0\",U2,\"/\",U3,U4,\"/03\"))","v":"09/MP/03"},null,null,null,null,null,null,null,null,null,null,null,{"$f":"SUBSTITUTE(F15,\"Ing.\",\"\")","v":"Mgr. Meno Priezvisko, PhD."}]
[null,null,null,null,null,null,null,null,null,null,null,null,null,null,null,null,null,null,null,null,{"$f":"SUBSTITUTE(U6,\"Mgr.\",\"\")","v":" Meno Priezvisko, PhD."}]
["Operačný program:",null,null,null,null,"Ľudské zdroje",null,null,null,null,null,null,null,null,null,null,null,null,null,null,{"$f":"SUBSTITUTE(U7,\"Bc.\",\"\")","v":" Meno Priezvisko, PhD."}]
["Programové obdobie:",null,null,null,null,"2014-2020",null,null,null,null,null,null,null,null,null,null,null,null,null,null,{"$f":"SUBSTITUTE(U8,\"PaedDr.\",\"\")","v":" Meno Priezvisko, PhD."}]
["Prijímateľ:",null,null,null,null,"Metodicko-pedagogické centrum",null,null,null,null,null,null,null,null,null,null,null,null,null,null,{"$f":"SUBSTITUTE(U9,\"PhDr.\",\"\")","v":" Meno Priezvisko, PhD."}]
["Názov projektu:",null,null,null,null,"Profesijný rozvoj učiteľov (TEACHERS)",null,null,null,null,null,null,null,null,null,null,null,null,null,null,{"$f":"SUBSTITUTE(U10,\"Doc.\",\"\")","v":" Meno Priezvisko, PhD."}]
[null,null,null,null,null,null,null,null,null,null,null,null,null,null,null,null,null,null,null,null,{"$f":"SUBSTITUTE(U11,\"ThDr.\",\"\")","v":" Meno Priezvisko, PhD."}]
["Kód ITMS projektu:",null,null,null,null,"312011AUN7",null,null,null,null,null,null,null,null,null,null,null,null,null,null,{"$f":"SUBSTITUTE(U12,\"MUDr.\",\"\")","v":" Meno Priezvisko, PhD."}]
[null,null,null,null,null,null,null,null,null,null,null,null,null,null,null,null,null,null,null,null,{"$f":"SUBSTITUTE(U13,\"Dr.\",\"\")","v":" Meno Priezvisko, PhD."}]
["Meno a priezvisko osoby:",null,null,null,null,{"$f":"PV!F15","v":"Mgr. Meno Priezvisko, PhD."},null,null,null,null,null,null,null,null,null,null,null,null,null,null,{"$f":"SUBSTITUTE(U14,\"habil.\",\"\")","v":" Meno Priezvisko, PhD."}]
["Funkcia/Právny vzťah",null,null,null,null,null,null,null,null,null,null,"PP",null,null,null,null,null,null,null,null,{"$f":"SUBSTITUTE(U15,\"MUDr.\",\"\")","v":" Meno Priezvisko, PhD."}]
["Obdobie vykonávania činností:",null,null,null,null,{"$f":"PV!F17","v":"September"},null,null,null,null,{"$f":"PV!K17","v":2020},null,null,null,null,null,null,null,null,null,{"$f":"TRIM(U16)","v":"Meno Priezvisko, PhD."}]
[]
["Dátum","Deň","Čas vykonania\n prác",null,"Počet \nodpracovaných hodín*","Detailný popis činností vykonávaných na základe zmluvy o poskytnutí NFP a popis výsledkov vykonanej činnosti",null,null,null,"Počet odpracovaných hodín MRR*","Počet odpracovaných hodín VRR*","Miesto výkonávania činnosti",null,null,null,null,null,null,null,null,"Nastavenie času vzhľadom na obed"]
[null,null,"Od","Do",null,null,null,null,null,null,null,null,null,"Pozícia","VRR","Miesto","Činnosť","Pracovný pomer"]
[1,{"$f":"IF($D$144=1,\"Po\",IF($D$144=2,\"Ut\",IF($D$144=3,\"St\",IF($D$144=4,\"Št\",IF($D$144=5,\"Pi\",IF($D$144=6,\"So\",IF($D$144=7,\"Ne\",\"Nastala chyba\")))))))","v":"Ut"},null,null,{"$f":"IF(OR(U21=\"dobre\",U21=\"obed\"),IF(OR(B21=\"So\",B21=\"Ne\"),\"\",IF(OR(D21<=VEMA!P$18,C21>=VEMA!Q$18),(D21-C21)*24,(D21-C21)*24-VEMA!R$18)),\"<< zlý čas\")","v":0},null,null,null,null,{"$f":"IF(B21=\"\",\"\",IF(B21=\"So\",\"\",(IF(B21=\"Ne\",\"\",(ROUND(E21-K21,2))))))","v":0},{"$f":"IF(B21=\"So\",\"\",(IF(B21=\"Ne\",\"\",(IF(B21=\"\",\"\",(IF(COUNTIF(Pozicia,$F$16),ROUND(VRR*E21,2),0)))))))","v":0},null,null,"4.1.2. Člen expertnej skupiny",0.13689999999999999,"Bratislava","4.1.2. ČES: Spracovanie východísk inovácie a tvorby nových profesijných štandardov.","PP",{"$f":"IF(SUM(E21:E23)=0,\"\",SUM(E21:E23))","v":""},null,{"$f":"IF(OR(B21=\"So\",B21=\"Ne\"),\"dobre\",IF(C21>D21,\"zle\",IF(AND(C21<=VEMA!P$18,VEMA!Q$18<=D21),\"obed\",IF(OR(D21<=VEMA!P$18,VEMA!Q$18<=C21),\"dobre\",\"zle\"))))","v":"dobre"}]
[null,{"$f":"B21","v":"Ut"},null,null,{"$f":"IF(OR(U22=\"dobre\",U22=\"obed\"),IF(OR(B22=\"So\",B22=\"Ne\"),\"\",IF(OR(D22<=VEMA!P$18,C22>=VEMA!Q$18),(D22-C22)*24,(D22-C22)*24-VEMA!R$18)),\"<< zlý čas\")","v":0},null,null,null,null,0,0,null,null,"4.1.4. Člen pracovnej skupiny",0.13689999999999999,"Banská Bystrica","4.1.2. ČES: Určenie základných princípov revízie profesijných štandardov.","D","",null,{"$f":"IF(OR(B22=\"So\",B22=\"Ne\"),\"dobre\",IF(C22>D22,\"zle\",IF(AND(C22<=VEMA!P$18,VEMA!Q$18<=D22),\"obed\",IF(OR(D22<=VEMA!P$18,VEMA!Q$18<=C22),\"dobre\",\"zle\"))))","v":"dobre"}]
[null,{"$f":"B22","v":"Ut"},null,null,{"$f":"IF(OR(U23=\"dobre\",U23=\"obed\"),IF(OR(B23=\"So\",B23=\"Ne\"),\"\",IF(OR(D23<=VEMA!P$18,C23>=VEMA!Q$18),(D23-C23)*24,(D23-C23)*24-VEMA!R$18)),\"<< zlý čas\")","v":0},null,null,null,null,0,0,null,null,"4.1.8. Regionálny odborný riešiteľ 1.2",0.13689999999999999,"Prešov","4.1.2. ČES: Stanovenie východísk pre inovovaný a nový profesijný štandard; vypracovanie vzorového profesijného štandardu (modelu) ","F","",null,{"$f":"IF(OR(B23=\"So\",B23=\"Ne\"),\"dobre\",IF(C23>D23,\"zle\",IF(AND(C23<=VEMA!P$18,VEMA!Q$18<=D23),\"obed\",IF(OR(D23<=VEMA!P$18,VEMA!Q$18<=C23),\"dobre\",\"zle\"))))","v":"dobre"}]
[{"$f":"IF(A21=\"\",\"\",IF(A21+1<=$D$146,A21+1,\"\"))","v":2},{"$f":"IF(A24=\"\",\"\",IF(B21=\"Po\",\"Ut\",IF(B21=\"Ut\",\"St\",IF(B21=\"St\",\"Št\",IF(B21=\"Št\",\"Pi\",IF(B21=\"Pi\",\"So\",IF(B21=\"So\",\"Ne\",IF(B21=\"Ne\",\"Po\",\"\"))))))))","v":"St"},null,null,{"$f":"IF(OR(U24=\"dobre\",U24=\"obed\"),IF(OR(B24=\"So\",B24=\"Ne\"),\"\",IF(OR(D24<=VEMA!P$19,C24>=VEMA!Q$19),(D24-C24)*24,(D24-C24)*24-VEMA!R$19)),\"<< zlý čas\")","v":0},null,null,null,null,0,0,null,null,"4.1.9. Odborný personál podaktivity 1.2",0.13689999999999999,"Košice","4.1.2. ČES: Určenie základných princípov  tvorby nových profesijných štandardov.","I",{"$f":"IF(SUM(E24:E26)=0,\"\",SUM(E24:E26))","v":""},null,{"$f":"IF(OR(B24=\"So\",B24=\"Ne\"),\"dobre\",IF(C24>D24,\"zle\",IF(AND(C24<=VEMA!P$19,VEMA!Q$19<=D24),\"obed\",IF(OR(D24<=VEMA!P$19,VEMA!Q$19<=C24),\"dobre\",\"zle\"))))","v":"dobre"}]
[null,{"$f":"B24","v":"St"},null,null,{"$f":"IF(OR(U25=\"dobre\",U25=\"obed\"),IF(OR(B25=\"So\",B25=\"Ne\"),\"\",IF(OR(D25<=VEMA!P$19,C25>=VEMA!Q$19),(D25-C25)*24,(D25-C25)*24-VEMA!R$19)),\"<< zlý čas\")","v":0},null,null,null,null,0,0,null,null,"4.1.12. Odborný konzultant NOPS",0.13689999999999999,"Komárno","4.1.2. ČES: Účasť na zasadnutí/porade expertnej skupiny.","DD",null,null,{"$f":"IF(OR(B25=\"So\",B25=\"Ne\"),\"dobre\",IF(C25>D25,\"zle\",IF(AND(C25<=VEMA!P$19,VEMA!Q$19<=D25),\"obed\",IF(OR(D25<=VEMA!P$19,VEMA!Q$19<=C25),\"dobre\",\"zle\"))))","v":"dobre"}]
[null,{"$f":"B25","v":"St"},null,null,{"$f":"IF(OR(U26=\"dobre\",U26=\"obed\"),IF(OR(B26=\"So\",B26=\"Ne\"),\"\",IF(OR(D26<=VEMA!P$19,C26>=VEMA!Q$19),(D26-C26)*24,(D26-C26)*24-VEMA!R$19)),\"<< zlý čas\")","v":0},null,null,null,null,0,0,null,null,"4.1.15. Hodnotiteľ NOPS",0.13689999999999999,"Nitra","4.1.2. ČES: Plnenie úloh na základe pokynov Hlavného odborného riešiteľa 1.1.",null,null,null,{"$f":"IF(OR(B26=\"So\",B26=\"Ne\"),\"dobre\",IF(C26>D26,\"zle\",IF(AND(C26<=VEMA!P$19,VEMA!Q$19<=D26),\"obed\",IF(OR(D26<=VEMA!P$19,VEMA!Q$19<=C26),\"dobre\",\"zle\"))))","v":"dobre"}]
[{"$f":"IF(A24=\"\",\"\",IF(A24+1<=$D$146,A24+1,\"\"))","v":3},{"$f":"IF(A27=\"\",\"\",IF(B24=\"Po\",\"Ut\",IF(B24=\"Ut\",\"St\",IF(B24=\"St\",\"Št\",IF(B24=\"Št\",\"Pi\",IF(B24=\"Pi\",\"So\",IF(B24=\"So\",\"Ne\",IF(B24=\"Ne\",\"Po\",\"\"))))))))","v":"Št"},null,null,{"$f":"IF(OR(U27=\"dobre\",U27=\"obed\"),IF(OR(B27=\"So\",B27=\"Ne\"),\"\",IF(OR(D27<=VEMA!P$20,C27>=VEMA!Q$20),(D27-C27)*24,(D27-C27)*24-VEMA!R$20)),\"<< zlý čas\")","v":0},null,null,null,null,0,0,null,null,"4.1.17. Moderátor konferencie",0.13689999999999999,"Trenčín","4.1.2. ČES: Analýza profesijných štandardov, posúdenie obsahu a formálnej štruktúry, identifikácia nedostatkov, návrh na inováciu",null,{"$f":"IF(SUM(E27:E29)=0,\"\",SUM(E27:E29))","v":""},null,{"$f":"IF(OR(B27=\"So\",B27=\"Ne\"),\"dobre\",IF(C27>D27,\"zle\",IF(AND(C27<=VEMA!P$20,VEMA!Q$20<=D27),\"obed\",IF(OR(D27<=VEMA!P$20,VEMA!Q$20<=C27),\"dobre\",\"zle\"))))","v":"dobre"}]
[null,{"$f":"B27","v":"Št"},null,null,{"$f":"IF(OR(U28=\"dobre\",U28=\"obed\"),IF(OR(B28=\"So\",B28=\"Ne\"),\"\",IF(OR(D28<=VEMA!P$20,C28>=VEMA!Q$20),(D28-C28)*24,(D28-C28)*24-VEMA!R$20)),\"<< zlý čas\")","v":0},null,null,null,null,0,0,null,null,"4.1.18. Odborný personál konfrencie",0.13689999999999999,"Trnava","4.1.2.ČES: Koordinácia činností pracovných skupín, usmerňovanie aktivít, konzultácia s členmi pracovných skupín, práca s členmi pracovných skupín, prenos informácií",null,null,null,{"$f":"IF(OR(B28=\"So\",B28=\"Ne\"),\"dobre\",IF(C28>D28,\"zle\",IF(AND(C28<=VEMA!P$20,VEMA!Q$20<=D28),\"obed\",IF(OR(D28<=VEMA!P$20,VEMA!Q$20<=C28),\"dobre\",\"zle\"))))","v":"dobre"}]
[null,{"$f":"B28","v":"Št"},null,null,{"$f":"IF(OR(U29=\"dobre\",U29=\"obed\"),IF(OR(B29=\"So\",B29=\"Ne\"),\"\",IF(OR(D29<=VEMA!P$20,C29>=VEMA!Q$20),(D29-C29)*24,(D29-C29)*24-VEMA!R$20)),\"<< zlý čas\")","v":0},null,null,null,null,0,0,null,null,"4.1.20. Lektor učiteľských fór",0.13689999999999999,"Žilina","4.1.4. ČPS: Analýza profesijného štandardu, identifikácia nedostatkov ",null,null,null,{"$f":"IF(OR(B29=\"So\",B29=\"Ne\"),\"dobre\",IF(C29>D29,\"zle\",IF(AND(C29<=VEMA!P$20,VEMA!Q$20<=D29),\"obed\",IF(OR(D29<=VEMA!P$20,VEMA!Q$20<=C29),\"dobre\",\"zle\"))))","v":"dobre"}]
[{"$f":"IF(A27=\"\",\"\",IF(A27+1<=$D$146,A27+1,\"\"))","v":4},{"$f":"IF(A30=\"\",\"\",IF(B27=\"Po\",\"Ut\",IF(B27=\"Ut\",\"St\",IF(B27=\"St\",\"Št\",IF(B27=\"Št\",\"Pi\",IF(B27=\"Pi\",\"So\",IF(B27=\"So\",\"Ne\",IF(B27=\"Ne\",\"Po\",\"\"))))))))","v":"Pi"},null,null,{"$f":"IF(OR(U30=\"dobre\",U30=\"obed\"),IF(OR(B30=\"So\",B30=\"Ne\"),\"\",IF(OR(D30<=VEMA!P$21,C30>=VEMA!Q$21),(D30-C30)*24,(D30-C30)*24-VEMA!R$21)),\"<< zlý čas\")","v":0},null,null,null,null,0,0,null,null,"4.1.22. Moderátor učiteľských fór",0.13689999999999999,"home office ","4.1.4. ČPS: Predloženie návrhu na inováciu resp. tvorbu profesijného štandardu.",null,{"$f":"IF(SUM(E30:E32)=0,\"\",SUM(E30:E32))","v":""},null,{"$f":"IF(OR(B30=\"So\",B30=\"Ne\"),\"dobre\",IF(C30>D30,\"zle\",IF(AND(C30<=VEMA!P$21,VEMA!Q$21<=D30),\"obed\",IF(OR(D30<=VEMA!P$21,VEMA!Q$21<=C30),\"dobre\",\"zle\"))))","v":"dobre"}]
[null,{"$f":"B30","v":"Pi"},null,null,{"$f":"IF(OR(U31=\"dobre\",U31=\"obed\"),IF(OR(B31=\"So\",B31=\"Ne\"),\"\",IF(OR(D31<=VEMA!P$21,C31>=VEMA!Q$21),(D31-C31)*24,(D31-C31)*24-VEMA!R$21)),\"<< zlý čas\")","v":0},null,null,null,null,0,0,null,null,"4.1.23. Analytik",0.13689999999999999,"home office (miesto trvalého bydliska)","4.1.4. ČPS: Priebežné spracovávanie profesijného štandardu.",null,null,null,{"$f":"IF(OR(B31=\"So\",B31=\"Ne\"),\"dobre\",IF(C31>D31,\"zle\",IF(AND(C31<=VEMA!P$21,VEMA!Q$21<=D31),\"obed\",IF(OR(D31<=VEMA!P$21,VEMA!Q$21<=C31),\"dobre\",\"zle\"))))","v":"dobre"}]
[null,{"$f":"B31","v":"Pi"},null,null,{"$f":"IF(OR(U32=\"dobre\",U32=\"obed\"),IF(OR(B32=\"So\",B32=\"Ne\"),\"\",IF(OR(D32<=VEMA!P$21,C32>=VEMA!Q$21),(D32-C32)*24,(D32-C32)*24-VEMA!R$21)),\"<< zlý čas\")","v":0},null,null,null,null,0,0,null,null,"4.1. 25. Tvorca PV a UZ",0.13689999999999999,null,"4.1.4. ČPS: Finálne spracovanie a odovzdanie profesijného štandardu.",null,null,null,{"$f":"IF(OR(B32=\"So\",B32=\"Ne\"),\"dobre\",IF(C32>D32,\"zle\",IF(AND(C32<=VEMA!P$21,VEMA!Q$21<=D32),\"obed\",IF(OR(D32<=VEMA!P$21,VEMA!Q$21<=C32),\"dobre\",\"zle\"))))","v":"dobre"}]
[{"$f":"IF(A30=\"\",\"\",IF(A30+1<=$D$146,A30+1,\"\"))","v":5},{"$f":"IF(A33=\"\",\"\",IF(B30=\"Po\",\"Ut\",IF(B30=\"Ut\",\"St\",IF(B30=\"St\",\"Št\",IF(B30=\"Št\",\"Pi\",IF(B30=\"Pi\",\"So\",IF(B30=\"So\",\"Ne\",IF(B30=\"Ne\",\"Po\",\"\"))))))))","v":"So"},null,null,{"$f":"IF(OR(U33=\"dobre\",U33=\"obed\"),IF(OR(B33=\"So\",B33=\"Ne\"),\"\",IF(OR(D33<=VEMA!P$22,C33>=VEMA!Q$22),(D33-C33)*24,(D33-C33)*24-VEMA!R$22)),\"<< zlý čas\")","v":""},null,null,null,null,"","",null,null,"4.1.28. Odborný garant PV - inovačné programy (podľa zákona č. 138/2019 Z.z.)",0.13689999999999999,null,"4.1.4. ČPS: Plnenie úloh na základe pokynov Hlavného odborného riešiteľa 1.1.",null,{"$f":"IF(SUM(E33:E35)=0,\"\",SUM(E33:E35))","v":""},null,{"$f":"IF(OR(B33=\"So\",B33=\"Ne\"),\"dobre\",IF(C33>D33,\"zle\",IF(AND(C33<=VEMA!P$22,VEMA!Q$22<=D33),\"obed\",IF(OR(D33<=VEMA!P$22,VEMA!Q$22<=C33),\"dobre\",\"zle\"))))","v":"dobre"}]
[null,{"$f":"B33","v":"So"},null,null,{"$f":"IF(OR(U34=\"dobre\",U34=\"obed\"),IF(OR(B34=\"So\",B34=\"Ne\"),\"\",IF(OR(D34<=VEMA!P$22,C34>=VEMA!Q$22),(D34-C34)*24,(D34-C34)*24-VEMA!R$22)),\"<< zlý čas\")","v":""},null,null,null,null,"","",null,null,"4.1.29. Vedúci vzdelávacej skupiny",0.13689999999999999,null,"4.1.4. ČPS: Účasť na zasadnutí/porade pracovnej skupiny.",null,null,null,{"$f":"IF(OR(B34=\"So\",B34=\"Ne\"),\"dobre\",IF(C34>D34,\"zle\",IF(AND(C34<=VEMA!P$22,VEMA!Q$22<=D34),\"obed\",IF(OR(D34<=VEMA!P$22,VEMA!Q$22<=C34),\"dobre\",\"zle\"))))","v":"dobre"}]
[null,{"$f":"B34","v":"So"},null,null,{"$f":"IF(OR(U35=\"dobre\",U35=\"obed\"),IF(OR(B35=\"So\",B35=\"Ne\"),\"\",IF(OR(D35<=VEMA!P$22,C35>=VEMA!Q$22),(D35-C35)*24,(D35-C35)*24-VEMA!R$22)),\"<< zlý čas\")","v":""},null,null,null,null,"","",null,null,"4.1.30. Lektor PV",0.13689999999999999,null,"4.1.4. ČPS: Zapracovanie pripomienok hodnotiteľa profesijného štandardu, úprava profesijného štandardu na základe hodnotiaceho posudku.",null,null,null,{"$f":"IF(OR(B35=\"So\",B35=\"Ne\"),\"dobre\",IF(C35>D35,\"zle\",IF(AND(C35<=VEMA!P$22,VEMA!Q$22<=D35),\"obed\",IF(OR(D35<=VEMA!P$22,VEMA!Q$22<=C35),\"dobre\",\"zle\"))))","v":"dobre"}]
[{"$f":"IF(A33=\"\",\"\",IF(A33+1<=$D$146,A33+1,\"\"))","v":6},{"$f":"IF(A36=\"\",\"\",IF(B33=\"Po\",\"Ut\",IF(B33=\"Ut\",\"St\",IF(B33=\"St\",\"Št\",IF(B33=\"Št\",\"Pi\",IF(B33=\"Pi\",\"So\",IF(B33=\"So\",\"Ne\",IF(B33=\"Ne\",\"Po\",\"\"))))))))","v":"Ne"},null,null,{"$f":"IF(OR(U36=\"dobre\",U36=\"obed\"),IF(OR(B36=\"So\",B36=\"Ne\"),\"\",IF(OR(D36<=VEMA!P$23,C36>=VEMA!Q$23),(D36-C36)*24,(D36-C36)*24-VEMA!R$23)),\"<< zlý čas\")","v":""},null,null,null,null,"","",null,null,"4.1.32. Poradcovia v školách ",0.13689999999999999,null,"4.1.8. ROR 1.2: Koordinovanie odborných aktivít realizovaných v národnom projekte.",null,{"$f":"IF(SUM(E36:E38)=0,\"\",SUM(E36:E38))","v":""},null,{"$f":"IF(OR(B36=\"So\",B36=\"Ne\"),\"dobre\",IF(C36>D36,\"zle\",IF(AND(C36<=VEMA!P$23,VEMA!Q$23<=D36),\"obed\",IF(OR(D36<=VEMA!P$23,VEMA!Q$23<=C36),\"dobre\",\"zle\"))))","v":"dobre"}]
[null,{"$f":"B36","v":"Ne"},null,null,{"$f":"IF(OR(U37=\"dobre\",U37=\"obed\"),IF(OR(B37=\"So\",B37=\"Ne\"),\"\",IF(OR(D37<=VEMA!P$23,C37>=VEMA!Q$23),(D37-C37)*24,(D37-C37)*24-VEMA!R$23)),\"<< zlý čas\")","v":""},null,null,null,null,"","",null,null,"4.1.33. Poradcovia v školách ",0.13689999999999999,null,"4.1.8. ROR 1.2: Kontrola plnenia čiastkových  úloh na jednotlivých činnostiach/aktivitách.",null,null,null,{"$f":"IF(OR(B37=\"So\",B37=\"Ne\"),\"dobre\",IF(C37>D37,\"zle\",IF(AND(C37<=VEMA!P$23,VEMA!Q$23<=D37),\"obed\",IF(OR(D37<=VEMA!P$23,VEMA!Q$23<=C37),\"dobre\",\"zle\"))))","v":"dobre"}]
[null,{"$f":"B37","v":"Ne"},null,null,{"$f":"IF(OR(U38=\"dobre\",U38=\"obed\"),IF(OR(B38=\"So\",B38=\"Ne\"),\"\",IF(OR(D38<=VEMA!P$23,C38>=VEMA!Q$23),(D38-C38)*24,(D38-C38)*24-VEMA!R$23)),\"<< zlý čas\")","v":""},null,null,null,null,"","",null,null,null,null,null,"4.1.8. ROR 1.2: Účasť na zasadnutí/porade s hlavným odborným riešiteľom podaktivity.",null,null,null,{"$f":"IF(OR(B38=\"So\",B38=\"Ne\"),\"dobre\",IF(C38>D38,\"zle\",IF(AND(C38<=VEMA!P$23,VEMA!Q$23<=D38),\"obed\",IF(OR(D38<=VEMA!P$23,VEMA!Q$23<=C38),\"dobre\",\"zle\"))))","v":"dobre"}]
[{"$f":"IF(A36=\"\",\"\",IF(A36+1<=$D$146,A36+1,\"\"))","v":7},{"$f":"IF(A39=\"\",\"\",IF(B36=\"Po\",\"Ut\",IF(B36=\"Ut\",\"St\",IF(B36=\"St\",\"Št\",IF(B36=\"Št\",\"Pi\",IF(B36=\"Pi\",\"So\",IF(B36=\"So\",\"Ne\",IF(B36=\"Ne\",\"Po\",\"\"))))))))","v":"Po"},null,null,{"$f":"IF(OR(U39=\"dobre\",U39=\"obed\"),IF(OR(B39=\"So\",B39=\"Ne\"),\"\",IF(OR(D39<=VEMA!P$24,C39>=VEMA!Q$24),(D39-C39)*24,(D39-C39)*24-VEMA!R$24)),\"<< zlý čas\")","v":0},null,null,null,null,0,0,null,null,null,null,null,"4.1.8. ROR 1.2: Účasť na porade k národnému projektu ",null,{"$f":"IF(SUM(E39:E41)=0,\"\",SUM(E39:E41))","v":""},null,{"$f":"IF(OR(B39=\"So\",B39=\"Ne\"),\"dobre\",IF(C39>D39,\"zle\",IF(AND(C39<=VEMA!P$24,VEMA!Q$24<=D39),\"obed\",IF(OR(D39<=VEMA!P$24,VEMA!Q$24<=C39),\"dobre\",\"zle\"))))","v":"dobre"}]
[null,{"$f":"B39","v":"Po"},null,null,{"$f":"IF(OR(U40=\"dobre\",U40=\"obed\"),IF(OR(B40=\"So\",B40=\"Ne\"),\"\",IF(OR(D40<=VEMA!P$24,C40>=VEMA!Q$24),(D40-C40)*24,(D40-C40)*24-VEMA!R$24)),\"<< zlý čas\")","v":0},null,null,null,null,0,0,null,null,null,null,null,"4.1.8. ROR 1.2: Koordinovanie odborných aktivít a priebežná kontrola plnenia úloh realizovaných v národnom projekte.",null,null,null,{"$f":"IF(OR(B40=\"So\",B40=\"Ne\"),\"dobre\",IF(C40>D40,\"zle\",IF(AND(C40<=VEMA!P$24,VEMA!Q$24<=D40),\"obed\",IF(OR(D40<=VEMA!P$24,VEMA!Q$24<=C40),\"dobre\",\"zle\"))))","v":"dobre"}]
[null,{"$f":"B40","v":"Po"},null,null,{"$f":"IF(OR(U41=\"dobre\",U41=\"obed\"),IF(OR(B41=\"So\",B41=\"Ne\"),\"\",IF(OR(D41<=VEMA!P$24,C41>=VEMA!Q$24),(D41-C41)*24,(D41-C41)*24-VEMA!R$24)),\"<< zlý čas\")","v":0},null,null,null,null,0,0,null,null,null,null,null,"4.1.9. OPP:  Výkon odbornej činnosti podľa pokynov hlavného odborného riešiteľa podaktivity1.2.",null,null,null,{"$f":"IF(OR(B41=\"So\",B41=\"Ne\"),\"dobre\",IF(C41>D41,\"zle\",IF(AND(C41<=VEMA!P$24,VEMA!Q$24<=D41),\"obed\",IF(OR(D41<=VEMA!P$24,VEMA!Q$24<=C41),\"dobre\",\"zle\"))))","v":"dobre"}]
[{"$f":"IF(A39=\"\",\"\",IF(A39+1<=$D$146,A39+1,\"\"))","v":8},{"$f":"IF(A42=\"\",\"\",IF(B39=\"Po\",\"Ut\",IF(B39=\"Ut\",\"St\",IF(B39=\"St\",\"Št\",IF(B39=\"Št\",\"Pi\",IF(B39=\"Pi\",\"So\",IF(B39=\"So\",\"Ne\",IF(B39=\"Ne\",\"Po\",\"\"))))))))","v":"Ut"},null,null,{"$f":"IF(OR(U42=\"dobre\",U42=\"obed\"),IF(OR(B42=\"So\",B42=\"Ne\"),\"\",IF(OR(D42<=VEMA!P$25,C42>=VEMA!Q$25),(D42-C42)*24,(D42-C42)*24-VEMA!R$25)),\"<< zlý čas\")","v":0},null,null,null,null,0,0,null,null,null,null,null,"4.1.9. OPP: Výkon odbornej činnosti podľa pokynov regionálneho odborného riešiteľa podaktivity 1.2.",null,{"$f":"IF(SUM(E42:E44)=0,\"\",SUM(E42:E44))","v":""},null,{"$f":"IF(OR(B42=\"So\",B42=\"Ne\"),\"dobre\",IF(C42>D42,\"zle\",IF(AND(C42<=VEMA!P$25,VEMA!Q$25<=D42),\"obed\",IF(OR(D42<=VEMA!P$25,VEMA!Q$25<=C42),\"dobre\",\"zle\"))))","v":"dobre"}]
[null,{"$f":"B42","v":"Ut"},null,null,{"$f":"IF(OR(U43=\"dobre\",U43=\"obed\"),IF(OR(B43=\"So\",B43=\"Ne\"),\"\",IF(OR(D43<=VEMA!P$25,C43>=VEMA!Q$25),(D43-C43)*24,(D43-C43)*24-VEMA!R$25)),\"<< zlý čas\")","v":0},null,null,null,null,0,0,null,null,null,null,null,"4.1.9. OPP: Účasť na zasadnutí/porade s hlavným odborným riešiteľom podaktivity.",null,null,null,{"$f":"IF(OR(B43=\"So\",B43=\"Ne\"),\"dobre\",IF(C43>D43,\"zle\",IF(AND(C43<=VEMA!P$25,VEMA!Q$25<=D43),\"obed\",IF(OR(D43<=VEMA!P$25,VEMA!Q$25<=C43),\"dobre\",\"zle\"))))","v":"dobre"}]
[null,{"$f":"B43","v":"Ut"},null,null,{"$f":"IF(OR(U44=\"dobre\",U44=\"obed\"),IF(OR(B44=\"So\",B44=\"Ne\"),\"\",IF(OR(D44<=VEMA!P$25,C44>=VEMA!Q$25),(D44-C44)*24,(D44-C44)*24-VEMA!R$25)),\"<< zlý čas\")","v":0},null,null,null,null,0,0,null,null,null,null,null,"4.1.9. OPP: Účasť na zasadnutí/porade v MPC k implementácii národného projektu.",null,null,null,{"$f":"IF(OR(B44=\"So\",B44=\"Ne\"),\"dobre\",IF(C44>D44,\"zle\",IF(AND(C44<=VEMA!P$25,VEMA!Q$25<=D44),\"obed\",IF(OR(D44<=VEMA!P$25,VEMA!Q$25<=C44),\"dobre\",\"zle\"))))","v":"dobre"}]
[{"$f":"IF(A42=\"\",\"\",IF(A42+1<=$D$146,A42+1,\"\"))","v":9},{"$f":"IF(A45=\"\",\"\",IF(B42=\"Po\",\"Ut\",IF(B42=\"Ut\",\"St\",IF(B42=\"St\",\"Št\",IF(B42=\"Št\",\"Pi\",IF(B42=\"Pi\",\"So\",IF(B42=\"So\",\"Ne\",IF(B42=\"Ne\",\"Po\",\"\"))))))))","v":"St"},null,null,{"$f":"IF(OR(U45=\"dobre\",U45=\"obed\"),IF(OR(B45=\"So\",B45=\"Ne\"),\"\",IF(OR(D45<=VEMA!P$26,C45>=VEMA!Q$26),(D45-C45)*24,(D45-C45)*24-VEMA!R$26)),\"<< zlý čas\")","v":0},null,null,null,null,0,0,null,null,null,null,null,"4.1.9. OPP: Výkon odbornej činnosti (podpora pri plánovaní a realizácií NOPS, vzdelávacích aktivít, konferencií, poradenstva, UF).",null,{"$f":"IF(SUM(E45:E47)=0,\"\",SUM(E45:E47))","v":""},null,{"$f":"IF(OR(B45=\"So\",B45=\"Ne\"),\"dobre\",IF(C45>D45,\"zle\",IF(AND(C45<=VEMA!P$26,VEMA!Q$26<=D45),\"obed\",IF(OR(D45<=VEMA!P$26,VEMA!Q$26<=C45),\"dobre\",\"zle\"))))","v":"dobre"}]
[null,{"$f":"B45","v":"St"},null,null,{"$f":"IF(OR(U46=\"dobre\",U46=\"obed\"),IF(OR(B46=\"So\",B46=\"Ne\"),\"\",IF(OR(D46<=VEMA!P$26,C46>=VEMA!Q$26),(D46-C46)*24,(D46-C46)*24-VEMA!R$26)),\"<< zlý čas\")","v":0},null,null,null,null,0,0,null,null,null,null,null,"4.1.12. OK NOPS: Odborné konzultácie pri prihlasovaní a v procese  spracovania NOPS.",null,null,null,{"$f":"IF(OR(B46=\"So\",B46=\"Ne\"),\"dobre\",IF(C46>D46,\"zle\",IF(AND(C46<=VEMA!P$26,VEMA!Q$26<=D46),\"obed\",IF(OR(D46<=VEMA!P$26,VEMA!Q$26<=C46),\"dobre\",\"zle\"))))","v":"dobre"}]
[null,{"$f":"B46","v":"St"},null,null,{"$f":"IF(OR(U47=\"dobre\",U47=\"obed\"),IF(OR(B47=\"So\",B47=\"Ne\"),\"\",IF(OR(D47<=VEMA!P$26,C47>=VEMA!Q$26),(D47-C47)*24,(D47-C47)*24-VEMA!R$26)),\"<< zlý čas\")","v":0},null,null,null,null,0,0,null,null,null,null,null,"4.1.12. OK NOPS: Priebežné pripomienkovanie materiálu  pri procese  spracovania NOPS.",null,null,null,{"$f":"IF(OR(B47=\"So\",B47=\"Ne\"),\"dobre\",IF(C47>D47,\"zle\",IF(AND(C47<=VEMA!P$26,VEMA!Q$26<=D47),\"obed\",IF(OR(D47<=VEMA!P$26,VEMA!Q$26<=C47),\"dobre\",\"zle\"))))","v":"dobre"}]
[{"$f":"IF(A45=\"\",\"\",IF(A45+1<=$D$146,A45+1,\"\"))","v":10},{"$f":"IF(A48=\"\",\"\",IF(B45=\"Po\",\"Ut\",IF(B45=\"Ut\",\"St\",IF(B45=\"St\",\"Št\",IF(B45=\"Št\",\"Pi\",IF(B45=\"Pi\",\"So\",IF(B45=\"So\",\"Ne\",IF(B45=\"Ne\",\"Po\",\"\"))))))))","v":"Št"},null,null,{"$f":"IF(OR(U48=\"dobre\",U48=\"obed\"),IF(OR(B48=\"So\",B48=\"Ne\"),\"\",IF(OR(D48<=VEMA!P$27,C48>=VEMA!Q$27),(D48-C48)*24,(D48-C48)*24-VEMA!R$27)),\"<< zlý čas\")","v":0},null,null,null,null,0,0,null,null,null,null,null,"4.1.12. OK NOPS: Poskytovanie súčinnosti garantovi NOPS pri tvorbe smernice, vyhlasovaní výzvy na spracovanie NOPS, vyhodnotení doručených prihlášok a podkladov k uzatváraniu zmluvných vzťahov s vybranými spracovateľmi NOPS.",null,{"$f":"IF(SUM(E48:E50)=0,\"\",SUM(E48:E50))","v":""},null,{"$f":"IF(OR(B48=\"So\",B48=\"Ne\"),\"dobre\",IF(C48>D48,\"zle\",IF(AND(C48<=VEMA!P$27,VEMA!Q$27<=D48),\"obed\",IF(OR(D48<=VEMA!P$27,VEMA!Q$27<=C48),\"dobre\",\"zle\"))))","v":"dobre"}]
[null,{"$f":"B48","v":"Št"},null,null,{"$f":"IF(OR(U49=\"dobre\",U49=\"obed\"),IF(OR(B49=\"So\",B49=\"Ne\"),\"\",IF(OR(D49<=VEMA!P$27,C49>=VEMA!Q$27),(D49-C49)*24,(D49-C49)*24-VEMA!R$27)),\"<< zlý čas\")","v":0},null,null,null,null,0,0,null,null,null,null,null,"4.1.12. OK NOPS: Preberanie odovzdaných NOPS, predkladanie návrhu interných hodnotiteľov.",null,null,null,{"$f":"IF(OR(B49=\"So\",B49=\"Ne\"),\"dobre\",IF(C49>D49,\"zle\",IF(AND(C49<=VEMA!P$27,VEMA!Q$27<=D49),\"obed\",IF(OR(D49<=VEMA!P$27,VEMA!Q$27<=C49),\"dobre\",\"zle\"))))","v":"dobre"}]
[null,{"$f":"B49","v":"Št"},null,null,{"$f":"IF(OR(U50=\"dobre\",U50=\"obed\"),IF(OR(B50=\"So\",B50=\"Ne\"),\"\",IF(OR(D50<=VEMA!P$27,C50>=VEMA!Q$27),(D50-C50)*24,(D50-C50)*24-VEMA!R$27)),\"<< zlý čas\")","v":0},null,null,null,null,0,0,null,null,null,null,null,"4.1.12. OK NOPS: Odborné konzultácie/podpora  pri procese  spracovania  a finalizácii NOPS.",null,null,null,{"$f":"IF(OR(B50=\"So\",B50=\"Ne\"),\"dobre\",IF(C50>D50,\"zle\",IF(AND(C50<=VEMA!P$27,VEMA!Q$27<=D50),\"obed\",IF(OR(D50<=VEMA!P$27,VEMA!Q$27<=C50),\"dobre\",\"zle\"))))","v":"dobre"}]
[{"$f":"IF(A48=\"\",\"\",IF(A48+1<=$D$146,A48+1,\"\"))","v":11},{"$f":"IF(A51=\"\",\"\",IF(B48=\"Po\",\"Ut\",IF(B48=\"Ut\",\"St\",IF(B48=\"St\",\"Št\",IF(B48=\"Št\",\"Pi\",IF(B48=\"Pi\",\"So\",IF(B48=\"So\",\"Ne\",IF(B48=\"Ne\",\"Po\",\"\"))))))))","v":"Pi"},null,null,{"$f":"IF(OR(U51=\"dobre\",U51=\"obed\"),IF(OR(B51=\"So\",B51=\"Ne\"),\"\",IF(OR(D51<=VEMA!P$28,C51>=VEMA!Q$28),(D51-C51)*24,(D51-C51)*24-VEMA!R$28)),\"<< zlý čas\")","v":0},null,null,null,null,0,0,null,null,null,null,null,"4.1.15. H NOPS: Spracovanie hodnotenia dokumentu NOPS podľa schválenej prihlášky, v danej štruktúre a určenej šablóne dokumentu.",null,{"$f":"IF(SUM(E51:E53)=0,\"\",SUM(E51:E53))","v":""},null,{"$f":"IF(OR(B51=\"So\",B51=\"Ne\"),\"dobre\",IF(C51>D51,\"zle\",IF(AND(C51<=VEMA!P$28,VEMA!Q$28<=D51),\"obed\",IF(OR(D51<=VEMA!P$28,VEMA!Q$28<=C51),\"dobre\",\"zle\"))))","v":"dobre"}]
[null,{"$f":"B51","v":"Pi"},null,null,{"$f":"IF(OR(U52=\"dobre\",U52=\"obed\"),IF(OR(B52=\"So\",B52=\"Ne\"),\"\",IF(OR(D52<=VEMA!P$28,C52>=VEMA!Q$28),(D52-C52)*24,(D52-C52)*24-VEMA!R$28)),\"<< zlý čas\")","v":0},null,null,null,null,0,0,null,null,null,null,null,"4.1.15. H NOPS: Finalizácia hodnotenia dokumentu NOPS podľa schválenej prihlášky, v danej štruktúre a určenej šablóne dokumentu.",null,null,null,{"$f":"IF(OR(B52=\"So\",B52=\"Ne\"),\"dobre\",IF(C52>D52,\"zle\",IF(AND(C52<=VEMA!P$28,VEMA!Q$28<=D52),\"obed\",IF(OR(D52<=VEMA!P$28,VEMA!Q$28<=C52),\"dobre\",\"zle\"))))","v":"dobre"}]
[null,{"$f":"B52","v":"Pi"},null,null,{"$f":"IF(OR(U53=\"dobre\",U53=\"obed\"),IF(OR(B53=\"So\",B53=\"Ne\"),\"\",IF(OR(D53<=VEMA!P$28,C53>=VEMA!Q$28),(D53-C53)*24,(D53-C53)*24-VEMA!R$28)),\"<< zlý čas\")","v":0},null,null,null,null,{"$f":"IF(B53=\"\",\"\",IF(B53=\"So\",\"\",(IF(B53=\"Ne\",\"\",(ROUND(E53-K53,2))))))","v":0},{"$f":"IF(B53=\"So\",\"\",(IF(B53=\"Ne\",\"\",(IF(B53=\"\",\"\",(IF(COUNTIF(Pozicia,$F$16),ROUND(VRR*E53,2),0)))))))","v":0},null,null,null,null,null,"4.1.17. MK: Odborné zabezpečenie prípravy, programových  zložiek a priebehu konferencie. ",null,null,null,{"$f":"IF(OR(B53=\"So\",B53=\"Ne\"),\"dobre\",IF(C53>D53,\"zle\",IF(AND(C53<=VEMA!P$28,VEMA!Q$28<=D53),\"obed\",IF(OR(D53<=VEMA!P$28,VEMA!Q$28<=C53),\"dobre\",\"zle\"))))","v":"dobre"}]
[{"$f":"IF(A51=\"\",\"\",IF(A51+1<=$D$146,A51+1,\"\"))","v":12},{"$f":"IF(A54=\"\",\"\",IF(B51=\"Po\",\"Ut\",IF(B51=\"Ut\",\"St\",IF(B51=\"St\",\"Št\",IF(B51=\"Št\",\"Pi\",IF(B51=\"Pi\",\"So\",IF(B51=\"So\",\"Ne\",IF(B51=\"Ne\",\"Po\",\"\"))))))))","v":"So"},null,null,{"$f":"IF(OR(U54=\"dobre\",U54=\"obed\"),IF(OR(B54=\"So\",B54=\"Ne\"),\"\",IF(OR(D54<=VEMA!P$29,C54>=VEMA!Q$29),(D54-C54)*24,(D54-C54)*24-VEMA!R$29)),\"<< zlý čas\")","v":""},null,null,null,null,"","",null,null,null,null,null,"4.1.17. MK: Odborné zabezpečenie priebehu konferencie (moderovanie/vedenie). ",null,{"$f":"IF(SUM(E54:E56)=0,\"\",SUM(E54:E56))","v":""},null,{"$f":"IF(OR(B54=\"So\",B54=\"Ne\"),\"dobre\",IF(C54>D54,\"zle\",IF(AND(C54<=VEMA!P$29,VEMA!Q$29<=D54),\"obed\",IF(OR(D54<=VEMA!P$29,VEMA!Q$29<=C54),\"dobre\",\"zle\"))))","v":"dobre"}]
[null,{"$f":"B54","v":"So"},null,null,{"$f":"IF(OR(U55=\"dobre\",U55=\"obed\"),IF(OR(B55=\"So\",B55=\"Ne\"),\"\",IF(OR(D55<=VEMA!P$29,C55>=VEMA!Q$29),(D55-C55)*24,(D55-C55)*24-VEMA!R$29)),\"<< zlý čas\")","v":""},null,null,null,null,"","",null,null,null,null,null,"4.1.17. MK: Odborné vedenie sekcií (diskusných skupín) a workshopov.",null,null,null,{"$f":"IF(OR(B55=\"So\",B55=\"Ne\"),\"dobre\",IF(C55>D55,\"zle\",IF(AND(C55<=VEMA!P$29,VEMA!Q$29<=D55),\"obed\",IF(OR(D55<=VEMA!P$29,VEMA!Q$29<=C55),\"dobre\",\"zle\"))))","v":"dobre"}]
[null,{"$f":"B55","v":"So"},null,null,{"$f":"IF(OR(U56=\"dobre\",U56=\"obed\"),IF(OR(B56=\"So\",B56=\"Ne\"),\"\",IF(OR(D56<=VEMA!P$29,C56>=VEMA!Q$29),(D56-C56)*24,(D56-C56)*24-VEMA!R$29)),\"<< zlý čas\")","v":""},null,null,null,null,"","",null,null,null,null,null,"4.1.17. MK: Odborné zabezpečenie prípravy a celého priebehu konferencie.",null,null,null,{"$f":"IF(OR(B56=\"So\",B56=\"Ne\"),\"dobre\",IF(C56>D56,\"zle\",IF(AND(C56<=VEMA!P$29,VEMA!Q$29<=D56),\"obed\",IF(OR(D56<=VEMA!P$29,VEMA!Q$29<=C56),\"dobre\",\"zle\"))))","v":"dobre"}]
[{"$f":"IF(A54=\"\",\"\",IF(A54+1<=$D$146,A54+1,\"\"))","v":13},{"$f":"IF(A57=\"\",\"\",IF(B54=\"Po\",\"Ut\",IF(B54=\"Ut\",\"St\",IF(B54=\"St\",\"Št\",IF(B54=\"Št\",\"Pi\",IF(B54=\"Pi\",\"So\",IF(B54=\"So\",\"Ne\",IF(B54=\"Ne\",\"Po\",\"\"))))))))","v":"Ne"},null,null,{"$f":"IF(OR(U57=\"dobre\",U57=\"obed\"),IF(OR(B57=\"So\",B57=\"Ne\"),\"\",IF(OR(D57<=VEMA!P$30,C57>=VEMA!Q$30),(D57-C57)*24,(D57-C57)*24-VEMA!R$30)),\"<< zlý čas\")","v":""},null,null,null,null,"","",null,null,null,null,null,"4.1.18. OPK: Odborné zabezpečenie prípravy konferencie.",null,{"$f":"IF(SUM(E57:E59)=0,\"\",SUM(E57:E59))","v":""},null,{"$f":"IF(OR(B57=\"So\",B57=\"Ne\"),\"dobre\",IF(C57>D57,\"zle\",IF(AND(C57<=VEMA!P$30,VEMA!Q$30<=D57),\"obed\",IF(OR(D57<=VEMA!P$30,VEMA!Q$30<=C57),\"dobre\",\"zle\"))))","v":"dobre"}]
[null,{"$f":"B57","v":"Ne"},null,null,{"$f":"IF(OR(U58=\"dobre\",U58=\"obed\"),IF(OR(B58=\"So\",B58=\"Ne\"),\"\",IF(OR(D58<=VEMA!P$30,C58>=VEMA!Q$30),(D58-C58)*24,(D58-C58)*24-VEMA!R$30)),\"<< zlý čas\")","v":""},null,null,null,null,"","",null,null,null,null,null,"4.1.18. OPK: Organizačné zabezpečenie prípravy konferencie. ",null,null,null,{"$f":"IF(OR(B58=\"So\",B58=\"Ne\"),\"dobre\",IF(C58>D58,\"zle\",IF(AND(C58<=VEMA!P$30,VEMA!Q$30<=D58),\"obed\",IF(OR(D58<=VEMA!P$30,VEMA!Q$30<=C58),\"dobre\",\"zle\"))))","v":"dobre"}]
[null,{"$f":"B58","v":"Ne"},null,null,{"$f":"IF(OR(U59=\"dobre\",U59=\"obed\"),IF(OR(B59=\"So\",B59=\"Ne\"),\"\",IF(OR(D59<=VEMA!P$30,C59>=VEMA!Q$30),(D59-C59)*24,(D59-C59)*24-VEMA!R$30)),\"<< zlý čas\")","v":""},null,null,null,null,"","",null,null,null,null,null,"4.1.18. OPK: Odborné/organizačné zabezpečenie  priebehu konferencie.",null,null,null,{"$f":"IF(OR(B59=\"So\",B59=\"Ne\"),\"dobre\",IF(C59>D59,\"zle\",IF(AND(C59<=VEMA!P$30,VEMA!Q$30<=D59),\"obed\",IF(OR(D59<=VEMA!P$30,VEMA!Q$30<=C59),\"dobre\",\"zle\"))))","v":"dobre"}]
[{"$f":"IF(A57=\"\",\"\",IF(A57+1<=$D$146,A57+1,\"\"))","v":14},{"$f":"IF(A60=\"\",\"\",IF(B57=\"Po\",\"Ut\",IF(B57=\"Ut\",\"St\",IF(B57=\"St\",\"Št\",IF(B57=\"Št\",\"Pi\",IF(B57=\"Pi\",\"So\",IF(B57=\"So\",\"Ne\",IF(B57=\"Ne\",\"Po\",\"\"))))))))","v":"Po"},null,null,{"$f":"IF(OR(U60=\"dobre\",U60=\"obed\"),IF(OR(B60=\"So\",B60=\"Ne\"),\"\",IF(OR(D60<=VEMA!P$31,C60>=VEMA!Q$31),(D60-C60)*24,(D60-C60)*24-VEMA!R$31)),\"<< zlý čas\")","v":0},null,null,null,null,0,0,null,null,null,null,null,"4.1.18. OPK:  Spracovanie výstupov z realizovanej konferencie.",null,{"$f":"IF(SUM(E60:E62)=0,\"\",SUM(E60:E62))","v":""},null,{"$f":"IF(OR(B60=\"So\",B60=\"Ne\"),\"dobre\",IF(C60>D60,\"zle\",IF(AND(C60<=VEMA!P$31,VEMA!Q$31<=D60),\"obed\",IF(OR(D60<=VEMA!P$31,VEMA!Q$31<=C60),\"dobre\",\"zle\"))))","v":"dobre"}]
[null,{"$f":"B60","v":"Po"},null,null,{"$f":"IF(OR(U61=\"dobre\",U61=\"obed\"),IF(OR(B61=\"So\",B61=\"Ne\"),\"\",IF(OR(D61<=VEMA!P$31,C61>=VEMA!Q$31),(D61-C61)*24,(D61-C61)*24-VEMA!R$31)),\"<< zlý čas\")","v":0},null,null,null,null,0,0,null,null,null,null,null,"4.1.18. OPK:  Spracovanie diskusií z jednotlivých sekcií a  z jednotlivých workshopov.",null,null,null,{"$f":"IF(OR(B61=\"So\",B61=\"Ne\"),\"dobre\",IF(C61>D61,\"zle\",IF(AND(C61<=VEMA!P$31,VEMA!Q$31<=D61),\"obed\",IF(OR(D61<=VEMA!P$31,VEMA!Q$31<=C61),\"dobre\",\"zle\"))))","v":"dobre"}]
[null,{"$f":"B61","v":"Po"},null,null,{"$f":"IF(OR(U62=\"dobre\",U62=\"obed\"),IF(OR(B62=\"So\",B62=\"Ne\"),\"\",IF(OR(D62<=VEMA!P$31,C62>=VEMA!Q$31),(D62-C62)*24,(D62-C62)*24-VEMA!R$31)),\"<< zlý čas\")","v":0},null,null,null,null,0,0,null,null,null,null,null,"4.1.20. LUF: Výkon činnosti lektora v rámci učiteľského fóra podľa opisu a schváleného plánu práce.  ",null,null,null,{"$f":"IF(OR(B62=\"So\",B62=\"Ne\"),\"dobre\",IF(C62>D62,\"zle\",IF(AND(C62<=VEMA!P$31,VEMA!Q$31<=D62),\"obed\",IF(OR(D62<=VEMA!P$31,VEMA!Q$31<=C62),\"dobre\",\"zle\"))))","v":"dobre"}]
[{"$f":"IF(A60=\"\",\"\",IF(A60+1<=$D$146,A60+1,\"\"))","v":15},{"$f":"IF(A63=\"\",\"\",IF(B60=\"Po\",\"Ut\",IF(B60=\"Ut\",\"St\",IF(B60=\"St\",\"Št\",IF(B60=\"Št\",\"Pi\",IF(B60=\"Pi\",\"So\",IF(B60=\"So\",\"Ne\",IF(B60=\"Ne\",\"Po\",\"\"))))))))","v":"Ut"},null,null,{"$f":"IF(OR(U63=\"dobre\",U63=\"obed\"),IF(OR(B63=\"So\",B63=\"Ne\"),\"\",IF(OR(D63<=VEMA!P$32,C63>=VEMA!Q$32),(D63-C63)*24,(D63-C63)*24-VEMA!R$32)),\"<< zlý čas\")","v":0},null,null,null,null,0,0,null,null,null,null,null,"4.1.20. LUF: Príprava programu a scenára stretnutia učiteľského fóra.",null,{"$f":"IF(SUM(E63:E65)=0,\"\",SUM(E63:E65))","v":""},null,{"$f":"IF(OR(B63=\"So\",B63=\"Ne\"),\"dobre\",IF(C63>D63,\"zle\",IF(AND(C63<=VEMA!P$32,VEMA!Q$32<=D63),\"obed\",IF(OR(D63<=VEMA!P$32,VEMA!Q$32<=C63),\"dobre\",\"zle\"))))","v":"dobre"}]
[null,{"$f":"B63","v":"Ut"},null,null,{"$f":"IF(OR(U64=\"dobre\",U64=\"obed\"),IF(OR(B64=\"So\",B64=\"Ne\"),\"\",IF(OR(D64<=VEMA!P$32,C64>=VEMA!Q$32),(D64-C64)*24,(D64-C64)*24-VEMA!R$32)),\"<< zlý čas\")","v":0},null,null,null,null,0,0,null,null,null,null,null,"4.1.20 LUF: Odborné vedenie diskusie účastníkov fóra v rámci diskusných skupín, diskusných fór.",null,null,null,{"$f":"IF(OR(B64=\"So\",B64=\"Ne\"),\"dobre\",IF(C64>D64,\"zle\",IF(AND(C64<=VEMA!P$32,VEMA!Q$32<=D64),\"obed\",IF(OR(D64<=VEMA!P$32,VEMA!Q$32<=C64),\"dobre\",\"zle\"))))","v":"dobre"}]
[null,{"$f":"B64","v":"Ut"},null,null,{"$f":"IF(OR(U65=\"dobre\",U65=\"obed\"),IF(OR(B65=\"So\",B65=\"Ne\"),\"\",IF(OR(D65<=VEMA!P$32,C65>=VEMA!Q$32),(D65-C65)*24,(D65-C65)*24-VEMA!R$32)),\"<< zlý čas\")","v":0},null,null,null,null,0,0,null,null,null,null,null,"4.1.20. LUF: Príprava programu a dokumentácie, realizácia učiteľského fóra.",null,null,null,{"$f":"IF(OR(B65=\"So\",B65=\"Ne\"),\"dobre\",IF(C65>D65,\"zle\",IF(AND(C65<=VEMA!P$32,VEMA!Q$32<=D65),\"obed\",IF(OR(D65<=VEMA!P$32,VEMA!Q$32<=C65),\"dobre\",\"zle\"))))","v":"dobre"}]
[{"$f":"IF(A63=\"\",\"\",IF(A63+1<=$D$146,A63+1,\"\"))","v":16},{"$f":"IF(A66=\"\",\"\",IF(B63=\"Po\",\"Ut\",IF(B63=\"Ut\",\"St\",IF(B63=\"St\",\"Št\",IF(B63=\"Št\",\"Pi\",IF(B63=\"Pi\",\"So\",IF(B63=\"So\",\"Ne\",IF(B63=\"Ne\",\"Po\",\"\"))))))))","v":"St"},null,null,{"$f":"IF(OR(U66=\"dobre\",U66=\"obed\"),IF(OR(B66=\"So\",B66=\"Ne\"),\"\",IF(OR(D66<=VEMA!P$33,C66>=VEMA!Q$33),(D66-C66)*24,(D66-C66)*24-VEMA!R$33)),\"<< zlý čas\")","v":0},null,null,null,null,0,0,null,null,null,null,null,"4.1.22. MUF: Založenie skupiny účastníkov fóra v CIS MPC, Moodle a používaných aplikáciách.",null,{"$f":"IF(SUM(E66:E68)=0,\"\",SUM(E66:E68))","v":""},null,{"$f":"IF(OR(B66=\"So\",B66=\"Ne\"),\"dobre\",IF(C66>D66,\"zle\",IF(AND(C66<=VEMA!P$33,VEMA!Q$33<=D66),\"obed\",IF(OR(D66<=VEMA!P$33,VEMA!Q$33<=C66),\"dobre\",\"zle\"))))","v":"dobre"}]
[null,{"$f":"B66","v":"St"},null,null,{"$f":"IF(OR(U67=\"dobre\",U67=\"obed\"),IF(OR(B67=\"So\",B67=\"Ne\"),\"\",IF(OR(D67<=VEMA!P$33,C67>=VEMA!Q$33),(D67-C67)*24,(D67-C67)*24-VEMA!R$33)),\"<< zlý čas\")","v":0},null,null,null,null,0,0,null,null,null,null,null,"4.1.22. MUF: Správa skupiny účastníkov fóra v CIS MPC, Moodle a používaných aplikáciách.",null,null,null,{"$f":"IF(OR(B67=\"So\",B67=\"Ne\"),\"dobre\",IF(C67>D67,\"zle\",IF(AND(C67<=VEMA!P$33,VEMA!Q$33<=D67),\"obed\",IF(OR(D67<=VEMA!P$33,VEMA!Q$33<=C67),\"dobre\",\"zle\"))))","v":"dobre"}]
[null,{"$f":"B67","v":"St"},null,null,{"$f":"IF(OR(U68=\"dobre\",U68=\"obed\"),IF(OR(B68=\"So\",B68=\"Ne\"),\"\",IF(OR(D68<=VEMA!P$33,C68>=VEMA!Q$33),(D68-C68)*24,(D68-C68)*24-VEMA!R$33)),\"<< zlý čas\")","v":0},null,null,null,null,0,0,null,null,null,null,null,"4.1.22. MUF: Snímanie aktuálnych potrieb PZ a OZ pred založením a v priebehu činnosti fóra.",null,null,null,{"$f":"IF(OR(B68=\"So\",B68=\"Ne\"),\"dobre\",IF(C68>D68,\"zle\",IF(AND(C68<=VEMA!P$33,VEMA!Q$33<=D68),\"obed\",IF(OR(D68<=VEMA!P$33,VEMA!Q$33<=C68),\"dobre\",\"zle\"))))","v":"dobre"}]
[{"$f":"IF(A66=\"\",\"\",IF(A66+1<=$D$146,A66+1,\"\"))","v":17},{"$f":"IF(A69=\"\",\"\",IF(B66=\"Po\",\"Ut\",IF(B66=\"Ut\",\"St\",IF(B66=\"St\",\"Št\",IF(B66=\"Št\",\"Pi\",IF(B66=\"Pi\",\"So\",IF(B66=\"So\",\"Ne\",IF(B66=\"Ne\",\"Po\",\"\"))))))))","v":"Št"},null,null,{"$f":"IF(OR(U69=\"dobre\",U69=\"obed\"),IF(OR(B69=\"So\",B69=\"Ne\"),\"\",IF(OR(D69<=VEMA!P$34,C69>=VEMA!Q$34),(D69-C69)*24,(D69-C69)*24-VEMA!R$34)),\"<< zlý čas\")","v":0},null,null,null,null,0,0,null,null,null,null,null,"4.1.22. MUF: Iniciovanie, príprava a realizácia prieskumov realizovaných v rámci fóra učiteľov",null,{"$f":"IF(SUM(E69:E71)=0,\"\",SUM(E69:E71))","v":""},null,{"$f":"IF(OR(B69=\"So\",B69=\"Ne\"),\"dobre\",IF(C69>D69,\"zle\",IF(AND(C69<=VEMA!P$34,VEMA!Q$34<=D69),\"obed\",IF(OR(D69<=VEMA!P$34,VEMA!Q$34<=C69),\"dobre\",\"zle\"))))","v":"dobre"}]
[null,{"$f":"B69","v":"Št"},null,null,{"$f":"IF(OR(U70=\"dobre\",U70=\"obed\"),IF(OR(B70=\"So\",B70=\"Ne\"),\"\",IF(OR(D70<=VEMA!P$34,C70>=VEMA!Q$34),(D70-C70)*24,(D70-C70)*24-VEMA!R$34)),\"<< zlý čas\")","v":0},null,null,null,null,0,0,null,null,null,null,null,"4.1.22. MUF: Riadenie pracovnej skupiny lektorov v rámci fóra učiteľov.",null,null,null,{"$f":"IF(OR(B70=\"So\",B70=\"Ne\"),\"dobre\",IF(C70>D70,\"zle\",IF(AND(C70<=VEMA!P$34,VEMA!Q$34<=D70),\"obed\",IF(OR(D70<=VEMA!P$34,VEMA!Q$34<=C70),\"dobre\",\"zle\"))))","v":"dobre"}]
[null,{"$f":"B70","v":"Št"},null,null,{"$f":"IF(OR(U71=\"dobre\",U71=\"obed\"),IF(OR(B71=\"So\",B71=\"Ne\"),\"\",IF(OR(D71<=VEMA!P$34,C71>=VEMA!Q$34),(D71-C71)*24,(D71-C71)*24-VEMA!R$34)),\"<< zlý čas\")","v":0},null,null,null,null,0,0,null,null,null,null,null,"4.1.22. MUF: Podpora lektorov pri príprave materiálov učiteľského fóra.",null,null,null,{"$f":"IF(OR(B71=\"So\",B71=\"Ne\"),\"dobre\",IF(C71>D71,\"zle\",IF(AND(C71<=VEMA!P$34,VEMA!Q$34<=D71),\"obed\",IF(OR(D71<=VEMA!P$34,VEMA!Q$34<=C71),\"dobre\",\"zle\"))))","v":"dobre"}]
[{"$f":"IF(A69=\"\",\"\",IF(A69+1<=$D$146,A69+1,\"\"))","v":18},{"$f":"IF(A72=\"\",\"\",IF(B69=\"Po\",\"Ut\",IF(B69=\"Ut\",\"St\",IF(B69=\"St\",\"Št\",IF(B69=\"Št\",\"Pi\",IF(B69=\"Pi\",\"So\",IF(B69=\"So\",\"Ne\",IF(B69=\"Ne\",\"Po\",\"\"))))))))","v":"Pi"},null,null,{"$f":"IF(OR(U72=\"dobre\",U72=\"obed\"),IF(OR(B72=\"So\",B72=\"Ne\"),\"\",IF(OR(D72<=VEMA!P$35,C72>=VEMA!Q$35),(D72-C72)*24,(D72-C72)*24-VEMA!R$35)),\"<< zlý čas\")","v":0},null,null,null,null,0,0,null,null,null,null,null,"4.1.22. MUF: Spracovanie výstupov zo stretnutia učiteľského fóra, spracovanie prehľadov a sumárnych výstupov z činnosti fóra učiteľov.",null,{"$f":"IF(SUM(E72:E74)=0,\"\",SUM(E72:E74))","v":""},null,{"$f":"IF(OR(B72=\"So\",B72=\"Ne\"),\"dobre\",IF(C72>D72,\"zle\",IF(AND(C72<=VEMA!P$35,VEMA!Q$35<=D72),\"obed\",IF(OR(D72<=VEMA!P$35,VEMA!Q$35<=C72),\"dobre\",\"zle\"))))","v":"dobre"}]
[null,{"$f":"B72","v":"Pi"},null,null,{"$f":"IF(OR(U73=\"dobre\",U73=\"obed\"),IF(OR(B73=\"So\",B73=\"Ne\"),\"\",IF(OR(D73<=VEMA!P$35,C73>=VEMA!Q$35),(D73-C73)*24,(D73-C73)*24-VEMA!R$35)),\"<< zlý čas\")","v":0},null,null,null,null,0,0,null,null,null,null,null,"4.1.22. MUF: Moderovanie priebehu v rámci prezenčných a on-line stretnutí.",null,null,null,{"$f":"IF(OR(B73=\"So\",B73=\"Ne\"),\"dobre\",IF(C73>D73,\"zle\",IF(AND(C73<=VEMA!P$35,VEMA!Q$35<=D73),\"obed\",IF(OR(D73<=VEMA!P$35,VEMA!Q$35<=C73),\"dobre\",\"zle\"))))","v":"dobre"}]
[null,{"$f":"B73","v":"Pi"},null,null,{"$f":"IF(OR(U74=\"dobre\",U74=\"obed\"),IF(OR(B74=\"So\",B74=\"Ne\"),\"\",IF(OR(D74<=VEMA!P$35,C74>=VEMA!Q$35),(D74-C74)*24,(D74-C74)*24-VEMA!R$35)),\"<< zlý čas\")","v":0},null,null,null,null,0,0,null,null,null,null,null,"4.1.22. MUF: Moderovanie priebehu v rámci  príspevkov v diskusných (on-line) fórach v rámci používaných aplikácií.",null,null,null,{"$f":"IF(OR(B74=\"So\",B74=\"Ne\"),\"dobre\",IF(C74>D74,\"zle\",IF(AND(C74<=VEMA!P$35,VEMA!Q$35<=D74),\"obed\",IF(OR(D74<=VEMA!P$35,VEMA!Q$35<=C74),\"dobre\",\"zle\"))))","v":"dobre"}]
[{"$f":"IF(A72=\"\",\"\",IF(A72+1<=$D$146,A72+1,\"\"))","v":19},{"$f":"IF(A75=\"\",\"\",IF(B72=\"Po\",\"Ut\",IF(B72=\"Ut\",\"St\",IF(B72=\"St\",\"Št\",IF(B72=\"Št\",\"Pi\",IF(B72=\"Pi\",\"So\",IF(B72=\"So\",\"Ne\",IF(B72=\"Ne\",\"Po\",\"\"))))))))","v":"So"},null,null,{"$f":"IF(OR(U75=\"dobre\",U75=\"obed\"),IF(OR(B75=\"So\",B75=\"Ne\"),\"\",IF(OR(D75<=VEMA!P$36,C75>=VEMA!Q$36),(D75-C75)*24,(D75-C75)*24-VEMA!R$36)),\"<< zlý čas\")","v":""},null,null,null,null,"","",null,null,null,null,null,"4.1.22. MUF: Moderovanie v organizovanom virtuálnom mieste asynchrónnych online diskusií.",null,{"$f":"IF(SUM(E75:E77)=0,\"\",SUM(E75:E77))","v":""},null,{"$f":"IF(OR(B75=\"So\",B75=\"Ne\"),\"dobre\",IF(C75>D75,\"zle\",IF(AND(C75<=VEMA!P$36,VEMA!Q$36<=D75),\"obed\",IF(OR(D75<=VEMA!P$36,VEMA!Q$36<=C75),\"dobre\",\"zle\"))))","v":"dobre"}]
[null,{"$f":"B75","v":"So"},null,null,{"$f":"IF(OR(U76=\"dobre\",U76=\"obed\"),IF(OR(B76=\"So\",B76=\"Ne\"),\"\",IF(OR(D76<=VEMA!P$36,C76>=VEMA!Q$36),(D76-C76)*24,(D76-C76)*24-VEMA!R$36)),\"<< zlý čas\")","v":""},null,null,null,null,"","",null,null,null,null,null,"4.1.22. MUF: Konzultovanie tém, ktoré navrhnú účastníci fóra (vrátanej offline formy).",null,null,null,{"$f":"IF(OR(B76=\"So\",B76=\"Ne\"),\"dobre\",IF(C76>D76,\"zle\",IF(AND(C76<=VEMA!P$36,VEMA!Q$36<=D76),\"obed\",IF(OR(D76<=VEMA!P$36,VEMA!Q$36<=C76),\"dobre\",\"zle\"))))","v":"dobre"}]
[null,{"$f":"B76","v":"So"},null,null,{"$f":"IF(OR(U77=\"dobre\",U77=\"obed\"),IF(OR(B77=\"So\",B77=\"Ne\"),\"\",IF(OR(D77<=VEMA!P$36,C77>=VEMA!Q$36),(D77-C77)*24,(D77-C77)*24-VEMA!R$36)),\"<< zlý čas\")","v":""},null,null,null,null,"","",null,null,null,null,null,"4.1.22. MUF: Moderovanie učiteľského fóra.",null,null,null,{"$f":"IF(OR(B77=\"So\",B77=\"Ne\"),\"dobre\",IF(C77>D77,\"zle\",IF(AND(C77<=VEMA!P$36,VEMA!Q$36<=D77),\"obed\",IF(OR(D77<=VEMA!P$36,VEMA!Q$36<=C77),\"dobre\",\"zle\"))))","v":"dobre"}]
[{"$f":"IF(A75=\"\",\"\",IF(A75+1<=$D$146,A75+1,\"\"))","v":20},{"$f":"IF(A78=\"\",\"\",IF(B75=\"Po\",\"Ut\",IF(B75=\"Ut\",\"St\",IF(B75=\"St\",\"Št\",IF(B75=\"Št\",\"Pi\",IF(B75=\"Pi\",\"So\",IF(B75=\"So\",\"Ne\",IF(B75=\"Ne\",\"Po\",\"\"))))))))","v":"Ne"},null,null,{"$f":"IF(OR(U78=\"dobre\",U78=\"obed\"),IF(OR(B78=\"So\",B78=\"Ne\"),\"\",IF(OR(D78<=VEMA!P$37,C78>=VEMA!Q$37),(D78-C78)*24,(D78-C78)*24-VEMA!R$37)),\"<< zlý čas\")","v":""},null,null,null,null,"","",null,null,null,null,null,"4.1.23. A: Realizácia prieskumnej činnosti v projekte.",null,{"$f":"IF(SUM(E78:E80)=0,\"\",SUM(E78:E80))","v":""},null,{"$f":"IF(OR(B78=\"So\",B78=\"Ne\"),\"dobre\",IF(C78>D78,\"zle\",IF(AND(C78<=VEMA!P$37,VEMA!Q$37<=D78),\"obed\",IF(OR(D78<=VEMA!P$37,VEMA!Q$37<=C78),\"dobre\",\"zle\"))))","v":"dobre"}]
[null,{"$f":"B78","v":"Ne"},null,null,{"$f":"IF(OR(U79=\"dobre\",U79=\"obed\"),IF(OR(B79=\"So\",B79=\"Ne\"),\"\",IF(OR(D79<=VEMA!P$37,C79>=VEMA!Q$37),(D79-C79)*24,(D79-C79)*24-VEMA!R$37)),\"<< zlý čas\")","v":""},null,null,null,null,"","",null,null,null,null,null,"4.1.23. A: Návrh zámeru prieskumu, cieľov, metodiky, nástrojov zisťovania a cieľovej skupiny.",null,null,null,{"$f":"IF(OR(B79=\"So\",B79=\"Ne\"),\"dobre\",IF(C79>D79,\"zle\",IF(AND(C79<=VEMA!P$37,VEMA!Q$37<=D79),\"obed\",IF(OR(D79<=VEMA!P$37,VEMA!Q$37<=C79),\"dobre\",\"zle\"))))","v":"dobre"}]
[null,{"$f":"B79","v":"Ne"},null,null,{"$f":"IF(OR(U80=\"dobre\",U80=\"obed\"),IF(OR(B80=\"So\",B80=\"Ne\"),\"\",IF(OR(D80<=VEMA!P$37,C80>=VEMA!Q$37),(D80-C80)*24,(D80-C80)*24-VEMA!R$37)),\"<< zlý čas\")","v":""},null,null,null,null,"","",null,null,null,null,null,"4.1.23. A: Určenie postupu, termínu a miesta realizácie opytovania.",null,null,null,{"$f":"IF(OR(B80=\"So\",B80=\"Ne\"),\"dobre\",IF(C80>D80,\"zle\",IF(AND(C80<=VEMA!P$37,VEMA!Q$37<=D80),\"obed\",IF(OR(D80<=VEMA!P$37,VEMA!Q$37<=C80),\"dobre\",\"zle\"))))","v":"dobre"}]
[{"$f":"IF(A78=\"\",\"\",IF(A78+1<=$D$146,A78+1,\"\"))","v":21},{"$f":"IF(A81=\"\",\"\",IF(B78=\"Po\",\"Ut\",IF(B78=\"Ut\",\"St\",IF(B78=\"St\",\"Št\",IF(B78=\"Št\",\"Pi\",IF(B78=\"Pi\",\"So\",IF(B78=\"So\",\"Ne\",IF(B78=\"Ne\",\"Po\",\"\"))))))))","v":"Po"},null,null,{"$f":"IF(OR(U81=\"dobre\",U81=\"obed\"),IF(OR(B81=\"So\",B81=\"Ne\"),\"\",IF(OR(D81<=VEMA!P$38,C81>=VEMA!Q$38),(D81-C81)*24,(D81-C81)*24-VEMA!R$38)),\"<< zlý čas\")","v":0},null,null,null,null,0,0,null,null,null,null,null,"4.1.23. A:  Spracovanie a interpretácia zistenia z opytovania.",null,{"$f":"IF(SUM(E81:E83)=0,\"\",SUM(E81:E83))","v":""},null,{"$f":"IF(OR(B81=\"So\",B81=\"Ne\"),\"dobre\",IF(C81>D81,\"zle\",IF(AND(C81<=VEMA!P$38,VEMA!Q$38<=D81),\"obed\",IF(OR(D81<=VEMA!P$38,VEMA!Q$38<=C81),\"dobre\",\"zle\"))))","v":"dobre"}]
[null,{"$f":"B81","v":"Po"},null,null,{"$f":"IF(OR(U82=\"dobre\",U82=\"obed\"),IF(OR(B82=\"So\",B82=\"Ne\"),\"\",IF(OR(D82<=VEMA!P$38,C82>=VEMA!Q$38),(D82-C82)*24,(D82-C82)*24-VEMA!R$38)),\"<< zlý čas\")","v":0},null,null,null,null,0,0,null,null,null,null,null,"4.1.23. A: Formulovanie návrhov a odporúčaní vyplývajúcich z prieskumu pre realizáciu projektu.",null,null,null,{"$f":"IF(OR(B82=\"So\",B82=\"Ne\"),\"dobre\",IF(C82>D82,\"zle\",IF(AND(C82<=VEMA!P$38,VEMA!Q$38<=D82),\"obed\",IF(OR(D82<=VEMA!P$38,VEMA!Q$38<=C82),\"dobre\",\"zle\"))))","v":"dobre"}]
[null,{"$f":"B82","v":"Po"},null,null,{"$f":"IF(OR(U83=\"dobre\",U83=\"obed\"),IF(OR(B83=\"So\",B83=\"Ne\"),\"\",IF(OR(D83<=VEMA!P$38,C83>=VEMA!Q$38),(D83-C83)*24,(D83-C83)*24-VEMA!R$38)),\"<< zlý čas\")","v":0},null,null,null,null,0,0,null,null,null,null,null,"4.1.23. A: Realizácia prieskumnej činnosti v projekte, následne spracovanie a interpretácia zistenia z opytovania, finalizácia prieskumu.",null,null,null,{"$f":"IF(OR(B83=\"So\",B83=\"Ne\"),\"dobre\",IF(C83>D83,\"zle\",IF(AND(C83<=VEMA!P$38,VEMA!Q$38<=D83),\"obed\",IF(OR(D83<=VEMA!P$38,VEMA!Q$38<=C83),\"dobre\",\"zle\"))))","v":"dobre"}]
[{"$f":"IF(A81=\"\",\"\",IF(A81+1<=$D$146,A81+1,\"\"))","v":22},{"$f":"IF(A84=\"\",\"\",IF(B81=\"Po\",\"Ut\",IF(B81=\"Ut\",\"St\",IF(B81=\"St\",\"Št\",IF(B81=\"Št\",\"Pi\",IF(B81=\"Pi\",\"So\",IF(B81=\"So\",\"Ne\",IF(B81=\"Ne\",\"Po\",\"\"))))))))","v":"Ut"},null,null,{"$f":"IF(OR(U84=\"dobre\",U84=\"obed\"),IF(OR(B84=\"So\",B84=\"Ne\"),\"\",IF(OR(D84<=VEMA!P$39,C84>=VEMA!Q$39),(D84-C84)*24,(D84-C84)*24-VEMA!R$39)),\"<< zlý čas\")","v":0},null,null,null,null,0,0,null,null,null,null,null,"4.1.25. T PV a UZ: Návrh programu vzdelávania.",null,{"$f":"IF(SUM(E84:E86)=0,\"\",SUM(E84:E86))","v":""},null,{"$f":"IF(OR(B84=\"So\",B84=\"Ne\"),\"dobre\",IF(C84>D84,\"zle\",IF(AND(C84<=VEMA!P$39,VEMA!Q$39<=D84),\"obed\",IF(OR(D84<=VEMA!P$39,VEMA!Q$39<=C84),\"dobre\",\"zle\"))))","v":"dobre"}]
[null,{"$f":"B84","v":"Ut"},null,null,{"$f":"IF(OR(U85=\"dobre\",U85=\"obed\"),IF(OR(B85=\"So\",B85=\"Ne\"),\"\",IF(OR(D85<=VEMA!P$39,C85>=VEMA!Q$39),(D85-C85)*24,(D85-C85)*24-VEMA!R$39)),\"<< zlý čas\")","v":0},null,null,null,null,{"$f":"IF(B85=\"\",\"\",IF(B85=\"So\",\"\",(IF(B85=\"Ne\",\"\",(ROUND(E85-K85,2))))))","v":0},{"$f":"IF(B85=\"So\",\"\",(IF(B85=\"Ne\",\"\",(IF(B85=\"\",\"\",(IF(COUNTIF(Pozicia,$F$16),ROUND(VRR*E85,2),0)))))))","v":0},null,null,null,null,null,"4.1.25. T PV a UZ: Spracovanie programu vzdelávania.",null,null,null,{"$f":"IF(OR(B85=\"So\",B85=\"Ne\"),\"dobre\",IF(C85>D85,\"zle\",IF(AND(C85<=VEMA!P$39,VEMA!Q$39<=D85),\"obed\",IF(OR(D85<=VEMA!P$39,VEMA!Q$39<=C85),\"dobre\",\"zle\"))))","v":"dobre"}]
[null,{"$f":"B85","v":"Ut"},null,null,{"$f":"IF(OR(U86=\"dobre\",U86=\"obed\"),IF(OR(B86=\"So\",B86=\"Ne\"),\"\",IF(OR(D86<=VEMA!P$39,C86>=VEMA!Q$39),(D86-C86)*24,(D86-C86)*24-VEMA!R$39)),\"<< zlý čas\")","v":0},null,null,null,null,0,0,null,null,null,null,null,"4.1.25. T PV a UZ: Finálne spracovanie programu vzdelávania.",null,null,null,{"$f":"IF(OR(B86=\"So\",B86=\"Ne\"),\"dobre\",IF(C86>D86,\"zle\",IF(AND(C86<=VEMA!P$39,VEMA!Q$39<=D86),\"obed\",IF(OR(D86<=VEMA!P$39,VEMA!Q$39<=C86),\"dobre\",\"zle\"))))","v":"dobre"}]
[{"$f":"IF(A84=\"\",\"\",IF(A84+1<=$D$146,A84+1,\"\"))","v":23},{"$f":"IF(A87=\"\",\"\",IF(B84=\"Po\",\"Ut\",IF(B84=\"Ut\",\"St\",IF(B84=\"St\",\"Št\",IF(B84=\"Št\",\"Pi\",IF(B84=\"Pi\",\"So\",IF(B84=\"So\",\"Ne\",IF(B84=\"Ne\",\"Po\",\"\"))))))))","v":"St"},null,null,{"$f":"IF(OR(U87=\"dobre\",U87=\"obed\"),IF(OR(B87=\"So\",B87=\"Ne\"),\"\",IF(OR(D87<=VEMA!P$40,C87>=VEMA!Q$40),(D87-C87)*24,(D87-C87)*24-VEMA!R$40)),\"<< zlý čas\")","v":0},null,null,null,null,0,0,null,null,null,null,null,"4.1.25. T PV a UZ: Zapracovanie pripomienok do  programu vzdelávania.",null,{"$f":"IF(SUM(E87:E89)=0,\"\",SUM(E87:E89))","v":""},null,{"$f":"IF(OR(B87=\"So\",B87=\"Ne\"),\"dobre\",IF(C87>D87,\"zle\",IF(AND(C87<=VEMA!P$40,VEMA!Q$40<=D87),\"obed\",IF(OR(D87<=VEMA!P$40,VEMA!Q$40<=C87),\"dobre\",\"zle\"))))","v":"dobre"}]
[null,{"$f":"B87","v":"St"},null,null,{"$f":"IF(OR(U88=\"dobre\",U88=\"obed\"),IF(OR(B88=\"So\",B88=\"Ne\"),\"\",IF(OR(D88<=VEMA!P$40,C88>=VEMA!Q$40),(D88-C88)*24,(D88-C88)*24-VEMA!R$40)),\"<< zlý čas\")","v":0},null,null,null,null,0,0,null,null,null,null,null,"4.1.25. T PV a UZ: Návrh učebných zdrojov k programu vzdelávania.",null,null,null,{"$f":"IF(OR(B88=\"So\",B88=\"Ne\"),\"dobre\",IF(C88>D88,\"zle\",IF(AND(C88<=VEMA!P$40,VEMA!Q$40<=D88),\"obed\",IF(OR(D88<=VEMA!P$40,VEMA!Q$40<=C88),\"dobre\",\"zle\"))))","v":"dobre"}]
[null,{"$f":"B88","v":"St"},null,null,{"$f":"IF(OR(U89=\"dobre\",U89=\"obed\"),IF(OR(B89=\"So\",B89=\"Ne\"),\"\",IF(OR(D89<=VEMA!P$40,C89>=VEMA!Q$40),(D89-C89)*24,(D89-C89)*24-VEMA!R$40)),\"<< zlý čas\")","v":0},null,null,null,null,0,0,null,null,null,null,null,"4.1.25. T PV a UZ: Spracovanie  učebných zdrojov k programu vzdelávania.",null,null,null,{"$f":"IF(OR(B89=\"So\",B89=\"Ne\"),\"dobre\",IF(C89>D89,\"zle\",IF(AND(C89<=VEMA!P$40,VEMA!Q$40<=D89),\"obed\",IF(OR(D89<=VEMA!P$40,VEMA!Q$40<=C89),\"dobre\",\"zle\"))))","v":"dobre"}]
[{"$f":"IF(A87=\"\",\"\",IF(A87+1<=$D$146,A87+1,\"\"))","v":24},{"$f":"IF(A90=\"\",\"\",IF(B87=\"Po\",\"Ut\",IF(B87=\"Ut\",\"St\",IF(B87=\"St\",\"Št\",IF(B87=\"Št\",\"Pi\",IF(B87=\"Pi\",\"So\",IF(B87=\"So\",\"Ne\",IF(B87=\"Ne\",\"Po\",\"\"))))))))","v":"Št"},null,null,{"$f":"IF(OR(U90=\"dobre\",U90=\"obed\"),IF(OR(B90=\"So\",B90=\"Ne\"),\"\",IF(OR(D90<=VEMA!P$41,C90>=VEMA!Q$41),(D90-C90)*24,(D90-C90)*24-VEMA!R$41)),\"<< zlý čas\")","v":0},null,null,null,null,0,0,null,null,null,null,null,"4.1.25. T PV a UZ: Zapracovanie pripomienok do  programu vzdelávania a do učebných zdrojov.",null,{"$f":"IF(SUM(E90:E92)=0,\"\",SUM(E90:E92))","v":""},null,{"$f":"IF(OR(B90=\"So\",B90=\"Ne\"),\"dobre\",IF(C90>D90,\"zle\",IF(AND(C90<=VEMA!P$41,VEMA!Q$41<=D90),\"obed\",IF(OR(D90<=VEMA!P$41,VEMA!Q$41<=C90),\"dobre\",\"zle\"))))","v":"dobre"}]
[null,{"$f":"B90","v":"Št"},null,null,{"$f":"IF(OR(U91=\"dobre\",U91=\"obed\"),IF(OR(B91=\"So\",B91=\"Ne\"),\"\",IF(OR(D91<=VEMA!P$41,C91>=VEMA!Q$41),(D91-C91)*24,(D91-C91)*24-VEMA!R$41)),\"<< zlý čas\")","v":0},null,null,null,null,0,0,null,null,null,null,null,"4.1.25. T PV a UZ:  Návrh  a spracovanie programu vzdelávania a učebných zdrojov.",null,null,null,{"$f":"IF(OR(B91=\"So\",B91=\"Ne\"),\"dobre\",IF(C91>D91,\"zle\",IF(AND(C91<=VEMA!P$41,VEMA!Q$41<=D91),\"obed\",IF(OR(D91<=VEMA!P$41,VEMA!Q$41<=C91),\"dobre\",\"zle\"))))","v":"dobre"}]
[null,{"$f":"B91","v":"Št"},null,null,{"$f":"IF(OR(U92=\"dobre\",U92=\"obed\"),IF(OR(B92=\"So\",B92=\"Ne\"),\"\",IF(OR(D92<=VEMA!P$41,C92>=VEMA!Q$41),(D92-C92)*24,(D92-C92)*24-VEMA!R$41)),\"<< zlý čas\")","v":0},null,null,null,null,0,0,null,null,null,null,null,"4.1.25. T PV a UZ: Finalizácia vzdelávacieho programu a učebných zdrojov.",null,null,null,{"$f":"IF(OR(B92=\"So\",B92=\"Ne\"),\"dobre\",IF(C92>D92,\"zle\",IF(AND(C92<=VEMA!P$41,VEMA!Q$41<=D92),\"obed\",IF(OR(D92<=VEMA!P$41,VEMA!Q$41<=C92),\"dobre\",\"zle\"))))","v":"dobre"}]
[{"$f":"IF(A90=\"\",\"\",IF(A90+1<=$D$146,A90+1,\"\"))","v":25},{"$f":"IF(A93=\"\",\"\",IF(B90=\"Po\",\"Ut\",IF(B90=\"Ut\",\"St\",IF(B90=\"St\",\"Št\",IF(B90=\"Št\",\"Pi\",IF(B90=\"Pi\",\"So\",IF(B90=\"So\",\"Ne\",IF(B90=\"Ne\",\"Po\",\"\"))))))))","v":"Pi"},null,null,{"$f":"IF(OR(U93=\"dobre\",U93=\"obed\"),IF(OR(B93=\"So\",B93=\"Ne\"),\"\",IF(OR(D93<=VEMA!P$42,C93>=VEMA!Q$42),(D93-C93)*24,(D93-C93)*24-VEMA!R$42)),\"<< zlý čas\")","v":0},null,null,null,null,0,0,null,null,null,null,null,"4.1.25. T PV a UZ: Konzultovanie pripomienok s konzultantom obsahu PV a UZ.",null,{"$f":"IF(SUM(E93:E95)=0,\"\",SUM(E93:E95))","v":""},null,{"$f":"IF(OR(B93=\"So\",B93=\"Ne\"),\"dobre\",IF(C93>D93,\"zle\",IF(AND(C93<=VEMA!P$42,VEMA!Q$42<=D93),\"obed\",IF(OR(D93<=VEMA!P$42,VEMA!Q$42<=C93),\"dobre\",\"zle\"))))","v":"dobre"}]
[null,{"$f":"B93","v":"Pi"},null,null,{"$f":"IF(OR(U94=\"dobre\",U94=\"obed\"),IF(OR(B94=\"So\",B94=\"Ne\"),\"\",IF(OR(D94<=VEMA!P$42,C94>=VEMA!Q$42),(D94-C94)*24,(D94-C94)*24-VEMA!R$42)),\"<< zlý čas\")","v":0},null,null,null,null,0,0,null,null,null,null,null,"4.1.28. OG IV: Dohľad pri realizácii vzdelávacích aktivít v inovačných programoch vzdelávania.",null,null,null,{"$f":"IF(OR(B94=\"So\",B94=\"Ne\"),\"dobre\",IF(C94>D94,\"zle\",IF(AND(C94<=VEMA!P$42,VEMA!Q$42<=D94),\"obed\",IF(OR(D94<=VEMA!P$42,VEMA!Q$42<=C94),\"dobre\",\"zle\"))))","v":"dobre"}]
[null,{"$f":"B94","v":"Pi"},null,null,{"$f":"IF(OR(U95=\"dobre\",U95=\"obed\"),IF(OR(B95=\"So\",B95=\"Ne\"),\"\",IF(OR(D95<=VEMA!P$42,C95>=VEMA!Q$42),(D95-C95)*24,(D95-C95)*24-VEMA!R$42)),\"<< zlý čas\")","v":0},null,null,null,null,0,0,null,null,null,null,null,"4.1.28. OG IV: Príprava a vedie lektorov.",null,null,null,{"$f":"IF(OR(B95=\"So\",B95=\"Ne\"),\"dobre\",IF(C95>D95,\"zle\",IF(AND(C95<=VEMA!P$42,VEMA!Q$42<=D95),\"obed\",IF(OR(D95<=VEMA!P$42,VEMA!Q$42<=C95),\"dobre\",\"zle\"))))","v":"dobre"}]
[{"$f":"IF(A93=\"\",\"\",IF(A93+1<=$D$146,A93+1,\"\"))","v":26},{"$f":"IF(A96=\"\",\"\",IF(B93=\"Po\",\"Ut\",IF(B93=\"Ut\",\"St\",IF(B93=\"St\",\"Št\",IF(B93=\"Št\",\"Pi\",IF(B93=\"Pi\",\"So\",IF(B93=\"So\",\"Ne\",IF(B93=\"Ne\",\"Po\",\"\"))))))))","v":"So"},null,null,{"$f":"IF(OR(U96=\"dobre\",U96=\"obed\"),IF(OR(B96=\"So\",B96=\"Ne\"),\"\",IF(OR(D96<=VEMA!P$43,C96>=VEMA!Q$43),(D96-C96)*24,(D96-C96)*24-VEMA!R$43)),\"<< zlý čas\")","v":""},null,null,null,null,"","",null,null,null,null,null,"4.1.28. OG IV: Kontrola priebehu  realizácie vzdelávacích programov.",null,{"$f":"IF(SUM(E96:E98)=0,\"\",SUM(E96:E98))","v":""},null,{"$f":"IF(OR(B96=\"So\",B96=\"Ne\"),\"dobre\",IF(C96>D96,\"zle\",IF(AND(C96<=VEMA!P$43,VEMA!Q$43<=D96),\"obed\",IF(OR(D96<=VEMA!P$43,VEMA!Q$43<=C96),\"dobre\",\"zle\"))))","v":"dobre"}]
[null,{"$f":"B96","v":"So"},null,null,{"$f":"IF(OR(U97=\"dobre\",U97=\"obed\"),IF(OR(B97=\"So\",B97=\"Ne\"),\"\",IF(OR(D97<=VEMA!P$43,C97>=VEMA!Q$43),(D97-C97)*24,(D97-C97)*24-VEMA!R$43)),\"<< zlý čas\")","v":""},null,null,null,null,"","",null,null,null,null,null,"4.1.28. OG IV: Kontrola ukončenia realizácie vzdelávacích programov.",null,null,null,{"$f":"IF(OR(B97=\"So\",B97=\"Ne\"),\"dobre\",IF(C97>D97,\"zle\",IF(AND(C97<=VEMA!P$43,VEMA!Q$43<=D97),\"obed\",IF(OR(D97<=VEMA!P$43,VEMA!Q$43<=C97),\"dobre\",\"zle\"))))","v":"dobre"}]
[null,{"$f":"B97","v":"So"},null,null,{"$f":"IF(OR(U98=\"dobre\",U98=\"obed\"),IF(OR(B98=\"So\",B98=\"Ne\"),\"\",IF(OR(D98<=VEMA!P$43,C98>=VEMA!Q$43),(D98-C98)*24,(D98-C98)*24-VEMA!R$43)),\"<< zlý čas\")","v":""},null,null,null,null,"","",null,null,null,null,null,"4.1.28. OG IV: Vyhodnotenie realizácie programu vzdelávania.",null,null,null,{"$f":"IF(OR(B98=\"So\",B98=\"Ne\"),\"dobre\",IF(C98>D98,\"zle\",IF(AND(C98<=VEMA!P$43,VEMA!Q$43<=D98),\"obed\",IF(OR(D98<=VEMA!P$43,VEMA!Q$43<=C98),\"dobre\",\"zle\"))))","v":"dobre"}]
[{"$f":"IF(A96=\"\",\"\",IF(A96+1<=$D$146,A96+1,\"\"))","v":27},{"$f":"IF(A99=\"\",\"\",IF(B96=\"Po\",\"Ut\",IF(B96=\"Ut\",\"St\",IF(B96=\"St\",\"Št\",IF(B96=\"Št\",\"Pi\",IF(B96=\"Pi\",\"So\",IF(B96=\"So\",\"Ne\",IF(B96=\"Ne\",\"Po\",\"\"))))))))","v":"Ne"},null,null,{"$f":"IF(OR(U99=\"dobre\",U99=\"obed\"),IF(OR(B99=\"So\",B99=\"Ne\"),\"\",IF(OR(D99<=VEMA!P$44,C99>=VEMA!Q$44),(D99-C99)*24,(D99-C99)*24-VEMA!R$44)),\"<< zlý čas\")","v":""},null,null,null,null,"","",null,null,null,null,null,"4.1.28. OG IV: Príprava podkladov na archiváciu v zmysle interných a projektových pokynov.",null,{"$f":"IF(SUM(E99:E101)=0,\"\",SUM(E99:E101))","v":""},null,{"$f":"IF(OR(B99=\"So\",B99=\"Ne\"),\"dobre\",IF(C99>D99,\"zle\",IF(AND(C99<=VEMA!P$44,VEMA!Q$44<=D99),\"obed\",IF(OR(D99<=VEMA!P$44,VEMA!Q$44<=C99),\"dobre\",\"zle\"))))","v":"dobre"}]
[null,{"$f":"B99","v":"Ne"},null,null,{"$f":"IF(OR(U100=\"dobre\",U100=\"obed\"),IF(OR(B100=\"So\",B100=\"Ne\"),\"\",IF(OR(D100<=VEMA!P$44,C100>=VEMA!Q$44),(D100-C100)*24,(D100-C100)*24-VEMA!R$44)),\"<< zlý čas\")","v":""},null,null,null,null,"","",null,null,null,null,null,"4.1.28. OG IV: Kontrola zapracovaných pripomienok.",null,null,null,{"$f":"IF(OR(B100=\"So\",B100=\"Ne\"),\"dobre\",IF(C100>D100,\"zle\",IF(AND(C100<=VEMA!P$44,VEMA!Q$44<=D100),\"obed\",IF(OR(D100<=VEMA!P$44,VEMA!Q$44<=C100),\"dobre\",\"zle\"))))","v":"dobre"}]
[null,{"$f":"B100","v":"Ne"},null,null,{"$f":"IF(OR(U101=\"dobre\",U101=\"obed\"),IF(OR(B101=\"So\",B101=\"Ne\"),\"\",IF(OR(D101<=VEMA!P$44,C101>=VEMA!Q$44),(D101-C101)*24,(D101-C101)*24-VEMA!R$44)),\"<< zlý čas\")","v":""},null,null,null,null,"","",null,null,null,null,null,"4.1.28. OG IV: Účasť na porade k vzdelávacím programom v rámci národného projektu.",null,null,null,{"$f":"IF(OR(B101=\"So\",B101=\"Ne\"),\"dobre\",IF(C101>D101,\"zle\",IF(AND(C101<=VEMA!P$44,VEMA!Q$44<=D101),\"obed\",IF(OR(D101<=VEMA!P$44,VEMA!Q$44<=C101),\"dobre\",\"zle\"))))","v":"dobre"}]
[{"$f":"IF(A99=\"\",\"\",IF(A99+1<=$D$146,A99+1,\"\"))","v":28},{"$f":"IF(A102=\"\",\"\",IF(B99=\"Po\",\"Ut\",IF(B99=\"Ut\",\"St\",IF(B99=\"St\",\"Št\",IF(B99=\"Št\",\"Pi\",IF(B99=\"Pi\",\"So\",IF(B99=\"So\",\"Ne\",IF(B99=\"Ne\",\"Po\",\"\"))))))))","v":"Po"},null,null,{"$f":"IF(OR(U102=\"dobre\",U102=\"obed\"),IF(OR(B102=\"So\",B102=\"Ne\"),\"\",IF(OR(D102<=VEMA!P$45,C102>=VEMA!Q$45),(D102-C102)*24,(D102-C102)*24-VEMA!R$45)),\"<< zlý čas\")","v":0},null,null,null,null,0,0,null,null,null,null,null,"4.1.28. OG IV: Priebežné vyhodnocovanie výstupov z realizovaných vzdelávacích programov.",null,{"$f":"IF(SUM(E102:E104)=0,\"\",SUM(E102:E104))","v":""},null,{"$f":"IF(OR(B102=\"So\",B102=\"Ne\"),\"dobre\",IF(C102>D102,\"zle\",IF(AND(C102<=VEMA!P$45,VEMA!Q$45<=D102),\"obed\",IF(OR(D102<=VEMA!P$45,VEMA!Q$45<=C102),\"dobre\",\"zle\"))))","v":"dobre"}]
[null,{"$f":"B102","v":"Po"},null,null,{"$f":"IF(OR(U103=\"dobre\",U103=\"obed\"),IF(OR(B103=\"So\",B103=\"Ne\"),\"\",IF(OR(D103<=VEMA!P$45,C103>=VEMA!Q$45),(D103-C103)*24,(D103-C103)*24-VEMA!R$45)),\"<< zlý čas\")","v":0},null,null,null,null,0,0,null,null,null,null,null,"4.1.28. OG IV: Vyhodnotenie programu vzdelávania.",null,null,null,{"$f":"IF(OR(B103=\"So\",B103=\"Ne\"),\"dobre\",IF(C103>D103,\"zle\",IF(AND(C103<=VEMA!P$45,VEMA!Q$45<=D103),\"obed\",IF(OR(D103<=VEMA!P$45,VEMA!Q$45<=C103),\"dobre\",\"zle\"))))","v":"dobre"}]
[null,{"$f":"B103","v":"Po"},null,null,{"$f":"IF(OR(U104=\"dobre\",U104=\"obed\"),IF(OR(B104=\"So\",B104=\"Ne\"),\"\",IF(OR(D104<=VEMA!P$45,C104>=VEMA!Q$45),(D104-C104)*24,(D104-C104)*24-VEMA!R$45)),\"<< zlý čas\")","v":0},null,null,null,null,0,0,null,null,null,null,null,"4.1.28. OG IV: Účasť na porade k vzdelávacím programom v rámci národného projektu a vyhodnotenie programu vzdelávania.",null,null,null,{"$f":"IF(OR(B104=\"So\",B104=\"Ne\"),\"dobre\",IF(C104>D104,\"zle\",IF(AND(C104<=VEMA!P$45,VEMA!Q$45<=D104),\"obed\",IF(OR(D104<=VEMA!P$45,VEMA!Q$45<=C104),\"dobre\",\"zle\"))))","v":"dobre"}]
[{"$f":"IF(A102=\"\",\"\",IF(A102+1<=$D$146,A102+1,\"\"))","v":29},{"$f":"IF(A105=\"\",\"\",IF(B102=\"Po\",\"Ut\",IF(B102=\"Ut\",\"St\",IF(B102=\"St\",\"Št\",IF(B102=\"Št\",\"Pi\",IF(B102=\"Pi\",\"So\",IF(B102=\"So\",\"Ne\",IF(B102=\"Ne\",\"Po\",\"\"))))))))","v":"Ut"},null,null,{"$f":"IF(OR(U105=\"dobre\",U105=\"obed\"),IF(OR(B105=\"So\",B105=\"Ne\",B105=\"\"),\"\",IF(OR(D105<=VEMA!P$46,C105>=VEMA!Q$46),(D105-C105)*24,(D105-C105)*24-VEMA!R$46)),\"<< zlý čas\")","v":0},null,null,null,null,0,0,null,null,null,null,null,"4.1.29 VVS: Zakladanie vzdelávacej skupiny.",null,{"$f":"IF(SUM(E105:E107)=0,\"\",SUM(E105:E107))","v":""},null,{"$f":"IF(OR(B105=\"So\",B105=\"Ne\"),\"dobre\",IF(C105>D105,\"zle\",IF(AND(C105<=VEMA!P$46,VEMA!Q$46<=D105),\"obed\",IF(OR(D105<=VEMA!P$46,VEMA!Q$46<=C105),\"dobre\",\"zle\"))))","v":"dobre"}]
[null,{"$f":"B105","v":"Ut"},null,null,{"$f":"IF(OR(U106=\"dobre\",U106=\"obed\"),IF(OR(B106=\"So\",B106=\"Ne\",B106=\"\"),\"\",IF(OR(D106<=VEMA!P$46,C106>=VEMA!Q$46),(D106-C106)*24,(D106-C106)*24-VEMA!R$46)),\"<< zlý čas\")","v":0},null,null,null,null,0,0,null,null,null,null,null,"4.1.29. VVS: Správa databázy účastníkov, tvorba materiálov (pozvánky, prezenčné listiny, triednu knihu skupiny).",null,null,null,{"$f":"IF(OR(B106=\"So\",B106=\"Ne\"),\"dobre\",IF(C106>D106,\"zle\",IF(AND(C106<=VEMA!P$46,VEMA!Q$46<=D106),\"obed\",IF(OR(D106<=VEMA!P$46,VEMA!Q$46<=C106),\"dobre\",\"zle\"))))","v":"dobre"}]
[null,{"$f":"B106","v":"Ut"},null,null,{"$f":"IF(OR(U107=\"dobre\",U107=\"obed\"),IF(OR(B107=\"So\",B107=\"Ne\",B107=\"\"),\"\",IF(OR(D107<=VEMA!P$46,C107>=VEMA!Q$46),(D107-C107)*24,(D107-C107)*24-VEMA!R$46)),\"<< zlý čas\")","v":0},null,null,null,null,0,0,null,null,null,null,null,"4.1.29. VVS: Sumarizácia dištančných úloh.",null,null,null,{"$f":"IF(OR(B107=\"So\",B107=\"Ne\"),\"dobre\",IF(C107>D107,\"zle\",IF(AND(C107<=VEMA!P$46,VEMA!Q$46<=D107),\"obed\",IF(OR(D107<=VEMA!P$46,VEMA!Q$46<=C107),\"dobre\",\"zle\"))))","v":"dobre"}]
[{"$f":"IF(A105=\"\",\"\",IF(A105+1<=$D$146,A105+1,\"\"))","v":30},{"$f":"IF(A108=\"\",\"\",IF(B105=\"Po\",\"Ut\",IF(B105=\"Ut\",\"St\",IF(B105=\"St\",\"Št\",IF(B105=\"Št\",\"Pi\",IF(B105=\"Pi\",\"So\",IF(B105=\"So\",\"Ne\",IF(B105=\"Ne\",\"Po\",\"\"))))))))","v":"St"},null,null,{"$f":"IF(OR(U108=\"dobre\",U108=\"obed\"),IF(OR(B108=\"So\",B108=\"Ne\",B108=\"\"),\"\",IF(OR(D108<=VEMA!P$47,C108>=VEMA!Q$47),(D108-C108)*24,(D108-C108)*24-VEMA!R$47)),\"<< zlý čas\")","v":0},null,null,null,null,0,0,null,null,null,null,null,"4.1.29. VVS: Plánovanie a príprava harmonogramu vzdelávacích aktivít.",null,{"$f":"IF(SUM(E108:E110)=0,\"\",SUM(E108:E110))","v":""},null,{"$f":"IF(OR(B108=\"So\",B108=\"Ne\"),\"dobre\",IF(C108>D108,\"zle\",IF(AND(C108<=VEMA!P$47,VEMA!Q$47<=D108),\"obed\",IF(OR(D108<=VEMA!P$47,VEMA!Q$47<=C108),\"dobre\",\"zle\"))))","v":"dobre"}]
[null,{"$f":"B108","v":"St"},null,null,{"$f":"IF(OR(U109=\"dobre\",U109=\"obed\"),IF(OR(B109=\"So\",B109=\"Ne\",B109=\"\"),\"\",IF(OR(D109<=VEMA!P$47,C109>=VEMA!Q$47),(D109-C109)*24,(D109-C109)*24-VEMA!R$47)),\"<< zlý čas\")","v":0},null,null,null,null,0,0,null,null,null,null,null,"4.1.29. VVS: Sumarizácia dištančných úloh a záverečných prezentácii, príprava a spracovanie záverov, vrátane podkladov na spracovanie osvedčení a protokolov. ",null,null,null,{"$f":"IF(OR(B109=\"So\",B109=\"Ne\"),\"dobre\",IF(C109>D109,\"zle\",IF(AND(C109<=VEMA!P$47,VEMA!Q$47<=D109),\"obed\",IF(OR(D109<=VEMA!P$47,VEMA!Q$47<=C109),\"dobre\",\"zle\"))))","v":"dobre"}]
[null,{"$f":"B109","v":"St"},null,null,{"$f":"IF(OR(U110=\"dobre\",U110=\"obed\"),IF(OR(B110=\"So\",B110=\"Ne\",B110=\"\"),\"\",IF(OR(D110<=VEMA!P$47,C110>=VEMA!Q$47),(D110-C110)*24,(D110-C110)*24-VEMA!R$47)),\"<< zlý čas\")","v":0},null,null,null,null,0,0,null,null,null,null,null,"4.1.29. VVS: Príprava podkladov na archiváciu v zmysle interných a projektových pokynov.",null,null,null,{"$f":"IF(OR(B110=\"So\",B110=\"Ne\"),\"dobre\",IF(C110>D110,\"zle\",IF(AND(C110<=VEMA!P$47,VEMA!Q$47<=D110),\"obed\",IF(OR(D110<=VEMA!P$47,VEMA!Q$47<=C110),\"dobre\",\"zle\"))))","v":"dobre"}]
[{"$f":"IF(A108=\"\",\"\",IF(A108+1<=$D$146,A108+1,\"\"))","v":""},{"$f":"IF(A111=\"\",\"\",IF(B108=\"Po\",\"Ut\",IF(B108=\"Ut\",\"St\",IF(B108=\"St\",\"Št\",IF(B108=\"Št\",\"Pi\",IF(B108=\"Pi\",\"So\",IF(B108=\"So\",\"Ne\",IF(B108=\"Ne\",\"Po\",\"\"))))))))","v":""},null,null,{"$f":"IF(OR(U111=\"dobre\",U111=\"obed\"),IF(OR(B111=\"So\",B111=\"Ne\",B111=\"\"),\"\",IF(OR(D111<=VEMA!P$48,C111>=VEMA!Q$48),(D111-C111)*24,(D111-C111)*24-VEMA!R$48)),\"<< zlý čas\")","v":""},null,null,null,null,"",{"$f":"IF(AND(B111=\"So\"),\"\",(IF(AND(B111=\"Ne\"),\"\",(IF(AND(B111=\"\"),\"\",(SUMIF(N21:N48,F16,O21:O48))*E111)))))","v":""},null,null,null,null,null,"4.1.29. VVS: Koordinovanie vzdelávacích skupín.",null,{"$f":"IF(SUM(E111:E113)=0,\"\",SUM(E111:E113))","v":""},null,{"$f":"IF(OR(B111=\"So\",B111=\"Ne\",B111=\"\"),\"dobre\",IF(C111>D111,\"zle\",IF(AND(C111<=VEMA!P$48,VEMA!Q$48<=D111),\"obed\",IF(OR(D111<=VEMA!P$48,VEMA!Q$48<=C111),\"dobre\",\"zle\"))))","v":"dobre"}]
[null,{"$f":"B111","v":""},null,null,{"$f":"IF(OR(U112=\"dobre\",U112=\"obed\"),IF(OR(B112=\"So\",B112=\"Ne\",B112=\"\"),\"\",IF(OR(D112<=VEMA!P$48,C112>=VEMA!Q$48),(D112-C112)*24,(D112-C112)*24-VEMA!R$48)),\"<< zlý čas\")","v":""},null,null,null,null,{"$f":"IF(AND(B112=\"\"),\"\",IF(AND(B112=\"So\"),\"\",(IF(AND(B112=\"Ne\"),\"\",(ROUND(E112-K112,2))))))","v":""},{"$f":"IF(AND(B112=\"So\"),\"\",(IF(AND(B112=\"Ne\"),\"\",(IF(AND(B112=\"\"),\"\",(SUMIF(N21:N48,F16,O21:O48))*E112)))))","v":""},null,null,null,null,null,"4.1.30. L: Príprava na lektorskú činnosť.",null,null,null,{"$f":"IF(OR(B112=\"So\",B112=\"Ne\",B112=\"\"),\"dobre\",IF(C112>D112,\"zle\",IF(AND(C112<=VEMA!P$48,VEMA!Q$48<=D112),\"obed\",IF(OR(D112<=VEMA!P$48,VEMA!Q$48<=C112),\"dobre\",\"zle\"))))","v":"dobre"}]
[null,{"$f":"B112","v":""},null,null,{"$f":"IF(OR(U113=\"dobre\",U113=\"obed\"),IF(OR(B113=\"So\",B113=\"Ne\",B113=\"\"),\"\",IF(OR(D113<=VEMA!P$48,C113>=VEMA!Q$48),(D113-C113)*24,(D113-C113)*24-VEMA!R$48)),\"<< zlý čas\")","v":""},null,null,null,null,{"$f":"IF(AND(B113=\"\"),\"\",IF(AND(B113=\"So\"),\"\",(IF(AND(B113=\"Ne\"),\"\",(ROUND(E113-K113,2))))))","v":""},{"$f":"IF(AND(B113=\"So\"),\"\",(IF(AND(B113=\"Ne\"),\"\",(IF(AND(B113=\"\"),\"\",(SUMIF(N21:N48,F16,O21:O48))*E113)))))","v":""},null,null,null,null,null,"4.1.30. L: Úprava materiálov pre účastníkov vzdelávania.",null,null,null,{"$f":"IF(OR(B113=\"So\",B113=\"Ne\",B113=\"\"),\"dobre\",IF(C113>D113,\"zle\",IF(AND(C113<=VEMA!P$48,VEMA!Q$48<=D113),\"obed\",IF(OR(D113<=VEMA!P$48,VEMA!Q$48<=C113),\"dobre\",\"zle\"))))","v":"dobre"}]
["Spolu:",null,null,null,{"$f":"SUMIF(B21:B111,\"Po\",E21:E113)+SUMIF(B21:B111,\"Ut\",E21:E111)+SUMIF(B21:B111,\"St\",E21:E111)+SUMIF(B21:B111,\"Št\",E21:E111)+SUMIF(B21:B111,\"Pi\",E21:E111)","v":0},null,null,null,null,{"$f":"SUM(J21:J111)","v":0},{"$f":"SUM(K21:K111)","v":0},null,null,null,null,null,"4.1.30. L: Lektorovanie programu vzdelávania."]
["Čestné vyhlásenie:",null,null,null,null,null,null,null,null,null,null,null,null,null,null,null,"4.1.30. L: Ukončovanie  vzdelávacieho programu (člen skúšobnej komisie). "]
[null,null,"❶Ako prijímateľ vyhlasujem, že údaje uvedené v pracovnom výkaze sú pravdivé, reálne a správne a som si vedomý následkov spojených s uvedením/predložením nesprávneho, neúplného alebo falšovaného výkazu.",null,null,null,null,null,null,null,null,null,null,null,null,null,"4.1.30. L: Ukončovanie  vzdelávacieho programu (predseda skúšobnej komisie). "]
["X",null,null,null,null,null,null,null,null,null,null,null,null,"X",null,null,"4.1.30. L: Vyhodnotenie programu vzdelávania za skupinu."]
[null,null,null,null,null,null,null,null,null,null,null,null,null,null,null,null,"4.1.30. L: Príprava na lektorskú činnosť.  Úprava materiálov pre účastníkov vzdelávania."]
[null,null,"❷Svojim podpisom potvrdzujem, že v uvedenom mesiaci som mal iba jediný pracovnoprávny vzťah,  nevykonával som iné činnosti u tohto zamestnávateľa ani u iných zamestnávateľov, údaje uvedené v pracovnom výkaze sú pravdivé, reálne a správne a som si vedomý následkov spojených s uvedením/predložením nesprávneho, neúplného alebo falšovaného pracovného výkazu.",null,null,null,null,null,null,null,null,null,null,null,null,null,"4.1.30. L: Príprava na lektorskú činnosť a lektorovanie programu vzdelávania."]
[null,null,null,null,null,null,null,null,null,null,null,null,null,null,null,null,"4.1.32. P.: Realizácia individuálneho poradenstva pedagogickým zamestnancom s dôrazom na aplikáciu poznatkov zo vzdelávacích programov a aktivít v školskej praxi."]
["Dátum odovzdania: ",null,null,null,null,null,null,"Dátum prevzatia:",null,null,null,null,null,null,null,null,"4.1.32. P.: Poskytovanie spätnej väzby na pozorované edukačné procesy."]
[null,null,null,null,null,null,null,null,null,null,null,null,null,null,null,null,"4.1.32. P.: Realizácia poradenského projektu."]
["Podpis osoby***:",null,null,null,null,null,null,"Podpis štatutárneho orgánu prijímateľa:**",null,null,null,null,null,null,null,null,"4.1.32. P.: Návrh a vypracovanie odporúčaní na zvýšenie kvality výchovno-vzdelávacieho procesu."]
[null,null,null,null,null,null,null,null,null,null,null,null,null,null,null,null,"4.1.32. P.: Vyhodnotenie realizácie poradenského projektu."]
["Poznámka: Osobou sa rozumie zamestnanec v pracovnoprávnom vzťahu (pracovný pomer, dohody) ako aj osoba pracujúca na základe iných ako pracovnoprávnych vzťahov, resp. osoba pracujúca pre dodávateľa, ktorý vykonáva činnosť pre prijímateľa.                                                                                                         \n*Počet hodín je uvádzaný pre 60 minútový interval.",null,null,null,null,null,null,null,null,null,null,null,null,null,null,null,"4.1.32. P: Príprava podkladom na realizáciu poradenského projektu, realizácia poradenského projektu."]
[null,null,null,null,null,null,null,null,null,null,null,null,null,null,null,null,"4.1.32. P: Príprava poradenského projektu."]
["**V prípade splmonocnenia sa uvedia osoba splnomocnená štatutárnym orgánom na podpisovanie pracovných výkazov",null,null,null,null,null,null,null,null,null,null,null,null,null,null,null,"sviatok"]
["***V prípade dodávateľských vzťahov sa uvedie podpis osoby, ktorá vykonala činnosti a výstupy uvádzané v PV a podpis osoby, ktorá zastupuje dodávateľa. Ak osoby sú totožné uvedie sa iba jeden podpis",null,null,null,null,null,null,null,null,null,null,null,null,null,null,null,"dovolenka"]
[null,null,null,null,null,null,null,null,null,null,null,null,null,null,null,null,"iné náhrady"]
["❶",null,"osoba  pracujúca na rôzne pracovnoprávne vzťahy u jedného resp. rôznych zamestnávateľov ",null,null,null,null,null,null,null,null,null,null,null,null,null,"lekár"]
["❷",null,"osoba pracujúca 100% na projekt, ktorá mala iba jediný pracovnoprávny vzťah",null,null,null,null,null,null,null,null,null,null,null,null,null,"sprevádzanie člena rodiny"]
[null,null,null,null,null,null,null,null,null,null,null,null,null,null,null,null,"PN"]
[null,null,null,null,null,null,null,null,null,null,null,null,null,null,null,null,"OČR"]
[null,null,null,null,null,null,null,null,null,null,null,null,null,null,null,null,"neplatené voľno"]
["PRÁCA NADČAS*"]
["Mesiac ",null,null,null,null,null,null,{"$f":"F17","v":"September"}]
["Fond pracovného času v príslušnom mesiaci "]
["Celkový počet odpracovaných hodín v príslušnom mesiaci "]
["Nariadená/dododnutá práca nadčas financovaná v rámci projektu**"]
[]
["* vypĺňa sa iba v prípade, ak sa v rámci projektu v danom mesiaci financuje v projekte práca nadčas"]
["** práca nadčas je oprávnená iba vo výnimočných a odôvodnených prípadoch. musí byť vykonávaná na príkaz zamestnávateľa alebo s jeho súhlasom. Nadčas je oprávneným výdavkom iba v prípade, ak činnosti vykonávané počas práce nadčas priamo súvisia s aktivitami projektu. Pri využívaní nadčas je potrebné dodržiavať platnú legislatívu SR (najmä zákonník práce).\n"]
[]
["Začiatok mesiaca",null,null,{"$f":"VLOOKUP(F17,A163:E174,(VLOOKUP(K17,A177:B180,2,0)),0)","v":2}]
[]
["Počet dní v mesiaci",null,null,{"$f":"VLOOKUP(F17,A183:C194,(VLOOKUP(K17,A196:B199,2,0)),0)","v":30}]
[]
["Vyberte",2019,2020,2021,2022]
["Január","ut","st","pi","so"]
["Február","pi","so","po","ut"]
["Marec","pi","ne","po","ut"]
["Apríl","po","st","št","pi"]
["Máj","st","pi","so","ne"]
["Jún","so","po","ut","st"]
["Júl","po","st","št","pi"]
["August","št","so","ne","po"]
["September","ne","ut","st","št"]
["Október","ut","št","pi","so"]
["November","pi","ne","po","ut"]
["December","ne","ut","st","št"]
[]
[null,2019,2020,2021,2022]
["Január",2,3,5,6]
["Február",5,6,1,2]
["Marec",5,7,1,2]
["Apríl",1,3,4,5]
["Máj",3,5,6,7]
["Jún",6,1,2,3]
["Júl",1,3,4,5]
["August",4,6,7,1]
["September",7,2,3,4]
["Október",2,4,5,6]
["November",5,7,1,2]
["December",7,2,3,4]
[]
[]
[2019,{"$f":"COLUMN(B162)","v":2}]
[2020,{"$f":"COLUMN($C$162)","v":3}]
[2021,{"$f":"COLUMN($D$162)","v":4}]
[2022,{"$f":"COLUMN($E$162)","v":5}]
[]
[null,"ostatné",2020]
["Január",31,31]
["Február",28,29]
["Marec",31,31]
["Apríl",30,30]
["Máj",31,31]
["Jún",30,30]
["Júl",31,31]
["August",31,31]
["September",30,30]
["Október",31,31]
["November",30,30]
["December",31,31]
[]
[2019,{"$f":"COLUMN(B182)","v":2}]
[2020,{"$f":"COLUMN($C$182)","v":3}]
[2021,{"$f":"COLUMN($B$182)","v":2}]
[2022,{"$f":"COLUMN($B$182)","v":2}]

{"sheet":"PV4","index":3,"n_rows":199,"n_cols":21,"rows_kept":199,"cut":false,"hidden":false,"merged":[[140,0,140,11],[141,0,141,11],[15,5,15,10],[136,0,136,6],[136,7,136,11],[137,0,137,6],[137,7,137,11],[138,0,138,6],[138,7,138,11],[124,0,125,11],[126,0,126,11],[127,0,128,11],[134,0,134,11],[135,0,135,6],[135,7,135,11],[118,2,118,11],[120,0,120,2],[120,3,120,5],[120,9,120,11],[122,0,122,2],[122,3,122,5],[122,7,122,10],[108,5,108,8],[109,5,109,8],[110,5,110,8],[111,5,111,8],[112,5,112,8],[115,2,116,11],[102,5,102,8],[103,5,103,8],[104,5,104,8],[105,5,105,8],[106,5,106,8],[107,5,107,8],[96,5,96,8],[97,5,97,8],[98,5,98,8],[99,5,99,8],[100,5,100,8],[101,5,101,8],[90,5,90,8],[91,5,91,8],[92,5,92,8],[93,5,93,8],[94,5,94,8],[95,5,95,8],[84,5,84,8],[85,5,85,8],[86,5,86,8],[87,5,87,8],[88,5,88,8],[89,5,89,8],[78,5,78,8],[79,5,79,8],[80,5,80,8],[81,5,81,8],[82,5,82,8],[83,5,83,8],[72,5,72,8],[73,5,73,8],[74,5,74,8],[75,5,75,8],[76,5,76,8],[77,5,77,8],[66,5,66,8],[67,5,67,8],[68,5,68,8],[69,5,69,8],[70,5,70,8],[71,5,71,8],[60,5,60,8],[61,5,61,8],[62,5,62,8],[63,5,63,8],[64,5,64,8],[65,5,65,8],[54,5,54,8],[55,5,55,8],[56,5,56,8],[57,5,57,8],[58,5,58,8],[59,5,59,8],[48,5,48,8],[49,5,49,8],[50,5,50,8],[51,5,51,8],[52,5,52,8],[53,5,53,8],[42,5,42,8],[43,5,43,8],[44,5,44,8],[45,5,45,8],[46,5,46,8],[47,5,47,8],[36,5,36,8],[37,5,37,8],[38,5,38,8],[39,5,39,8],[40,5,40,8],[41,5,41,8],[30,5,30,8],[31,5,31,8],[32,5,32,8],[33,5,33,8],[34,5,34,8],[35,5,35,8],[24,5,24,8],[25,5,25,8],[26,5,26,8],[27,5,27,8],[28,5,28,8],[29,5,29,8],[18,10,19,10],[18,11,19,11],[20,5,20,8],[21,5,21,8],[22,5,22,8],[23,5,23,8],[18,0,19,0],[18,1,19,1],[18,2,18,3],[18,4,19,4],[18,5,19,8],[18,9,19,9],[14,0,14,4],[14,5,14,11],[15,0,15,4],[16,0,16,4],[16,5,16,9],[9,0,9,4],[9,5,9,11],[10,0,11,4],[10,5,11,11],[12,0,12,4],[12,5,12,11],[5,5,5,7],[5,8,5,9],[7,0,7,4],[7,5,7,11],[8,0,8,4],[8,5,8,11]]}
[]
[null,null,null,null,null,null,null,null,null,null,null,null,null,null,null,null,null,null,null,null,{"$f":"VLOOKUP(F17,PV!A149:'PV'!F160,6,0)","v":9}]
[null,null,null,null,null,null,null,null,null,null,null,null,null,null,null,null,null,null,null,null,{"$f":"IF(U17=\"\",\"\",LEFT(U17,1))","v":"M"}]
[null,null,null,null,null,null,null,null,null,null,null,null,null,null,null,null,null,null,null,null,{"$f":"IF(U17=\"\",\"\",LEFT(RIGHT(U17,LEN(U17)-FIND(\" \",U17,1)),1))","v":"P"}]
[]
[null,null,null,null,null,"PRACOVNÝ VÝKAZ č. ",null,null,{"$f":"IF(U2>9,CONCATENATE(U2,\"/\",U3,U4,\"/04\"),CONCATENATE(\"0\",U2,\"/\",U3,U4,\"/04\"))","v":"09/MP/04"},null,null,null,null,null,null,null,null,null,null,null,{"$f":"SUBSTITUTE(F15,\"Ing.\",\"\")","v":"Mgr. Meno Priezvisko, PhD."}]
[null,null,null,null,null,null,null,null,null,null,null,null,null,null,null,null,null,null,null,null,{"$f":"SUBSTITUTE(U6,\"Mgr.\",\"\")","v":" Meno Priezvisko, PhD."}]
["Operačný program:",null,null,null,null,"Ľudské zdroje",null,null,null,null,null,null,null,null,null,null,null,null,null,null,{"$f":"SUBSTITUTE(U7,\"Bc.\",\"\")","v":" Meno Priezvisko, PhD."}]
["Programové obdobie:",null,null,null,null,"2014-2020",null,null,null,null,null,null,null,null,null,null,null,null,null,null,{"$f":"SUBSTITUTE(U8,\"PaedDr.\",\"\")","v":" Meno Priezvisko, PhD."}]
["Prijímateľ:",null,null,null,null,"Metodicko-pedagogické centrum",null,null,null,null,null,null,null,null,null,null,null,null,null,null,{"$f":"SUBSTITUTE(U9,\"PhDr.\",\"\")","v":" Meno Priezvisko, PhD."}]
["Názov projektu:",null,null,null,null,"Profesijný rozvoj učiteľov (TEACHERS)",null,null,null,null,null,null,null,null,null,null,null,null,null,null,{"$f":"SUBSTITUTE(U10,\"Doc.\",\"\")","v":" Meno Priezvisko, PhD."}]
[null,null,null,null,null,null,null,null,null,null,null,null,null,null,null,null,null,null,null,null,{"$f":"SUBSTITUTE(U11,\"ThDr.\",\"\")","v":" Meno Priezvisko, PhD."}]
["Kód ITMS projektu:",null,null,null,null,"312011AUN7",null,null,null,null,null,null,null,null,null,null,null,null,null,null,{"$f":"SUBSTITUTE(U12,\"MUDr.\",\"\")","v":" Meno Priezvisko, PhD."}]
[null,null,null,null,null,null,null,null,null,null,null,null,null,null,null,null,null,null,null,null,{"$f":"SUBSTITUTE(U13,\"Dr.\",\"\")","v":" Meno Priezvisko, PhD."}]
["Meno a priezvisko osoby:",null,null,null,null,{"$f":"PV!F15","v":"Mgr. Meno Priezvisko, PhD."},null,null,null,null,null,null,null,null,null,null,null,null,null,null,{"$f":"SUBSTITUTE(U14,\"habil.\",\"\")","v":" Meno Priezvisko, PhD."}]
["Funkcia/Právny vzťah",null,null,null,null,null,null,null,null,null,null,"PP",null,null,null,null,null,null,null,null,{"$f":"SUBSTITUTE(U15,\"MUDr.\",\"\")","v":" Meno Priezvisko, PhD."}]
["Obdobie vykonávania činností:",null,null,null,null,{"$f":"PV!F17","v":"September"},null,null,null,null,{"$f":"PV!K17","v":2020},null,null,null,null,null,null,null,null,null,{"$f":"TRIM(U16)","v":"Meno Priezvisko, PhD."}]
[]
["Dátum","Deň","Čas vykonania\n prác",null,"Počet \nodpracovaných hodín*","Detailný popis činností vykonávaných na základe zmluvy o poskytnutí NFP a popis výsledkov vykonanej činnosti",null,null,null,"Počet odpracovaných hodín MRR*","Počet odpracovaných hodín VRR*","Miesto výkonávania činnosti",null,null,null,null,null,null,null,null,"Nastavenie času vzhľadom na obed"]
[null,null,"Od","Do",null,null,null,null,null,null,null,null,null,"Pozícia","VRR","Miesto","Činnosť","Pracovný pomer"]
[1,{"$f":"IF($D$144=1,\"Po\",IF($D$144=2,\"Ut\",IF($D$144=3,\"St\",IF($D$144=4,\"Št\",IF($D$144=5,\"Pi\",IF($D$144=6,\"So\",IF($D$144=7,\"Ne\",\"Nastala chyba\")))))))","v":"Ut"},null,null,{"$f":"IF(OR(U21=\"dobre\",U21=\"obed\"),IF(OR(B21=\"So\",B21=\"Ne\"),\"\",IF(OR(D21<=VEMA!P$18,C21>=VEMA!Q$18),(D21-C21)*24,(D21-C21)*24-VEMA!R$18)),\"<< zlý čas\")","v":0},null,null,null,null,{"$f":"IF(B21=\"\",\"\",IF(B21=\"So\",\"\",(IF(B21=\"Ne\",\"\",(ROUND(E21-K21,2))))))","v":0},{"$f":"IF(B21=\"So\",\"\",(IF(B21=\"Ne\",\"\",(IF(B21=\"\",\"\",(IF(COUNTIF(Pozicia,$F$16),ROUND(VRR*E21,2),0)))))))","v":0},null,null,"4.1.2. Člen expertnej skupiny",0.13689999999999999,"Bratislava","4.1.2. ČES: Spracovanie východísk inovácie a tvorby nových profesijných štandardov.","PP",{"$f":"IF(SUM(E21:E23)=0,\"\",SUM(E21:E23))","v":""},null,{"$f":"IF(OR(B21=\"So\",B21=\"Ne\"),\"dobre\",IF(C21>D21,\"zle\",IF(AND(C21<=VEMA!P$18,VEMA!Q$18<=D21),\"obed\",IF(OR(D21<=VEMA!P$18,VEMA!Q$18<=C21),\"dobre\",\"zle\"))))","v":"dobre"}]
[null,{"$f":"B21","v":"Ut"},null,null,{"$f":"IF(OR(U22=\"dobre\",U22=\"obed\"),IF(OR(B22=\"So\",B22=\"Ne\"),\"\",IF(OR(D22<=VEMA!P$18,C22>=VEMA!Q$18),(D22-C22)*24,(D22-C22)*24-VEMA!R$18)),\"<< zlý čas\")","v":0},null,null,null,null,0,0,null,null,"4.1.4. Člen pracovnej skupiny",0.13689999999999999,"Banská Bystrica","4.1.2. ČES: Určenie základných princípov revízie profesijných štandardov.","D","",null,{"$f":"IF(OR(B22=\"So\",B22=\"Ne\"),\"dobre\",IF(C22>D22,\"zle\",IF(AND(C22<=VEMA!P$18,VEMA!Q$18<=D22),\"obed\",IF(OR(D22<=VEMA!P$18,VEMA!Q$18<=C22),\"dobre\",\"zle\"))))","v":"dobre"}]
[null,{"$f":"B22","v":"Ut"},null,null,{"$f":"IF(OR(U23=\"dobre\",U23=\"obed\"),IF(OR(B23=\"So\",B23=\"Ne\"),\"\",IF(OR(D23<=VEMA!P$18,C23>=VEMA!Q$18),(D23-C23)*24,(D23-C23)*24-VEMA!R$18)),\"<< zlý čas\")","v":0},null,null,null,null,0,0,null,null,"4.1.8. Regionálny odborný riešiteľ 1.2",0.13689999999999999,"Prešov","4.1.2. ČES: Stanovenie východísk pre inovovaný a nový profesijný štandard; vypracovanie vzorového profesijného štandardu (modelu) ","F","",null,{"$f":"IF(OR(B23=\"So\",B23=\"Ne\"),\"dobre\",IF(C23>D23,\"zle\",IF(AND(C23<=VEMA!P$18,VEMA!Q$18<=D23),\"obed\",IF(OR(D23<=VEMA!P$18,VEMA!Q$18<=C23),\"dobre\",\"zle\"))))","v":"dobre"}]
[{"$f":"IF(A21=\"\",\"\",IF(A21+1<=$D$146,A21+1,\"\"))","v":2},{"$f":"IF(A24=\"\",\"\",IF(B21=\"Po\",\"Ut\",IF(B21=\"Ut\",\"St\",IF(B21=\"St\",\"Št\",IF(B21=\"Št\",\"Pi\",IF(B21=\"Pi\",\"So\",IF(B21=\"So\",\"Ne\",IF(B21=\"Ne\",\"Po\",\"\"))))))))","v":"St"},null,null,{"$f":"IF(OR(U24=\"dobre\",U24=\"obed\"),IF(OR(B24=\"So\",B24=\"Ne\"),\"\",IF(OR(D24<=VEMA!P$19,C24>=VEMA!Q$19),(D24-C24)*24,(D24-C24)*24-VEMA!R$19)),\"<< zlý čas\")","v":0},null,null,null,null,0,0,null,null,"4.1.9. Odborný personál podaktivity 1.2",0.13689999999999999,"Košice","4.1.2. ČES: Určenie základných princípov  tvorby nových profesijných štandardov.","I",{"$f":"IF(SUM(E24:E26)=0,\"\",SUM(E24:E26))","v":""},null,{"$f":"IF(OR(B24=\"So\",B24=\"Ne\"),\"dobre\",IF(C24>D24,\"zle\",IF(AND(C24<=VEMA!P$19,VEMA!Q$19<=D24),\"obed\",IF(OR(D24<=VEMA!P$19,VEMA!Q$19<=C24),\"dobre\",\"zle\"))))","v":"dobre"}]
[null,{"$f":"B24","v":"St"},null,null,{"$f":"IF(OR(U25=\"dobre\",U25=\"obed\"),IF(OR(B25=\"So\",B25=\"Ne\"),\"\",IF(OR(D25<=VEMA!P$19,C25>=VEMA!Q$19),(D25-C25)*24,(D25-C25)*24-VEMA!R$19)),\"<< zlý čas\")","v":0},null,null,null,null,0,0,null,null,"4.1.12. Odborný konzultant NOPS",0.13689999999999999,"Komárno","4.1.2. ČES: Účasť na zasadnutí/porade expertnej skupiny.","DD",null,null,{"$f":"IF(OR(B25=\"So\",B25=\"Ne\"),\"dobre\",IF(C25>D25,\"zle\",IF(AND(C25<=VEMA!P$19,VEMA!Q$19<=D25),\"obed\",IF(OR(D25<=VEMA!P$19,VEMA!Q$19<=C25),\"dobre\",\"zle\"))))","v":"dobre"}]
[null,{"$f":"B25","v":"St"},null,null,{"$f":"IF(OR(U26=\"dobre\",U26=\"obed\"),IF(OR(B26=\"So\",B26=\"Ne\"),\"\",IF(OR(D26<=VEMA!P$19,C26>=VEMA!Q$19),(D26-C26)*24,(D26-C26)*24-VEMA!R$19)),\"<< zlý čas\")","v":0},null,null,null,null,0,0,null,null,"4.1.15. Hodnotiteľ NOPS",0.13689999999999999,"Nitra","4.1.2. ČES: Plnenie úloh na základe pokynov Hlavného odborného riešiteľa 1.1.",null,null,null,{"$f":"IF(OR(B26=\"So\",B26=\"Ne\"),\"dobre\",IF(C26>D26,\"zle\",IF(AND(C26<=VEMA!P$19,VEMA!Q$19<=D26),\"obed\",IF(OR(D26<=VEMA!P$19,VEMA!Q$19<=C26),\"dobre\",\"zle\"))))","v":"dobre"}]
[{"$f":"IF(A24=\"\",\"\",IF(A24+1<=$D$146,A24+1,\"\"))","v":3},{"$f":"IF(A27=\"\",\"\",IF(B24=\"Po\",\"Ut\",IF(B24=\"Ut\",\"St\",IF(B24=\"St\",\"Št\",IF(B24=\"Št\",\"Pi\",IF(B24=\"Pi\",\"So\",IF(B24=\"So\",\"Ne\",IF(B24=\"Ne\",\"Po\",\"\"))))))))","v":"Št"},null,null,{"$f":"IF(OR(U27=\"dobre\",U27=\"obed\"),IF(OR(B27=\"So\",B27=\"Ne\"),\"\",IF(OR(D27<=VEMA!P$20,C27>=VEMA!Q$20),(D27-C27)*24,(D27-C27)*24-VEMA!R$20)),\"<< zlý čas\")","v":0},null,null,null,null,0,0,null,null,"4.1.17. Moderátor konferencie",0.13689999999999999,"Trenčín","4.1.2. ČES: Analýza profesijných štandardov, posúdenie obsahu a formálnej štruktúry, identifikácia nedostatkov, návrh na inováciu",null,{"$f":"IF(SUM(E27:E29)=0,\"\",SUM(E27:E29))","v":""},null,{"$f":"IF(OR(B27=\"So\",B27=\"Ne\"),\"dobre\",IF(C27>D27,\"zle\",IF(AND(C27<=VEMA!P$20,VEMA!Q$20<=D27),\"obed\",IF(OR(D27<=VEMA!P$20,VEMA!Q$20<=C27),\"dobre\",\"zle\"))))","v":"dobre"}]
[null,{"$f":"B27","v":"Št"},null,null,{"$f":"IF(OR(U28=\"dobre\",U28=\"obed\"),IF(OR(B28=\"So\",B28=\"Ne\"),\"\",IF(OR(D28<=VEMA!P$20,C28>=VEMA!Q$20),(D28-C28)*24,(D28-C28)*24-VEMA!R$20)),\"<< zlý čas\")","v":0},null,null,null,null,0,0,null,null,"4.1.18. Odborný personál konfrencie",0.13689999999999999,"Trnava","4.1.2.ČES: Koordinácia činností pracovných skupín, usmerňovanie aktivít, konzultácia s členmi pracovných skupín, práca s členmi pracovných skupín, prenos informácií",null,null,null,{"$f":"IF(OR(B28=\"So\",B28=\"Ne\"),\"dobre\",IF(C28>D28,\"zle\",IF(AND(C28<=VEMA!P$20,VEMA!Q$20<=D28),\"obed\",IF(OR(D28<=VEMA!P$20,VEMA!Q$20<=C28),\"dobre\",\"zle\"))))","v":"dobre"}]
[null,{"$f":"B28","v":"Št"},null,null,{"$f":"IF(OR(U29=\"dobre\",U29=\"obed\"),IF(OR(B29=\"So\",B29=\"Ne\"),\"\",IF(OR(D29<=VEMA!P$20,C29>=VEMA!Q$20),(D29-C29)*24,(D29-C29)*24-VEMA!R$20)),\"<< zlý čas\")","v":0},null,null,null,null,0,0,null,null,"4.1.20. Lektor učiteľských fór",0.13689999999999999,"Žilina","4.1.4. ČPS: Analýza profesijného štandardu, identifikácia nedostatkov ",null,null,null,{"$f":"IF(OR(B29=\"So\",B29=\"Ne\"),\"dobre\",IF(C29>D29,\"zle\",IF(AND(C29<=VEMA!P$20,VEMA!Q$20<=D29),\"obed\",IF(OR(D29<=VEMA!P$20,VEMA!Q$20<=C29),\"dobre\",\"zle\"))))","v":"dobre"}]
[{"$f":"IF(A27=\"\",\"\",IF(A27+1<=$D$146,A27+1,\"\"))","v":4},{"$f":"IF(A30=\"\",\"\",IF(B27=\"Po\",\"Ut\",IF(B27=\"Ut\",\"St\",IF(B27=\"St\",\"Št\",IF(B27=\"Št\",\"Pi\",IF(B27=\"Pi\",\"So\",IF(B27=\"So\",\"Ne\",IF(B27=\"Ne\",\"Po\",\"\"))))))))","v":"Pi"},null,null,{"$f":"IF(OR(U30=\"dobre\",U30=\"obed\"),IF(OR(B30=\"So\",B30=\"Ne\"),\"\",IF(OR(D30<=VEMA!P$21,C30>=VEMA!Q$21),(D30-C30)*24,(D30-C30)*24-VEMA!R$21)),\"<< zlý čas\")","v":0},null,null,null,null,0,0,null,null,"4.1.22. Moderátor učiteľských fór",0.13689999999999999,"home office ","4.1.4. ČPS: Predloženie návrhu na inováciu resp. tvorbu profesijného štandardu.",null,{"$f":"IF(SUM(E30:E32)=0,\"\",SUM(E30:E32))","v":""},null,{"$f":"IF(OR(B30=\"So\",B30=\"Ne\"),\"dobre\",IF(C30>D30,\"zle\",IF(AND(C30<=VEMA!P$21,VEMA!Q$21<=D30),\"obed\",IF(OR(D30<=VEMA!P$21,VEMA!Q$21<=C30),\"dobre\",\"zle\"))))","v":"dobre"}]
[null,{"$f":"B30","v":"Pi"},null,null,{"$f":"IF(OR(U31=\"dobre\",U31=\"obed\"),IF(OR(B31=\"So\",B31=\"Ne\"),\"\",IF(OR(D31<=VEMA!P$21,C31>=VEMA!Q$21),(D31-C31)*24,(D31-C31)*24-VEMA!R$21)),\"<< zlý čas\")","v":0},null,null,null,null,0,0,null,null,"4.1.23. Analytik",0.13689999999999999,"home office (miesto trvalého bydliska)","4.1.4. ČPS: Priebežné spracovávanie profesijného štandardu.",null,null,null,{"$f":"IF(OR(B31=\"So\",B31=\"Ne\"),\"dobre\",IF(C31>D31,\"zle\",IF(AND(C31<=VEMA!P$21,VEMA!Q$21<=D31),\"obed\",IF(OR(D31<=VEMA!P$21,VEMA!Q$21<=C31),\"dobre\",\"zle\"))))","v":"dobre"}]
[null,{"$f":"B31","v":"Pi"},null,null,{"$f":"IF(OR(U32=\"dobre\",U32=\"obed\"),IF(OR(B32=\"So\",B32=\"Ne\"),\"\",IF(OR(D32<=VEMA!P$21,C32>=VEMA!Q$21),(D32-C32)*24,(D32-C32)*24-VEMA!R$21)),\"<< zlý čas\")","v":0},null,null,null,null,0,0,null,null,"4.1. 25. Tvorca PV a UZ",0.13689999999999999,null,"4.1.4. ČPS: Finálne spracovanie a odovzdanie profesijného štandardu.",null,null,null,{"$f":"IF(OR(B32=\"So\",B32=\"Ne\"),\"dobre\",IF(C32>D32,\"zle\",IF(AND(C32<=VEMA!P$21,VEMA!Q$21<=D32),\"obed\",IF(OR(D32<=VEMA!P$21,VEMA!Q$21<=C32),\"dobre\",\"zle\"))))","v":"dobre"}]
[{"$f":"IF(A30=\"\",\"\",IF(A30+1<=$D$146,A30+1,\"\"))","v":5},{"$f":"IF(A33=\"\",\"\",IF(B30=\"Po\",\"Ut\",IF(B30=\"Ut\",\"St\",IF(B30=\"St\",\"Št\",IF(B30=\"Št\",\"Pi\",IF(B30=\"Pi\",\"So\",IF(B30=\"So\",\"Ne\",IF(B30=\"Ne\",\"Po\",\"\"))))))))","v":"So"},null,null,{"$f":"IF(OR(U33=\"dobre\",U33=\"obed\"),IF(OR(B33=\"So\",B33=\"Ne\"),\"\",IF(OR(D33<=VEMA!P$22,C33>=VEMA!Q$22),(D33-C33)*24,(D33-C33)*24-VEMA!R$22)),\"<< zlý čas\")","v":""},null,null,null,null,"","",null,null,"4.1.28. Odborný garant PV - inovačné programy (podľa zákona č. 138/2019 Z.z.)",0.13689999999999999,null,"4.1.4. ČPS: Plnenie úloh na základe pokynov Hlavného odborného riešiteľa 1.1.",null,{"$f":"IF(SUM(E33:E35)=0,\"\",SUM(E33:E35))","v":""},null,{"$f":"IF(OR(B33=\"So\",B33=\"Ne\"),\"dobre\",IF(C33>D33,\"zle\",IF(AND(C33<=VEMA!P$22,VEMA!Q$22<=D33),\"obed\",IF(OR(D33<=VEMA!P$22,VEMA!Q$22<=C33),\"dobre\",\"zle\"))))","v":"dobre"}]
[null,{"$f":"B33","v":"So"},null,null,{"$f":"IF(OR(U34=\"dobre\",U34=\"obed\"),IF(OR(B34=\"So\",B34=\"Ne\"),\"\",IF(OR(D34<=VEMA!P$22,C34>=VEMA!Q$22),(D34-C34)*24,(D34-C34)*24-VEMA!R$22)),\"<< zlý čas\")","v":""},null,null,null,null,"","",null,null,"4.1.29. Vedúci vzdelávacej skupiny",0.13689999999999999,null,"4.1.4. ČPS: Účasť na zasadnutí/porade pracovnej skupiny.",null,null,null,{"$f":"IF(OR(B34=\"So\",B34=\"Ne\"),\"dobre\",IF(C34>D34,\"zle\",IF(AND(C34<=VEMA!P$22,VEMA!Q$22<=D34),\"obed\",IF(OR(D34<=VEMA!P$22,VEMA!Q$22<=C34),\"dobre\",\"zle\"))))","v":"dobre"}]
[null,{"$f":"B34","v":"So"},null,null,{"$f":"IF(OR(U35=\"dobre\",U35=\"obed\"),IF(OR(B35=\"So\",B35=\"Ne\"),\"\",IF(OR(D35<=VEMA!P$22,C35>=VEMA!Q$22),(D35-C35)*24,(D35-C35)*24-VEMA!R$22)),\"<< zlý čas\")","v":""},null,null,null,null,"","",null,null,"4.1.30. Lektor PV",0.13689999999999999,null,"4.1.4. ČPS: Zapracovanie pripomienok hodnotiteľa profesijného štandardu, úprava profesijného štandardu na základe hodnotiaceho posudku.",null,null,null,{"$f":"IF(OR(B35=\"So\",B35=\"Ne\"),\"dobre\",IF(C35>D35,\"zle\",IF(AND(C35<=VEMA!P$22,VEMA!Q$22<=D35),\"obed\",IF(OR(D35<=VEMA!P$22,VEMA!Q$22<=C35),\"dobre\",\"zle\"))))","v":"dobre"}]
[{"$f":"IF(A33=\"\",\"\",IF(A33+1<=$D$146,A33+1,\"\"))","v":6},{"$f":"IF(A36=\"\",\"\",IF(B33=\"Po\",\"Ut\",IF(B33=\"Ut\",\"St\",IF(B33=\"St\",\"Št\",IF(B33=\"Št\",\"Pi\",IF(B33=\"Pi\",\"So\",IF(B33=\"So\",\"Ne\",IF(B33=\"Ne\",\"Po\",\"\"))))))))","v":"Ne"},null,null,{"$f":"IF(OR(U36=\"dobre\",U36=\"obed\"),IF(OR(B36=\"So\",B36=\"Ne\"),\"\",IF(OR(D36<=VEMA!P$23,C36>=VEMA!Q$23),(D36-C36)*24,(D36-C36)*24-VEMA!R$23)),\"<< zlý čas\")","v":""},null,null,null,null,"","",null,null,"4.1.32. Poradcovia v školách ",0.13689999999999999,null,"4.1.8. ROR 1.2: Koordinovanie odborných aktivít realizovaných v národnom projekte.",null,{"$f":"IF(SUM(E36:E38)=0,\"\",SUM(E36:E38))","v":""},null,{"$f":"IF(OR(B36=\"So\",B36=\"Ne\"),\"dobre\",IF(C36>D36,\"zle\",IF(AND(C36<=VEMA!P$23,VEMA!Q$23<=D36),\"obed\",IF(OR(D36<=VEMA!P$23,VEMA!Q$23<=C36),\"dobre\",\"zle\"))))","v":"dobre"}]
[null,{"$f":"B36","v":"Ne"},null,null,{"$f":"IF(OR(U37=\"dobre\",U37=\"obed\"),IF(OR(B37=\"So\",B37=\"Ne\"),\"\",IF(OR(D37<=VEMA!P$23,C37>=VEMA!Q$23),(D37-C37)*24,(D37-C37)*24-VEMA!R$23)),\"<< zlý čas\")","v":""},null,null,null,null,"","",null,null,"4.1.33. Poradcovia v školách ",0.13689999999999999,null,"4.1.8. ROR 1.2: Kontrola plnenia čiastkových  úloh na jednotlivých činnostiach/aktivitách.",null,null,null,{"$f":"IF(OR(B37=\"So\",B37=\"Ne\"),\"dobre\",IF(C37>D37,\"zle\",IF(AND(C37<=VEMA!P$23,VEMA!Q$23<=D37),\"obed\",IF(OR(D37<=VEMA!P$23,VEMA!Q$23<=C37),\"dobre\",\"zle\"))))","v":"dobre"}]
[null,{"$f":"B37","v":"Ne"},null,null,{"$f":"IF(OR(U38=\"dobre\",U38=\"obed\"),IF(OR(B38=\"So\",B38=\"Ne\"),\"\",IF(OR(D38<=VEMA!P$23,C38>=VEMA!Q$23),(D38-C38)*24,(D38-C38)*24-VEMA!R$23)),\"<< zlý čas\")","v":""},null,null,null,null,"","",null,null,null,null,null,"4.1.8. ROR 1.2: Účasť na zasadnutí/porade s hlavným odborným riešiteľom podaktivity.",null,null,null,{"$f":"IF(OR(B38=\"So\",B38=\"Ne\"),\"dobre\",IF(C38>D38,\"zle\",IF(AND(C38<=VEMA!P$23,VEMA!Q$23<=D38),\"obed\",IF(OR(D38<=VEMA!P$23,VEMA!Q$23<=C38),\"dobre\",\"zle\"))))","v":"dobre"}]
[{"$f":"IF(A36=\"\",\"\",IF(A36+1<=$D$146,A36+1,\"\"))","v":7},{"$f":"IF(A39=\"\",\"\",IF(B36=\"Po\",\"Ut\",IF(B36=\"Ut\",\"St\",IF(B36=\"St\",\"Št\",IF(B36=\"Št\",\"Pi\",IF(B36=\"Pi\",\"So\",IF(B36=\"So\",\"Ne\",IF(B36=\"Ne\",\"Po\",\"\"))))))))","v":"Po"},null,null,{"$f":"IF(OR(U39=\"dobre\",U39=\"obed\"),IF(OR(B39=\"So\",B39=\"Ne\"),\"\",IF(OR(D39<=VEMA!P$24,C39>=VEMA!Q$24),(D39-C39)*24,(D39-C39)*24-VEMA!R$24)),\"<< zlý čas\")","v":0},null,null,null,null,0,0,null,null,null,null,null,"4.1.8. ROR 1.2: Účasť na porade k národnému projektu ",null,{"$f":"IF(SUM(E39:E41)=0,\"\",SUM(E39:E41))","v":""},null,{"$f":"IF(OR(B39=\"So\",B39=\"Ne\"),\"dobre\",IF(C39>D39,\"zle\",IF(AND(C39<=VEMA!P$24,VEMA!Q$24<=D39),\"obed\",IF(OR(D39<=VEMA!P$24,VEMA!Q$24<=C39),\"dobre\",\"zle\"))))","v":"dobre"}]
[null,{"$f":"B39","v":"Po"},null,null,{"$f":"IF(OR(U40=\"dobre\",U40=\"obed\"),IF(OR(B40=\"So\",B40=\"Ne\"),\"\",IF(OR(D40<=VEMA!P$24,C40>=VEMA!Q$24),(D40-C40)*24,(D40-C40)*24-VEMA!R$24)),\"<< zlý čas\")","v":0},null,null,null,null,0,0,null,null,null,null,null,"4.1.8. ROR 1.2: Koordinovanie odborných aktivít a priebežná kontrola plnenia úloh realizovaných v národnom projekte.",null,null,null,{"$f":"IF(OR(B40=\"So\",B40=\"Ne\"),\"dobre\",IF(C40>D40,\"zle\",IF(AND(C40<=VEMA!P$24,VEMA!Q$24<=D40),\"obed\",IF(OR(D40<=VEMA!P$24,VEMA!Q$24<=C40),\"dobre\",\"zle\"))))","v":"dobre"}]
[null,{"$f":"B40","v":"Po"},null,null,{"$f":"IF(OR(U41=\"dobre\",U41=\"obed\"),IF(OR(B41=\"So\",B41=\"Ne\"),\"\",IF(OR(D41<=VEMA!P$24,C41>=VEMA!Q$24),(D41-C41)*24,(D41-C41)*24-VEMA!R$24)),\"<< zlý čas\")","v":0},null,null,null,null,0,0,null,null,null,null,null,"4.1.9. OPP:  Výkon odbornej činnosti podľa pokynov hlavného odborného riešiteľa podaktivity1.2.",null,null,null,{"$f":"IF(OR(B41=\"So\",B41=\"Ne\"),\"dobre\",IF(C41>D41,\"zle\",IF(AND(C41<=VEMA!P$24,VEMA!Q$24<=D41),\"obed\",IF(OR(D41<=VEMA!P$24,VEMA!Q$24<=C41),\"dobre\",\"zle\"))))","v":"dobre"}]
[{"$f":"IF(A39=\"\",\"\",IF(A39+1<=$D$146,A39+1,\"\"))","v":8},{"$f":"IF(A42=\"\",\"\",IF(B39=\"Po\",\"Ut\",IF(B39=\"Ut\",\"St\",IF(B39=\"St\",\"Št\",IF(B39=\"Št\",\"Pi\",IF(B39=\"Pi\",\"So\",IF(B39=\"So\",\"Ne\",IF(B39=\"Ne\",\"Po\",\"\"))))))))","v":"Ut"},null,null,{"$f":"IF(OR(U42=\"dobre\",U42=\"obed\"),IF(OR(B42=\"So\",B42=\"Ne\"),\"\",IF(OR(D42<=VEMA!P$25,C42>=VEMA!Q$25),(D42-C42)*24,(D42-C42)*24-VEMA!R$25)),\"<< zlý čas\")","v":0},null,null,null,null,0,0,null,null,null,null,null,"4.1.9. OPP: Výkon odbornej činnosti podľa pokynov regionálneho odborného riešiteľa podaktivity 1.2.",null,{"$f":"IF(SUM(E42:E44)=0,\"\",SUM(E42:E44))","v":""},null,{"$f":"IF(OR(B42=\"So\",B42=\"Ne\"),\"dobre\",IF(C42>D42,\"zle\",IF(AND(C42<=VEMA!P$25,VEMA!Q$25<=D42),\"obed\",IF(OR(D42<=VEMA!P$25,VEMA!Q$25<=C42),\"dobre\",\"zle\"))))","v":"dobre"}]
[null,{"$f":"B42","v":"Ut"},null,null,{"$f":"IF(OR(U43=\"dobre\",U43=\"obed\"),IF(OR(B43=\"So\",B43=\"Ne\"),\"\",IF(OR(D43<=VEMA!P$25,C43>=VEMA!Q$25),(D43-C43)*24,(D43-C43)*24-VEMA!R$25)),\"<< zlý čas\")","v":0},null,null,null,null,0,0,null,null,null,null,null,"4.1.9. OPP: Účasť na zasadnutí/porade s hlavným odborným riešiteľom podaktivity.",null,null,null,{"$f":"IF(OR(B43=\"So\",B43=\"Ne\"),\"dobre\",IF(C43>D43,\"zle\",IF(AND(C43<=VEMA!P$25,VEMA!Q$25<=D43),\"obed\",IF(OR(D43<=VEMA!P$25,VEMA!Q$25<=C43),\"dobre\",\"zle\"))))","v":"dobre"}]
[null,{"$f":"B43","v":"Ut"},null,null,{"$f":"IF(OR(U44=\"dobre\",U44=\"obed\"),IF(OR(B44=\"So\",B44=\"Ne\"),\"\",IF(OR(D44<=VEMA!P$25,C44>=VEMA!Q$25),(D44-C44)*24,(D44-C44)*24-VEMA!R$25)),\"<< zlý čas\")","v":0},null,null,null,null,0,0,null,null,null,null,null,"4.1.9. OPP: Účasť na zasadnutí/porade v MPC k implementácii národného projektu.",null,null,null,{"$f":"IF(OR(B44=\"So\",B44=\"Ne\"),\"dobre\",IF(C44>D44,\"zle\",IF(AND(C44<=VEMA!P$25,VEMA!Q$25<=D44),\"obed\",IF(OR(D44<=VEMA!P$25,VEMA!Q$25<=C44),\"dobre\",\"zle\"))))","v":"dobre"}]
[{"$f":"IF(A42=\"\",\"\",IF(A42+1<=$D$146,A42+1,\"\"))","v":9},{"$f":"IF(A45=\"\",\"\",IF(B42=\"Po\",\"Ut\",IF(B42=\"Ut\",\"St\",IF(B42=\"St\",\"Št\",IF(B42=\"Št\",\"Pi\",IF(B42=\"Pi\",\"So\",IF(B42=\"So\",\"Ne\",IF(B42=\"Ne\",\"Po\",\"\"))))))))","v":"St"},null,null,{"$f":"IF(OR(U45=\"dobre\",U45=\"obed\"),IF(OR(B45=\"So\",B45=\"Ne\"),\"\",IF(OR(D45<=VEMA!P$26,C45>=VEMA!Q$26),(D45-C45)*24,(D45-C45)*24-VEMA!R$26)),\"<< zlý čas\")","v":0},null,null,null,null,0,0,null,null,null,null,null,"4.1.9. OPP: Výkon odbornej činnosti (podpora pri plánovaní a realizácií NOPS, vzdelávacích aktivít, konferencií, poradenstva, UF).",null,{"$f":"IF(SUM(E45:E47)=0,\"\",SUM(E45:E47))","v":""},null,{"$f":"IF(OR(B45=\"So\",B45=\"Ne\"),\"dobre\",IF(C45>D45,\"zle\",IF(AND(C45<=VEMA!P$26,VEMA!Q$26<=D45),\"obed\",IF(OR(D45<=VEMA!P$26,VEMA!Q$26<=C45),\"dobre\",\"zle\"))))","v":"dobre"}]
[null,{"$f":"B45","v":"St"},null,null,{"$f":"IF(OR(U46=\"dobre\",U46=\"obed\"),IF(OR(B46=\"So\",B46=\"Ne\"),\"\",IF(OR(D46<=VEMA!P$26,C46>=VEMA!Q$26),(D46-C46)*24,(D46-C46)*24-VEMA!R$26)),\"<< zlý čas\")","v":0},null,null,null,null,0,0,null,null,null,null,null,"4.1.12. OK NOPS: Odborné konzultácie pri prihlasovaní a v procese  spracovania NOPS.",null,null,null,{"$f":"IF(OR(B46=\"So\",B46=\"Ne\"),\"dobre\",IF(C46>D46,\"zle\",IF(AND(C46<=VEMA!P$26,VEMA!Q$26<=D46),\"obed\",IF(OR(D46<=VEMA!P$26,VEMA!Q$26<=C46),\"dobre\",\"zle\"))))","v":"dobre"}]
[null,{"$f":"B46","v":"St"},null,null,{"$f":"IF(OR(U47=\"dobre\",U47=\"obed\"),IF(OR(B47=\"So\",B47=\"Ne\"),\"\",IF(OR(D47<=VEMA!P$26,C47>=VEMA!Q$26),(D47-C47)*24,(D47-C47)*24-VEMA!R$26)),\"<< zlý čas\")","v":0},null,null,null,null,0,0,null,null,null,null,null,"4.1.12. OK NOPS: Priebežné pripomienkovanie materiálu  pri procese  spracovania NOPS.",null,null,null,{"$f":"IF(OR(B47=\"So\",B47=\"Ne\"),\"dobre\",IF(C47>D47,\"zle\",IF(AND(C47<=VEMA!P$26,VEMA!Q$26<=D47),\"obed\",IF(OR(D47<=VEMA!P$26,VEMA!Q$26<=C47),\"dobre\",\"zle\"))))","v":"dobre"}]
[{"$f":"IF(A45=\"\",\"\",IF(A45+1<=$D$146,A45+1,\"\"))","v":10},{"$f":"IF(A48=\"\",\"\",IF(B45=\"Po\",\"Ut\",IF(B45=\"Ut\",\"St\",IF(B45=\"St\",\"Št\",IF(B45=\"Št\",\"Pi\",IF(B45=\"Pi\",\"So\",IF(B45=\"So\",\"Ne\",IF(B45=\"Ne\",\"Po\",\"\"))))))))","v":"Št"},null,null,{"$f":"IF(OR(U48=\"dobre\",U48=\"obed\"),IF(OR(B48=\"So\",B48=\"Ne\"),\"\",IF(OR(D48<=VEMA!P$27,C48>=VEMA!Q$27),(D48-C48)*24,(D48-C48)*24-VEMA!R$27)),\"<< zlý čas\")","v":0},null,null,null,null,0,0,null,null,null,null,null,"4.1.12. OK NOPS: Poskytovanie súčinnosti garantovi NOPS pri tvorbe smernice, vyhlasovaní výzvy na spracovanie NOPS, vyhodnotení doručených prihlášok a podkladov k uzatváraniu zmluvných vzťahov s vybranými spracovateľmi NOPS.",null,{"$f":"IF(SUM(E48:E50)=0,\"\",SUM(E48:E50))","v":""},null,{"$f":"IF(OR(B48=\"So\",B48=\"Ne\"),\"dobre\",IF(C48>D48,\"zle\",IF(AND(C48<=VEMA!P$27,VEMA!Q$27<=D48),\"obed\",IF(OR(D48<=VEMA!P$27,VEMA!Q$27<=C48),\"dobre\",\"zle\"))))","v":"dobre"}]
[null,{"$f":"B48","v":"Št"},null,null,{"$f":"IF(OR(U49=\"dobre\",U49=\"obed\"),IF(OR(B49=\"So\",B49=\"Ne\"),\"\",IF(OR(D49<=VEMA!P$27,C49>=VEMA!Q$27),(D49-C49)*24,(D49-C49)*24-VEMA!R$27)),\"<< zlý čas\")","v":0},null,null,null,null,0,0,null,null,null,null,null,"4.1.12. OK NOPS: Preberanie odovzdaných NOPS, predkladanie návrhu interných hodnotiteľov.",null,null,null,{"$f":"IF(OR(B49=\"So\",B49=\"Ne\"),\"dobre\",IF(C49>D49,\"zle\",IF(AND(C49<=VEMA!P$27,VEMA!Q$27<=D49),\"obed\",IF(OR(D49<=VEMA!P$27,VEMA!Q$27<=C49),\"dobre\",\"zle\"))))","v":"dobre"}]
[null,{"$f":"B49","v":"Št"},null,null,{"$f":"IF(OR(U50=\"dobre\",U50=\"obed\"),IF(OR(B50=\"So\",B50=\"Ne\"),\"\",IF(OR(D50<=VEMA!P$27,C50>=VEMA!Q$27),(D50-C50)*24,(D50-C50)*24-VEMA!R$27)),\"<< zlý čas\")","v":0},null,null,null,null,0,0,null,null,null,null,null,"4.1.12. OK NOPS: Odborné konzultácie/podpora  pri procese  spracovania  a finalizácii NOPS.",null,null,null,{"$f":"IF(OR(B50=\"So\",B50=\"Ne\"),\"dobre\",IF(C50>D50,\"zle\",IF(AND(C50<=VEMA!P$27,VEMA!Q$27<=D50),\"obed\",IF(OR(D50<=VEMA!P$27,VEMA!Q$27<=C50),\"dobre\",\"zle\"))))","v":"dobre"}]
[{"$f":"IF(A48=\"\",\"\",IF(A48+1<=$D$146,A48+1,\"\"))","v":11},{"$f":"IF(A51=\"\",\"\",IF(B48=\"Po\",\"Ut\",IF(B48=\"Ut\",\"St\",IF(B48=\"St\",\"Št\",IF(B48=\"Št\",\"Pi\",IF(B48=\"Pi\",\"So\",IF(B48=\"So\",\"Ne\",IF(B48=\"Ne\",\"Po\",\"\"))))))))","v":"Pi"},null,null,{"$f":"IF(OR(U51=\"dobre\",U51=\"obed\"),IF(OR(B51=\"So\",B51=\"Ne\"),\"\",IF(OR(D51<=VEMA!P$28,C51>=VEMA!Q$28),(D51-C51)*24,(D51-C51)*24-VEMA!R$28)),\"<< zlý čas\")","v":0},null,null,null,null,0,0,null,null,null,null,null,"4.1.15. H NOPS: Spracovanie hodnotenia dokumentu NOPS podľa schválenej prihlášky, v danej štruktúre a určenej šablóne dokumentu.",null,{"$f":"IF(SUM(E51:E53)=0,\"\",SUM(E51:E53))","v":""},null,{"$f":"IF(OR(B51=\"So\",B51=\"Ne\"),\"dobre\",IF(C51>D51,\"zle\",IF(AND(C51<=VEMA!P$28,VEMA!Q$28<=D51),\"obed\",IF(OR(D51<=VEMA!P$28,VEMA!Q$28<=C51),\"dobre\",\"zle\"))))","v":"dobre"}]
[null,{"$f":"B51","v":"Pi"},null,null,{"$f":"IF(OR(U52=\"dobre\",U52=\"obed\"),IF(OR(B52=\"So\",B52=\"Ne\"),\"\",IF(OR(D52<=VEMA!P$28,C52>=VEMA!Q$28),(D52-C52)*24,(D52-C52)*24-VEMA!R$28)),\"<< zlý čas\")","v":0},null,null,null,null,0,0,null,null,null,null,null,"4.1.15. H NOPS: Finalizácia hodnotenia dokumentu NOPS podľa schválenej prihlášky, v danej štruktúre a určenej šablóne dokumentu.",null,null,null,{"$f":"IF(OR(B52=\"So\",B52=\"Ne\"),\"dobre\",IF(C52>D52,\"zle\",IF(AND(C52<=VEMA!P$28,VEMA!Q$28<=D52),\"obed\",IF(OR(D52<=VEMA!P$28,VEMA!Q$28<=C52),\"dobre\",\"zle\"))))","v":"dobre"}]
[null,{"$f":"B52","v":"Pi"},null,null,{"$f":"IF(OR(U53=\"dobre\",U53=\"obed\"),IF(OR(B53=\"So\",B53=\"Ne\"),\"\",IF(OR(D53<=VEMA!P$28,C53>=VEMA!Q$28),(D53-C53)*24,(D53-C53)*24-VEMA!R$28)),\"<< zlý čas\")","v":0},null,null,null,null,{"$f":"IF(B53=\"\",\"\",IF(B53=\"So\",\"\",(IF(B53=\"Ne\",\"\",(ROUND(E53-K53,2))))))","v":0},{"$f":"IF(B53=\"So\",\"\",(IF(B53=\"Ne\",\"\",(IF(B53=\"\",\"\",(IF(COUNTIF(Pozicia,$F$16),ROUND(VRR*E53,2),0)))))))","v":0},null,null,null,null,null,"4.1.17. MK: Odborné zabezpečenie prípravy, programových  zložiek a priebehu konferencie. ",null,null,null,{"$f":"IF(OR(B53=\"So\",B53=\"Ne\"),\"dobre\",IF(C53>D53,\"zle\",IF(AND(C53<=VEMA!P$28,VEMA!Q$28<=D53),\"obed\",IF(OR(D53<=VEMA!P$28,VEMA!Q$28<=C53),\"dobre\",\"zle\"))))","v":"dobre"}]
[{"$f":"IF(A51=\"\",\"\",IF(A51+1<=$D$146,A51+1,\"\"))","v":12},{"$f":"IF(A54=\"\",\"\",IF(B51=\"Po\",\"Ut\",IF(B51=\"Ut\",\"St\",IF(B51=\"St\",\"Št\",IF(B51=\"Št\",\"Pi\",IF(B51=\"Pi\",\"So\",IF(B51=\"So\",\"Ne\",IF(B51=\"Ne\",\"Po\",\"\"))))))))","v":"So"},null,null,{"$f":"IF(OR(U54=\"dobre\",U54=\"obed\"),IF(OR(B54=\"So\",B54=\"Ne\"),\"\",IF(OR(D54<=VEMA!P$29,C54>=VEMA!Q$29),(D54-C54)*24,(D54-C54)*24-VEMA!R$29)),\"<< zlý čas\")","v":""},null,null,null,null,"","",null,null,null,null,null,"4.1.17. MK: Odborné zabezpečenie priebehu konferencie (moderovanie/vedenie). ",null,{"$f":"IF(SUM(E54:E56)=0,\"\",SUM(E54:E56))","v":""},null,{"$f":"IF(OR(B54=\"So\",B54=\"Ne\"),\"dobre\",IF(C54>D54,\"zle\",IF(AND(C54<=VEMA!P$29,VEMA!Q$29<=D54),\"obed\",IF(OR(D54<=VEMA!P$29,VEMA!Q$29<=C54),\"dobre\",\"zle\"))))","v":"dobre"}]
[null,{"$f":"B54","v":"So"},null,null,{"$f":"IF(OR(U55=\"dobre\",U55=\"obed\"),IF(OR(B55=\"So\",B55=\"Ne\"),\"\",IF(OR(D55<=VEMA!P$29,C55>=VEMA!Q$29),(D55-C55)*24,(D55-C55)*24-VEMA!R$29)),\"<< zlý čas\")","v":""},null,null,null,null,"","",null,null,null,null,null,"4.1.17. MK: Odborné vedenie sekcií (diskusných skupín) a workshopov.",null,null,null,{"$f":"IF(OR(B55=\"So\",B55=\"Ne\"),\"dobre\",IF(C55>D55,\"zle\",IF(AND(C55<=VEMA!P$29,VEMA!Q$29<=D55),\"obed\",IF(OR(D55<=VEMA!P$29,VEMA!Q$29<=C55),\"dobre\",\"zle\"))))","v":"dobre"}]
[null,{"$f":"B55","v":"So"},null,null,{"$f":"IF(OR(U56=\"dobre\",U56=\"obed\"),IF(OR(B56=\"So\",B56=\"Ne\"),\"\",IF(OR(D56<=VEMA!P$29,C56>=VEMA!Q$29),(D56-C56)*24,(D56-C56)*24-VEMA!R$29)),\"<< zlý čas\")","v":""},null,null,null,null,"","",null,null,null,null,null,"4.1.17. MK: Odborné zabezpečenie prípravy a celého priebehu konferencie.",null,null,null,{"$f":"IF(OR(B56=\"So\",B56=\"Ne\"),\"dobre\",IF(C56>D56,\"zle\",IF(AND(C56<=VEMA!P$29,VEMA!Q$29<=D56),\"obed\",IF(OR(D56<=VEMA!P$29,VEMA!Q$29<=C56),\"dobre\",\"zle\"))))","v":"dobre"}]
[{"$f":"IF(A54=\"\",\"\",IF(A54+1<=$D$146,A54+1,\"\"))","v":13},{"$f":"IF(A57=\"\",\"\",IF(B54=\"Po\",\"Ut\",IF(B54=\"Ut\",\"St\",IF(B54=\"St\",\"Št\",IF(B54=\"Št\",\"Pi\",IF(B54=\"Pi\",\"So\",IF(B54=\"So\",\"Ne\",IF(B54=\"Ne\",\"Po\",\"\"))))))))","v":"Ne"},null,null,{"$f":"IF(OR(U57=\"dobre\",U57=\"obed\"),IF(OR(B57=\"So\",B57=\"Ne\"),\"\",IF(OR(D57<=VEMA!P$30,C57>=VEMA!Q$30),(D57-C57)*24,(D57-C57)*24-VEMA!R$30)),\"<< zlý čas\")","v":""},null,null,null,null,"","",null,null,null,null,null,"4.1.18. OPK: Odborné zabezpečenie prípravy konferencie.",null,{"$f":"IF(SUM(E57:E59)=0,\"\",SUM(E57:E59))","v":""},null,{"$f":"IF(OR(B57=\"So\",B57=\"Ne\"),\"dobre\",IF(C57>D57,\"zle\",IF(AND(C57<=VEMA!P$30,VEMA!Q$30<=D57),\"obed\",IF(OR(D57<=VEMA!P$30,VEMA!Q$30<=C57),\"dobre\",\"zle\"))))","v":"dobre"}]
[null,{"$f":"B57","v":"Ne"},null,null,{"$f":"IF(OR(U58=\"dobre\",U58=\"obed\"),IF(OR(B58=\"So\",B58=\"Ne\"),\"\",IF(OR(D58<=VEMA!P$30,C58>=VEMA!Q$30),(D58-C58)*24,(D58-C58)*24-VEMA!R$30)),\"<< zlý čas\")","v":""},null,null,null,null,"","",null,null,null,null,null,"4.1.18. OPK: Organizačné zabezpečenie prípravy konferencie. ",null,null,null,{"$f":"IF(OR(B58=\"So\",B58=\"Ne\"),\"dobre\",IF(C58>D58,\"zle\",IF(AND(C58<=VEMA!P$30,VEMA!Q$30<=D58),\"obed\",IF(OR(D58<=VEMA!P$30,VEMA!Q$30<=C58),\"dobre\",\"zle\"))))","v":"dobre"}]
[null,{"$f":"B58","v":"Ne"},null,null,{"$f":"IF(OR(U59=\"dobre\",U59=\"obed\"),IF(OR(B59=\"So\",B59=\"Ne\"),\"\",IF(OR(D59<=VEMA!P$30,C59>=VEMA!Q$30),(D59-C59)*24,(D59-C59)*24-VEMA!R$30)),\"<< zlý čas\")","v":""},null,null,null,null,"","",null,null,null,null,null,"4.1.18. OPK: Odborné/organizačné zabezpečenie  priebehu konferencie.",null,null,null,{"$f":"IF(OR(B59=\"So\",B59=\"Ne\"),\"dobre\",IF(C59>D59,\"zle\",IF(AND(C59<=VEMA!P$30,VEMA!Q$30<=D59),\"obed\",IF(OR(D59<=VEMA!P$30,VEMA!Q$30<=C59),\"dobre\",\"zle\"))))","v":"dobre"}]
[{"$f":"IF(A57=\"\",\"\",IF(A57+1<=$D$146,A57+1,\"\"))","v":14},{"$f":"IF(A60=\"\",\"\",IF(B57=\"Po\",\"Ut\",IF(B57=\"Ut\",\"St\",IF(B57=\"St\",\"Št\",IF(B57=\"Št\",\"Pi\",IF(B57=\"Pi\",\"So\",IF(B57=\"So\",\"Ne\",IF(B57=\"Ne\",\"Po\",\"\"))))))))","v":"Po"},null,null,{"$f":"IF(OR(U60=\"dobre\",U60=\"obed\"),IF(OR(B60=\"So\",B60=\"Ne\"),\"\",IF(OR(D60<=VEMA!P$31,C60>=VEMA!Q$31),(D60-C60)*24,(D60-C60)*24-VEMA!R$31)),\"<< zlý čas\")","v":0},null,null,null,null,0,0,null,null,null,null,null,"4.1.18. OPK:  Spracovanie výstupov z realizovanej konferencie.",null,{"$f":"IF(SUM(E60:E62)=0,\"\",SUM(E60:E62))","v":""},null,{"$f":"IF(OR(B60=\"So\",B60=\"Ne\"),\"dobre\",IF(C60>D60,\"zle\",IF(AND(C60<=VEMA!P$31,VEMA!Q$31<=D60),\"obed\",IF(OR(D60<=VEMA!P$31,VEMA!Q$31<=C60),\"dobre\",\"zle\"))))","v":"dobre"}]
[null,{"$f":"B60","v":"Po"},null,null,{"$f":"IF(OR(U61=\"dobre\",U61=\"obed\"),IF(OR(B61=\"So\",B61=\"Ne\"),\"\",IF(OR(D61<=VEMA!P$31,C61>=VEMA!Q$31),(D61-C61)*24,(D61-C61)*24-VEMA!R$31)),\"<< zlý čas\")","v":0},null,null,null,null,0,0,null,null,null,null,null,"4.1.18. OPK:  Spracovanie diskusií z jednotlivých sekcií a  z jednotlivých workshopov.",null,null,null,{"$f":"IF(OR(B61=\"So\",B61=\"Ne\"),\"dobre\",IF(C61>D61,\"zle\",IF(AND(C61<=VEMA!P$31,VEMA!Q$31<=D61),\"obed\",IF(OR(D61<=VEMA!P$31,VEMA!Q$31<=C61),\"dobre\",\"zle\"))))","v":"dobre"}]
[null,{"$f":"B61","v":"Po"},null,null,{"$f":"IF(OR(U62=\"dobre\",U62=\"obed\"),IF(OR(B62=\"So\",B62=\"Ne\"),\"\",IF(OR(D62<=VEMA!P$31,C62>=VEMA!Q$31),(D62-C62)*24,(D62-C62)*24-VEMA!R$31)),\"<< zlý čas\")","v":0},null,null,null,null,0,0,null,null,null,null,null,"4.1.20. LUF: Výkon činnosti lektora v rámci učiteľského fóra podľa opisu a schváleného plánu práce.  ",null,null,null,{"$f":"IF(OR(B62=\"So\",B62=\"Ne\"),\"dobre\",IF(C62>D62,\"zle\",IF(AND(C62<=VEMA!P$31,VEMA!Q$31<=D62),\"obed\",IF(OR(D62<=VEMA!P$31,VEMA!Q$31<=C62),\"dobre\",\"zle\"))))","v":"dobre"}]
[{"$f":"IF(A60=\"\",\"\",IF(A60+1<=$D$146,A60+1,\"\"))","v":15},{"$f":"IF(A63=\"\",\"\",IF(B60=\"Po\",\"Ut\",IF(B60=\"Ut\",\"St\",IF(B60=\"St\",\"Št\",IF(B60=\"Št\",\"Pi\",IF(B60=\"Pi\",\"So\",IF(B60=\"So\",\"Ne\",IF(B60=\"Ne\",\"Po\",\"\"))))))))","v":"Ut"},null,null,{"$f":"IF(OR(U63=\"dobre\",U63=\"obed\"),IF(OR(B63=\"So\",B63=\"Ne\"),\"\",IF(OR(D63<=VEMA!P$32,C63>=VEMA!Q$32),(D63-C63)*24,(D63-C63)*24-VEMA!R$32)),\"<< zlý čas\")","v":0},null,null,null,null,0,0,null,null,null,null,null,"4.1.20. LUF: Príprava programu a scenára stretnutia učiteľského fóra.",null,{"$f":"IF(SUM(E63:E65)=0,\"\",SUM(E63:E65))","v":""},null,{"$f":"IF(OR(B63=\"So\",B63=\"Ne\"),\"dobre\",IF(C63>D63,\"zle\",IF(AND(C63<=VEMA!P$32,VEMA!Q$32<=D63),\"obed\",IF(OR(D63<=VEMA!P$32,VEMA!Q$32<=C63),\"dobre\",\"zle\"))))","v":"dobre"}]
[null,{"$f":"B63","v":"Ut"},null,null,{"$f":"IF(OR(U64=\"dobre\",U64=\"obed\"),IF(OR(B64=\"So\",B64=\"Ne\"),\"\",IF(OR(D64<=VEMA!P$32,C64>=VEMA!Q$32),(D64-C64)*24,(D64-C64)*24-VEMA!R$32)),\"<< zlý čas\")","v":0},null,null,null,null,0,0,null,null,null,null,null,"4.1.20 LUF: Odborné vedenie diskusie účastníkov fóra v rámci diskusných skupín, diskusných fór.",null,null,null,{"$f":"IF(OR(B64=\"So\",B64=\"Ne\"),\"dobre\",IF(C64>D64,\"zle\",IF(AND(C64<=VEMA!P$32,VEMA!Q$32<=D64),\"obed\",IF(OR(D64<=VEMA!P$32,VEMA!Q$32<=C64),\"dobre\",\"zle\"))))","v":"dobre"}]
[null,{"$f":"B64","v":"Ut"},null,null,{"$f":"IF(OR(U65=\"dobre\",U65=\"obed\"),IF(OR(B65=\"So\",B65=\"Ne\"),\"\",IF(OR(D65<=VEMA!P$32,C65>=VEMA!Q$32),(D65-C65)*24,(D65-C65)*24-VEMA!R$32)),\"<< zlý čas\")","v":0},null,null,null,null,0,0,null,null,null,null,null,"4.1.20. LUF: Príprava programu a dokumentácie, realizácia učiteľského fóra.",null,null,null,{"$f":"IF(OR(B65=\"So\",B65=\"Ne\"),\"dobre\",IF(C65>D65,\"zle\",IF(AND(C65<=VEMA!P$32,VEMA!Q$32<=D65),\"obed\",IF(OR(D65<=VEMA!P$32,VEMA!Q$32<=C65),\"dobre\",\"zle\"))))","v":"dobre"}]
[{"$f":"IF(A63=\"\",\"\",IF(A63+1<=$D$146,A63+1,\"\"))","v":16},{"$f":"IF(A66=\"\",\"\",IF(B63=\"Po\",\"Ut\",IF(B63=\"Ut\",\"St\",IF(B63=\"St\",\"Št\",IF(B63=\"Št\",\"Pi\",IF(B63=\"Pi\",\"So\",IF(B63=\"So\",\"Ne\",IF(B63=\"Ne\",\"Po\",\"\"))))))))","v":"St"},null,null,{"$f":"IF(OR(U66=\"dobre\",U66=\"obed\"),IF(OR(B66=\"So\",B66=\"Ne\"),\"\",IF(OR(D66<=VEMA!P$33,C66>=VEMA!Q$33),(D66-C66)*24,(D66-C66)*24-VEMA!R$33)),\"<< zlý čas\")","v":0},null,null,null,null,0,0,null,null,null,null,null,"4.1.22. MUF: Založenie skupiny účastníkov fóra v CIS MPC, Moodle a používaných aplikáciách.",null,{"$f":"IF(SUM(E66:E68)=0,\"\",SUM(E66:E68))","v":""},null,{"$f":"IF(OR(B66=\"So\",B66=\"Ne\"),\"dobre\",IF(C66>D66,\"zle\",IF(AND(C66<=VEMA!P$33,VEMA!Q$33<=D66),\"obed\",IF(OR(D66<=VEMA!P$33,VEMA!Q$33<=C66),\"dobre\",\"zle\"))))","v":"dobre"}]
[null,{"$f":"B66","v":"St"},null,null,{"$f":"IF(OR(U67=\"dobre\",U67=\"obed\"),IF(OR(B67=\"So\",B67=\"Ne\"),\"\",IF(OR(D67<=VEMA!P$33,C67>=VEMA!Q$33),(D67-C67)*24,(D67-C67)*24-VEMA!R$33)),\"<< zlý čas\")","v":0},null,null,null,null,0,0,null,null,null,null,null,"4.1.22. MUF: Správa skupiny účastníkov fóra v CIS MPC, Moodle a používaných aplikáciách.",null,null,null,{"$f":"IF(OR(B67=\"So\",B67=\"Ne\"),\"dobre\",IF(C67>D67,\"zle\",IF(AND(C67<=VEMA!P$33,VEMA!Q$33<=D67),\"obed\",IF(OR(D67<=VEMA!P$33,VEMA!Q$33<=C67),\"dobre\",\"zle\"))))","v":"dobre"}]
[null,{"$f":"B67","v":"St"},null,null,{"$f":"IF(OR(U68=\"dobre\",U68=\"obed\"),IF(OR(B68=\"So\",B68=\"Ne\"),\"\",IF(OR(D68<=VEMA!P$33,C68>=VEMA!Q$33),(D68-C68)*24,(D68-C68)*24-VEMA!R$33)),\"<< zlý čas\")","v":0},null,null,null,null,0,0,null,null,null,null,null,"4.1.22. MUF: Snímanie aktuálnych potrieb PZ a OZ pred založením a v priebehu činnosti fóra.",null,null,null,{"$f":"IF(OR(B68=\"So\",B68=\"Ne\"),\"dobre\",IF(C68>D68,\"zle\",IF(AND(C68<=VEMA!P$33,VEMA!Q$33<=D68),\"obed\",IF(OR(D68<=VEMA!P$33,VEMA!Q$33<=C68),\"dobre\",\"zle\"))))","v":"dobre"}]
[{"$f":"IF(A66=\"\",\"\",IF(A66+1<=$D$146,A66+1,\"\"))","v":17},{"$f":"IF(A69=\"\",\"\",IF(B66=\"Po\",\"Ut\",IF(B66=\"Ut\",\"St\",IF(B66=\"St\",\"Št\",IF(B66=\"Št\",\"Pi\",IF(B66=\"Pi\",\"So\",IF(B66=\"So\",\"Ne\",IF(B66=\"Ne\",\"Po\",\"\"))))))))","v":"Št"},null,null,{"$f":"IF(OR(U69=\"dobre\",U69=\"obed\"),IF(OR(B69=\"So\",B69=\"Ne\"),\"\",IF(OR(D69<=VEMA!P$34,C69>=VEMA!Q$34),(D69-C69)*24,(D69-C69)*24-VEMA!R$34)),\"<< zlý čas\")","v":0},null,null,null,null,0,0,null,null,null,null,null,"4.1.22. MUF: Iniciovanie, príprava a realizácia prieskumov realizovaných v rámci fóra učiteľov",null,{"$f":"IF(SUM(E69:E71)=0,\"\",SUM(E69:E71))","v":""},null,{"$f":"IF(OR(B69=\"So\",B69=\"Ne\"),\"dobre\",IF(C69>D69,\"zle\",IF(AND(C69<=VEMA!P$34,VEMA!Q$34<=D69),\"obed\",IF(OR(D69<=VEMA!P$34,VEMA!Q$34<=C69),\"dobre\",\"zle\"))))","v":"dobre"}]
[null,{"$f":"B69","v":"Št"},null,null,{"$f":"IF(OR(U70=\"dobre\",U70=\"obed\"),IF(OR(B70=\"So\",B70=\"Ne\"),\"\",IF(OR(D70<=VEMA!P$34,C70>=VEMA!Q$34),(D70-C70)*24,(D70-C70)*24-VEMA!R$34)),\"<< zlý čas\")","v":0},null,null,null,null,0,0,null,null,null,null,null,"4.1.22. MUF: Riadenie pracovnej skupiny lektorov v rámci fóra učiteľov.",null,null,null,{"$f":"IF(OR(B70=\"So\",B70=\"Ne\"),\"dobre\",IF(C70>D70,\"zle\",IF(AND(C70<=VEMA!P$34,VEMA!Q$34<=D70),\"obed\",IF(OR(D70<=VEMA!P$34,VEMA!Q$34<=C70),\"dobre\",\"zle\"))))","v":"dobre"}]
[null,{"$f":"B70","v":"Št"},null,null,{"$f":"IF(OR(U71=\"dobre\",U71=\"obed\"),IF(OR(B71=\"So\",B71=\"Ne\"),\"\",IF(OR(D71<=VEMA!P$34,C71>=VEMA!Q$34),(D71-C71)*24,(D71-C71)*24-VEMA!R$34)),\"<< zlý čas\")","v":0},null,null,null,null,0,0,null,null,null,null,null,"4.1.22. MUF: Podpora lektorov pri príprave materiálov učiteľského fóra.",null,null,null,{"$f":"IF(OR(B71=\"So\",B71=\"Ne\"),\"dobre\",IF(C71>D71,\"zle\",IF(AND(C71<=VEMA!P$34,VEMA!Q$34<=D71),\"obed\",IF(OR(D71<=VEMA!P$34,VEMA!Q$34<=C71),\"dobre\",\"zle\"))))","v":"dobre"}]
[{"$f":"IF(A69=\"\",\"\",IF(A69+1<=$D$146,A69+1,\"\"))","v":18},{"$f":"IF(A72=\"\",\"\",IF(B69=\"Po\",\"Ut\",IF(B69=\"Ut\",\"St\",IF(B69=\"St\",\"Št\",IF(B69=\"Št\",\"Pi\",IF(B69=\"Pi\",\"So\",IF(B69=\"So\",\"Ne\",IF(B69=\"Ne\",\"Po\",\"\"))))))))","v":"Pi"},null,null,{"$f":"IF(OR(U72=\"dobre\",U72=\"obed\"),IF(OR(B72=\"So\",B72=\"Ne\"),\"\",IF(OR(D72<=VEMA!P$35,C72>=VEMA!Q$35),(D72-C72)*24,(D72-C72)*24-VEMA!R$35)),\"<< zlý čas\")","v":0},null,null,null,null,0,0,null,null,null,null,null,"4.1.22. MUF: Spracovanie výstupov zo stretnutia učiteľského fóra, spracovanie prehľadov a sumárnych výstupov z činnosti fóra učiteľov.",null,{"$f":"IF(SUM(E72:E74)=0,\"\",SUM(E72:E74))","v":""},null,{"$f":"IF(OR(B72=\"So\",B72=\"Ne\"),\"dobre\",IF(C72>D72,\"zle\",IF(AND(C72<=VEMA!P$35,VEMA!Q$35<=D72),\"obed\",IF(OR(D72<=VEMA!P$35,VEMA!Q$35<=C72),\"dobre\",\"zle\"))))","v":"dobre"}]
[null,{"$f":"B72","v":"Pi"},null,null,{"$f":"IF(OR(U73=\"dobre\",U73=\"obed\"),IF(OR(B73=\"So\",B73=\"Ne\"),\"\",IF(OR(D73<=VEMA!P$35,C73>=VEMA!Q$35),(D73-C73)*24,(D73-C73)*24-VEMA!R$35)),\"<< zlý čas\")","v":0},null,null,null,null,0,0,null,null,null,null,null,"4.1.22. MUF: Moderovanie priebehu v rámci prezenčných a on-line stretnutí.",null,null,null,{"$f":"IF(OR(B73=\"So\",B73=\"Ne\"),\"dobre\",IF(C73>D73,\"zle\",IF(AND(C73<=VEMA!P$35,VEMA!Q$35<=D73),\"obed\",IF(OR(D73<=VEMA!P$35,VEMA!Q$35<=C73),\"dobre\",\"zle\"))))","v":"dobre"}]
[null,{"$f":"B73","v":"Pi"},null,null,{"$f":"IF(OR(U74=\"dobre\",U74=\"obed\"),IF(OR(B74=\"So\",B74=\"Ne\"),\"\",IF(OR(D74<=VEMA!P$35,C74>=VEMA!Q$35),(D74-C74)*24,(D74-C74)*24-VEMA!R$35)),\"<< zlý čas\")","v":0},null,null,null,null,0,0,null,null,null,null,null,"4.1.22. MUF: Moderovanie priebehu v rámci  príspevkov v diskusných (on-line) fórach v rámci používaných aplikácií.",null,null,null,{"$f":"IF(OR(B74=\"So\",B74=\"Ne\"),\"dobre\",IF(C74>D74,\"zle\",IF(AND(C74<=VEMA!P$35,VEMA!Q$35<=D74),\"obed\",IF(OR(D74<=VEMA!P$35,VEMA!Q$35<=C74),\"dobre\",\"zle\"))))","v":"dobre"}]
[{"$f":"IF(A72=\"\",\"\",IF(A72+1<=$D$146,A72+1,\"\"))","v":19},{"$f":"IF(A75=\"\",\"\",IF(B72=\"Po\",\"Ut\",IF(B72=\"Ut\",\"St\",IF(B72=\"St\",\"Št\",IF(B72=\"Št\",\"Pi\",IF(B72=\"Pi\",\"So\",IF(B72=\"So\",\"Ne\",IF(B72=\"Ne\",\"Po\",\"\"))))))))","v":"So"},null,null,{"$f":"IF(OR(U75=\"dobre\",U75=\"obed\"),IF(OR(B75=\"So\",B75=\"Ne\"),\"\",IF(OR(D75<=VEMA!P$36,C75>=VEMA!Q$36),(D75-C75)*24,(D75-C75)*24-VEMA!R$36)),\"<< zlý čas\")","v":""},null,null,null,null,"","",null,null,null,null,null,"4.1.22. MUF: Moderovanie v organizovanom virtuálnom mieste asynchrónnych online diskusií.",null,{"$f":"IF(SUM(E75:E77)=0,\"\",SUM(E75:E77))","v":""},null,{"$f":"IF(OR(B75=\"So\",B75=\"Ne\"),\"dobre\",IF(C75>D75,\"zle\",IF(AND(C75<=VEMA!P$36,VEMA!Q$36<=D75),\"obed\",IF(OR(D75<=VEMA!P$36,VEMA!Q$36<=C75),\"dobre\",\"zle\"))))","v":"dobre"}]
[null,{"$f":"B75","v":"So"},null,null,{"$f":"IF(OR(U76=\"dobre\",U76=\"obed\"),IF(OR(B76=\"So\",B76=\"Ne\"),\"\",IF(OR(D76<=VEMA!P$36,C76>=VEMA!Q$36),(D76-C76)*24,(D76-C76)*24-VEMA!R$36)),\"<< zlý čas\")","v":""},null,null,null,null,"","",null,null,null,null,null,"4.1.22. MUF: Konzultovanie tém, ktoré navrhnú účastníci fóra (vrátanej offline formy).",null,null,null,{"$f":"IF(OR(B76=\"So\",B76=\"Ne\"),\"dobre\",IF(C76>D76,\"zle\",IF(AND(C76<=VEMA!P$36,VEMA!Q$36<=D76),\"obed\",IF(OR(D76<=VEMA!P$36,VEMA!Q$36<=C76),\"dobre\",\"zle\"))))","v":"dobre"}]
[null,{"$f":"B76","v":"So"},null,null,{"$f":"IF(OR(U77=\"dobre\",U77=\"obed\"),IF(OR(B77=\"So\",B77=\"Ne\"),\"\",IF(OR(D77<=VEMA!P$36,C77>=VEMA!Q$36),(D77-C77)*24,(D77-C77)*24-VEMA!R$36)),\"<< zlý čas\")","v":""},null,null,null,null,"","",null,null,null,null,null,"4.1.22. MUF: Moderovanie učiteľského fóra.",null,null,null,{"$f":"IF(OR(B77=\"So\",B77=\"Ne\"),\"dobre\",IF(C77>D77,\"zle\",IF(AND(C77<=VEMA!P$36,VEMA!Q$36<=D77),\"obed\",IF(OR(D77<=VEMA!P$36,VEMA!Q$36<=C77),\"dobre\",\"zle\"))))","v":"dobre"}]
[{"$f":"IF(A75=\"\",\"\",IF(A75+1<=$D$146,A75+1,\"\"))","v":20},{"$f":"IF(A78=\"\",\"\",IF(B75=\"Po\",\"Ut\",IF(B75=\"Ut\",\"St\",IF(B75=\"St\",\"Št\",IF(B75=\"Št\",\"Pi\",IF(B75=\"Pi\",\"So\",IF(B75=\"So\",\"Ne\",IF(B75=\"Ne\",\"Po\",\"\"))))))))","v":"Ne"},null,null,{"$f":"IF(OR(U78=\"dobre\",U78=\"obed\"),IF(OR(B78=\"So\",B78=\"Ne\"),\"\",IF(OR(D78<=VEMA!P$37,C78>=VEMA!Q$37),(D78-C78)*24,(D78-C78)*24-VEMA!R$37)),\"<< zlý čas\")","v":""},null,null,null,null,"","",null,null,null,null,null,"4.1.23. A: Realizácia prieskumnej činnosti v projekte.",null,{"$f":"IF(SUM(E78:E80)=0,\"\",SUM(E78:E80))","v":""},null,{"$f":"IF(OR(B78=\"So\",B78=\"Ne\"),\"dobre\",IF(C78>D78,\"zle\",IF(AND(C78<=VEMA!P$37,VEMA!Q$37<=D78),\"obed\",IF(OR(D78<=VEMA!P$37,VEMA!Q$37<=C78),\"dobre\",\"zle\"))))","v":"dobre"}]
[null,{"$f":"B78","v":"Ne"},null,null,{"$f":"IF(OR(U79=\"dobre\",U79=\"obed\"),IF(OR(B79=\"So\",B79=\"Ne\"),\"\",IF(OR(D79<=VEMA!P$37,C79>=VEMA!Q$37),(D79-C79)*24,(D79-C79)*24-VEMA!R$37)),\"<< zlý čas\")","v":""},null,null,null,null,"","",null,null,null,null,null,"4.1.23. A: Návrh zámeru prieskumu, cieľov, metodiky, nástrojov zisťovania a cieľovej skupiny.",null,null,null,{"$f":"IF(OR(B79=\"So\",B79=\"Ne\"),\"dobre\",IF(C79>D79,\"zle\",IF(AND(C79<=VEMA!P$37,VEMA!Q$37<=D79),\"obed\",IF(OR(D79<=VEMA!P$37,VEMA!Q$37<=C79),\"dobre\",\"zle\"))))","v":"dobre"}]
[null,{"$f":"B79","v":"Ne"},null,null,{"$f":"IF(OR(U80=\"dobre\",U80=\"obed\"),IF(OR(B80=\"So\",B80=\"Ne\"),\"\",IF(OR(D80<=VEMA!P$37,C80>=VEMA!Q$37),(D80-C80)*24,(D80-C80)*24-VEMA!R$37)),\"<< zlý čas\")","v":""},null,null,null,null,"","",null,null,null,null,null,"4.1.23. A: Určenie postupu, termínu a miesta realizácie opytovania.",null,null,null,{"$f":"IF(OR(B80=\"So\",B80=\"Ne\"),\"dobre\",IF(C80>D80,\"zle\",IF(AND(C80<=VEMA!P$37,VEMA!Q$37<=D80),\"obed\",IF(OR(D80<=VEMA!P$37,VEMA!Q$37<=C80),\"dobre\",\"zle\"))))","v":"dobre"}]
[{"$f":"IF(A78=\"\",\"\",IF(A78+1<=$D$146,A78+1,\"\"))","v":21},{"$f":"IF(A81=\"\",\"\",IF(B78=\"Po\",\"Ut\",IF(B78=\"Ut\",\"St\",IF(B78=\"St\",\"Št\",IF(B78=\"Št\",\"Pi\",IF(B78=\"Pi\",\"So\",IF(B78=\"So\",\"Ne\",IF(B78=\"Ne\",\"Po\",\"\"))))))))","v":"Po"},null,null,{"$f":"IF(OR(U81=\"dobre\",U81=\"obed\"),IF(OR(B81=\"So\",B81=\"Ne\"),\"\",IF(OR(D81<=VEMA!P$38,C81>=VEMA!Q$38),(D81-C81)*24,(D81-C81)*24-VEMA!R$38)),\"<< zlý čas\")","v":0},null,null,null,null,0,0,null,null,null,null,null,"4.1.23. A:  Spracovanie a interpretácia zistenia z opytovania.",null,{"$f":"IF(SUM(E81:E83)=0,\"\",SUM(E81:E83))","v":""},null,{"$f":"IF(OR(B81=\"So\",B81=\"Ne\"),\"dobre\",IF(C81>D81,\"zle\",IF(AND(C81<=VEMA!P$38,VEMA!Q$38<=D81),\"obed\",IF(OR(D81<=VEMA!P$38,VEMA!Q$38<=C81),\"dobre\",\"zle\"))))","v":"dobre"}]
[null,{"$f":"B81","v":"Po"},null,null,{"$f":"IF(OR(U82=\"dobre\",U82=\"obed\"),IF(OR(B82=\"So\",B82=\"Ne\"),\"\",IF(OR(D82<=VEMA!P$38,C82>=VEMA!Q$38),(D82-C82)*24,(D82-C82)*24-VEMA!R$38)),\"<< zlý čas\")","v":0},null,null,null,null,0,0,null,null,null,null,null,"4.1.23. A: Formulovanie návrhov a odporúčaní vyplývajúcich z prieskumu pre realizáciu projektu.",null,null,null,{"$f":"IF(OR(B82=\"So\",B82=\"Ne\"),\"dobre\",IF(C82>D82,\"zle\",IF(AND(C82<=VEMA!P$38,VEMA!Q$38<=D82),\"obed\",IF(OR(D82<=VEMA!P$38,VEMA!Q$38<=C82),\"dobre\",\"zle\"))))","v":"dobre"}]
[null,{"$f":"B82","v":"Po"},null,null,{"$f":"IF(OR(U83=\"dobre\",U83=\"obed\"),IF(OR(B83=\"So\",B83=\"Ne\"),\"\",IF(OR(D83<=VEMA!P$38,C83>=VEMA!Q$38),(D83-C83)*24,(D83-C83)*24-VEMA!R$38)),\"<< zlý čas\")","v":0},null,null,null,null,0,0,null,null,null,null,null,"4.1.23. A: Realizácia prieskumnej činnosti v projekte, následne spracovanie a interpretácia zistenia z opytovania, finalizácia prieskumu.",null,null,null,{"$f":"IF(OR(B83=\"So\",B83=\"Ne\"),\"dobre\",IF(C83>D83,\"zle\",IF(AND(C83<=VEMA!P$38,VEMA!Q$38<=D83),\"obed\",IF(OR(D83<=VEMA!P$38,VEMA!Q$38<=C83),\"dobre\",\"zle\"))))","v":"dobre"}]
[{"$f":"IF(A81=\"\",\"\",IF(A81+1<=$D$146,A81+1,\"\"))","v":22},{"$f":"IF(A84=\"\",\"\",IF(B81=\"Po\",\"Ut\",IF(B81=\"Ut\",\"St\",IF(B81=\"St\",\"Št\",IF(B81=\"Št\",\"Pi\",IF(B81=\"Pi\",\"So\",IF(B81=\"So\",\"Ne\",IF(B81=\"Ne\",\"Po\",\"\"))))))))","v":"Ut"},null,null,{"$f":"IF(OR(U84=\"dobre\",U84=\"obed\"),IF(OR(B84=\"So\",B84=\"Ne\"),\"\",IF(OR(D84<=VEMA!P$39,C84>=VEMA!Q$39),(D84-C84)*24,(D84-C84)*24-VEMA!R$39)),\"<< zlý čas\")","v":0},null,null,null,null,0,0,null,null,null,null,null,"4.1.25. T PV a UZ: Návrh programu vzdelávania.",null,{"$f":"IF(SUM(E84:E86)=0,\"\",SUM(E84:E86))","v":""},null,{"$f":"IF(OR(B84=\"So\",B84=\"Ne\"),\"dobre\",IF(C84>D84,\"zle\",IF(AND(C84<=VEMA!P$39,VEMA!Q$39<=D84),\"obed\",IF(OR(D84<=VEMA!P$39,VEMA!Q$39<=C84),\"dobre\",\"zle\"))))","v":"dobre"}]
[null,{"$f":"B84","v":"Ut"},null,null,{"$f":"IF(OR(U85=\"dobre\",U85=\"obed\"),IF(OR(B85=\"So\",B85=\"Ne\"),\"\",IF(OR(D85<=VEMA!P$39,C85>=VEMA!Q$39),(D85-C85)*24,(D85-C85)*24-VEMA!R$39)),\"<< zlý čas\")","v":0},null,null,null,null,{"$f":"IF(B85=\"\",\"\",IF(B85=\"So\",\"\",(IF(B85=\"Ne\",\"\",(ROUND(E85-K85,2))))))","v":0},{"$f":"IF(B85=\"So\",\"\",(IF(B85=\"Ne\",\"\",(IF(B85=\"\",\"\",(IF(COUNTIF(Pozicia,$F$16),ROUND(VRR*E85,2),0)))))))","v":0},null,null,null,null,null,"4.1.25. T PV a UZ: Spracovanie programu vzdelávania.",null,null,null,{"$f":"IF(OR(B85=\"So\",B85=\"Ne\"),\"dobre\",IF(C85>D85,\"zle\",IF(AND(C85<=VEMA!P$39,VEMA!Q$39<=D85),\"obed\",IF(OR(D85<=VEMA!P$39,VEMA!Q$39<=C85),\"dobre\",\"zle\"))))","v":"dobre"}]
[null,{"$f":"B85","v":"Ut"},null,null,{"$f":"IF(OR(U86=\"dobre\",U86=\"obed\"),IF(OR(B86=\"So\",B86=\"Ne\"),\"\",IF(OR(D86<=VEMA!P$39,C86>=VEMA!Q$39),(D86-C86)*24,(D86-C86)*24-VEMA!R$39)),\"<< zlý čas\")","v":0},null,null,null,null,0,0,null,null,null,null,null,"4.1.25. T PV a UZ: Finálne spracovanie programu vzdelávania.",null,null,null,{"$f":"IF(OR(B86=\"So\",B86=\"Ne\"),\"dobre\",IF(C86>D86,\"zle\",IF(AND(C86<=VEMA!P$39,VEMA!Q$39<=D86),\"obed\",IF(OR(D86<=VEMA!P$39,VEMA!Q$39<=C86),\"dobre\",\"zle\"))))","v":"dobre"}]
[{"$f":"IF(A84=\"\",\"\",IF(A84+1<=$D$146,A84+1,\"\"))","v":23},{"$f":"IF(A87=\"\",\"\",IF(B84=\"Po\",\"Ut\",IF(B84=\"Ut\",\"St\",IF(B84=\"St\",\"Št\",IF(B84=\"Št\",\"Pi\",IF(B84=\"Pi\",\"So\",IF(B84=\"So\",\"Ne\",IF(B84=\"Ne\",\"Po\",\"\"))))))))","v":"St"},null,null,{"$f":"IF(OR(U87=\"dobre\",U87=\"obed\"),IF(OR(B87=\"So\",B87=\"Ne\"),\"\",IF(OR(D87<=VEMA!P$40,C87>=VEMA!Q$40),(D87-C87)*24,(D87-C87)*24-VEMA!R$40)),\"<< zlý čas\")","v":0},null,null,null,null,0,0,null,null,null,null,null,"4.1.25. T PV a UZ: Zapracovanie pripomienok do  programu vzdelávania.",null,{"$f":"IF(SUM(E87:E89)=0,\"\",SUM(E87:E89))","v":""},null,{"$f":"IF(OR(B87=\"So\",B87=\"Ne\"),\"dobre\",IF(C87>D87,\"zle\",IF(AND(C87<=VEMA!P$40,VEMA!Q$40<=D87),\"obed\",IF(OR(D87<=VEMA!P$40,VEMA!Q$40<=C87),\"dobre\",\"zle\"))))","v":"dobre"}]
[null,{"$f":"B87","v":"St"},null,null,{"$f":"IF(OR(U88=\"dobre\",U88=\"obed\"),IF(OR(B88=\"So\",B88=\"Ne\"),\"\",IF(OR(D88<=VEMA!P$40,C88>=VEMA!Q$40),(D88-C88)*24,(D88-C88)*24-VEMA!R$40)),\"<< zlý čas\")","v":0},null,null,null,null,0,0,null,null,null,null,null,"4.1.25. T PV a UZ: Návrh učebných zdrojov k programu vzdelávania.",null,null,null,{"$f":"IF(OR(B88=\"So\",B88=\"Ne\"),\"dobre\",IF(C88>D88,\"zle\",IF(AND(C88<=VEMA!P$40,VEMA!Q$40<=D88),\"obed\",IF(OR(D88<=VEMA!P$40,VEMA!Q$40<=C88),\"dobre\",\"zle\"))))","v":"dobre"}]
[null,{"$f":"B88","v":"St"},null,null,{"$f":"IF(OR(U89=\"dobre\",U89=\"obed\"),IF(OR(B89=\"So\",B89=\"Ne\"),\"\",IF(OR(D89<=VEMA!P$40,C89>=VEMA!Q$40),(D89-C89)*24,(D89-C89)*24-VEMA!R$40)),\"<< zlý čas\")","v":0},null,null,null,null,0,0,null,null,null,null,null,"4.1.25. T PV a UZ: Spracovanie  učebných zdrojov k programu vzdelávania.",null,null,null,{"$f":"IF(OR(B89=\"So\",B89=\"Ne\"),\"dobre\",IF(C89>D89,\"zle\",IF(AND(C89<=VEMA!P$40,VEMA!Q$40<=D89),\"obed\",IF(OR(D89<=VEMA!P$40,VEMA!Q$40<=C89),\"dobre\",\"zle\"))))","v":"dobre"}]
[{"$f":"IF(A87=\"\",\"\",IF(A87+1<=$D$146,A87+1,\"\"))","v":24},{"$f":"IF(A90=\"\",\"\",IF(B87=\"Po\",\"Ut\",IF(B87=\"Ut\",\"St\",IF(B87=\"St\",\"Št\",IF(B87=\"Št\",\"Pi\",IF(B87=\"Pi\",\"So\",IF(B87=\"So\",\"Ne\",IF(B87=\"Ne\",\"Po\",\"\"))))))))","v":"Št"},null,null,{"$f":"IF(OR(U90=\"dobre\",U90=\"obed\"),IF(OR(B90=\"So\",B90=\"Ne\"),\"\",IF(OR(D90<=VEMA!P$41,C90>=VEMA!Q$41),(D90-C90)*24,(D90-C90)*24-VEMA!R$41)),\"<< zlý čas\")","v":0},null,null,null,null,0,0,null,null,null,null,null,"4.1.25. T PV a UZ: Zapracovanie pripomienok do  programu vzdelávania a do učebných zdrojov.",null,{"$f":"IF(SUM(E90:E92)=0,\"\",SUM(E90:E92))","v":""},null,{"$f":"IF(OR(B90=\"So\",B90=\"Ne\"),\"dobre\",IF(C90>D90,\"zle\",IF(AND(C90<=VEMA!P$41,VEMA!Q$41<=D90),\"obed\",IF(OR(D90<=VEMA!P$41,VEMA!Q$41<=C90),\"dobre\",\"zle\"))))","v":"dobre"}]
[null,{"$f":"B90","v":"Št"},null,null,{"$f":"IF(OR(U91=\"dobre\",U91=\"obed\"),IF(OR(B91=\"So\",B91=\"Ne\"),\"\",IF(OR(D91<=VEMA!P$41,C91>=VEMA!Q$41),(D91-C91)*24,(D91-C91)*24-VEMA!R$41)),\"<< zlý čas\")","v":0},null,null,null,null,0,0,null,null,null,null,null,"4.1.25. T PV a UZ:  Návrh  a spracovanie programu vzdelávania a učebných zdrojov.",null,null,null,{"$f":"IF(OR(B91=\"So\",B91=\"Ne\"),\"dobre\",IF(C91>D91,\"zle\",IF(AND(C91<=VEMA!P$41,VEMA!Q$41<=D91),\"obed\",IF(OR(D91<=VEMA!P$41,VEMA!Q$41<=C91),\"dobre\",\"zle\"))))","v":"dobre"}]
[null,{"$f":"B91","v":"Št"},null,null,{"$f":"IF(OR(U92=\"dobre\",U92=\"obed\"),IF(OR(B92=\"So\",B92=\"Ne\"),\"\",IF(OR(D92<=VEMA!P$41,C92>=VEMA!Q$41),(D92-C92)*24,(D92-C92)*24-VEMA!R$41)),\"<< zlý čas\")","v":0},null,null,null,null,0,0,null,null,null,null,null,"4.1.25. T PV a UZ: Finalizácia vzdelávacieho programu a učebných zdrojov.",null,null,null,{"$f":"IF(OR(B92=\"So\",B92=\"Ne\"),\"dobre\",IF(C92>D92,\"zle\",IF(AND(C92<=VEMA!P$41,VEMA!Q$41<=D92),\"obed\",IF(OR(D92<=VEMA!P$41,VEMA!Q$41<=C92),\"dobre\",\"zle\"))))","v":"dobre"}]
[{"$f":"IF(A90=\"\",\"\",IF(A90+1<=$D$146,A90+1,\"\"))","v":25},{"$f":"IF(A93=\"\",\"\",IF(B90=\"Po\",\"Ut\",IF(B90=\"Ut\",\"St\",IF(B90=\"St\",\"Št\",IF(B90=\"Št\",\"Pi\",IF(B90=\"Pi\",\"So\",IF(B90=\"So\",\"Ne\",IF(B90=\"Ne\",\"Po\",\"\"))))))))","v":"Pi"},null,null,{"$f":"IF(OR(U93=\"dobre\",U93=\"obed\"),IF(OR(B93=\"So\",B93=\"Ne\"),\"\",IF(OR(D93<=VEMA!P$42,C93>=VEMA!Q$42),(D93-C93)*24,(D93-C93)*24-VEMA!R$42)),\"<< zlý čas\")","v":0},null,null,null,null,0,0,null,null,null,null,null,"4.1.25. T PV a UZ: Konzultovanie pripomienok s konzultantom obsahu PV a UZ.",null,{"$f":"IF(SUM(E93:E95)=0,\"\",SUM(E93:E95))","v":""},null,{"$f":"IF(OR(B93=\"So\",B93=\"Ne\"),\"dobre\",IF(C93>D93,\"zle\",IF(AND(C93<=VEMA!P$42,VEMA!Q$42<=D93),\"obed\",IF(OR(D93<=VEMA!P$42,VEMA!Q$42<=C93),\"dobre\",\"zle\"))))","v":"dobre"}]
[null,{"$f":"B93","v":"Pi"},null,null,{"$f":"IF(OR(U94=\"dobre\",U94=\"obed\"),IF(OR(B94=\"So\",B94=\"Ne\"),\"\",IF(OR(D94<=VEMA!P$42,C94>=VEMA!Q$42),(D94-C94)*24,(D94-C94)*24-VEMA!R$42)),\"<< zlý čas\")","v":0},null,null,null,null,0,0,null,null,null,null,null,"4.1.28. OG IV: Dohľad pri realizácii vzdelávacích aktivít v inovačných programoch vzdelávania.",null,null,null,{"$f":"IF(OR(B94=\"So\",B94=\"Ne\"),\"dobre\",IF(C94>D94,\"zle\",IF(AND(C94<=VEMA!P$42,VEMA!Q$42<=D94),\"obed\",IF(OR(D94<=VEMA!P$42,VEMA!Q$42<=C94),\"dobre\",\"zle\"))))","v":"dobre"}]
[null,{"$f":"B94","v":"Pi"},null,null,{"$f":"IF(OR(U95=\"dobre\",U95=\"obed\"),IF(OR(B95=\"So\",B95=\"Ne\"),\"\",IF(OR(D95<=VEMA!P$42,C95>=VEMA!Q$42),(D95-C95)*24,(D95-C95)*24-VEMA!R$42)),\"<< zlý čas\")","v":0},null,null,null,null,0,0,null,null,null,null,null,"4.1.28. OG IV: Príprava a vedie lektorov.",null,null,null,{"$f":"IF(OR(B95=\"So\",B95=\"Ne\"),\"dobre\",IF(C95>D95,\"zle\",IF(AND(C95<=VEMA!P$42,VEMA!Q$42<=D95),\"obed\",IF(OR(D95<=VEMA!P$42,VEMA!Q$42<=C95),\"dobre\",\"zle\"))))","v":"dobre"}]
[{"$f":"IF(A93=\"\",\"\",IF(A93+1<=$D$146,A93+1,\"\"))","v":26},{"$f":"IF(A96=\"\",\"\",IF(B93=\"Po\",\"Ut\",IF(B93=\"Ut\",\"St\",IF(B93=\"St\",\"Št\",IF(B93=\"Št\",\"Pi\",IF(B93=\"Pi\",\"So\",IF(B93=\"So\",\"Ne\",IF(B93=\"Ne\",\"Po\",\"\"))))))))","v":"So"},null,null,{"$f":"IF(OR(U96=\"dobre\",U96=\"obed\"),IF(OR(B96=\"So\",B96=\"Ne\"),\"\",IF(OR(D96<=VEMA!P$43,C96>=VEMA!Q$43),(D96-C96)*24,(D96-C96)*24-VEMA!R$43)),\"<< zlý čas\")","v":""},null,null,null,null,"","",null,null,null,null,null,"4.1.28. OG IV: Kontrola priebehu  realizácie vzdelávacích programov.",null,{"$f":"IF(SUM(E96:E98)=0,\"\",SUM(E96:E98))","v":""},null,{"$f":"IF(OR(B96=\"So\",B96=\"Ne\"),\"dobre\",IF(C96>D96,\"zle\",IF(AND(C96<=VEMA!P$43,VEMA!Q$43<=D96),\"obed\",IF(OR(D96<=VEMA!P$43,VEMA!Q$43<=C96),\"dobre\",\"zle\"))))","v":"dobre"}]
[null,{"$f":"B96","v":"So"},null,null,{"$f":"IF(OR(U97=\"dobre\",U97=\"obed\"),IF(OR(B97=\"So\",B97=\"Ne\"),\"\",IF(OR(D97<=VEMA!P$43,C97>=VEMA!Q$43),(D97-C97)*24,(D97-C97)*24-VEMA!R$43)),\"<< zlý čas\")","v":""},null,null,null,null,"","",null,null,null,null,null,"4.1.28. OG IV: Kontrola ukončenia realizácie vzdelávacích programov.",null,null,null,{"$f":"IF(OR(B97=\"So\",B97=\"Ne\"),\"dobre\",IF(C97>D97,\"zle\",IF(AND(C97<=VEMA!P$43,VEMA!Q$43<=D97),\"obed\",IF(OR(D97<=VEMA!P$43,VEMA!Q$43<=C97),\"dobre\",\"zle\"))))","v":"dobre"}]
[null,{"$f":"B97","v":"So"},null,null,{"$f":"IF(OR(U98=\"dobre\",U98=\"obed\"),IF(OR(B98=\"So\",B98=\"Ne\"),\"\",IF(OR(D98<=VEMA!P$43,C98>=VEMA!Q$43),(D98-C98)*24,(D98-C98)*24-VEMA!R$43)),\"<< zlý čas\")","v":""},null,null,null,null,"","",null,null,null,null,null,"4.1.28. OG IV: Vyhodnotenie realizácie programu vzdelávania.",null,null,null,{"$f":"IF(OR(B98=\"So\",B98=\"Ne\"),\"dobre\",IF(C98>D98,\"zle\",IF(AND(C98<=VEMA!P$43,VEMA!Q$43<=D98),\"obed\",IF(OR(D98<=VEMA!P$43,VEMA!Q$43<=C98),\"dobre\",\"zle\"))))","v":"dobre"}]
[{"$f":"IF(A96=\"\",\"\",IF(A96+1<=$D$146,A96+1,\"\"))","v":27},{"$f":"IF(A99=\"\",\"\",IF(B96=\"Po\",\"Ut\",IF(B96=\"Ut\",\"St\",IF(B96=\"St\",\"Št\",IF(B96=\"Št\",\"Pi\",IF(B96=\"Pi\",\"So\",IF(B96=\"So\",\"Ne\",IF(B96=\"Ne\",\"Po\",\"\"))))))))","v":"Ne"},null,null,{"$f":"IF(OR(U99=\"dobre\",U99=\"obed\"),IF(OR(B99=\"So\",B99=\"Ne\"),\"\",IF(OR(D99<=VEMA!P$44,C99>=VEMA!Q$44),(D99-C99)*24,(D99-C99)*24-VEMA!R$44)),\"<< zlý čas\")","v":""},null,null,null,null,"","",null,null,null,null,null,"4.1.28. OG IV: Príprava podkladov na archiváciu v zmysle interných a projektových pokynov.",null,{"$f":"IF(SUM(E99:E101)=0,\"\",SUM(E99:E101))","v":""},null,{"$f":"IF(OR(B99=\"So\",B99=\"Ne\"),\"dobre\",IF(C99>D99,\"zle\",IF(AND(C99<=VEMA!P$44,VEMA!Q$44<=D99),\"obed\",IF(OR(D99<=VEMA!P$44,VEMA!Q$44<=C99),\"dobre\",\"zle\"))))","v":"dobre"}]
[null,{"$f":"B99","v":"Ne"},null,null,{"$f":"IF(OR(U100=\"dobre\",U100=\"obed\"),IF(OR(B100=\"So\",B100=\"Ne\"),\"\",IF(OR(D100<=VEMA!P$44,C100>=VEMA!Q$44),(D100-C100)*24,(D100-C100)*24-VEMA!R$44)),\"<< zlý čas\")","v":""},null,null,null,null,"","",null,null,null,null,null,"4.1.28. OG IV: Kontrola zapracovaných pripomienok.",null,null,null,{"$f":"IF(OR(B100=\"So\",B100=\"Ne\"),\"dobre\",IF(C100>D100,\"zle\",IF(AND(C100<=VEMA!P$44,VEMA!Q$44<=D100),\"obed\",IF(OR(D100<=VEMA!P$44,VEMA!Q$44<=C100),\"dobre\",\"zle\"))))","v":"dobre"}]
[null,{"$f":"B100","v":"Ne"},null,null,{"$f":"IF(OR(U101=\"dobre\",U101=\"obed\"),IF(OR(B101=\"So\",B101=\"Ne\"),\"\",IF(OR(D101<=VEMA!P$44,C101>=VEMA!Q$44),(D101-C101)*24,(D101-C101)*24-VEMA!R$44)),\"<< zlý čas\")","v":""},null,null,null,null,"","",null,null,null,null,null,"4.1.28. OG IV: Účasť na porade k vzdelávacím programom v rámci národného projektu.",null,null,null,{"$f":"IF(OR(B101=\"So\",B101=\"Ne\"),\"dobre\",IF(C101>D101,\"zle\",IF(AND(C101<=VEMA!P$44,VEMA!Q$44<=D101),\"obed\",IF(OR(D101<=VEMA!P$44,VEMA!Q$44<=C101),\"dobre\",\"zle\"))))","v":"dobre"}]
[{"$f":"IF(A99=\"\",\"\",IF(A99+1<=$D$146,A99+1,\"\"))","v":28},{"$f":"IF(A102=\"\",\"\",IF(B99=\"Po\",\"Ut\",IF(B99=\"Ut\",\"St\",IF(B99=\"St\",\"Št\",IF(B99=\"Št\",\"Pi\",IF(B99=\"Pi\",\"So\",IF(B99=\"So\",\"Ne\",IF(B99=\"Ne\",\"Po\",\"\"))))))))","v":"Po"},null,null,{"$f":"IF(OR(U102=\"dobre\",U102=\"obed\"),IF(OR(B102=\"So\",B102=\"Ne\"),\"\",IF(OR(D102<=VEMA!P$45,C102>=VEMA!Q$45),(D102-C102)*24,(D102-C102)*24-VEMA!R$45)),\"<< zlý čas\")","v":0},null,null,null,null,0,0,null,null,null,null,null,"4.1.28. OG IV: Priebežné vyhodnocovanie výstupov z realizovaných vzdelávacích programov.",null,{"$f":"IF(SUM(E102:E104)=0,\"\",SUM(E102:E104))","v":""},null,{"$f":"IF(OR(B102=\"So\",B102=\"Ne\"),\"dobre\",IF(C102>D102,\"zle\",IF(AND(C102<=VEMA!P$45,VEMA!Q$45<=D102),\"obed\",IF(OR(D102<=VEMA!P$45,VEMA!Q$45<=C102),\"dobre\",\"zle\"))))","v":"dobre"}]
[null,{"$f":"B102","v":"Po"},null,null,{"$f":"IF(OR(U103=\"dobre\",U103=\"obed\"),IF(OR(B103=\"So\",B103=\"Ne\"),\"\",IF(OR(D103<=VEMA!P$45,C103>=VEMA!Q$45),(D103-C103)*24,(D103-C103)*24-VEMA!R$45)),\"<< zlý čas\")","v":0},null,null,null,null,0,0,null,null,null,null,null,"4.1.28. OG IV: Vyhodnotenie programu vzdelávania.",null,null,null,{"$f":"IF(OR(B103=\"So\",B103=\"Ne\"),\"dobre\",IF(C103>D103,\"zle\",IF(AND(C103<=VEMA!P$45,VEMA!Q$45<=D103),\"obed\",IF(OR(D103<=VEMA!P$45,VEMA!Q$45<=C103),\"dobre\",\"zle\"))))","v":"dobre"}]
[null,{"$f":"B103","v":"Po"},null,null,{"$f":"IF(OR(U104=\"dobre\",U104=\"obed\"),IF(OR(B104=\"So\",B104=\"Ne\"),\"\",IF(OR(D104<=VEMA!P$45,C104>=VEMA!Q$45),(D104-C104)*24,(D104-C104)*24-VEMA!R$45)),\"<< zlý čas\")","v":0},null,null,null,null,0,0,null,null,null,null,null,"4.1.28. OG IV: Účasť na porade k vzdelávacím programom v rámci národného projektu a vyhodnotenie programu vzdelávania.",null,null,null,{"$f":"IF(OR(B104=\"So\",B104=\"Ne\"),\"dobre\",IF(C104>D104,\"zle\",IF(AND(C104<=VEMA!P$45,VEMA!Q$45<=D104),\"obed\",IF(OR(D104<=VEMA!P$45,VEMA!Q$45<=C104),\"dobre\",\"zle\"))))","v":"dobre"}]
[{"$f":"IF(A102=\"\",\"\",IF(A102+1<=$D$146,A102+1,\"\"))","v":29},{"$f":"IF(A105=\"\",\"\",IF(B102=\"Po\",\"Ut\",IF(B102=\"Ut\",\"St\",IF(B102=\"St\",\"Št\",IF(B102=\"Št\",\"Pi\",IF(B102=\"Pi\",\"So\",IF(B102=\"So\",\"Ne\",IF(B102=\"Ne\",\"Po\",\"\"))))))))","v":"Ut"},null,null,{"$f":"IF(OR(U105=\"dobre\",U105=\"obed\"),IF(OR(B105=\"So\",B105=\"Ne\",B105=\"\"),\"\",IF(OR(D105<=VEMA!P$46,C105>=VEMA!Q$46),(D105-C105)*24,(D105-C105)*24-VEMA!R$46)),\"<< zlý čas\")","v":0},null,null,null,null,0,0,null,null,null,null,null,"4.1.29 VVS: Zakladanie vzdelávacej skupiny.",null,{"$f":"IF(SUM(E105:E107)=0,\"\",SUM(E105:E107))","v":""},null,{"$f":"IF(OR(B105=\"So\",B105=\"Ne\"),\"dobre\",IF(C105>D105,\"zle\",IF(AND(C105<=VEMA!P$46,VEMA!Q$46<=D105),\"obed\",IF(OR(D105<=VEMA!P$46,VEMA!Q$46<=C105),\"dobre\",\"zle\"))))","v":"dobre"}]
[null,{"$f":"B105","v":"Ut"},null,null,{"$f":"IF(OR(U106=\"dobre\",U106=\"obed\"),IF(OR(B106=\"So\",B106=\"Ne\",B106=\"\"),\"\",IF(OR(D106<=VEMA!P$46,C106>=VEMA!Q$46),(D106-C106)*24,(D106-C106)*24-VEMA!R$46)),\"<< zlý čas\")","v":0},null,null,null,null,0,0,null,null,null,null,null,"4.1.29. VVS: Správa databázy účastníkov, tvorba materiálov (pozvánky, prezenčné listiny, triednu knihu skupiny).",null,null,null,{"$f":"IF(OR(B106=\"So\",B106=\"Ne\"),\"dobre\",IF(C106>D106,\"zle\",IF(AND(C106<=VEMA!P$46,VEMA!Q$46<=D106),\"obed\",IF(OR(D106<=VEMA!P$46,VEMA!Q$46<=C106),\"dobre\",\"zle\"))))","v":"dobre"}]
[null,{"$f":"B106","v":"Ut"},null,null,{"$f":"IF(OR(U107=\"dobre\",U107=\"obed\"),IF(OR(B107=\"So\",B107=\"Ne\",B107=\"\"),\"\",IF(OR(D107<=VEMA!P$46,C107>=VEMA!Q$46),(D107-C107)*24,(D107-C107)*24-VEMA!R$46)),\"<< zlý čas\")","v":0},null,null,null,null,0,0,null,null,null,null,null,"4.1.29. VVS: Sumarizácia dištančných úloh.",null,null,null,{"$f":"IF(OR(B107=\"So\",B107=\"Ne\"),\"dobre\",IF(C107>D107,\"zle\",IF(AND(C107<=VEMA!P$46,VEMA!Q$46<=D107),\"obed\",IF(OR(D107<=VEMA!P$46,VEMA!Q$46<=C107),\"dobre\",\"zle\"))))","v":"dobre"}]
[{"$f":"IF(A105=\"\",\"\",IF(A105+1<=$D$146,A105+1,\"\"))","v":30},{"$f":"IF(A108=\"\",\"\",IF(B105=\"Po\",\"Ut\",IF(B105=\"Ut\",\"St\",IF(B105=\"St\",\"Št\",IF(B105=\"Št\",\"Pi\",IF(B105=\"Pi\",\"So\",IF(B105=\"So\",\"Ne\",IF(B105=\"Ne\",\"Po\",\"\"))))))))","v":"St"},null,null,{"$f":"IF(OR(U108=\"dobre\",U108=\"obed\"),IF(OR(B108=\"So\",B108=\"Ne\",B108=\"\"),\"\",IF(OR(D108<=VEMA!P$47,C108>=VEMA!Q$47),(D108-C108)*24,(D108-C108)*24-VEMA!R$47)),\"<< zlý čas\")","v":0},null,null,null,null,0,0,null,null,null,null,null,"4.1.29. VVS: Plánovanie a príprava harmonogramu vzdelávacích aktivít.",null,{"$f":"IF(SUM(E108:E110)=0,\"\",SUM(E108:E110))","v":""},null,{"$f":"IF(OR(B108=\"So\",B108=\"Ne\"),\"dobre\",IF(C108>D108,\"zle\",IF(AND(C108<=VEMA!P$47,VEMA!Q$47<=D108),\"obed\",IF(OR(D108<=VEMA!P$47,VEMA!Q$47<=C108),\"dobre\",\"zle\"))))","v":"dobre"}]
[null,{"$f":"B108","v":"St"},null,null,{"$f":"IF(OR(U109=\"dobre\",U109=\"obed\"),IF(OR(B109=\"So\",B109=\"Ne\",B109=\"\"),\"\",IF(OR(D109<=VEMA!P$47,C109>=VEMA!Q$47),(D109-C109)*24,(D109-C109)*24-VEMA!R$47)),\"<< zlý čas\")","v":0},null,null,null,null,0,0,null,null,null,null,null,"4.1.29. VVS: Sumarizácia dištančných úloh a záverečných prezentácii, príprava a spracovanie záverov, vrátane podkladov na spracovanie osvedčení a protokolov. ",null,null,null,{"$f":"IF(OR(B109=\"So\",B109=\"Ne\"),\"dobre\",IF(C109>D109,\"zle\",IF(AND(C109<=VEMA!P$47,VEMA!Q$47<=D109),\"obed\",IF(OR(D109<=VEMA!P$47,VEMA!Q$47<=C109),\"dobre\",\"zle\"))))","v":"dobre"}]
[null,{"$f":"B109","v":"St"},null,null,{"$f":"IF(OR(U110=\"dobre\",U110=\"obed\"),IF(OR(B110=\"So\",B110=\"Ne\",B110=\"\"),\"\",IF(OR(D110<=VEMA!P$47,C110>=VEMA!Q$47),(D110-C110)*24,(D110-C110)*24-VEMA!R$47)),\"<< zlý čas\")","v":0},null,null,null,null,0,0,null,null,null,null,null,"4.1.29. VVS: Príprava podkladov na archiváciu v zmysle interných a projektových pokynov.",null,null,null,{"$f":"IF(OR(B110=\"So\",B110=\"Ne\"),\"dobre\",IF(C110>D110,\"zle\",IF(AND(C110<=VEMA!P$47,VEMA!Q$47<=D110),\"obed\",IF(OR(D110<=VEMA!P$47,VEMA!Q$47<=C110),\"dobre\",\"zle\"))))","v":"dobre"}]
[{"$f":"IF(A108=\"\",\"\",IF(A108+1<=$D$146,A108+1,\"\"))","v":""},{"$f":"IF(A111=\"\",\"\",IF(B108=\"Po\",\"Ut\",IF(B108=\"Ut\",\"St\",IF(B108=\"St\",\"Št\",IF(B108=\"Št\",\"Pi\",IF(B108=\"Pi\",\"So\",IF(B108=\"So\",\"Ne\",IF(B108=\"Ne\",\"Po\",\"\"))))))))","v":""},null,null,{"$f":"IF(OR(U111=\"dobre\",U111=\"obed\"),IF(OR(B111=\"So\",B111=\"Ne\",B111=\"\"),\"\",IF(OR(D111<=VEMA!P$48,C111>=VEMA!Q$48),(D111-C111)*24,(D111-C111)*24-VEMA!R$48)),\"<< zlý čas\")","v":""},null,null,null,null,"",{"$f":"IF(AND(B111=\"So\"),\"\",(IF(AND(B111=\"Ne\"),\"\",(IF(AND(B111=\"\"),\"\",(SUMIF(N21:N48,F16,O21:O48))*E111)))))","v":""},null,null,null,null,null,"4.1.29. VVS: Koordinovanie vzdelávacích skupín.",null,{"$f":"IF(SUM(E111:E113)=0,\"\",SUM(E111:E113))","v":""},null,{"$f":"IF(OR(B111=\"So\",B111=\"Ne\",B111=\"\"),\"dobre\",IF(C111>D111,\"zle\",IF(AND(C111<=VEMA!P$48,VEMA!Q$48<=D111),\"obed\",IF(OR(D111<=VEMA!P$48,VEMA!Q$48<=C111),\"dobre\",\"zle\"))))","v":"dobre"}]
[null,{"$f":"B111","v":""},null,null,{"$f":"IF(OR(U112=\"dobre\",U112=\"obed\"),IF(OR(B112=\"So\",B112=\"Ne\",B112=\"\"),\"\",IF(OR(D112<=VEMA!P$48,C112>=VEMA!Q$48),(D112-C112)*24,(D112-C112)*24-VEMA!R$48)),\"<< zlý čas\")","v":""},null,null,null,null,{"$f":"IF(AND(B112=\"\"),\"\",IF(AND(B112=\"So\"),\"\",(IF(AND(B112=\"Ne\"),\"\",(ROUND(E112-K112,2))))))","v":""},{"$f":"IF(AND(B112=\"So\"),\"\",(IF(AND(B112=\"Ne\"),\"\",(IF(AND(B112=\"\"),\"\",(SUMIF(N21:N48,F16,O21:O48))*E112)))))","v":""},null,null,null,null,null,"4.1.30. L: Príprava na lektorskú činnosť.",null,null,null,{"$f":"IF(OR(B112=\"So\",B112=\"Ne\",B112=\"\"),\"dobre\",IF(C112>D112,\"zle\",IF(AND(C112<=VEMA!P$48,VEMA!Q$48<=D112),\"obed\",IF(OR(D112<=VEMA!P$48,VEMA!Q$48<=C112),\"dobre\",\"zle\"))))","v":"dobre"}]
[null,{"$f":"B112","v":""},null,null,{"$f":"IF(OR(U113=\"dobre\",U113=\"obed\"),IF(OR(B113=\"So\",B113=\"Ne\",B113=\"\"),\"\",IF(OR(D113<=VEMA!P$48,C113>=VEMA!Q$48),(D113-C113)*24,(D113-C113)*24-VEMA!R$48)),\"<< zlý čas\")","v":""},null,null,null,null,{"$f":"IF(AND(B113=\"\"),\"\",IF(AND(B113=\"So\"),\"\",(IF(AND(B113=\"Ne\"),\"\",(ROUND(E113-K113,2))))))","v":""},{"$f":"IF(AND(B113=\"So\"),\"\",(IF(AND(B113=\"Ne\"),\"\",(IF(AND(B113=\"\"),\"\",(SUMIF(N21:N48,F16,O21:O48))*E113)))))","v":""},null,null,null,null,null,"4.1.30. L: Úprava materiálov pre účastníkov vzdelávania.",null,null,null,{"$f":"IF(OR(B113=\"So\",B113=\"Ne\",B113=\"\"),\"dobre\",IF(C113>D113,\"zle\",IF(AND(C113<=VEMA!P$48,VEMA!Q$48<=D113),\"obed\",IF(OR(D113<=VEMA!P$48,VEMA!Q$48<=C113),\"dobre\",\"zle\"))))","v":"dobre"}]
["Spolu:",null,null,null,{"$f":"SUMIF(B21:B111,\"Po\",E21:E113)+SUMIF(B21:B111,\"Ut\",E21:E111)+SUMIF(B21:B111,\"St\",E21:E111)+SUMIF(B21:B111,\"Št\",E21:E111)+SUMIF(B21:B111,\"Pi\",E21:E111)","v":0},null,null,null,null,{"$f":"SUM(J21:J111)","v":0},{"$f":"SUM(K21:K111)","v":0},null,null,null,null,null,"4.1.30. L: Lektorovanie programu vzdelávania."]
["Čestné vyhlásenie:",null,null,null,null,null,null,null,null,null,null,null,null,null,null,null,"4.1.30. L: Ukončovanie  vzdelávacieho programu (člen skúšobnej komisie). "]
[null,null,"❶Ako prijímateľ vyhlasujem, že údaje uvedené v pracovnom výkaze sú pravdivé, reálne a správne a som si vedomý následkov spojených s uvedením/predložením nesprávneho, neúplného alebo falšovaného výkazu.",null,null,null,null,null,null,null,null,null,null,null,null,null,"4.1.30. L: Ukončovanie  vzdelávacieho programu (predseda skúšobnej komisie). "]
["X",null,null,null,null,null,null,null,null,null,null,null,null,"X",null,null,"4.1.30. L: Vyhodnotenie programu vzdelávania za skupinu."]
[null,null,null,null,null,null,null,null,null,null,null,null,null,null,null,null,"4.1.30. L: Príprava na lektorskú činnosť.  Úprava materiálov pre účastníkov vzdelávania."]
[null,null,"❷Svojim podpisom potvrdzujem, že v uvedenom mesiaci som mal iba jediný pracovnoprávny vzťah,  nevykonával som iné činnosti u tohto zamestnávateľa ani u iných zamestnávateľov, údaje uvedené v pracovnom výkaze sú pravdivé, reálne a správne a som si vedomý následkov spojených s uvedením/predložením nesprávneho, neúplného alebo falšovaného pracovného výkazu.",null,null,null,null,null,null,null,null,null,null,null,null,null,"4.1.30. L: Príprava na lektorskú činnosť a lektorovanie programu vzdelávania."]
[null,null,null,null,null,null,null,null,null,null,null,null,null,null,null,null,"4.1.32. P.: Realizácia individuálneho poradenstva pedagogickým zamestnancom s dôrazom na aplikáciu poznatkov zo vzdelávacích programov a aktivít v školskej praxi."]
["Dátum odovzdania: ",null,null,null,null,null,null,"Dátum prevzatia:",null,null,null,null,null,null,null,null,"4.1.32. P.: Poskytovanie spätnej väzby na pozorované edukačné procesy."]
[null,null,null,null,null,null,null,null,null,null,null,null,null,null,null,null,"4.1.32. P.: Realizácia poradenského projektu."]
["Podpis osoby***:",null,null,null,null,null,null,"Podpis štatutárneho orgánu prijímateľa:**",null,null,null,null,null,null,null,null,"4.1.32. P.: Návrh a vypracovanie odporúčaní na zvýšenie kvality výchovno-vzdelávacieho procesu."]
[null,null,null,null,null,null,null,null,null,null,null,null,null,null,null,null,"4.1.32. P.: Vyhodnotenie realizácie poradenského projektu."]
["Poznámka: Osobou sa rozumie zamestnanec v pracovnoprávnom vzťahu (pracovný pomer, dohody) ako aj osoba pracujúca na základe iných ako pracovnoprávnych vzťahov, resp. osoba pracujúca pre dodávateľa, ktorý vykonáva činnosť pre prijímateľa.                                                                                                         \n*Počet hodín je uvádzaný pre 60 minútový interval.",null,null,null,null,null,null,null,null,null,null,null,null,null,null,null,"4.1.32. P: Príprava podkladom na realizáciu poradenského projektu, realizácia poradenského projektu."]
[null,null,null,null,null,null,null,null,null,null,null,null,null,null,null,null,"4.1.32. P: Príprava poradenského projektu."]
["**V prípade splmonocnenia sa uvedia osoba splnomocnená štatutárnym orgánom na podpisovanie pracovných výkazov",null,null,null,null,null,null,null,null,null,null,null,null,null,null,null,"sviatok"]
["***V prípade dodávateľských vzťahov sa uvedie podpis osoby, ktorá vykonala činnosti a výstupy uvádzané v PV a podpis osoby, ktorá zastupuje dodávateľa. Ak osoby sú totožné uvedie sa iba jeden podpis",null,null,null,null,null,null,null,null,null,null,null,null,null,null,null,"dovolenka"]
[null,null,null,null,null,null,null,null,null,null,null,null,null,null,null,null,"iné náhrady"]
["❶",null,"osoba  pracujúca na rôzne pracovnoprávne vzťahy u jedného resp. rôznych zamestnávateľov ",null,null,null,null,null,null,null,null,null,null,null,null,null,"lekár"]
["❷",null,"osoba pracujúca 100% na projekt, ktorá mala iba jediný pracovnoprávny vzťah",null,null,null,null,null,null,null,null,null,null,null,null,null,"sprevádzanie člena rodiny"]
[null,null,null,null,null,null,null,null,null,null,null,null,null,null,null,null,"PN"]
[null,null,null,null,null,null,null,null,null,null,null,null,null,null,null,null,"OČR"]
[null,null,null,null,null,null,null,null,null,null,null,null,null,null,null,null,"neplatené voľno"]
["PRÁCA NADČAS*"]
["Mesiac ",null,null,null,null,null,null,{"$f":"F17","v":"September"}]
["Fond pracovného času v príslušnom mesiaci "]
["Celkový počet odpracovaných hodín v príslušnom mesiaci "]
["Nariadená/dododnutá práca nadčas financovaná v rámci projektu**"]
[]
["* vypĺňa sa iba v prípade, ak sa v rámci projektu v danom mesiaci financuje v projekte práca nadčas"]
["** práca nadčas je oprávnená iba vo výnimočných a odôvodnených prípadoch. musí byť vykonávaná na príkaz zamestnávateľa alebo s jeho súhlasom. Nadčas je oprávneným výdavkom iba v prípade, ak činnosti vykonávané počas práce nadčas priamo súvisia s aktivitami projektu. Pri využívaní nadčas je potrebné dodržiavať platnú legislatívu SR (najmä zákonník práce).\n"]
[]
["Začiatok mesiaca",null,null,{"$f":"VLOOKUP(F17,A163:E174,(VLOOKUP(K17,A177:B180,2,0)),0)","v":2}]
[]
["Počet dní v mesiaci",null,null,{"$f":"VLOOKUP(F17,A183:C194,(VLOOKUP(K17,A196:B199,2,0)),0)","v":30}]
[]
["Vyberte",2019,2020,2021,2022]
["Január","ut","st","pi","so"]
["Február","pi","so","po","ut"]
["Marec","pi","ne","po","ut"]
["Apríl","po","st","št","pi"]
["Máj","st","pi","so","ne"]
["Jún","so","po","ut","st"]
["Júl","po","st","št","pi"]
["August","št","so","ne","po"]
["September","ne","ut","st","št"]
["Október","ut","št","pi","so"]
["November","pi","ne","po","ut"]
["December","ne","ut","st","št"]
[]
[null,2019,2020,2021,2022]
["Január",2,3,5,6]
["Február",5,6,1,2]
["Marec",5,7,1,2]
["Apríl",1,3,4,5]
["Máj",3,5,6,7]
["Jún",6,1,2,3]
["Júl",1,3,4,5]
["August",4,6,7,1]
["September",7,2,3,4]
["Október",2,4,5,6]
["November",5,7,1,2]
["December",7,2,3,4]
[]
[]
[2019,{"$f":"COLUMN(B162)","v":2}]
[2020,{"$f":"COLUMN($C$162)","v":3}]
[2021,{"$f":"COLUMN($D$162)","v":4}]
[2022,{"$f":"COLUMN($E$162)","v":5}]
[]
[null,"ostatné",2020]
["Január",31,31]
["Február",28,29]
["Marec",31,31]
["Apríl",30,30]
["Máj",31,31]
["Jún",30,30]
["Júl",31,31]
["August",31,31]
["September",30,30]
["Október",31,31]
["November",30,30]
["December",31,31]
[]
[2019,{"$f":"COLUMN(B182)","v":2}]
[2020,{"$f":"COLUMN($C$182)","v":3}]
[2021,{"$f":"COLUMN($B$182)","v":2}]
[2022,{"$f":"COLUMN($B$182)","v":2}]

{"sheet":"PV5","index":4,"n_rows":199,"n_cols":21,"rows_kept":199,"cut":false,"hidden":false,"merged":[[5,5,5,7],[5,8,5,9],[7,0,7,4],[7,5,7,11],[8,0,8,4],[8,5,8,11],[14,0,14,4],[14,5,14,11],[15,0,15,4],[15,5,15,10],[16,0,16,4],[16,5,16,9],[9,0,9,4],[9,5,9,11],[10,0,11,4],[10,5,11,11],[12,0,12,4],[12,5,12,11],[18,10,19,10],[18,11,19,11],[20,5,20,8],[21,5,21,8],[22,5,22,8],[23,5,23,8],[18,0,19,0],[18,1,19,1],[18,2,18,3],[18,4,19,4],[18,5,19,8],[18,9,19,9],[30,5,30,8],[31,5,31,8],[32,5,32,8],[33,5,33,8],[34,5,34,8],[35,5,35,8],[24,5,24,8],[25,5,25,8],[26,5,26,8],[27,5,27,8],[28,5,28,8],[29,5,29,8],[42,5,42,8],[43,5,43,8],[44,5,44,8],[45,5,45,8],[46,5,46,8],[47,5,47,8],[36,5,36,8],[37,5,37,8],[38,5,38,8],[39,5,39,8],[40,5,40,8],[41,5,41,8],[54,5,54,8],[55,5,55,8],[56,5,56,8],[57,5,57,8],[58,5,58,8],[59,5,59,8],[48,5,48,8],[49,5,49,8],[50,5,50,8],[51,5,51,8],[52,5,52,8],[53,5,53,8],[66,5,66,8],[67,5,67,8],[68,5,68,8],[69,5,69,8],[70,5,70,8],[71,5,71,8],[60,5,60,8],[61,5,61,8],[62,5,62,8],[63,5,63,8],[64,5,64,8],[65,5,65,8],[78,5,78,8],[79,5,79,8],[80,5,80,8],[81,5,81,8],[82,5,82,8],[83,5,83,8],[72,5,72,8],[73,5,73,8],[74,5,74,8],[75,5,75,8],[76,5,76,8],[77,5,77,8],[90,5,90,8],[91,5,91,8],[92,5,92,8],[93,5,93,8],[94,5,94,8],[95,5,95,8],[84,5,84,8],[85,5,85,8],[86,5,86,8],[87,5,87,8],[88,5,88,8],[89,5,89,8],[102,5,102,8],[103,5,103,8],[104,5,104,8],[105,5,105,8],[106,5,106,8],[107,5,107,8],[96,5,96,8],[97,5,97,8],[98,5,98,8],[99,5,99,8],[100,5,100,8],[101,5,101,8],[118,2,118,11],[120,0,120,2],[120,3,120,5],[120,9,120,11],[122,0,122,2],[122,3,122,5],[122,7,122,10],[108,5,108,8],[109,5,109,8],[110,5,110,8],[111,5,111,8],[112,5,112,8],[115,2,116,11],[140,0,140,11],[141,0,141,11],[136,0,136,6],[136,7,136,11],[137,0,137,6],[137,7,137,11],[138,0,138,6],[138,7,138,11],[124,0,125,11],[126,0,126,11],[127,0,128,11],[134,0,134,11],[135,0,135,6],[135,7,135,11]]}
[]
[null,null,null,null,null,null,null,null,null,null,null,null,null,null,null,null,null,null,null,null,{"$f":"VLOOKUP(F17,PV!A149:'PV'!F160,6,0)","v":9}]
[null,null,null,null,null,null,null,null,null,null,null,null,null,null,null,null,null,null,null,null,{"$f":"IF(U17=\"\",\"\",LEFT(U17,1))","v":"M"}]
[null,null,null,null,null,null,null,null,null,null,null,null,null,null,null,null,null,null,null,null,{"$f":"IF(U17=\"\",\"\",LEFT(RIGHT(U17,LEN(U17)-FIND(\" \",U17,1)),1))","v":"P"}]
[]
[null,null,null,null,null,"PRACOVNÝ VÝKAZ č. ",null,null,{"$f":"IF(U2>9,CONCATENATE(U2,\"/\",U3,U4,\"/04\"),CONCATENATE(\"0\",U2,\"/\",U3,U4,\"/05\"))","v":"09/MP/05"},null,null,null,null,null,null,null,null,null,null,null,{"$f":"SUBSTITUTE(F15,\"Ing.\",\"\")","v":"Mgr. Meno Priezvisko, PhD."}]
[null,null,null,null,null,null,null,null,null,null,null,null,null,null,null,null,null,null,null,null,{"$f":"SUBSTITUTE(U6,\"Mgr.\",\"\")","v":" Meno Priezvisko, PhD."}]
["Operačný program:",null,null,null,null,"Ľudské zdroje",null,null,null,null,null,null,null,null,null,null,null,null,null,null,{"$f":"SUBSTITUTE(U7,\"Bc.\",\"\")","v":" Meno Priezvisko, PhD."}]
["Programové obdobie:",null,null,null,null,"2014-2020",null,null,null,null,null,null,null,null,null,null,null,null,null,null,{"$f":"SUBSTITUTE(U8,\"PaedDr.\",\"\")","v":" Meno Priezvisko, PhD."}]
["Prijímateľ:",null,null,null,null,"Metodicko-pedagogické centrum",null,null,null,null,null,null,null,null,null,null,null,null,null,null,{"$f":"SUBSTITUTE(U9,\"PhDr.\",\"\")","v":" Meno Priezvisko, PhD."}]
["Názov projektu:",null,null,null,null,"Profesijný rozvoj učiteľov (TEACHERS)",null,null,null,null,null,null,null,null,null,null,null,null,null,null,{"$f":"SUBSTITUTE(U10,\"Doc.\",\"\")","v":" Meno Priezvisko, PhD."}]
[null,null,null,null,null,null,null,null,null,null,null,null,null,null,null,null,null,null,null,null,{"$f":"SUBSTITUTE(U11,\"ThDr.\",\"\")","v":" Meno Priezvisko, PhD."}]
["Kód ITMS projektu:",null,null,null,null,"312011AUN7",null,null,null,null,null,null,null,null,null,null,null,null,null,null,{"$f":"SUBSTITUTE(U12,\"MUDr.\",\"\")","v":" Meno Priezvisko, PhD."}]
[null,null,null,null,null,null,null,null,null,null,null,null,null,null,null,null,null,null,null,null,{"$f":"SUBSTITUTE(U13,\"Dr.\",\"\")","v":" Meno Priezvisko, PhD."}]
["Meno a priezvisko osoby:",null,null,null,null,{"$f":"PV!F15","v":"Mgr. Meno Priezvisko, PhD."},null,null,null,null,null,null,null,null,null,null,null,null,null,null,{"$f":"SUBSTITUTE(U14,\"habil.\",\"\")","v":" Meno Priezvisko, PhD."}]
["Funkcia/Právny vzťah",null,null,null,null,null,null,null,null,null,null,"PP",null,null,null,null,null,null,null,null,{"$f":"SUBSTITUTE(U15,\"MUDr.\",\"\")","v":" Meno Priezvisko, PhD."}]
["Obdobie vykonávania činností:",null,null,null,null,{"$f":"PV!F17","v":"September"},null,null,null,null,{"$f":"PV!K17","v":2020},null,null,null,null,null,null,null,null,null,{"$f":"TRIM(U16)","v":"Meno Priezvisko, PhD."}]
[]
["Dátum","Deň","Čas vykonania\n prác",null,"Počet \nodpracovaných hodín*","Detailný popis činností vykonávaných na základe zmluvy o poskytnutí NFP a popis výsledkov vykonanej činnosti",null,null,null,"Počet odpracovaných hodín MRR*","Počet odpracovaných hodín VRR*","Miesto výkonávania činnosti",null,null,null,null,null,null,null,null,"Nastavenie času vzhľadom na obed"]
[null,null,"Od","Do",null,null,null,null,null,null,null,null,null,"Pozícia","VRR","Miesto","Činnosť","Pracovný pomer"]
[1,{"$f":"IF($D$144=1,\"Po\",IF($D$144=2,\"Ut\",IF($D$144=3,\"St\",IF($D$144=4,\"Št\",IF($D$144=5,\"Pi\",IF($D$144=6,\"So\",IF($D$144=7,\"Ne\",\"Nastala chyba\")))))))","v":"Ut"},null,null,{"$f":"IF(OR(U21=\"dobre\",U21=\"obed\"),IF(OR(B21=\"So\",B21=\"Ne\"),\"\",IF(OR(D21<=VEMA!P$18,C21>=VEMA!Q$18),(D21-C21)*24,(D21-C21)*24-VEMA!R$18)),\"<< zlý čas\")","v":0},null,null,null,null,{"$f":"IF(B21=\"\",\"\",IF(B21=\"So\",\"\",(IF(B21=\"Ne\",\"\",(ROUND(E21-K21,2))))))","v":0},{"$f":"IF(B21=\"So\",\"\",(IF(B21=\"Ne\",\"\",(IF(B21=\"\",\"\",(IF(COUNTIF(Pozicia,$F$16),ROUND(VRR*E21,2),0)))))))","v":0},null,null,"4.1.2. Člen expertnej skupiny",0.13689999999999999,"Bratislava","4.1.2. ČES: Spracovanie východísk inovácie a tvorby nových profesijných štandardov.","PP",{"$f":"IF(SUM(E21:E23)=0,\"\",SUM(E21:E23))","v":""},null,{"$f":"IF(OR(B21=\"So\",B21=\"Ne\"),\"dobre\",IF(C21>D21,\"zle\",IF(AND(C21<=VEMA!P$18,VEMA!Q$18<=D21),\"obed\",IF(OR(D21<=VEMA!P$18,VEMA!Q$18<=C21),\"dobre\",\"zle\"))))","v":"dobre"}]
[null,{"$f":"B21","v":"Ut"},null,null,{"$f":"IF(OR(U22=\"dobre\",U22=\"obed\"),IF(OR(B22=\"So\",B22=\"Ne\"),\"\",IF(OR(D22<=VEMA!P$18,C22>=VEMA!Q$18),(D22-C22)*24,(D22-C22)*24-VEMA!R$18)),\"<< zlý čas\")","v":0},null,null,null,null,0,0,null,null,"4.1.4. Člen pracovnej skupiny",0.13689999999999999,"Banská Bystrica","4.1.2. ČES: Určenie základných princípov revízie profesijných štandardov.","D","",null,{"$f":"IF(OR(B22=\"So\",B22=\"Ne\"),\"dobre\",IF(C22>D22,\"zle\",IF(AND(C22<=VEMA!P$18,VEMA!Q$18<=D22),\"obed\",IF(OR(D22<=VEMA!P$18,VEMA!Q$18<=C22),\"dobre\",\"zle\"))))","v":"dobre"}]
[null,{"$f":"B22","v":"Ut"},null,null,{"$f":"IF(OR(U23=\"dobre\",U23=\"obed\"),IF(OR(B23=\"So\",B23=\"Ne\"),\"\",IF(OR(D23<=VEMA!P$18,C23>=VEMA!Q$18),(D23-C23)*24,(D23-C23)*24-VEMA!R$18)),\"<< zlý čas\")","v":0},null,null,null,null,0,0,null,null,"4.1.8. Regionálny odborný riešiteľ 1.2",0.13689999999999999,"Prešov","4.1.2. ČES: Stanovenie východísk pre inovovaný a nový profesijný štandard; vypracovanie vzorového profesijného štandardu (modelu) ","F","",null,{"$f":"IF(OR(B23=\"So\",B23=\"Ne\"),\"dobre\",IF(C23>D23,\"zle\",IF(AND(C23<=VEMA!P$18,VEMA!Q$18<=D23),\"obed\",IF(OR(D23<=VEMA!P$18,VEMA!Q$18<=C23),\"dobre\",\"zle\"))))","v":"dobre"}]
[{"$f":"IF(A21=\"\",\"\",IF(A21+1<=$D$146,A21+1,\"\"))","v":2},{"$f":"IF(A24=\"\",\"\",IF(B21=\"Po\",\"Ut\",IF(B21=\"Ut\",\"St\",IF(B21=\"St\",\"Št\",IF(B21=\"Št\",\"Pi\",IF(B21=\"Pi\",\"So\",IF(B21=\"So\",\"Ne\",IF(B21=\"Ne\",\"Po\",\"\"))))))))","v":"St"},null,null,{"$f":"IF(OR(U24=\"dobre\",U24=\"obed\"),IF(OR(B24=\"So\",B24=\"Ne\"),\"\",IF(OR(D24<=VEMA!P$19,C24>=VEMA!Q$19),(D24-C24)*24,(D24-C24)*24-VEMA!R$19)),\"<< zlý čas\")","v":0},null,null,null,null,0,0,null,null,"4.1.9. Odborný personál podaktivity 1.2",0.13689999999999999,"Košice","4.1.2. ČES: Určenie základných princípov  tvorby nových profesijných štandardov.","I",{"$f":"IF(SUM(E24:E26)=0,\"\",SUM(E24:E26))","v":""},null,{"$f":"IF(OR(B24=\"So\",B24=\"Ne\"),\"dobre\",IF(C24>D24,\"zle\",IF(AND(C24<=VEMA!P$19,VEMA!Q$19<=D24),\"obed\",IF(OR(D24<=VEMA!P$19,VEMA!Q$19<=C24),\"dobre\",\"zle\"))))","v":"dobre"}]
[null,{"$f":"B24","v":"St"},null,null,{"$f":"IF(OR(U25=\"dobre\",U25=\"obed\"),IF(OR(B25=\"So\",B25=\"Ne\"),\"\",IF(OR(D25<=VEMA!P$19,C25>=VEMA!Q$19),(D25-C25)*24,(D25-C25)*24-VEMA!R$19)),\"<< zlý čas\")","v":0},null,null,null,null,0,0,null,null,"4.1.12. Odborný konzultant NOPS",0.13689999999999999,"Komárno","4.1.2. ČES: Účasť na zasadnutí/porade expertnej skupiny.","DD",null,null,{"$f":"IF(OR(B25=\"So\",B25=\"Ne\"),\"dobre\",IF(C25>D25,\"zle\",IF(AND(C25<=VEMA!P$19,VEMA!Q$19<=D25),\"obed\",IF(OR(D25<=VEMA!P$19,VEMA!Q$19<=C25),\"dobre\",\"zle\"))))","v":"dobre"}]
[null,{"$f":"B25","v":"St"},null,null,{"$f":"IF(OR(U26=\"dobre\",U26=\"obed\"),IF(OR(B26=\"So\",B26=\"Ne\"),\"\",IF(OR(D26<=VEMA!P$19,C26>=VEMA!Q$19),(D26-C26)*24,(D26-C26)*24-VEMA!R$19)),\"<< zlý čas\")","v":0},null,null,null,null,0,0,null,null,"4.1.15. Hodnotiteľ NOPS",0.13689999999999999,"Nitra","4.1.2. ČES: Plnenie úloh na základe pokynov Hlavného odborného riešiteľa 1.1.",null,null,null,{"$f":"IF(OR(B26=\"So\",B26=\"Ne\"),\"dobre\",IF(C26>D26,\"zle\",IF(AND(C26<=VEMA!P$19,VEMA!Q$19<=D26),\"obed\",IF(OR(D26<=VEMA!P$19,VEMA!Q$19<=C26),\"dobre\",\"zle\"))))","v":"dobre"}]
[{"$f":"IF(A24=\"\",\"\",IF(A24+1<=$D$146,A24+1,\"\"))","v":3},{"$f":"IF(A27=\"\",\"\",IF(B24=\"Po\",\"Ut\",IF(B24=\"Ut\",\"St\",IF(B24=\"St\",\"Št\",IF(B24=\"Št\",\"Pi\",IF(B24=\"Pi\",\"So\",IF(B24=\"So\",\"Ne\",IF(B24=\"Ne\",\"Po\",\"\"))))))))","v":"Št"},null,null,{"$f":"IF(OR(U27=\"dobre\",U27=\"obed\"),IF(OR(B27=\"So\",B27=\"Ne\"),\"\",IF(OR(D27<=VEMA!P$20,C27>=VEMA!Q$20),(D27-C27)*24,(D27-C27)*24-VEMA!R$20)),\"<< zlý čas\")","v":0},null,null,null,null,0,0,null,null,"4.1.17. Moderátor konferencie",0.13689999999999999,"Trenčín","4.1.2. ČES: Analýza profesijných štandardov, posúdenie obsahu a formálnej štruktúry, identifikácia nedostatkov, návrh na inováciu",null,{"$f":"IF(SUM(E27:E29)=0,\"\",SUM(E27:E29))","v":""},null,{"$f":"IF(OR(B27=\"So\",B27=\"Ne\"),\"dobre\",IF(C27>D27,\"zle\",IF(AND(C27<=VEMA!P$20,VEMA!Q$20<=D27),\"obed\",IF(OR(D27<=VEMA!P$20,VEMA!Q$20<=C27),\"dobre\",\"zle\"))))","v":"dobre"}]
[null,{"$f":"B27","v":"Št"},null,null,{"$f":"IF(OR(U28=\"dobre\",U28=\"obed\"),IF(OR(B28=\"So\",B28=\"Ne\"),\"\",IF(OR(D28<=VEMA!P$20,C28>=VEMA!Q$20),(D28-C28)*24,(D28-C28)*24-VEMA!R$20)),\"<< zlý čas\")","v":0},null,null,null,null,0,0,null,null,"4.1.18. Odborný personál konfrencie",0.13689999999999999,"Trnava","4.1.2.ČES: Koordinácia činností pracovných skupín, usmerňovanie aktivít, konzultácia s členmi pracovných skupín, práca s členmi pracovných skupín, prenos informácií",null,null,null,{"$f":"IF(OR(B28=\"So\",B28=\"Ne\"),\"dobre\",IF(C28>D28,\"zle\",IF(AND(C28<=VEMA!P$20,VEMA!Q$20<=D28),\"obed\",IF(OR(D28<=VEMA!P$20,VEMA!Q$20<=C28),\"dobre\",\"zle\"))))","v":"dobre"}]
[null,{"$f":"B28","v":"Št"},null,null,{"$f":"IF(OR(U29=\"dobre\",U29=\"obed\"),IF(OR(B29=\"So\",B29=\"Ne\"),\"\",IF(OR(D29<=VEMA!P$20,C29>=VEMA!Q$20),(D29-C29)*24,(D29-C29)*24-VEMA!R$20)),\"<< zlý čas\")","v":0},null,null,null,null,0,0,null,null,"4.1.20. Lektor učiteľských fór",0.13689999999999999,"Žilina","4.1.4. ČPS: Analýza profesijného štandardu, identifikácia nedostatkov ",null,null,null,{"$f":"IF(OR(B29=\"So\",B29=\"Ne\"),\"dobre\",IF(C29>D29,\"zle\",IF(AND(C29<=VEMA!P$20,VEMA!Q$20<=D29),\"obed\",IF(OR(D29<=VEMA!P$20,VEMA!Q$20<=C29),\"dobre\",\"zle\"))))","v":"dobre"}]
[{"$f":"IF(A27=\"\",\"\",IF(A27+1<=$D$146,A27+1,\"\"))","v":4},{"$f":"IF(A30=\"\",\"\",IF(B27=\"Po\",\"Ut\",IF(B27=\"Ut\",\"St\",IF(B27=\"St\",\"Št\",IF(B27=\"Št\",\"Pi\",IF(B27=\"Pi\",\"So\",IF(B27=\"So\",\"Ne\",IF(B27=\"Ne\",\"Po\",\"\"))))))))","v":"Pi"},null,null,{"$f":"IF(OR(U30=\"dobre\",U30=\"obed\"),IF(OR(B30=\"So\",B30=\"Ne\"),\"\",IF(OR(D30<=VEMA!P$21,C30>=VEMA!Q$21),(D30-C30)*24,(D30-C30)*24-VEMA!R$21)),\"<< zlý čas\")","v":0},null,null,null,null,0,0,null,null,"4.1.22. Moderátor učiteľských fór",0.13689999999999999,"home office ","4.1.4. ČPS: Predloženie návrhu na inováciu resp. tvorbu profesijného štandardu.",null,{"$f":"IF(SUM(E30:E32)=0,\"\",SUM(E30:E32))","v":""},null,{"$f":"IF(OR(B30=\"So\",B30=\"Ne\"),\"dobre\",IF(C30>D30,\"zle\",IF(AND(C30<=VEMA!P$21,VEMA!Q$21<=D30),\"obed\",IF(OR(D30<=VEMA!P$21,VEMA!Q$21<=C30),\"dobre\",\"zle\"))))","v":"dobre"}]
[null,{"$f":"B30","v":"Pi"},null,null,{"$f":"IF(OR(U31=\"dobre\",U31=\"obed\"),IF(OR(B31=\"So\",B31=\"Ne\"),\"\",IF(OR(D31<=VEMA!P$21,C31>=VEMA!Q$21),(D31-C31)*24,(D31-C31)*24-VEMA!R$21)),\"<< zlý čas\")","v":0},null,null,null,null,0,0,null,null,"4.1.23. Analytik",0.13689999999999999,"home office (miesto trvalého bydliska)","4.1.4. ČPS: Priebežné spracovávanie profesijného štandardu.",null,null,null,{"$f":"IF(OR(B31=\"So\",B31=\"Ne\"),\"dobre\",IF(C31>D31,\"zle\",IF(AND(C31<=VEMA!P$21,VEMA!Q$21<=D31),\"obed\",IF(OR(D31<=VEMA!P$21,VEMA!Q$21<=C31),\"dobre\",\"zle\"))))","v":"dobre"}]
[null,{"$f":"B31","v":"Pi"},null,null,{"$f":"IF(OR(U32=\"dobre\",U32=\"obed\"),IF(OR(B32=\"So\",B32=\"Ne\"),\"\",IF(OR(D32<=VEMA!P$21,C32>=VEMA!Q$21),(D32-C32)*24,(D32-C32)*24-VEMA!R$21)),\"<< zlý čas\")","v":0},null,null,null,null,0,0,null,null,"4.1. 25. Tvorca PV a UZ",0.13689999999999999,null,"4.1.4. ČPS: Finálne spracovanie a odovzdanie profesijného štandardu.",null,null,null,{"$f":"IF(OR(B32=\"So\",B32=\"Ne\"),\"dobre\",IF(C32>D32,\"zle\",IF(AND(C32<=VEMA!P$21,VEMA!Q$21<=D32),\"obed\",IF(OR(D32<=VEMA!P$21,VEMA!Q$21<=C32),\"dobre\",\"zle\"))))","v":"dobre"}]
[{"$f":"IF(A30=\"\",\"\",IF(A30+1<=$D$146,A30+1,\"\"))","v":5},{"$f":"IF(A33=\"\",\"\",IF(B30=\"Po\",\"Ut\",IF(B30=\"Ut\",\"St\",IF(B30=\"St\",\"Št\",IF(B30=\"Št\",\"Pi\",IF(B30=\"Pi\",\"So\",IF(B30=\"So\",\"Ne\",IF(B30=\"Ne\",\"Po\",\"\"))))))))","v":"So"},null,null,{"$f":"IF(OR(U33=\"dobre\",U33=\"obed\"),IF(OR(B33=\"So\",B33=\"Ne\"),\"\",IF(OR(D33<=VEMA!P$22,C33>=VEMA!Q$22),(D33-C33)*24,(D33-C33)*24-VEMA!R$22)),\"<< zlý čas\")","v":""},null,null,null,null,"","",null,null,"4.1.28. Odborný garant PV - inovačné programy (podľa zákona č. 138/2019 Z.z.)",0.13689999999999999,null,"4.1.4. ČPS: Plnenie úloh na základe pokynov Hlavného odborného riešiteľa 1.1.",null,{"$f":"IF(SUM(E33:E35)=0,\"\",SUM(E33:E35))","v":""},null,{"$f":"IF(OR(B33=\"So\",B33=\"Ne\"),\"dobre\",IF(C33>D33,\"zle\",IF(AND(C33<=VEMA!P$22,VEMA!Q$22<=D33),\"obed\",IF(OR(D33<=VEMA!P$22,VEMA!Q$22<=C33),\"dobre\",\"zle\"))))","v":"dobre"}]
[null,{"$f":"B33","v":"So"},null,null,{"$f":"IF(OR(U34=\"dobre\",U34=\"obed\"),IF(OR(B34=\"So\",B34=\"Ne\"),\"\",IF(OR(D34<=VEMA!P$22,C34>=VEMA!Q$22),(D34-C34)*24,(D34-C34)*24-VEMA!R$22)),\"<< zlý čas\")","v":""},null,null,null,null,"","",null,null,"4.1.29. Vedúci vzdelávacej skupiny",0.13689999999999999,null,"4.1.4. ČPS: Účasť na zasadnutí/porade pracovnej skupiny.",null,null,null,{"$f":"IF(OR(B34=\"So\",B34=\"Ne\"),\"dobre\",IF(C34>D34,\"zle\",IF(AND(C34<=VEMA!P$22,VEMA!Q$22<=D34),\"obed\",IF(OR(D34<=VEMA!P$22,VEMA!Q$22<=C34),\"dobre\",\"zle\"))))","v":"dobre"}]
[null,{"$f":"B34","v":"So"},null,null,{"$f":"IF(OR(U35=\"dobre\",U35=\"obed\"),IF(OR(B35=\"So\",B35=\"Ne\"),\"\",IF(OR(D35<=VEMA!P$22,C35>=VEMA!Q$22),(D35-C35)*24,(D35-C35)*24-VEMA!R$22)),\"<< zlý čas\")","v":""},null,null,null,null,"","",null,null,"4.1.30. Lektor PV",0.13689999999999999,null,"4.1.4. ČPS: Zapracovanie pripomienok hodnotiteľa profesijného štandardu, úprava profesijného štandardu na základe hodnotiaceho posudku.",null,null,null,{"$f":"IF(OR(B35=\"So\",B35=\"Ne\"),\"dobre\",IF(C35>D35,\"zle\",IF(AND(C35<=VEMA!P$22,VEMA!Q$22<=D35),\"obed\",IF(OR(D35<=VEMA!P$22,VEMA!Q$22<=C35),\"dobre\",\"zle\"))))","v":"dobre"}]
[{"$f":"IF(A33=\"\",\"\",IF(A33+1<=$D$146,A33+1,\"\"))","v":6},{"$f":"IF(A36=\"\",\"\",IF(B33=\"Po\",\"Ut\",IF(B33=\"Ut\",\"St\",IF(B33=\"St\",\"Št\",IF(B33=\"Št\",\"Pi\",IF(B33=\"Pi\",\"So\",IF(B33=\"So\",\"Ne\",IF(B33=\"Ne\",\"Po\",\"\"))))))))","v":"Ne"},null,null,{"$f":"IF(OR(U36=\"dobre\",U36=\"obed\"),IF(OR(B36=\"So\",B36=\"Ne\"),\"\",IF(OR(D36<=VEMA!P$23,C36>=VEMA!Q$23),(D36-C36)*24,(D36-C36)*24-VEMA!R$23)),\"<< zlý čas\")","v":""},null,null,null,null,"","",null,null,"4.1.32. Poradcovia v školách ",0.13689999999999999,null,"4.1.8. ROR 1.2: Koordinovanie odborných aktivít realizovaných v národnom projekte.",null,{"$f":"IF(SUM(E36:E38)=0,\"\",SUM(E36:E38))","v":""},null,{"$f":"IF(OR(B36=\"So\",B36=\"Ne\"),\"dobre\",IF(C36>D36,\"zle\",IF(AND(C36<=VEMA!P$23,VEMA!Q$23<=D36),\"obed\",IF(OR(D36<=VEMA!P$23,VEMA!Q$23<=C36),\"dobre\",\"zle\"))))","v":"dobre"}]
[null,{"$f":"B36","v":"Ne"},null,null,{"$f":"IF(OR(U37=\"dobre\",U37=\"obed\"),IF(OR(B37=\"So\",B37=\"Ne\"),\"\",IF(OR(D37<=VEMA!P$23,C37>=VEMA!Q$23),(D37-C37)*24,(D37-C37)*24-VEMA!R$23)),\"<< zlý čas\")","v":""},null,null,null,null,"","",null,null,"4.1.33. Poradcovia v školách ",0.13689999999999999,null,"4.1.8. ROR 1.2: Kontrola plnenia čiastkových  úloh na jednotlivých činnostiach/aktivitách.",null,null,null,{"$f":"IF(OR(B37=\"So\",B37=\"Ne\"),\"dobre\",IF(C37>D37,\"zle\",IF(AND(C37<=VEMA!P$23,VEMA!Q$23<=D37),\"obed\",IF(OR(D37<=VEMA!P$23,VEMA!Q$23<=C37),\"dobre\",\"zle\"))))","v":"dobre"}]
[null,{"$f":"B37","v":"Ne"},null,null,{"$f":"IF(OR(U38=\"dobre\",U38=\"obed\"),IF(OR(B38=\"So\",B38=\"Ne\"),\"\",IF(OR(D38<=VEMA!P$23,C38>=VEMA!Q$23),(D38-C38)*24,(D38-C38)*24-VEMA!R$23)),\"<< zlý čas\")","v":""},null,null,null,null,"","",null,null,null,null,null,"4.1.8. ROR 1.2: Účasť na zasadnutí/porade s hlavným odborným riešiteľom podaktivity.",null,null,null,{"$f":"IF(OR(B38=\"So\",B38=\"Ne\"),\"dobre\",IF(C38>D38,\"zle\",IF(AND(C38<=VEMA!P$23,VEMA!Q$23<=D38),\"obed\",IF(OR(D38<=VEMA!P$23,VEMA!Q$23<=C38),\"dobre\",\"zle\"))))","v":"dobre"}]
[{"$f":"IF(A36=\"\",\"\",IF(A36+1<=$D$146,A36+1,\"\"))","v":7},{"$f":"IF(A39=\"\",\"\",IF(B36=\"Po\",\"Ut\",IF(B36=\"Ut\",\"St\",IF(B36=\"St\",\"Št\",IF(B36=\"Št\",\"Pi\",IF(B36=\"Pi\",\"So\",IF(B36=\"So\",\"Ne\",IF(B36=\"Ne\",\"Po\",\"\"))))))))","v":"Po"},null,null,{"$f":"IF(OR(U39=\"dobre\",U39=\"obed\"),IF(OR(B39=\"So\",B39=\"Ne\"),\"\",IF(OR(D39<=VEMA!P$24,C39>=VEMA!Q$24),(D39-C39)*24,(D39-C39)*24-VEMA!R$24)),\"<< zlý čas\")","v":0},null,null,null,null,0,0,null,null,null,null,null,"4.1.8. ROR 1.2: Účasť na porade k národnému projektu ",null,{"$f":"IF(SUM(E39:E41)=0,\"\",SUM(E39:E41))","v":""},null,{"$f":"IF(OR(B39=\"So\",B39=\"Ne\"),\"dobre\",IF(C39>D39,\"zle\",IF(AND(C39<=VEMA!P$24,VEMA!Q$24<=D39),\"obed\",IF(OR(D39<=VEMA!P$24,VEMA!Q$24<=C39),\"dobre\",\"zle\"))))","v":"dobre"}]
[null,{"$f":"B39","v":"Po"},null,null,{"$f":"IF(OR(U40=\"dobre\",U40=\"obed\"),IF(OR(B40=\"So\",B40=\"Ne\"),\"\",IF(OR(D40<=VEMA!P$24,C40>=VEMA!Q$24),(D40-C40)*24,(D40-C40)*24-VEMA!R$24)),\"<< zlý čas\")","v":0},null,null,null,null,0,0,null,null,null,null,null,"4.1.8. ROR 1.2: Koordinovanie odborných aktivít a priebežná kontrola plnenia úloh realizovaných v národnom projekte.",null,null,null,{"$f":"IF(OR(B40=\"So\",B40=\"Ne\"),\"dobre\",IF(C40>D40,\"zle\",IF(AND(C40<=VEMA!P$24,VEMA!Q$24<=D40),\"obed\",IF(OR(D40<=VEMA!P$24,VEMA!Q$24<=C40),\"dobre\",\"zle\"))))","v":"dobre"}]
[null,{"$f":"B40","v":"Po"},null,null,{"$f":"IF(OR(U41=\"dobre\",U41=\"obed\"),IF(OR(B41=\"So\",B41=\"Ne\"),\"\",IF(OR(D41<=VEMA!P$24,C41>=VEMA!Q$24),(D41-C41)*24,(D41-C41)*24-VEMA!R$24)),\"<< zlý čas\")","v":0},null,null,null,null,0,0,null,null,null,null,null,"4.1.9. OPP:  Výkon odbornej činnosti podľa pokynov hlavného odborného riešiteľa podaktivity1.2.",null,null,null,{"$f":"IF(OR(B41=\"So\",B41=\"Ne\"),\"dobre\",IF(C41>D41,\"zle\",IF(AND(C41<=VEMA!P$24,VEMA!Q$24<=D41),\"obed\",IF(OR(D41<=VEMA!P$24,VEMA!Q$24<=C41),\"dobre\",\"zle\"))))","v":"dobre"}]
[{"$f":"IF(A39=\"\",\"\",IF(A39+1<=$D$146,A39+1,\"\"))","v":8},{"$f":"IF(A42=\"\",\"\",IF(B39=\"Po\",\"Ut\",IF(B39=\"Ut\",\"St\",IF(B39=\"St\",\"Št\",IF(B39=\"Št\",\"Pi\",IF(B39=\"Pi\",\"So\",IF(B39=\"So\",\"Ne\",IF(B39=\"Ne\",\"Po\",\"\"))))))))","v":"Ut"},null,null,{"$f":"IF(OR(U42=\"dobre\",U42=\"obed\"),IF(OR(B42=\"So\",B42=\"Ne\"),\"\",IF(OR(D42<=VEMA!P$25,C42>=VEMA!Q$25),(D42-C42)*24,(D42-C42)*24-VEMA!R$25)),\"<< zlý čas\")","v":0},null,null,null,null,0,0,null,null,null,null,null,"4.1.9. OPP: Výkon odbornej činnosti podľa pokynov regionálneho odborného riešiteľa podaktivity 1.2.",null,{"$f":"IF(SUM(E42:E44)=0,\"\",SUM(E42:E44))","v":""},null,{"$f":"IF(OR(B42=\"So\",B42=\"Ne\"),\"dobre\",IF(C42>D42,\"zle\",IF(AND(C42<=VEMA!P$25,VEMA!Q$25<=D42),\"obed\",IF(OR(D42<=VEMA!P$25,VEMA!Q$25<=C42),\"dobre\",\"zle\"))))","v":"dobre"}]
[null,{"$f":"B42","v":"Ut"},null,null,{"$f":"IF(OR(U43=\"dobre\",U43=\"obed\"),IF(OR(B43=\"So\",B43=\"Ne\"),\"\",IF(OR(D43<=VEMA!P$25,C43>=VEMA!Q$25),(D43-C43)*24,(D43-C43)*24-VEMA!R$25)),\"<< zlý čas\")","v":0},null,null,null,null,0,0,null,null,null,null,null,"4.1.9. OPP: Účasť na zasadnutí/porade s hlavným odborným riešiteľom podaktivity.",null,null,null,{"$f":"IF(OR(B43=\"So\",B43=\"Ne\"),\"dobre\",IF(C43>D43,\"zle\",IF(AND(C43<=VEMA!P$25,VEMA!Q$25<=D43),\"obed\",IF(OR(D43<=VEMA!P$25,VEMA!Q$25<=C43),\"dobre\",\"zle\"))))","v":"dobre"}]
[null,{"$f":"B43","v":"Ut"},null,null,{"$f":"IF(OR(U44=\"dobre\",U44=\"obed\"),IF(OR(B44=\"So\",B44=\"Ne\"),\"\",IF(OR(D44<=VEMA!P$25,C44>=VEMA!Q$25),(D44-C44)*24,(D44-C44)*24-VEMA!R$25)),\"<< zlý čas\")","v":0},null,null,null,null,0,0,null,null,null,null,null,"4.1.9. OPP: Účasť na zasadnutí/porade v MPC k implementácii národného projektu.",null,null,null,{"$f":"IF(OR(B44=\"So\",B44=\"Ne\"),\"dobre\",IF(C44>D44,\"zle\",IF(AND(C44<=VEMA!P$25,VEMA!Q$25<=D44),\"obed\",IF(OR(D44<=VEMA!P$25,VEMA!Q$25<=C44),\"dobre\",\"zle\"))))","v":"dobre"}]
[{"$f":"IF(A42=\"\",\"\",IF(A42+1<=$D$146,A42+1,\"\"))","v":9},{"$f":"IF(A45=\"\",\"\",IF(B42=\"Po\",\"Ut\",IF(B42=\"Ut\",\"St\",IF(B42=\"St\",\"Št\",IF(B42=\"Št\",\"Pi\",IF(B42=\"Pi\",\"So\",IF(B42=\"So\",\"Ne\",IF(B42=\"Ne\",\"Po\",\"\"))))))))","v":"St"},null,null,{"$f":"IF(OR(U45=\"dobre\",U45=\"obed\"),IF(OR(B45=\"So\",B45=\"Ne\"),\"\",IF(OR(D45<=VEMA!P$26,C45>=VEMA!Q$26),(D45-C45)*24,(D45-C45)*24-VEMA!R$26)),\"<< zlý čas\")","v":0},null,null,null,null,0,0,null,null,null,null,null,"4.1.9. OPP: Výkon odbornej činnosti (podpora pri plánovaní a realizácií NOPS, vzdelávacích aktivít, konferencií, poradenstva, UF).",null,{"$f":"IF(SUM(E45:E47)=0,\"\",SUM(E45:E47))","v":""},null,{"$f":"IF(OR(B45=\"So\",B45=\"Ne\"),\"dobre\",IF(C45>D45,\"zle\",IF(AND(C45<=VEMA!P$26,VEMA!Q$26<=D45),\"obed\",IF(OR(D45<=VEMA!P$26,VEMA!Q$26<=C45),\"dobre\",\"zle\"))))","v":"dobre"}]
[null,{"$f":"B45","v":"St"},null,null,{"$f":"IF(OR(U46=\"dobre\",U46=\"obed\"),IF(OR(B46=\"So\",B46=\"Ne\"),\"\",IF(OR(D46<=VEMA!P$26,C46>=VEMA!Q$26),(D46-C46)*24,(D46-C46)*24-VEMA!R$26)),\"<< zlý čas\")","v":0},null,null,null,null,0,0,null,null,null,null,null,"4.1.12. OK NOPS: Odborné konzultácie pri prihlasovaní a v procese  spracovania NOPS.",null,null,null,{"$f":"IF(OR(B46=\"So\",B46=\"Ne\"),\"dobre\",IF(C46>D46,\"zle\",IF(AND(C46<=VEMA!P$26,VEMA!Q$26<=D46),\"obed\",IF(OR(D46<=VEMA!P$26,VEMA!Q$26<=C46),\"dobre\",\"zle\"))))","v":"dobre"}]
[null,{"$f":"B46","v":"St"},null,null,{"$f":"IF(OR(U47=\"dobre\",U47=\"obed\"),IF(OR(B47=\"So\",B47=\"Ne\"),\"\",IF(OR(D47<=VEMA!P$26,C47>=VEMA!Q$26),(D47-C47)*24,(D47-C47)*24-VEMA!R$26)),\"<< zlý čas\")","v":0},null,null,null,null,0,0,null,null,null,null,null,"4.1.12. OK NOPS: Priebežné pripomienkovanie materiálu  pri procese  spracovania NOPS.",null,null,null,{"$f":"IF(OR(B47=\"So\",B47=\"Ne\"),\"dobre\",IF(C47>D47,\"zle\",IF(AND(C47<=VEMA!P$26,VEMA!Q$26<=D47),\"obed\",IF(OR(D47<=VEMA!P$26,VEMA!Q$26<=C47),\"dobre\",\"zle\"))))","v":"dobre"}]
[{"$f":"IF(A45=\"\",\"\",IF(A45+1<=$D$146,A45+1,\"\"))","v":10},{"$f":"IF(A48=\"\",\"\",IF(B45=\"Po\",\"Ut\",IF(B45=\"Ut\",\"St\",IF(B45=\"St\",\"Št\",IF(B45=\"Št\",\"Pi\",IF(B45=\"Pi\",\"So\",IF(B45=\"So\",\"Ne\",IF(B45=\"Ne\",\"Po\",\"\"))))))))","v":"Št"},null,null,{"$f":"IF(OR(U48=\"dobre\",U48=\"obed\"),IF(OR(B48=\"So\",B48=\"Ne\"),\"\",IF(OR(D48<=VEMA!P$27,C48>=VEMA!Q$27),(D48-C48)*24,(D48-C48)*24-VEMA!R$27)),\"<< zlý čas\")","v":0},null,null,null,null,0,0,null,null,null,null,null,"4.1.12. OK NOPS: Poskytovanie súčinnosti garantovi NOPS pri tvorbe smernice, vyhlasovaní výzvy na spracovanie NOPS, vyhodnotení doručených prihlášok a podkladov k uzatváraniu zmluvných vzťahov s vybranými spracovateľmi NOPS.",null,{"$f":"IF(SUM(E48:E50)=0,\"\",SUM(E48:E50))","v":""},null,{"$f":"IF(OR(B48=\"So\",B48=\"Ne\"),\"dobre\",IF(C48>D48,\"zle\",IF(AND(C48<=VEMA!P$27,VEMA!Q$27<=D48),\"obed\",IF(OR(D48<=VEMA!P$27,VEMA!Q$27<=C48),\"dobre\",\"zle\"))))","v":"dobre"}]
[null,{"$f":"B48","v":"Št"},null,null,{"$f":"IF(OR(U49=\"dobre\",U49=\"obed\"),IF(OR(B49=\"So\",B49=\"Ne\"),\"\",IF(OR(D49<=VEMA!P$27,C49>=VEMA!Q$27),(D49-C49)*24,(D49-C49)*24-VEMA!R$27)),\"<< zlý čas\")","v":0},null,null,null,null,0,0,null,null,null,null,null,"4.1.12. OK NOPS: Preberanie odovzdaných NOPS, predkladanie návrhu interných hodnotiteľov.",null,null,null,{"$f":"IF(OR(B49=\"So\",B49=\"Ne\"),\"dobre\",IF(C49>D49,\"zle\",IF(AND(C49<=VEMA!P$27,VEMA!Q$27<=D49),\"obed\",IF(OR(D49<=VEMA!P$27,VEMA!Q$27<=C49),\"dobre\",\"zle\"))))","v":"dobre"}]
[null,{"$f":"B49","v":"Št"},null,null,{"$f":"IF(OR(U50=\"dobre\",U50=\"obed\"),IF(OR(B50=\"So\",B50=\"Ne\"),\"\",IF(OR(D50<=VEMA!P$27,C50>=VEMA!Q$27),(D50-C50)*24,(D50-C50)*24-VEMA!R$27)),\"<< zlý čas\")","v":0},null,null,null,null,0,0,null,null,null,null,null,"4.1.12. OK NOPS: Odborné konzultácie/podpora  pri procese  spracovania  a finalizácii NOPS.",null,null,null,{"$f":"IF(OR(B50=\"So\",B50=\"Ne\"),\"dobre\",IF(C50>D50,\"zle\",IF(AND(C50<=VEMA!P$27,VEMA!Q$27<=D50),\"obed\",IF(OR(D50<=VEMA!P$27,VEMA!Q$27<=C50),\"dobre\",\"zle\"))))","v":"dobre"}]
[{"$f":"IF(A48=\"\",\"\",IF(A48+1<=$D$146,A48+1,\"\"))","v":11},{"$f":"IF(A51=\"\",\"\",IF(B48=\"Po\",\"Ut\",IF(B48=\"Ut\",\"St\",IF(B48=\"St\",\"Št\",IF(B48=\"Št\",\"Pi\",IF(B48=\"Pi\",\"So\",IF(B48=\"So\",\"Ne\",IF(B48=\"Ne\",\"Po\",\"\"))))))))","v":"Pi"},null,null,{"$f":"IF(OR(U51=\"dobre\",U51=\"obed\"),IF(OR(B51=\"So\",B51=\"Ne\"),\"\",IF(OR(D51<=VEMA!P$28,C51>=VEMA!Q$28),(D51-C51)*24,(D51-C51)*24-VEMA!R$28)),\"<< zlý čas\")","v":0},null,null,null,null,0,0,null,null,null,null,null,"4.1.15. H NOPS: Spracovanie hodnotenia dokumentu NOPS podľa schválenej prihlášky, v danej štruktúre a určenej šablóne dokumentu.",null,{"$f":"IF(SUM(E51:E53)=0,\"\",SUM(E51:E53))","v":""},null,{"$f":"IF(OR(B51=\"So\",B51=\"Ne\"),\"dobre\",IF(C51>D51,\"zle\",IF(AND(C51<=VEMA!P$28,VEMA!Q$28<=D51),\"obed\",IF(OR(D51<=VEMA!P$28,VEMA!Q$28<=C51),\"dobre\",\"zle\"))))","v":"dobre"}]
[null,{"$f":"B51","v":"Pi"},null,null,{"$f":"IF(OR(U52=\"dobre\",U52=\"obed\"),IF(OR(B52=\"So\",B52=\"Ne\"),\"\",IF(OR(D52<=VEMA!P$28,C52>=VEMA!Q$28),(D52-C52)*24,(D52-C52)*24-VEMA!R$28)),\"<< zlý čas\")","v":0},null,null,null,null,0,0,null,null,null,null,null,"4.1.15. H NOPS: Finalizácia hodnotenia dokumentu NOPS podľa schválenej prihlášky, v danej štruktúre a určenej šablóne dokumentu.",null,null,null,{"$f":"IF(OR(B52=\"So\",B52=\"Ne\"),\"dobre\",IF(C52>D52,\"zle\",IF(AND(C52<=VEMA!P$28,VEMA!Q$28<=D52),\"obed\",IF(OR(D52<=VEMA!P$28,VEMA!Q$28<=C52),\"dobre\",\"zle\"))))","v":"dobre"}]
[null,{"$f":"B52","v":"Pi"},null,null,{"$f":"IF(OR(U53=\"dobre\",U53=\"obed\"),IF(OR(B53=\"So\",B53=\"Ne\"),\"\",IF(OR(D53<=VEMA!P$28,C53>=VEMA!Q$28),(D53-C53)*24,(D53-C53)*24-VEMA!R$28)),\"<< zlý čas\")","v":0},null,null,null,null,0,0,null,null,null,null,null,"4.1.17. MK: Odborné zabezpečenie prípravy, programových  zložiek a priebehu konferencie. ",null,null,null,{"$f":"IF(OR(B53=\"So\",B53=\"Ne\"),\"dobre\",IF(C53>D53,\"zle\",IF(AND(C53<=VEMA!P$28,VEMA!Q$28<=D53),\"obed\",IF(OR(D53<=VEMA!P$28,VEMA!Q$28<=C53),\"dobre\",\"zle\"))))","v":"dobre"}]
[{"$f":"IF(A51=\"\",\"\",IF(A51+1<=$D$146,A51+1,\"\"))","v":12},{"$f":"IF(A54=\"\",\"\",IF(B51=\"Po\",\"Ut\",IF(B51=\"Ut\",\"St\",IF(B51=\"St\",\"Št\",IF(B51=\"Št\",\"Pi\",IF(B51=\"Pi\",\"So\",IF(B51=\"So\",\"Ne\",IF(B51=\"Ne\",\"Po\",\"\"))))))))","v":"So"},null,null,{"$f":"IF(OR(U54=\"dobre\",U54=\"obed\"),IF(OR(B54=\"So\",B54=\"Ne\"),\"\",IF(OR(D54<=VEMA!P$29,C54>=VEMA!Q$29),(D54-C54)*24,(D54-C54)*24-VEMA!R$29)),\"<< zlý čas\")","v":""},null,null,null,null,"","",null,null,null,null,null,"4.1.17. MK: Odborné zabezpečenie priebehu konferencie (moderovanie/vedenie). ",null,{"$f":"IF(SUM(E54:E56)=0,\"\",SUM(E54:E56))","v":""},null,{"$f":"IF(OR(B54=\"So\",B54=\"Ne\"),\"dobre\",IF(C54>D54,\"zle\",IF(AND(C54<=VEMA!P$29,VEMA!Q$29<=D54),\"obed\",IF(OR(D54<=VEMA!P$29,VEMA!Q$29<=C54),\"dobre\",\"zle\"))))","v":"dobre"}]
[null,{"$f":"B54","v":"So"},null,null,{"$f":"IF(OR(U55=\"dobre\",U55=\"obed\"),IF(OR(B55=\"So\",B55=\"Ne\"),\"\",IF(OR(D55<=VEMA!P$29,C55>=VEMA!Q$29),(D55-C55)*24,(D55-C55)*24-VEMA!R$29)),\"<< zlý čas\")","v":""},null,null,null,null,"","",null,null,null,null,null,"4.1.17. MK: Odborné vedenie sekcií (diskusných skupín) a workshopov.",null,null,null,{"$f":"IF(OR(B55=\"So\",B55=\"Ne\"),\"dobre\",IF(C55>D55,\"zle\",IF(AND(C55<=VEMA!P$29,VEMA!Q$29<=D55),\"obed\",IF(OR(D55<=VEMA!P$29,VEMA!Q$29<=C55),\"dobre\",\"zle\"))))","v":"dobre"}]
[null,{"$f":"B55","v":"So"},null,null,{"$f":"IF(OR(U56=\"dobre\",U56=\"obed\"),IF(OR(B56=\"So\",B56=\"Ne\"),\"\",IF(OR(D56<=VEMA!P$29,C56>=VEMA!Q$29),(D56-C56)*24,(D56-C56)*24-VEMA!R$29)),\"<< zlý čas\")","v":""},null,null,null,null,"","",null,null,null,null,null,"4.1.17. MK: Odborné zabezpečenie prípravy a celého priebehu konferencie.",null,null,null,{"$f":"IF(OR(B56=\"So\",B56=\"Ne\"),\"dobre\",IF(C56>D56,\"zle\",IF(AND(C56<=VEMA!P$29,VEMA!Q$29<=D56),\"obed\",IF(OR(D56<=VEMA!P$29,VEMA!Q$29<=C56),\"dobre\",\"zle\"))))","v":"dobre"}]
[{"$f":"IF(A54=\"\",\"\",IF(A54+1<=$D$146,A54+1,\"\"))","v":13},{"$f":"IF(A57=\"\",\"\",IF(B54=\"Po\",\"Ut\",IF(B54=\"Ut\",\"St\",IF(B54=\"St\",\"Št\",IF(B54=\"Št\",\"Pi\",IF(B54=\"Pi\",\"So\",IF(B54=\"So\",\"Ne\",IF(B54=\"Ne\",\"Po\",\"\"))))))))","v":"Ne"},null,null,{"$f":"IF(OR(U57=\"dobre\",U57=\"obed\"),IF(OR(B57=\"So\",B57=\"Ne\"),\"\",IF(OR(D57<=VEMA!P$30,C57>=VEMA!Q$30),(D57-C57)*24,(D57-C57)*24-VEMA!R$30)),\"<< zlý čas\")","v":""},null,null,null,null,"","",null,null,null,null,null,"4.1.18. OPK: Odborné zabezpečenie prípravy konferencie.",null,{"$f":"IF(SUM(E57:E59)=0,\"\",SUM(E57:E59))","v":""},null,{"$f":"IF(OR(B57=\"So\",B57=\"Ne\"),\"dobre\",IF(C57>D57,\"zle\",IF(AND(C57<=VEMA!P$30,VEMA!Q$30<=D57),\"obed\",IF(OR(D57<=VEMA!P$30,VEMA!Q$30<=C57),\"dobre\",\"zle\"))))","v":"dobre"}]
[null,{"$f":"B57","v":"Ne"},null,null,{"$f":"IF(OR(U58=\"dobre\",U58=\"obed\"),IF(OR(B58=\"So\",B58=\"Ne\"),\"\",IF(OR(D58<=VEMA!P$30,C58>=VEMA!Q$30),(D58-C58)*24,(D58-C58)*24-VEMA!R$30)),\"<< zlý čas\")","v":""},null,null,null,null,"","",null,null,null,null,null,"4.1.18. OPK: Organizačné zabezpečenie prípravy konferencie. ",null,null,null,{"$f":"IF(OR(B58=\"So\",B58=\"Ne\"),\"dobre\",IF(C58>D58,\"zle\",IF(AND(C58<=VEMA!P$30,VEMA!Q$30<=D58),\"obed\",IF(OR(D58<=VEMA!P$30,VEMA!Q$30<=C58),\"dobre\",\"zle\"))))","v":"dobre"}]
[null,{"$f":"B58","v":"Ne"},null,null,{"$f":"IF(OR(U59=\"dobre\",U59=\"obed\"),IF(OR(B59=\"So\",B59=\"Ne\"),\"\",IF(OR(D59<=VEMA!P$30,C59>=VEMA!Q$30),(D59-C59)*24,(D59-C59)*24-VEMA!R$30)),\"<< zlý čas\")","v":""},null,null,null,null,"","",null,null,null,null,null,"4.1.18. OPK: Odborné/organizačné zabezpečenie  priebehu konferencie.",null,null,null,{"$f":"IF(OR(B59=\"So\",B59=\"Ne\"),\"dobre\",IF(C59>D59,\"zle\",IF(AND(C59<=VEMA!P$30,VEMA!Q$30<=D59),\"obed\",IF(OR(D59<=VEMA!P$30,VEMA!Q$30<=C59),\"dobre\",\"zle\"))))","v":"dobre"}]
[{"$f":"IF(A57=\"\",\"\",IF(A57+1<=$D$146,A57+1,\"\"))","v":14},{"$f":"IF(A60=\"\",\"\",IF(B57=\"Po\",\"Ut\",IF(B57=\"Ut\",\"St\",IF(B57=\"St\",\"Št\",IF(B57=\"Št\",\"Pi\",IF(B57=\"Pi\",\"So\",IF(B57=\"So\",\"Ne\",IF(B57=\"Ne\",\"Po\",\"\"))))))))","v":"Po"},null,null,{"$f":"IF(OR(U60=\"dobre\",U60=\"obed\"),IF(OR(B60=\"So\",B60=\"Ne\"),\"\",IF(OR(D60<=VEMA!P$31,C60>=VEMA!Q$31),(D60-C60)*24,(D60-C60)*24-VEMA!R$31)),\"<< zlý čas\")","v":0},null,null,null,null,0,0,null,null,null,null,null,"4.1.18. OPK:  Spracovanie výstupov z realizovanej konferencie.",null,{"$f":"IF(SUM(E60:E62)=0,\"\",SUM(E60:E62))","v":""},null,{"$f":"IF(OR(B60=\"So\",B60=\"Ne\"),\"dobre\",IF(C60>D60,\"zle\",IF(AND(C60<=VEMA!P$31,VEMA!Q$31<=D60),\"obed\",IF(OR(D60<=VEMA!P$31,VEMA!Q$31<=C60),\"dobre\",\"zle\"))))","v":"dobre"}]
[null,{"$f":"B60","v":"Po"},null,null,{"$f":"IF(OR(U61=\"dobre\",U61=\"obed\"),IF(OR(B61=\"So\",B61=\"Ne\"),\"\",IF(OR(D61<=VEMA!P$31,C61>=VEMA!Q$31),(D61-C61)*24,(D61-C61)*24-VEMA!R$31)),\"<< zlý čas\")","v":0},null,null,null,null,0,0,null,null,null,null,null,"4.1.18. OPK:  Spracovanie diskusií z jednotlivých sekcií a  z jednotlivých workshopov.",null,null,null,{"$f":"IF(OR(B61=\"So\",B61=\"Ne\"),\"dobre\",IF(C61>D61,\"zle\",IF(AND(C61<=VEMA!P$31,VEMA!Q$31<=D61),\"obed\",IF(OR(D61<=VEMA!P$31,VEMA!Q$31<=C61),\"dobre\",\"zle\"))))","v":"dobre"}]
[null,{"$f":"B61","v":"Po"},null,null,{"$f":"IF(OR(U62=\"dobre\",U62=\"obed\"),IF(OR(B62=\"So\",B62=\"Ne\"),\"\",IF(OR(D62<=VEMA!P$31,C62>=VEMA!Q$31),(D62-C62)*24,(D62-C62)*24-VEMA!R$31)),\"<< zlý čas\")","v":0},null,null,null,null,0,0,null,null,null,null,null,"4.1.20. LUF: Výkon činnosti lektora v rámci učiteľského fóra podľa opisu a schváleného plánu práce.  ",null,null,null,{"$f":"IF(OR(B62=\"So\",B62=\"Ne\"),\"dobre\",IF(C62>D62,\"zle\",IF(AND(C62<=VEMA!P$31,VEMA!Q$31<=D62),\"obed\",IF(OR(D62<=VEMA!P$31,VEMA!Q$31<=C62),\"dobre\",\"zle\"))))","v":"dobre"}]
[{"$f":"IF(A60=\"\",\"\",IF(A60+1<=$D$146,A60+1,\"\"))","v":15},{"$f":"IF(A63=\"\",\"\",IF(B60=\"Po\",\"Ut\",IF(B60=\"Ut\",\"St\",IF(B60=\"St\",\"Št\",IF(B60=\"Št\",\"Pi\",IF(B60=\"Pi\",\"So\",IF(B60=\"So\",\"Ne\",IF(B60=\"Ne\",\"Po\",\"\"))))))))","v":"Ut"},null,null,{"$f":"IF(OR(U63=\"dobre\",U63=\"obed\"),IF(OR(B63=\"So\",B63=\"Ne\"),\"\",IF(OR(D63<=VEMA!P$32,C63>=VEMA!Q$32),(D63-C63)*24,(D63-C63)*24-VEMA!R$32)),\"<< zlý čas\")","v":0},null,null,null,null,0,0,null,null,null,null,null,"4.1.20. LUF: Príprava programu a scenára stretnutia učiteľského fóra.",null,{"$f":"IF(SUM(E63:E65)=0,\"\",SUM(E63:E65))","v":""},null,{"$f":"IF(OR(B63=\"So\",B63=\"Ne\"),\"dobre\",IF(C63>D63,\"zle\",IF(AND(C63<=VEMA!P$32,VEMA!Q$32<=D63),\"obed\",IF(OR(D63<=VEMA!P$32,VEMA!Q$32<=C63),\"dobre\",\"zle\"))))","v":"dobre"}]
[null,{"$f":"B63","v":"Ut"},null,null,{"$f":"IF(OR(U64=\"dobre\",U64=\"obed\"),IF(OR(B64=\"So\",B64=\"Ne\"),\"\",IF(OR(D64<=VEMA!P$32,C64>=VEMA!Q$32),(D64-C64)*24,(D64-C64)*24-VEMA!R$32)),\"<< zlý čas\")","v":0},null,null,null,null,0,0,null,null,null,null,null,"4.1.20 LUF: Odborné vedenie diskusie účastníkov fóra v rámci diskusných skupín, diskusných fór.",null,null,null,{"$f":"IF(OR(B64=\"So\",B64=\"Ne\"),\"dobre\",IF(C64>D64,\"zle\",IF(AND(C64<=VEMA!P$32,VEMA!Q$32<=D64),\"obed\",IF(OR(D64<=VEMA!P$32,VEMA!Q$32<=C64),\"dobre\",\"zle\"))))","v":"dobre"}]
[null,{"$f":"B64","v":"Ut"},null,null,{"$f":"IF(OR(U65=\"dobre\",U65=\"obed\"),IF(OR(B65=\"So\",B65=\"Ne\"),\"\",IF(OR(D65<=VEMA!P$32,C65>=VEMA!Q$32),(D65-C65)*24,(D65-C65)*24-VEMA!R$32)),\"<< zlý čas\")","v":0},null,null,null,null,0,0,null,null,null,null,null,"4.1.20. LUF: Príprava programu a dokumentácie, realizácia učiteľského fóra.",null,null,null,{"$f":"IF(OR(B65=\"So\",B65=\"Ne\"),\"dobre\",IF(C65>D65,\"zle\",IF(AND(C65<=VEMA!P$32,VEMA!Q$32<=D65),\"obed\",IF(OR(D65<=VEMA!P$32,VEMA!Q$32<=C65),\"dobre\",\"zle\"))))","v":"dobre"}]
[{"$f":"IF(A63=\"\",\"\",IF(A63+1<=$D$146,A63+1,\"\"))","v":16},{"$f":"IF(A66=\"\",\"\",IF(B63=\"Po\",\"Ut\",IF(B63=\"Ut\",\"St\",IF(B63=\"St\",\"Št\",IF(B63=\"Št\",\"Pi\",IF(B63=\"Pi\",\"So\",IF(B63=\"So\",\"Ne\",IF(B63=\"Ne\",\"Po\",\"\"))))))))","v":"St"},null,null,{"$f":"IF(OR(U66=\"dobre\",U66=\"obed\"),IF(OR(B66=\"So\",B66=\"Ne\"),\"\",IF(OR(D66<=VEMA!P$33,C66>=VEMA!Q$33),(D66-C66)*24,(D66-C66)*24-VEMA!R$33)),\"<< zlý čas\")","v":0},null,null,null,null,0,0,null,null,null,null,null,"4.1.22. MUF: Založenie skupiny účastníkov fóra v CIS MPC, Moodle a používaných aplikáciách.",null,{"$f":"IF(SUM(E66:E68)=0,\"\",SUM(E66:E68))","v":""},null,{"$f":"IF(OR(B66=\"So\",B66=\"Ne\"),\"dobre\",IF(C66>D66,\"zle\",IF(AND(C66<=VEMA!P$33,VEMA!Q$33<=D66),\"obed\",IF(OR(D66<=VEMA!P$33,VEMA!Q$33<=C66),\"dobre\",\"zle\"))))","v":"dobre"}]
[null,{"$f":"B66","v":"St"},null,null,{"$f":"IF(OR(U67=\"dobre\",U67=\"obed\"),IF(OR(B67=\"So\",B67=\"Ne\"),\"\",IF(OR(D67<=VEMA!P$33,C67>=VEMA!Q$33),(D67-C67)*24,(D67-C67)*24-VEMA!R$33)),\"<< zlý čas\")","v":0},null,null,null,null,0,0,null,null,null,null,null,"4.1.22. MUF: Správa skupiny účastníkov fóra v CIS MPC, Moodle a používaných aplikáciách.",null,null,null,{"$f":"IF(OR(B67=\"So\",B67=\"Ne\"),\"dobre\",IF(C67>D67,\"zle\",IF(AND(C67<=VEMA!P$33,VEMA!Q$33<=D67),\"obed\",IF(OR(D67<=VEMA!P$33,VEMA!Q$33<=C67),\"dobre\",\"zle\"))))","v":"dobre"}]
[null,{"$f":"B67","v":"St"},null,null,{"$f":"IF(OR(U68=\"dobre\",U68=\"obed\"),IF(OR(B68=\"So\",B68=\"Ne\"),\"\",IF(OR(D68<=VEMA!P$33,C68>=VEMA!Q$33),(D68-C68)*24,(D68-C68)*24-VEMA!R$33)),\"<< zlý čas\")","v":0},null,null,null,null,0,0,null,null,null,null,null,"4.1.22. MUF: Snímanie aktuálnych potrieb PZ a OZ pred založením a v priebehu činnosti fóra.",null,null,null,{"$f":"IF(OR(B68=\"So\",B68=\"Ne\"),\"dobre\",IF(C68>D68,\"zle\",IF(AND(C68<=VEMA!P$33,VEMA!Q$33<=D68),\"obed\",IF(OR(D68<=VEMA!P$33,VEMA!Q$33<=C68),\"dobre\",\"zle\"))))","v":"dobre"}]
[{"$f":"IF(A66=\"\",\"\",IF(A66+1<=$D$146,A66+1,\"\"))","v":17},{"$f":"IF(A69=\"\",\"\",IF(B66=\"Po\",\"Ut\",IF(B66=\"Ut\",\"St\",IF(B66=\"St\",\"Št\",IF(B66=\"Št\",\"Pi\",IF(B66=\"Pi\",\"So\",IF(B66=\"So\",\"Ne\",IF(B66=\"Ne\",\"Po\",\"\"))))))))","v":"Št"},null,null,{"$f":"IF(OR(U69=\"dobre\",U69=\"obed\"),IF(OR(B69=\"So\",B69=\"Ne\"),\"\",IF(OR(D69<=VEMA!P$34,C69>=VEMA!Q$34),(D69-C69)*24,(D69-C69)*24-VEMA!R$34)),\"<< zlý čas\")","v":0},null,null,null,null,0,0,null,null,null,null,null,"4.1.22. MUF: Iniciovanie, príprava a realizácia prieskumov realizovaných v rámci fóra učiteľov",null,{"$f":"IF(SUM(E69:E71)=0,\"\",SUM(E69:E71))","v":""},null,{"$f":"IF(OR(B69=\"So\",B69=\"Ne\"),\"dobre\",IF(C69>D69,\"zle\",IF(AND(C69<=VEMA!P$34,VEMA!Q$34<=D69),\"obed\",IF(OR(D69<=VEMA!P$34,VEMA!Q$34<=C69),\"dobre\",\"zle\"))))","v":"dobre"}]
[null,{"$f":"B69","v":"Št"},null,null,{"$f":"IF(OR(U70=\"dobre\",U70=\"obed\"),IF(OR(B70=\"So\",B70=\"Ne\"),\"\",IF(OR(D70<=VEMA!P$34,C70>=VEMA!Q$34),(D70-C70)*24,(D70-C70)*24-VEMA!R$34)),\"<< zlý čas\")","v":0},null,null,null,null,0,0,null,null,null,null,null,"4.1.22. MUF: Riadenie pracovnej skupiny lektorov v rámci fóra učiteľov.",null,null,null,{"$f":"IF(OR(B70=\"So\",B70=\"Ne\"),\"dobre\",IF(C70>D70,\"zle\",IF(AND(C70<=VEMA!P$34,VEMA!Q$34<=D70),\"obed\",IF(OR(D70<=VEMA!P$34,VEMA!Q$34<=C70),\"dobre\",\"zle\"))))","v":"dobre"}]
[null,{"$f":"B70","v":"Št"},null,null,{"$f":"IF(OR(U71=\"dobre\",U71=\"obed\"),IF(OR(B71=\"So\",B71=\"Ne\"),\"\",IF(OR(D71<=VEMA!P$34,C71>=VEMA!Q$34),(D71-C71)*24,(D71-C71)*24-VEMA!R$34)),\"<< zlý čas\")","v":0},null,null,null,null,0,0,null,null,null,null,null,"4.1.22. MUF: Podpora lektorov pri príprave materiálov učiteľského fóra.",null,null,null,{"$f":"IF(OR(B71=\"So\",B71=\"Ne\"),\"dobre\",IF(C71>D71,\"zle\",IF(AND(C71<=VEMA!P$34,VEMA!Q$34<=D71),\"obed\",IF(OR(D71<=VEMA!P$34,VEMA!Q$34<=C71),\"dobre\",\"zle\"))))","v":"dobre"}]
[{"$f":"IF(A69=\"\",\"\",IF(A69+1<=$D$146,A69+1,\"\"))","v":18},{"$f":"IF(A72=\"\",\"\",IF(B69=\"Po\",\"Ut\",IF(B69=\"Ut\",\"St\",IF(B69=\"St\",\"Št\",IF(B69=\"Št\",\"Pi\",IF(B69=\"Pi\",\"So\",IF(B69=\"So\",\"Ne\",IF(B69=\"Ne\",\"Po\",\"\"))))))))","v":"Pi"},null,null,{"$f":"IF(OR(U72=\"dobre\",U72=\"obed\"),IF(OR(B72=\"So\",B72=\"Ne\"),\"\",IF(OR(D72<=VEMA!P$35,C72>=VEMA!Q$35),(D72-C72)*24,(D72-C72)*24-VEMA!R$35)),\"<< zlý čas\")","v":0},null,null,null,null,0,0,null,null,null,null,null,"4.1.22. MUF: Spracovanie výstupov zo stretnutia učiteľského fóra, spracovanie prehľadov a sumárnych výstupov z činnosti fóra učiteľov.",null,{"$f":"IF(SUM(E72:E74)=0,\"\",SUM(E72:E74))","v":""},null,{"$f":"IF(OR(B72=\"So\",B72=\"Ne\"),\"dobre\",IF(C72>D72,\"zle\",IF(AND(C72<=VEMA!P$35,VEMA!Q$35<=D72),\"obed\",IF(OR(D72<=VEMA!P$35,VEMA!Q$35<=C72),\"dobre\",\"zle\"))))","v":"dobre"}]
[null,{"$f":"B72","v":"Pi"},null,null,{"$f":"IF(OR(U73=\"dobre\",U73=\"obed\"),IF(OR(B73=\"So\",B73=\"Ne\"),\"\",IF(OR(D73<=VEMA!P$35,C73>=VEMA!Q$35),(D73-C73)*24,(D73-C73)*24-VEMA!R$35)),\"<< zlý čas\")","v":0},null,null,null,null,0,0,null,null,null,null,null,"4.1.22. MUF: Moderovanie priebehu v rámci prezenčných a on-line stretnutí.",null,null,null,{"$f":"IF(OR(B73=\"So\",B73=\"Ne\"),\"dobre\",IF(C73>D73,\"zle\",IF(AND(C73<=VEMA!P$35,VEMA!Q$35<=D73),\"obed\",IF(OR(D73<=VEMA!P$35,VEMA!Q$35<=C73),\"dobre\",\"zle\"))))","v":"dobre"}]
[null,{"$f":"B73","v":"Pi"},null,null,{"$f":"IF(OR(U74=\"dobre\",U74=\"obed\"),IF(OR(B74=\"So\",B74=\"Ne\"),\"\",IF(OR(D74<=VEMA!P$35,C74>=VEMA!Q$35),(D74-C74)*24,(D74-C74)*24-VEMA!R$35)),\"<< zlý čas\")","v":0},null,null,null,null,0,0,null,null,null,null,null,"4.1.22. MUF: Moderovanie priebehu v rámci  príspevkov v diskusných (on-line) fórach v rámci používaných aplikácií.",null,null,null,{"$f":"IF(OR(B74=\"So\",B74=\"Ne\"),\"dobre\",IF(C74>D74,\"zle\",IF(AND(C74<=VEMA!P$35,VEMA!Q$35<=D74),\"obed\",IF(OR(D74<=VEMA!P$35,VEMA!Q$35<=C74),\"dobre\",\"zle\"))))","v":"dobre"}]
[{"$f":"IF(A72=\"\",\"\",IF(A72+1<=$D$146,A72+1,\"\"))","v":19},{"$f":"IF(A75=\"\",\"\",IF(B72=\"Po\",\"Ut\",IF(B72=\"Ut\",\"St\",IF(B72=\"St\",\"Št\",IF(B72=\"Št\",\"Pi\",IF(B72=\"Pi\",\"So\",IF(B72=\"So\",\"Ne\",IF(B72=\"Ne\",\"Po\",\"\"))))))))","v":"So"},null,null,{"$f":"IF(OR(U75=\"dobre\",U75=\"obed\"),IF(OR(B75=\"So\",B75=\"Ne\"),\"\",IF(OR(D75<=VEMA!P$36,C75>=VEMA!Q$36),(D75-C75)*24,(D75-C75)*24-VEMA!R$36)),\"<< zlý čas\")","v":""},null,null,null,null,"","",null,null,null,null,null,"4.1.22. MUF: Moderovanie v organizovanom virtuálnom mieste asynchrónnych online diskusií.",null,{"$f":"IF(SUM(E75:E77)=0,\"\",SUM(E75:E77))","v":""},null,{"$f":"IF(OR(B75=\"So\",B75=\"Ne\"),\"dobre\",IF(C75>D75,\"zle\",IF(AND(C75<=VEMA!P$36,VEMA!Q$36<=D75),\"obed\",IF(OR(D75<=VEMA!P$36,VEMA!Q$36<=C75),\"dobre\",\"zle\"))))","v":"dobre"}]
[null,{"$f":"B75","v":"So"},null,null,{"$f":"IF(OR(U76=\"dobre\",U76=\"obed\"),IF(OR(B76=\"So\",B76=\"Ne\"),\"\",IF(OR(D76<=VEMA!P$36,C76>=VEMA!Q$36),(D76-C76)*24,(D76-C76)*24-VEMA!R$36)),\"<< zlý čas\")","v":""},null,null,null,null,"","",null,null,null,null,null,"4.1.22. MUF: Konzultovanie tém, ktoré navrhnú účastníci fóra (vrátanej offline formy).",null,null,null,{"$f":"IF(OR(B76=\"So\",B76=\"Ne\"),\"dobre\",IF(C76>D76,\"zle\",IF(AND(C76<=VEMA!P$36,VEMA!Q$36<=D76),\"obed\",IF(OR(D76<=VEMA!P$36,VEMA!Q$36<=C76),\"dobre\",\"zle\"))))","v":"dobre"}]
[null,{"$f":"B76","v":"So"},null,null,{"$f":"IF(OR(U77=\"dobre\",U77=\"obed\"),IF(OR(B77=\"So\",B77=\"Ne\"),\"\",IF(OR(D77<=VEMA!P$36,C77>=VEMA!Q$36),(D77-C77)*24,(D77-C77)*24-VEMA!R$36)),\"<< zlý čas\")","v":""},null,null,null,null,"","",null,null,null,null,null,"4.1.22. MUF: Moderovanie učiteľského fóra.",null,null,null,{"$f":"IF(OR(B77=\"So\",B77=\"Ne\"),\"dobre\",IF(C77>D77,\"zle\",IF(AND(C77<=VEMA!P$36,VEMA!Q$36<=D77),\"obed\",IF(OR(D77<=VEMA!P$36,VEMA!Q$36<=C77),\"dobre\",\"zle\"))))","v":"dobre"}]
[{"$f":"IF(A75=\"\",\"\",IF(A75+1<=$D$146,A75+1,\"\"))","v":20},{"$f":"IF(A78=\"\",\"\",IF(B75=\"Po\",\"Ut\",IF(B75=\"Ut\",\"St\",IF(B75=\"St\",\"Št\",IF(B75=\"Št\",\"Pi\",IF(B75=\"Pi\",\"So\",IF(B75=\"So\",\"Ne\",IF(B75=\"Ne\",\"Po\",\"\"))))))))","v":"Ne"},null,null,{"$f":"IF(OR(U78=\"dobre\",U78=\"obed\"),IF(OR(B78=\"So\",B78=\"Ne\"),\"\",IF(OR(D78<=VEMA!P$37,C78>=VEMA!Q$37),(D78-C78)*24,(D78-C78)*24-VEMA!R$37)),\"<< zlý čas\")","v":""},null,null,null,null,"","",null,null,null,null,null,"4.1.23. A: Realizácia prieskumnej činnosti v projekte.",null,{"$f":"IF(SUM(E78:E80)=0,\"\",SUM(E78:E80))","v":""},null,{"$f":"IF(OR(B78=\"So\",B78=\"Ne\"),\"dobre\",IF(C78>D78,\"zle\",IF(AND(C78<=VEMA!P$37,VEMA!Q$37<=D78),\"obed\",IF(OR(D78<=VEMA!P$37,VEMA!Q$37<=C78),\"dobre\",\"zle\"))))","v":"dobre"}]
[null,{"$f":"B78","v":"Ne"},null,null,{"$f":"IF(OR(U79=\"dobre\",U79=\"obed\"),IF(OR(B79=\"So\",B79=\"Ne\"),\"\",IF(OR(D79<=VEMA!P$37,C79>=VEMA!Q$37),(D79-C79)*24,(D79-C79)*24-VEMA!R$37)),\"<< zlý čas\")","v":""},null,null,null,null,"","",null,null,null,null,null,"4.1.23. A: Návrh zámeru prieskumu, cieľov, metodiky, nástrojov zisťovania a cieľovej skupiny.",null,null,null,{"$f":"IF(OR(B79=\"So\",B79=\"Ne\"),\"dobre\",IF(C79>D79,\"zle\",IF(AND(C79<=VEMA!P$37,VEMA!Q$37<=D79),\"obed\",IF(OR(D79<=VEMA!P$37,VEMA!Q$37<=C79),\"dobre\",\"zle\"))))","v":"dobre"}]
[null,{"$f":"B79","v":"Ne"},null,null,{"$f":"IF(OR(U80=\"dobre\",U80=\"obed\"),IF(OR(B80=\"So\",B80=\"Ne\"),\"\",IF(OR(D80<=VEMA!P$37,C80>=VEMA!Q$37),(D80-C80)*24,(D80-C80)*24-VEMA!R$37)),\"<< zlý čas\")","v":""},null,null,null,null,"","",null,null,null,null,null,"4.1.23. A: Určenie postupu, termínu a miesta realizácie opytovania.",null,null,null,{"$f":"IF(OR(B80=\"So\",B80=\"Ne\"),\"dobre\",IF(C80>D80,\"zle\",IF(AND(C80<=VEMA!P$37,VEMA!Q$37<=D80),\"obed\",IF(OR(D80<=VEMA!P$37,VEMA!Q$37<=C80),\"dobre\",\"zle\"))))","v":"dobre"}]
[{"$f":"IF(A78=\"\",\"\",IF(A78+1<=$D$146,A78+1,\"\"))","v":21},{"$f":"IF(A81=\"\",\"\",IF(B78=\"Po\",\"Ut\",IF(B78=\"Ut\",\"St\",IF(B78=\"St\",\"Št\",IF(B78=\"Št\",\"Pi\",IF(B78=\"Pi\",\"So\",IF(B78=\"So\",\"Ne\",IF(B78=\"Ne\",\"Po\",\"\"))))))))","v":"Po"},null,null,{"$f":"IF(OR(U81=\"dobre\",U81=\"obed\"),IF(OR(B81=\"So\",B81=\"Ne\"),\"\",IF(OR(D81<=VEMA!P$38,C81>=VEMA!Q$38),(D81-C81)*24,(D81-C81)*24-VEMA!R$38)),\"<< zlý čas\")","v":0},null,null,null,null,0,0,null,null,null,null,null,"4.1.23. A:  Spracovanie a interpretácia zistenia z opytovania.",null,{"$f":"IF(SUM(E81:E83)=0,\"\",SUM(E81:E83))","v":""},null,{"$f":"IF(OR(B81=\"So\",B81=\"Ne\"),\"dobre\",IF(C81>D81,\"zle\",IF(AND(C81<=VEMA!P$38,VEMA!Q$38<=D81),\"obed\",IF(OR(D81<=VEMA!P$38,VEMA!Q$38<=C81),\"dobre\",\"zle\"))))","v":"dobre"}]
[null,{"$f":"B81","v":"Po"},null,null,{"$f":"IF(OR(U82=\"dobre\",U82=\"obed\"),IF(OR(B82=\"So\",B82=\"Ne\"),\"\",IF(OR(D82<=VEMA!P$38,C82>=VEMA!Q$38),(D82-C82)*24,(D82-C82)*24-VEMA!R$38)),\"<< zlý čas\")","v":0},null,null,null,null,0,0,null,null,null,null,null,"4.1.23. A: Formulovanie návrhov a odporúčaní vyplývajúcich z prieskumu pre realizáciu projektu.",null,null,null,{"$f":"IF(OR(B82=\"So\",B82=\"Ne\"),\"dobre\",IF(C82>D82,\"zle\",IF(AND(C82<=VEMA!P$38,VEMA!Q$38<=D82),\"obed\",IF(OR(D82<=VEMA!P$38,VEMA!Q$38<=C82),\"dobre\",\"zle\"))))","v":"dobre"}]
[null,{"$f":"B82","v":"Po"},null,null,{"$f":"IF(OR(U83=\"dobre\",U83=\"obed\"),IF(OR(B83=\"So\",B83=\"Ne\"),\"\",IF(OR(D83<=VEMA!P$38,C83>=VEMA!Q$38),(D83-C83)*24,(D83-C83)*24-VEMA!R$38)),\"<< zlý čas\")","v":0},null,null,null,null,0,0,null,null,null,null,null,"4.1.23. A: Realizácia prieskumnej činnosti v projekte, následne spracovanie a interpretácia zistenia z opytovania, finalizácia prieskumu.",null,null,null,{"$f":"IF(OR(B83=\"So\",B83=\"Ne\"),\"dobre\",IF(C83>D83,\"zle\",IF(AND(C83<=VEMA!P$38,VEMA!Q$38<=D83),\"obed\",IF(OR(D83<=VEMA!P$38,VEMA!Q$38<=C83),\"dobre\",\"zle\"))))","v":"dobre"}]
[{"$f":"IF(A81=\"\",\"\",IF(A81+1<=$D$146,A81+1,\"\"))","v":22},{"$f":"IF(A84=\"\",\"\",IF(B81=\"Po\",\"Ut\",IF(B81=\"Ut\",\"St\",IF(B81=\"St\",\"Št\",IF(B81=\"Št\",\"Pi\",IF(B81=\"Pi\",\"So\",IF(B81=\"So\",\"Ne\",IF(B81=\"Ne\",\"Po\",\"\"))))))))","v":"Ut"},null,null,{"$f":"IF(OR(U84=\"dobre\",U84=\"obed\"),IF(OR(B84=\"So\",B84=\"Ne\"),\"\",IF(OR(D84<=VEMA!P$39,C84>=VEMA!Q$39),(D84-C84)*24,(D84-C84)*24-VEMA!R$39)),\"<< zlý čas\")","v":0},null,null,null,null,0,0,null,null,null,null,null,"4.1.25. T PV a UZ: Návrh programu vzdelávania.",null,{"$f":"IF(SUM(E84:E86)=0,\"\",SUM(E84:E86))","v":""},null,{"$f":"IF(OR(B84=\"So\",B84=\"Ne\"),\"dobre\",IF(C84>D84,\"zle\",IF(AND(C84<=VEMA!P$39,VEMA!Q$39<=D84),\"obed\",IF(OR(D84<=VEMA!P$39,VEMA!Q$39<=C84),\"dobre\",\"zle\"))))","v":"dobre"}]
[null,{"$f":"B84","v":"Ut"},null,null,{"$f":"IF(OR(U85=\"dobre\",U85=\"obed\"),IF(OR(B85=\"So\",B85=\"Ne\"),\"\",IF(OR(D85<=VEMA!P$39,C85>=VEMA!Q$39),(D85-C85)*24,(D85-C85)*24-VEMA!R$39)),\"<< zlý čas\")","v":0},null,null,null,null,{"$f":"IF(B85=\"\",\"\",IF(B85=\"So\",\"\",(IF(B85=\"Ne\",\"\",(ROUND(E85-K85,2))))))","v":0},{"$f":"IF(B85=\"So\",\"\",(IF(B85=\"Ne\",\"\",(IF(B85=\"\",\"\",(IF(COUNTIF(Pozicia,$F$16),ROUND(VRR*E85,2),0)))))))","v":0},null,null,null,null,null,"4.1.25. T PV a UZ: Spracovanie programu vzdelávania.",null,null,null,{"$f":"IF(OR(B85=\"So\",B85=\"Ne\"),\"dobre\",IF(C85>D85,\"zle\",IF(AND(C85<=VEMA!P$39,VEMA!Q$39<=D85),\"obed\",IF(OR(D85<=VEMA!P$39,VEMA!Q$39<=C85),\"dobre\",\"zle\"))))","v":"dobre"}]
[null,{"$f":"B85","v":"Ut"},null,null,{"$f":"IF(OR(U86=\"dobre\",U86=\"obed\"),IF(OR(B86=\"So\",B86=\"Ne\"),\"\",IF(OR(D86<=VEMA!P$39,C86>=VEMA!Q$39),(D86-C86)*24,(D86-C86)*24-VEMA!R$39)),\"<< zlý čas\")","v":0},null,null,null,null,0,0,null,null,null,null,null,"4.1.25. T PV a UZ: Finálne spracovanie programu vzdelávania.",null,null,null,{"$f":"IF(OR(B86=\"So\",B86=\"Ne\"),\"dobre\",IF(C86>D86,\"zle\",IF(AND(C86<=VEMA!P$39,VEMA!Q$39<=D86),\"obed\",IF(OR(D86<=VEMA!P$39,VEMA!Q$39<=C86),\"dobre\",\"zle\"))))","v":"dobre"}]
[{"$f":"IF(A84=\"\",\"\",IF(A84+1<=$D$146,A84+1,\"\"))","v":23},{"$f":"IF(A87=\"\",\"\",IF(B84=\"Po\",\"Ut\",IF(B84=\"Ut\",\"St\",IF(B84=\"St\",\"Št\",IF(B84=\"Št\",\"Pi\",IF(B84=\"Pi\",\"So\",IF(B84=\"So\",\"Ne\",IF(B84=\"Ne\",\"Po\",\"\"))))))))","v":"St"},null,null,{"$f":"IF(OR(U87=\"dobre\",U87=\"obed\"),IF(OR(B87=\"So\",B87=\"Ne\"),\"\",IF(OR(D87<=VEMA!P$40,C87>=VEMA!Q$40),(D87-C87)*24,(D87-C87)*24-VEMA!R$40)),\"<< zlý čas\")","v":0},null,null,null,null,0,0,null,null,null,null,null,"4.1.25. T PV a UZ: Zapracovanie pripomienok do  programu vzdelávania.",null,{"$f":"IF(SUM(E87:E89)=0,\"\",SUM(E87:E89))","v":""},null,{"$f":"IF(OR(B87=\"So\",B87=\"Ne\"),\"dobre\",IF(C87>D87,\"zle\",IF(AND(C87<=VEMA!P$40,VEMA!Q$40<=D87),\"obed\",IF(OR(D87<=VEMA!P$40,VEMA!Q$40<=C87),\"dobre\",\"zle\"))))","v":"dobre"}]
[null,{"$f":"B87","v":"St"},null,null,{"$f":"IF(OR(U88=\"dobre\",U88=\"obed\"),IF(OR(B88=\"So\",B88=\"Ne\"),\"\",IF(OR(D88<=VEMA!P$40,C88>=VEMA!Q$40),(D88-C88)*24,(D88-C88)*24-VEMA!R$40)),\"<< zlý čas\")","v":0},null,null,null,null,0,0,null,null,null,null,null,"4.1.25. T PV a UZ: Návrh učebných zdrojov k programu vzdelávania.",null,null,null,{"$f":"IF(OR(B88=\"So\",B88=\"Ne\"),\"dobre\",IF(C88>D88,\"zle\",IF(AND(C88<=VEMA!P$40,VEMA!Q$40<=D88),\"obed\",IF(OR(D88<=VEMA!P$40,VEMA!Q$40<=C88),\"dobre\",\"zle\"))))","v":"dobre"}]
[null,{"$f":"B88","v":"St"},null,null,{"$f":"IF(OR(U89=\"dobre\",U89=\"obed\"),IF(OR(B89=\"So\",B89=\"Ne\"),\"\",IF(OR(D89<=VEMA!P$40,C89>=VEMA!Q$40),(D89-C89)*24,(D89-C89)*24-VEMA!R$40)),\"<< zlý čas\")","v":0},null,null,null,null,0,0,null,null,null,null,null,"4.1.25. T PV a UZ: Spracovanie  učebných zdrojov k programu vzdelávania.",null,null,null,{"$f":"IF(OR(B89=\"So\",B89=\"Ne\"),\"dobre\",IF(C89>D89,\"zle\",IF(AND(C89<=VEMA!P$40,VEMA!Q$40<=D89),\"obed\",IF(OR(D89<=VEMA!P$40,VEMA!Q$40<=C89),\"dobre\",\"zle\"))))","v":"dobre"}]
[{"$f":"IF(A87=\"\",\"\",IF(A87+1<=$D$146,A87+1,\"\"))","v":24},{"$f":"IF(A90=\"\",\"\",IF(B87=\"Po\",\"Ut\",IF(B87=\"Ut\",\"St\",IF(B87=\"St\",\"Št\",IF(B87=\"Št\",\"Pi\",IF(B87=\"Pi\",\"So\",IF(B87=\"So\",\"Ne\",IF(B87=\"Ne\",\"Po\",\"\"))))))))","v":"Št"},null,null,{"$f":"IF(OR(U90=\"dobre\",U90=\"obed\"),IF(OR(B90=\"So\",B90=\"Ne\"),\"\",IF(OR(D90<=VEMA!P$41,C90>=VEMA!Q$41),(D90-C90)*24,(D90-C90)*24-VEMA!R$41)),\"<< zlý čas\")","v":0},null,null,null,null,0,0,null,null,null,null,null,"4.1.25. T PV a UZ: Zapracovanie pripomienok do  programu vzdelávania a do učebných zdrojov.",null,{"$f":"IF(SUM(E90:E92)=0,\"\",SUM(E90:E92))","v":""},null,{"$f":"IF(OR(B90=\"So\",B90=\"Ne\"),\"dobre\",IF(C90>D90,\"zle\",IF(AND(C90<=VEMA!P$41,VEMA!Q$41<=D90),\"obed\",IF(OR(D90<=VEMA!P$41,VEMA!Q$41<=C90),\"dobre\",\"zle\"))))","v":"dobre"}]
[null,{"$f":"B90","v":"Št"},null,null,{"$f":"IF(OR(U91=\"dobre\",U91=\"obed\"),IF(OR(B91=\"So\",B91=\"Ne\"),\"\",IF(OR(D91<=VEMA!P$41,C91>=VEMA!Q$41),(D91-C91)*24,(D91-C91)*24-VEMA!R$41)),\"<< zlý čas\")","v":0},null,null,null,null,0,0,null,null,null,null,null,"4.1.25. T PV a UZ:  Návrh  a spracovanie programu vzdelávania a učebných zdrojov.",null,null,null,{"$f":"IF(OR(B91=\"So\",B91=\"Ne\"),\"dobre\",IF(C91>D91,\"zle\",IF(AND(C91<=VEMA!P$41,VEMA!Q$41<=D91),\"obed\",IF(OR(D91<=VEMA!P$41,VEMA!Q$41<=C91),\"dobre\",\"zle\"))))","v":"dobre"}]
[null,{"$f":"B91","v":"Št"},null,null,{"$f":"IF(OR(U92=\"dobre\",U92=\"obed\"),IF(OR(B92=\"So\",B92=\"Ne\"),\"\",IF(OR(D92<=VEMA!P$41,C92>=VEMA!Q$41),(D92-C92)*24,(D92-C92)*24-VEMA!R$41)),\"<< zlý čas\")","v":0},null,null,null,null,0,0,null,null,null,null,null,"4.1.25. T PV a UZ: Finalizácia vzdelávacieho programu a učebných zdrojov.",null,null,null,{"$f":"IF(OR(B92=\"So\",B92=\"Ne\"),\"dobre\",IF(C92>D92,\"zle\",IF(AND(C92<=VEMA!P$41,VEMA!Q$41<=D92),\"obed\",IF(OR(D92<=VEMA!P$41,VEMA!Q$41<=C92),\"dobre\",\"zle\"))))","v":"dobre"}]
[{"$f":"IF(A90=\"\",\"\",IF(A90+1<=$D$146,A90+1,\"\"))","v":25},{"$f":"IF(A93=\"\",\"\",IF(B90=\"Po\",\"Ut\",IF(B90=\"Ut\",\"St\",IF(B90=\"St\",\"Št\",IF(B90=\"Št\",\"Pi\",IF(B90=\"Pi\",\"So\",IF(B90=\"So\",\"Ne\",IF(B90=\"Ne\",\"Po\",\"\"))))))))","v":"Pi"},null,null,{"$f":"IF(OR(U93=\"dobre\",U93=\"obed\"),IF(OR(B93=\"So\",B93=\"Ne\"),\"\",IF(OR(D93<=VEMA!P$42,C93>=VEMA!Q$42),(D93-C93)*24,(D93-C93)*24-VEMA!R$42)),\"<< zlý čas\")","v":0},null,null,null,null,0,0,null,null,null,null,null,"4.1.25. T PV a UZ: Konzultovanie pripomienok s konzultantom obsahu PV a UZ.",null,{"$f":"IF(SUM(E93:E95)=0,\"\",SUM(E93:E95))","v":""},null,{"$f":"IF(OR(B93=\"So\",B93=\"Ne\"),\"dobre\",IF(C93>D93,\"zle\",IF(AND(C93<=VEMA!P$42,VEMA!Q$42<=D93),\"obed\",IF(OR(D93<=VEMA!P$42,VEMA!Q$42<=C93),\"dobre\",\"zle\"))))","v":"dobre"}]
[null,{"$f":"B93","v":"Pi"},null,null,{"$f":"IF(OR(U94=\"dobre\",U94=\"obed\"),IF(OR(B94=\"So\",B94=\"Ne\"),\"\",IF(OR(D94<=VEMA!P$42,C94>=VEMA!Q$42),(D94-C94)*24,(D94-C94)*24-VEMA!R$42)),\"<< zlý čas\")","v":0},null,null,null,null,0,0,null,null,null,null,null,"4.1.28. OG IV: Dohľad pri realizácii vzdelávacích aktivít v inovačných programoch vzdelávania.",null,null,null,{"$f":"IF(OR(B94=\"So\",B94=\"Ne\"),\"dobre\",IF(C94>D94,\"zle\",IF(AND(C94<=VEMA!P$42,VEMA!Q$42<=D94),\"obed\",IF(OR(D94<=VEMA!P$42,VEMA!Q$42<=C94),\"dobre\",\"zle\"))))","v":"dobre"}]
[null,{"$f":"B94","v":"Pi"},null,null,{"$f":"IF(OR(U95=\"dobre\",U95=\"obed\"),IF(OR(B95=\"So\",B95=\"Ne\"),\"\",IF(OR(D95<=VEMA!P$42,C95>=VEMA!Q$42),(D95-C95)*24,(D95-C95)*24-VEMA!R$42)),\"<< zlý čas\")","v":0},null,null,null,null,0,0,null,null,null,null,null,"4.1.28. OG IV: Príprava a vedie lektorov.",null,null,null,{"$f":"IF(OR(B95=\"So\",B95=\"Ne\"),\"dobre\",IF(C95>D95,\"zle\",IF(AND(C95<=VEMA!P$42,VEMA!Q$42<=D95),\"obed\",IF(OR(D95<=VEMA!P$42,VEMA!Q$42<=C95),\"dobre\",\"zle\"))))","v":"dobre"}]
[{"$f":"IF(A93=\"\",\"\",IF(A93+1<=$D$146,A93+1,\"\"))","v":26},{"$f":"IF(A96=\"\",\"\",IF(B93=\"Po\",\"Ut\",IF(B93=\"Ut\",\"St\",IF(B93=\"St\",\"Št\",IF(B93=\"Št\",\"Pi\",IF(B93=\"Pi\",\"So\",IF(B93=\"So\",\"Ne\",IF(B93=\"Ne\",\"Po\",\"\"))))))))","v":"So"},null,null,{"$f":"IF(OR(U96=\"dobre\",U96=\"obed\"),IF(OR(B96=\"So\",B96=\"Ne\"),\"\",IF(OR(D96<=VEMA!P$43,C96>=VEMA!Q$43),(D96-C96)*24,(D96-C96)*24-VEMA!R$43)),\"<< zlý čas\")","v":""},null,null,null,null,"","",null,null,null,null,null,"4.1.28. OG IV: Kontrola priebehu  realizácie vzdelávacích programov.",null,{"$f":"IF(SUM(E96:E98)=0,\"\",SUM(E96:E98))","v":""},null,{"$f":"IF(OR(B96=\"So\",B96=\"Ne\"),\"dobre\",IF(C96>D96,\"zle\",IF(AND(C96<=VEMA!P$43,VEMA!Q$43<=D96),\"obed\",IF(OR(D96<=VEMA!P$43,VEMA!Q$43<=C96),\"dobre\",\"zle\"))))","v":"dobre"}]
[null,{"$f":"B96","v":"So"},null,null,{"$f":"IF(OR(U97=\"dobre\",U97=\"obed\"),IF(OR(B97=\"So\",B97=\"Ne\"),\"\",IF(OR(D97<=VEMA!P$43,C97>=VEMA!Q$43),(D97-C97)*24,(D97-C97)*24-VEMA!R$43)),\"<< zlý čas\")","v":""},null,null,null,null,"","",null,null,null,null,null,"4.1.28. OG IV: Kontrola ukončenia realizácie vzdelávacích programov.",null,null,null,{"$f":"IF(OR(B97=\"So\",B97=\"Ne\"),\"dobre\",IF(C97>D97,\"zle\",IF(AND(C97<=VEMA!P$43,VEMA!Q$43<=D97),\"obed\",IF(OR(D97<=VEMA!P$43,VEMA!Q$43<=C97),\"dobre\",\"zle\"))))","v":"dobre"}]
[null,{"$f":"B97","v":"So"},null,null,{"$f":"IF(OR(U98=\"dobre\",U98=\"obed\"),IF(OR(B98=\"So\",B98=\"Ne\"),\"\",IF(OR(D98<=VEMA!P$43,C98>=VEMA!Q$43),(D98-C98)*24,(D98-C98)*24-VEMA!R$43)),\"<< zlý čas\")","v":""},null,null,null,null,"","",null,null,null,null,null,"4.1.28. OG IV: Vyhodnotenie realizácie programu vzdelávania.",null,null,null,{"$f":"IF(OR(B98=\"So\",B98=\"Ne\"),\"dobre\",IF(C98>D98,\"zle\",IF(AND(C98<=VEMA!P$43,VEMA!Q$43<=D98),\"obed\",IF(OR(D98<=VEMA!P$43,VEMA!Q$43<=C98),\"dobre\",\"zle\"))))","v":"dobre"}]
[{"$f":"IF(A96=\"\",\"\",IF(A96+1<=$D$146,A96+1,\"\"))","v":27},{"$f":"IF(A99=\"\",\"\",IF(B96=\"Po\",\"Ut\",IF(B96=\"Ut\",\"St\",IF(B96=\"St\",\"Št\",IF(B96=\"Št\",\"Pi\",IF(B96=\"Pi\",\"So\",IF(B96=\"So\",\"Ne\",IF(B96=\"Ne\",\"Po\",\"\"))))))))","v":"Ne"},null,null,{"$f":"IF(OR(U99=\"dobre\",U99=\"obed\"),IF(OR(B99=\"So\",B99=\"Ne\"),\"\",IF(OR(D99<=VEMA!P$44,C99>=VEMA!Q$44),(D99-C99)*24,(D99-C99)*24-VEMA!R$44)),\"<< zlý čas\")","v":""},null,null,null,null,"","",null,null,null,null,null,"4.1.28. OG IV: Príprava podkladov na archiváciu v zmysle interných a projektových pokynov.",null,{"$f":"IF(SUM(E99:E101)=0,\"\",SUM(E99:E101))","v":""},null,{"$f":"IF(OR(B99=\"So\",B99=\"Ne\"),\"dobre\",IF(C99>D99,\"zle\",IF(AND(C99<=VEMA!P$44,VEMA!Q$44<=D99),\"obed\",IF(OR(D99<=VEMA!P$44,VEMA!Q$44<=C99),\"dobre\",\"zle\"))))","v":"dobre"}]
[null,{"$f":"B99","v":"Ne"},null,null,{"$f":"IF(OR(U100=\"dobre\",U100=\"obed\"),IF(OR(B100=\"So\",B100=\"Ne\"),\"\",IF(OR(D100<=VEMA!P$44,C100>=VEMA!Q$44),(D100-C100)*24,(D100-C100)*24-VEMA!R$44)),\"<< zlý čas\")","v":""},null,null,null,null,"","",null,null,null,null,null,"4.1.28. OG IV: Kontrola zapracovaných pripomienok.",null,null,null,{"$f":"IF(OR(B100=\"So\",B100=\"Ne\"),\"dobre\",IF(C100>D100,\"zle\",IF(AND(C100<=VEMA!P$44,VEMA!Q$44<=D100),\"obed\",IF(OR(D100<=VEMA!P$44,VEMA!Q$44<=C100),\"dobre\",\"zle\"))))","v":"dobre"}]
[null,{"$f":"B100","v":"Ne"},null,null,{"$f":"IF(OR(U101=\"dobre\",U101=\"obed\"),IF(OR(B101=\"So\",B101=\"Ne\"),\"\",IF(OR(D101<=VEMA!P$44,C101>=VEMA!Q$44),(D101-C101)*24,(D101-C101)*24-VEMA!R$44)),\"<< zlý čas\")","v":""},null,null,null,null,"","",null,null,null,null,null,"4.1.28. OG IV: Účasť na porade k vzdelávacím programom v rámci národného projektu.",null,null,null,{"$f":"IF(OR(B101=\"So\",B101=\"Ne\"),\"dobre\",IF(C101>D101,\"zle\",IF(AND(C101<=VEMA!P$44,VEMA!Q$44<=D101),\"obed\",IF(OR(D101<=VEMA!P$44,VEMA!Q$44<=C101),\"dobre\",\"zle\"))))","v":"dobre"}]
[{"$f":"IF(A99=\"\",\"\",IF(A99+1<=$D$146,A99+1,\"\"))","v":28},{"$f":"IF(A102=\"\",\"\",IF(B99=\"Po\",\"Ut\",IF(B99=\"Ut\",\"St\",IF(B99=\"St\",\"Št\",IF(B99=\"Št\",\"Pi\",IF(B99=\"Pi\",\"So\",IF(B99=\"So\",\"Ne\",IF(B99=\"Ne\",\"Po\",\"\"))))))))","v":"Po"},null,null,{"$f":"IF(OR(U102=\"dobre\",U102=\"obed\"),IF(OR(B102=\"So\",B102=\"Ne\"),\"\",IF(OR(D102<=VEMA!P$45,C102>=VEMA!Q$45),(D102-C102)*24,(D102-C102)*24-VEMA!R$45)),\"<< zlý čas\")","v":0},null,null,null,null,0,0,null,null,null,null,null,"4.1.28. OG IV: Priebežné vyhodnocovanie výstupov z realizovaných vzdelávacích programov.",null,{"$f":"IF(SUM(E102:E104)=0,\"\",SUM(E102:E104))","v":""},null,{"$f":"IF(OR(B102=\"So\",B102=\"Ne\"),\"dobre\",IF(C102>D102,\"zle\",IF(AND(C102<=VEMA!P$45,VEMA!Q$45<=D102),\"obed\",IF(OR(D102<=VEMA!P$45,VEMA!Q$45<=C102),\"dobre\",\"zle\"))))","v":"dobre"}]
[null,{"$f":"B102","v":"Po"},null,null,{"$f":"IF(OR(U103=\"dobre\",U103=\"obed\"),IF(OR(B103=\"So\",B103=\"Ne\"),\"\",IF(OR(D103<=VEMA!P$45,C103>=VEMA!Q$45),(D103-C103)*24,(D103-C103)*24-VEMA!R$45)),\"<< zlý čas\")","v":0},null,null,null,null,0,0,null,null,null,null,null,"4.1.28. OG IV: Vyhodnotenie programu vzdelávania.",null,null,null,{"$f":"IF(OR(B103=\"So\",B103=\"Ne\"),\"dobre\",IF(C103>D103,\"zle\",IF(AND(C103<=VEMA!P$45,VEMA!Q$45<=D103),\"obed\",IF(OR(D103<=VEMA!P$45,VEMA!Q$45<=C103),\"dobre\",\"zle\"))))","v":"dobre"}]
[null,{"$f":"B103","v":"Po"},null,null,{"$f":"IF(OR(U104=\"dobre\",U104=\"obed\"),IF(OR(B104=\"So\",B104=\"Ne\"),\"\",IF(OR(D104<=VEMA!P$45,C104>=VEMA!Q$45),(D104-C104)*24,(D104-C104)*24-VEMA!R$45)),\"<< zlý čas\")","v":0},null,null,null,null,0,0,null,null,null,null,null,"4.1.28. OG IV: Účasť na porade k vzdelávacím programom v rámci národného projektu a vyhodnotenie programu vzdelávania.",null,null,null,{"$f":"IF(OR(B104=\"So\",B104=\"Ne\"),\"dobre\",IF(C104>D104,\"zle\",IF(AND(C104<=VEMA!P$45,VEMA!Q$45<=D104),\"obed\",IF(OR(D104<=VEMA!P$45,VEMA!Q$45<=C104),\"dobre\",\"zle\"))))","v":"dobre"}]
[{"$f":"IF(A102=\"\",\"\",IF(A102+1<=$D$146,A102+1,\"\"))","v":29},{"$f":"IF(A105=\"\",\"\",IF(B102=\"Po\",\"Ut\",IF(B102=\"Ut\",\"St\",IF(B102=\"St\",\"Št\",IF(B102=\"Št\",\"Pi\",IF(B102=\"Pi\",\"So\",IF(B102=\"So\",\"Ne\",IF(B102=\"Ne\",\"Po\",\"\"))))))))","v":"Ut"},null,null,{"$f":"IF(OR(U105=\"dobre\",U105=\"obed\"),IF(OR(B105=\"So\",B105=\"Ne\",B105=\"\"),\"\",IF(OR(D105<=VEMA!P$46,C105>=VEMA!Q$46),(D105-C105)*24,(D105-C105)*24-VEMA!R$46)),\"<< zlý čas\")","v":0},null,null,null,null,0,0,null,null,null,null,null,"4.1.29 VVS: Zakladanie vzdelávacej skupiny.",null,{"$f":"IF(SUM(E105:E107)=0,\"\",SUM(E105:E107))","v":""},null,{"$f":"IF(OR(B105=\"So\",B105=\"Ne\"),\"dobre\",IF(C105>D105,\"zle\",IF(AND(C105<=VEMA!P$46,VEMA!Q$46<=D105),\"obed\",IF(OR(D105<=VEMA!P$46,VEMA!Q$46<=C105),\"dobre\",\"zle\"))))","v":"dobre"}]
[null,{"$f":"B105","v":"Ut"},null,null,{"$f":"IF(OR(U106=\"dobre\",U106=\"obed\"),IF(OR(B106=\"So\",B106=\"Ne\",B106=\"\"),\"\",IF(OR(D106<=VEMA!P$46,C106>=VEMA!Q$46),(D106-C106)*24,(D106-C106)*24-VEMA!R$46)),\"<< zlý čas\")","v":0},null,null,null,null,0,0,null,null,null,null,null,"4.1.29. VVS: Správa databázy účastníkov, tvorba materiálov (pozvánky, prezenčné listiny, triednu knihu skupiny).",null,null,null,{"$f":"IF(OR(B106=\"So\",B106=\"Ne\"),\"dobre\",IF(C106>D106,\"zle\",IF(AND(C106<=VEMA!P$46,VEMA!Q$46<=D106),\"obed\",IF(OR(D106<=VEMA!P$46,VEMA!Q$46<=C106),\"dobre\",\"zle\"))))","v":"dobre"}]
[null,{"$f":"B106","v":"Ut"},null,null,{"$f":"IF(OR(U107=\"dobre\",U107=\"obed\"),IF(OR(B107=\"So\",B107=\"Ne\",B107=\"\"),\"\",IF(OR(D107<=VEMA!P$46,C107>=VEMA!Q$46),(D107-C107)*24,(D107-C107)*24-VEMA!R$46)),\"<< zlý čas\")","v":0},null,null,null,null,0,0,null,null,null,null,null,"4.1.29. VVS: Sumarizácia dištančných úloh.",null,null,null,{"$f":"IF(OR(B107=\"So\",B107=\"Ne\"),\"dobre\",IF(C107>D107,\"zle\",IF(AND(C107<=VEMA!P$46,VEMA!Q$46<=D107),\"obed\",IF(OR(D107<=VEMA!P$46,VEMA!Q$46<=C107),\"dobre\",\"zle\"))))","v":"dobre"}]
[{"$f":"IF(A105=\"\",\"\",IF(A105+1<=$D$146,A105+1,\"\"))","v":30},{"$f":"IF(A108=\"\",\"\",IF(B105=\"Po\",\"Ut\",IF(B105=\"Ut\",\"St\",IF(B105=\"St\",\"Št\",IF(B105=\"Št\",\"Pi\",IF(B105=\"Pi\",\"So\",IF(B105=\"So\",\"Ne\",IF(B105=\"Ne\",\"Po\",\"\"))))))))","v":"St"},null,null,{"$f":"IF(OR(U108=\"dobre\",U108=\"obed\"),IF(OR(B108=\"So\",B108=\"Ne\",B108=\"\"),\"\",IF(OR(D108<=VEMA!P$47,C108>=VEMA!Q$47),(D108-C108)*24,(D108-C108)*24-VEMA!R$47)),\"<< zlý čas\")","v":0},null,null,null,null,0,0,null,null,null,null,null,"4.1.29. VVS: Plánovanie a príprava harmonogramu vzdelávacích aktivít.",null,{"$f":"IF(SUM(E108:E110)=0,\"\",SUM(E108:E110))","v":""},null,{"$f":"IF(OR(B108=\"So\",B108=\"Ne\"),\"dobre\",IF(C108>D108,\"zle\",IF(AND(C108<=VEMA!P$47,VEMA!Q$47<=D108),\"obed\",IF(OR(D108<=VEMA!P$47,VEMA!Q$47<=C108),\"dobre\",\"zle\"))))","v":"dobre"}]
[null,{"$f":"B108","v":"St"},null,null,{"$f":"IF(OR(U109=\"dobre\",U109=\"obed\"),IF(OR(B109=\"So\",B109=\"Ne\",B109=\"\"),\"\",IF(OR(D109<=VEMA!P$47,C109>=VEMA!Q$47),(D109-C109)*24,(D109-C109)*24-VEMA!R$47)),\"<< zlý čas\")","v":0},null,null,null,null,0,0,null,null,null,null,null,"4.1.29. VVS: Sumarizácia dištančných úloh a záverečných prezentácii, príprava a spracovanie záverov, vrátane podkladov na spracovanie osvedčení a protokolov. ",null,null,null,{"$f":"IF(OR(B109=\"So\",B109=\"Ne\"),\"dobre\",IF(C109>D109,\"zle\",IF(AND(C109<=VEMA!P$47,VEMA!Q$47<=D109),\"obed\",IF(OR(D109<=VEMA!P$47,VEMA!Q$47<=C109),\"dobre\",\"zle\"))))","v":"dobre"}]
[null,{"$f":"B109","v":"St"},null,null,{"$f":"IF(OR(U110=\"dobre\",U110=\"obed\"),IF(OR(B110=\"So\",B110=\"Ne\",B110=\"\"),\"\",IF(OR(D110<=VEMA!P$47,C110>=VEMA!Q$47),(D110-C110)*24,(D110-C110)*24-VEMA!R$47)),\"<< zlý čas\")","v":0},null,null,null,null,0,0,null,null,null,null,null,"4.1.29. VVS: Príprava podkladov na archiváciu v zmysle interných a projektových pokynov.",null,null,null,{"$f":"IF(OR(B110=\"So\",B110=\"Ne\"),\"dobre\",IF(C110>D110,\"zle\",IF(AND(C110<=VEMA!P$47,VEMA!Q$47<=D110),\"obed\",IF(OR(D110<=VEMA!P$47,VEMA!Q$47<=C110),\"dobre\",\"zle\"))))","v":"dobre"}]
[{"$f":"IF(A108=\"\",\"\",IF(A108+1<=$D$146,A108+1,\"\"))","v":""},{"$f":"IF(A111=\"\",\"\",IF(B108=\"Po\",\"Ut\",IF(B108=\"Ut\",\"St\",IF(B108=\"St\",\"Št\",IF(B108=\"Št\",\"Pi\",IF(B108=\"Pi\",\"So\",IF(B108=\"So\",\"Ne\",IF(B108=\"Ne\",\"Po\",\"\"))))))))","v":""},null,null,{"$f":"IF(OR(U111=\"dobre\",U111=\"obed\"),IF(OR(B111=\"So\",B111=\"Ne\",B111=\"\"),\"\",IF(OR(D111<=VEMA!P$48,C111>=VEMA!Q$48),(D111-C111)*24,(D111-C111)*24-VEMA!R$48)),\"<< zlý čas\")","v":""},null,null,null,null,"",{"$f":"IF(AND(B111=\"So\"),\"\",(IF(AND(B111=\"Ne\"),\"\",(IF(AND(B111=\"\"),\"\",(SUMIF(N21:N48,F16,O21:O48))*E111)))))","v":""},null,null,null,null,null,"4.1.29. VVS: Koordinovanie vzdelávacích skupín.",null,{"$f":"IF(SUM(E111:E113)=0,\"\",SUM(E111:E113))","v":""},null,{"$f":"IF(OR(B111=\"So\",B111=\"Ne\",B111=\"\"),\"dobre\",IF(C111>D111,\"zle\",IF(AND(C111<=VEMA!P$48,VEMA!Q$48<=D111),\"obed\",IF(OR(D111<=VEMA!P$48,VEMA!Q$48<=C111),\"dobre\",\"zle\"))))","v":"dobre"}]
[null,{"$f":"B111","v":""},null,null,{"$f":"IF(OR(U112=\"dobre\",U112=\"obed\"),IF(OR(B112=\"So\",B112=\"Ne\",B112=\"\"),\"\",IF(OR(D112<=VEMA!P$48,C112>=VEMA!Q$48),(D112-C112)*24,(D112-C112)*24-VEMA!R$48)),\"<< zlý čas\")","v":""},null,null,null,null,{"$f":"IF(AND(B112=\"\"),\"\",IF(AND(B112=\"So\"),\"\",(IF(AND(B112=\"Ne\"),\"\",(ROUND(E112-K112,2))))))","v":""},{"$f":"IF(AND(B112=\"So\"),\"\",(IF(AND(B112=\"Ne\"),\"\",(IF(AND(B112=\"\"),\"\",(SUMIF(N21:N48,F16,O21:O48))*E112)))))","v":""},null,null,null,null,null,"4.1.30. L: Príprava na lektorskú činnosť.",null,null,null,{"$f":"IF(OR(B112=\"So\",B112=\"Ne\",B112=\"\"),\"dobre\",IF(C112>D112,\"zle\",IF(AND(C112<=VEMA!P$48,VEMA!Q$48<=D112),\"obed\",IF(OR(D112<=VEMA!P$48,VEMA!Q$48<=C112),\"dobre\",\"zle\"))))","v":"dobre"}]
[null,{"$f":"B112","v":""},null,null,{"$f":"IF(OR(U113=\"dobre\",U113=\"obed\"),IF(OR(B113=\"So\",B113=\"Ne\",B113=\"\"),\"\",IF(OR(D113<=VEMA!P$48,C113>=VEMA!Q$48),(D113-C113)*24,(D113-C113)*24-VEMA!R$48)),\"<< zlý čas\")","v":""},null,null,null,null,{"$f":"IF(AND(B113=\"\"),\"\",IF(AND(B113=\"So\"),\"\",(IF(AND(B113=\"Ne\"),\"\",(ROUND(E113-K113,2))))))","v":""},{"$f":"IF(AND(B113=\"So\"),\"\",(IF(AND(B113=\"Ne\"),\"\",(IF(AND(B113=\"\"),\"\",(SUMIF(N21:N48,F16,O21:O48))*E113)))))","v":""},null,null,null,null,null,"4.1.30. L: Úprava materiálov pre účastníkov vzdelávania.",null,null,null,{"$f":"IF(OR(B113=\"So\",B113=\"Ne\",B113=\"\"),\"dobre\",IF(C113>D113,\"zle\",IF(AND(C113<=VEMA!P$48,VEMA!Q$48<=D113),\"obed\",IF(OR(D113<=VEMA!P$48,VEMA!Q$48<=C113),\"dobre\",\"zle\"))))","v":"dobre"}]
["Spolu:",null,null,null,{"$f":"SUMIF(B21:B111,\"Po\",E21:E113)+SUMIF(B21:B111,\"Ut\",E21:E111)+SUMIF(B21:B111,\"St\",E21:E111)+SUMIF(B21:B111,\"Št\",E21:E111)+SUMIF(B21:B111,\"Pi\",E21:E111)","v":0},null,null,null,null,{"$f":"SUM(J21:J111)","v":0},{"$f":"SUM(K21:K111)","v":0},null,null,null,null,null,"4.1.30. L: Lektorovanie programu vzdelávania."]
["Čestné vyhlásenie:",null,null,null,null,null,null,null,null,null,null,null,null,null,null,null,"4.1.30. L: Ukončovanie  vzdelávacieho programu (člen skúšobnej komisie). "]
[null,null,"❶Ako prijímateľ vyhlasujem, že údaje uvedené v pracovnom výkaze sú pravdivé, reálne a správne a som si vedomý následkov spojených s uvedením/predložením nesprávneho, neúplného alebo falšovaného výkazu.",null,null,null,null,null,null,null,null,null,null,null,null,null,"4.1.30. L: Ukončovanie  vzdelávacieho programu (predseda skúšobnej komisie). "]
["X",null,null,null,null,null,null,null,null,null,null,null,null,"X",null,null,"4.1.30. L: Vyhodnotenie programu vzdelávania za skupinu."]
[null,null,null,null,null,null,null,null,null,null,null,null,null,null,null,null,"4.1.30. L: Príprava na lektorskú činnosť.  Úprava materiálov pre účastníkov vzdelávania."]
[null,null,"❷Svojim podpisom potvrdzujem, že v uvedenom mesiaci som mal iba jediný pracovnoprávny vzťah,  nevykonával som iné činnosti u tohto zamestnávateľa ani u iných zamestnávateľov, údaje uvedené v pracovnom výkaze sú pravdivé, reálne a správne a som si vedomý následkov spojených s uvedením/predložením nesprávneho, neúplného alebo falšovaného pracovného výkazu.",null,null,null,null,null,null,null,null,null,null,null,null,null,"4.1.30. L: Príprava na lektorskú činnosť a lektorovanie programu vzdelávania."]
[null,null,null,null,null,null,null,null,null,null,null,null,null,null,null,null,"4.1.32. P.: Realizácia individuálneho poradenstva pedagogickým zamestnancom s dôrazom na aplikáciu poznatkov zo vzdelávacích programov a aktivít v školskej praxi."]
["Dátum odovzdania: ",null,null,null,null,null,null,"Dátum prevzatia:",null,null,null,null,null,null,null,null,"4.1.32. P.: Poskytovanie spätnej väzby na pozorované edukačné procesy."]
[null,null,null,null,null,null,null,null,null,null,null,null,null,null,null,null,"4.1.32. P.: Realizácia poradenského projektu."]
["Podpis osoby***:",null,null,null,null,null,null,"Podpis štatutárneho orgánu prijímateľa:**",null,null,null,null,null,null,null,null,"4.1.32. P.: Návrh a vypracovanie odporúčaní na zvýšenie kvality výchovno-vzdelávacieho procesu."]
[null,null,null,null,null,null,null,null,null,null,null,null,null,null,null,null,"4.1.32. P.: Vyhodnotenie realizácie poradenského projektu."]
["Poznámka: Osobou sa rozumie zamestnanec v pracovnoprávnom vzťahu (pracovný pomer, dohody) ako aj osoba pracujúca na základe iných ako pracovnoprávnych vzťahov, resp. osoba pracujúca pre dodávateľa, ktorý vykonáva činnosť pre prijímateľa.                                                                                                         \n*Počet hodín je uvádzaný pre 60 minútový interval.",null,null,null,null,null,null,null,null,null,null,null,null,null,null,null,"4.1.32. P: Príprava podkladom na realizáciu poradenského projektu, realizácia poradenského projektu."]
[null,null,null,null,null,null,null,null,null,null,null,null,null,null,null,null,"4.1.32. P: Príprava poradenského projektu."]
["**V prípade splmonocnenia sa uvedia osoba splnomocnená štatutárnym orgánom na podpisovanie pracovných výkazov",null,null,null,null,null,null,null,null,null,null,null,null,null,null,null,"sviatok"]
["***V prípade dodávateľských vzťahov sa uvedie podpis osoby, ktorá vykonala činnosti a výstupy uvádzané v PV a podpis osoby, ktorá zastupuje dodávateľa. Ak osoby sú totožné uvedie sa iba jeden podpis",null,null,null,null,null,null,null,null,null,null,null,null,null,null,null,"dovolenka"]
[null,null,null,null,null,null,null,null,null,null,null,null,null,null,null,null,"iné náhrady"]
["❶",null,"osoba  pracujúca na rôzne pracovnoprávne vzťahy u jedného resp. rôznych zamestnávateľov ",null,null,null,null,null,null,null,null,null,null,null,null,null,"lekár"]
["❷",null,"osoba pracujúca 100% na projekt, ktorá mala iba jediný pracovnoprávny vzťah",null,null,null,null,null,null,null,null,null,null,null,null,null,"sprevádzanie člena rodiny"]
[null,null,null,null,null,null,null,null,null,null,null,null,null,null,null,null,"PN"]
[null,null,null,null,null,null,null,null,null,null,null,null,null,null,null,null,"OČR"]
[null,null,null,null,null,null,null,null,null,null,null,null,null,null,null,null,"neplatené voľno"]
["PRÁCA NADČAS*"]
["Mesiac ",null,null,null,null,null,null,{"$f":"F17","v":"September"}]
["Fond pracovného času v príslušnom mesiaci "]
["Celkový počet odpracovaných hodín v príslušnom mesiaci "]
["Nariadená/dododnutá práca nadčas financovaná v rámci projektu**"]
[]
["* vypĺňa sa iba v prípade, ak sa v rámci projektu v danom mesiaci financuje v projekte práca nadčas"]
["** práca nadčas je oprávnená iba vo výnimočných a odôvodnených prípadoch. musí byť vykonávaná na príkaz zamestnávateľa alebo s jeho súhlasom. Nadčas je oprávneným výdavkom iba v prípade, ak činnosti vykonávané počas práce nadčas priamo súvisia s aktivitami projektu. Pri využívaní nadčas je potrebné dodržiavať platnú legislatívu SR (najmä zákonník práce).\n"]
[]
["Začiatok mesiaca",null,null,{"$f":"VLOOKUP(F17,A163:E174,(VLOOKUP(K17,A177:B180,2,0)),0)","v":2}]
[]
["Počet dní v mesiaci",null,null,{"$f":"VLOOKUP(F17,A183:C194,(VLOOKUP(K17,A196:B199,2,0)),0)","v":30}]
[]
["Vyberte",2019,2020,2021,2022]
["Január","ut","st","pi","so"]
["Február","pi","so","po","ut"]
["Marec","pi","ne","po","ut"]
["Apríl","po","st","št","pi"]
["Máj","st","pi","so","ne"]
["Jún","so","po","ut","st"]
["Júl","po","st","št","pi"]
["August","št","so","ne","po"]
["September","ne","ut","st","št"]
["Október","ut","št","pi","so"]
["November","pi","ne","po","ut"]
["December","ne","ut","st","št"]
[]
[null,2019,2020,2021,2022]
["Január",2,3,5,6]
["Február",5,6,1,2]
["Marec",5,7,1,2]
["Apríl",1,3,4,5]
["Máj",3,5,6,7]
["Jún",6,1,2,3]
["Júl",1,3,4,5]
["August",4,6,7,1]
["September",7,2,3,4]
["Október",2,4,5,6]
["November",5,7,1,2]
["December",7,2,3,4]
[]
[]
[2019,{"$f":"COLUMN(B162)","v":2}]
[2020,{"$f":"COLUMN($C$162)","v":3}]
[2021,{"$f":"COLUMN($D$162)","v":4}]
[2022,{"$f":"COLUMN($E$162)","v":5}]
[]
[null,"ostatné",2020]
["Január",31,31]
["Február",28,29]
["Marec",31,31]
["Apríl",30,30]
["Máj",31,31]
["Jún",30,30]
["Júl",31,31]
["August",31,31]
["September",30,30]
["Október",31,31]
["November",30,30]
["December",31,31]
[]
[2019,{"$f":"COLUMN(B182)","v":2}]
[2020,{"$f":"COLUMN($C$182)","v":3}]
[2021,{"$f":"COLUMN($B$182)","v":2}]
[2022,{"$f":"COLUMN($B$182)","v":2}]

{"sheet":"PV6","index":5,"n_rows":199,"n_cols":21,"rows_kept":199,"cut":false,"hidden":false,"merged":[[5,5,5,7],[5,8,5,9],[7,0,7,4],[7,5,7,11],[8,0,8,4],[8,5,8,11],[14,0,14,4],[14,5,14,11],[15,0,15,4],[15,5,15,10],[16,0,16,4],[16,5,16,9],[9,0,9,4],[9,5,9,11],[10,0,11,4],[10,5,11,11],[12,0,12,4],[12,5,12,11],[18,10,19,10],[18,11,19,11],[20,5,20,8],[21,5,21,8],[22,5,22,8],[23,5,23,8],[18,0,19,0],[18,1,19,1],[18,2,18,3],[18,4,19,4],[18,5,19,8],[18,9,19,9],[30,5,30,8],[31,5,31,8],[32,5,32,8],[33,5,33,8],[34,5,34,8],[35,5,35,8],[24,5,24,8],[25,5,25,8],[26,5,26,8],[27,5,27,8],[28,5,28,8],[29,5,29,8],[42,5,42,8],[43,5,43,8],[44,5,44,8],[45,5,45,8],[46,5,46,8],[47,5,47,8],[36,5,36,8],[37,5,37,8],[38,5,38,8],[39,5,39,8],[40,5,40,8],[41,5,41,8],[54,5,54,8],[55,5,55,8],[56,5,56,8],[57,5,57,8],[58,5,58,8],[59,5,59,8],[48,5,48,8],[49,5,49,8],[50,5,50,8],[51,5,51,8],[52,5,52,8],[53,5,53,8],[66,5,66,8],[67,5,67,8],[68,5,68,8],[69,5,69,8],[70,5,70,8],[71,5,71,8],[60,5,60,8],[61,5,61,8],[62,5,62,8],[63,5,63,8],[64,5,64,8],[65,5,65,8],[78,5,78,8],[79,5,79,8],[80,5,80,8],[81,5,81,8],[82,5,82,8],[83,5,83,8],[72,5,72,8],[73,5,73,8],[74,5,74,8],[75,5,75,8],[76,5,76,8],[77,5,77,8],[90,5,90,8],[91,5,91,8],[92,5,92,8],[93,5,93,8],[94,5,94,8],[95,5,95,8],[84,5,84,8],[85,5,85,8],[86,5,86,8],[87,5,87,8],[88,5,88,8],[89,5,89,8],[102,5,102,8],[103,5,103,8],[104,5,104,8],[105,5,105,8],[106,5,106,8],[107,5,107,8],[96,5,96,8],[97,5,97,8],[98,5,98,8],[99,5,99,8],[100,5,100,8],[101,5,101,8],[118,2,118,11],[120,0,120,2],[120,3,120,5],[120,9,120,11],[122,0,122,2],[122,3,122,5],[122,7,122,10],[108,5,108,8],[109,5,109,8],[110,5,110,8],[111,5,111,8],[112,5,112,8],[115,2,116,11],[140,0,140,11],[141,0,141,11],[136,0,136,6],[136,7,136,11],[137,0,137,6],[137,7,137,11],[138,0,138,6],[138,7,138,11],[124,0,125,11],[126,0,126,11],[127,0,128,11],[134,0,134,11],[135,0,135,6],[135,7,135,11]]}
[]
[null,null,null,null,null,null,null,null,null,null,null,null,null,null,null,null,null,null,null,null,{"$f":"VLOOKUP(F17,PV!A149:'PV'!F160,6,0)","v":9}]
[null,null,null,null,null,null,null,null,null,null,null,null,null,null,null,null,null,null,null,null,{"$f":"IF(U17=\"\",\"\",LEFT(U17,1))","v":"M"}]
[null,null,null,null,null,null,null,null,null,null,null,null,null,null,null,null,null,null,null,null,{"$f":"IF(U17=\"\",\"\",LEFT(RIGHT(U17,LEN(U17)-FIND(\" \",U17,1)),1))","v":"P"}]
[]
[null,null,null,null,null,"PRACOVNÝ VÝKAZ č. ",null,null,{"$f":"IF(U2>9,CONCATENATE(U2,\"/\",U3,U4,\"/04\"),CONCATENATE(\"0\",U2,\"/\",U3,U4,\"/06\"))","v":"09/MP/06"},null,null,null,null,null,null,null,null,null,null,null,{"$f":"SUBSTITUTE(F15,\"Ing.\",\"\")","v":"Mgr. Meno Priezvisko, PhD."}]
[null,null,null,null,null,null,null,null,null,null,null,null,null,null,null,null,null,null,null,null,{"$f":"SUBSTITUTE(U6,\"Mgr.\",\"\")","v":" Meno Priezvisko, PhD."}]
["Operačný program:",null,null,null,null,"Ľudské zdroje",null,null,null,null,null,null,null,null,null,null,null,null,null,null,{"$f":"SUBSTITUTE(U7,\"Bc.\",\"\")","v":" Meno Priezvisko, PhD."}]
["Programové obdobie:",null,null,null,null,"2014-2020",null,null,null,null,null,null,null,null,null,null,null,null,null,null,{"$f":"SUBSTITUTE(U8,\"PaedDr.\",\"\")","v":" Meno Priezvisko, PhD."}]
["Prijímateľ:",null,null,null,null,"Metodicko-pedagogické centrum",null,null,null,null,null,null,null,null,null,null,null,null,null,null,{"$f":"SUBSTITUTE(U9,\"PhDr.\",\"\")","v":" Meno Priezvisko, PhD."}]
["Názov projektu:",null,null,null,null,"Profesijný rozvoj učiteľov (TEACHERS)",null,null,null,null,null,null,null,null,null,null,null,null,null,null,{"$f":"SUBSTITUTE(U10,\"Doc.\",\"\")","v":" Meno Priezvisko, PhD."}]
[null,null,null,null,null,null,null,null,null,null,null,null,null,null,null,null,null,null,null,null,{"$f":"SUBSTITUTE(U11,\"ThDr.\",\"\")","v":" Meno Priezvisko, PhD."}]
["Kód ITMS projektu:",null,null,null,null,"312011AUN7",null,null,null,null,null,null,null,null,null,null,null,null,null,null,{"$f":"SUBSTITUTE(U12,\"MUDr.\",\"\")","v":" Meno Priezvisko, PhD."}]
[null,null,null,null,null,null,null,null,null,null,null,null,null,null,null,null,null,null,null,null,{"$f":"SUBSTITUTE(U13,\"Dr.\",\"\")","v":" Meno Priezvisko, PhD."}]
["Meno a priezvisko osoby:",null,null,null,null,{"$f":"PV!F15","v":"Mgr. Meno Priezvisko, PhD."},null,null,null,null,null,null,null,null,null,null,null,null,null,null,{"$f":"SUBSTITUTE(U14,\"habil.\",\"\")","v":" Meno Priezvisko, PhD."}]
["Funkcia/Právny vzťah",null,null,null,null,null,null,null,null,null,null,"PP",null,null,null,null,null,null,null,null,{"$f":"SUBSTITUTE(U15,\"MUDr.\",\"\")","v":" Meno Priezvisko, PhD."}]
["Obdobie vykonávania činností:",null,null,null,null,{"$f":"PV!F17","v":"September"},null,null,null,null,{"$f":"PV!K17","v":2020},null,null,null,null,null,null,null,null,null,{"$f":"TRIM(U16)","v":"Meno Priezvisko, PhD."}]
[]
["Dátum","Deň","Čas vykonania\n prác",null,"Počet \nodpracovaných hodín*","Detailný popis činností vykonávaných na základe zmluvy o poskytnutí NFP a popis výsledkov vykonanej činnosti",null,null,null,"Počet odpracovaných hodín MRR*","Počet odpracovaných hodín VRR*","Miesto výkonávania činnosti",null,null,null,null,null,null,null,null,"Nastavenie času vzhľadom na obed"]
[null,null,"Od","Do",null,null,null,null,null,null,null,null,null,"Pozícia","VRR","Miesto","Činnosť","Pracovný pomer"]
[1,{"$f":"IF($D$144=1,\"Po\",IF($D$144=2,\"Ut\",IF($D$144=3,\"St\",IF($D$144=4,\"Št\",IF($D$144=5,\"Pi\",IF($D$144=6,\"So\",IF($D$144=7,\"Ne\",\"Nastala chyba\")))))))","v":"Ut"},null,null,{"$f":"IF(OR(U21=\"dobre\",U21=\"obed\"),IF(OR(B21=\"So\",B21=\"Ne\"),\"\",IF(OR(D21<=VEMA!P$18,C21>=VEMA!Q$18),(D21-C21)*24,(D21-C21)*24-VEMA!R$18)),\"<< zlý čas\")","v":0},null,null,null,null,{"$f":"IF(B21=\"\",\"\",IF(B21=\"So\",\"\",(IF(B21=\"Ne\",\"\",(ROUND(E21-K21,2))))))","v":0},{"$f":"IF(B21=\"So\",\"\",(IF(B21=\"Ne\",\"\",(IF(B21=\"\",\"\",(IF(COUNTIF(Pozicia,$F$16),ROUND(VRR*E21,2),0)))))))","v":0},null,null,"4.1.2. Člen expertnej skupiny",0.13689999999999999,"Bratislava","4.1.2. ČES: Spracovanie východísk inovácie a tvorby nových profesijných štandardov.","PP",{"$f":"IF(SUM(E21:E23)=0,\"\",SUM(E21:E23))","v":""},null,{"$f":"IF(OR(B21=\"So\",B21=\"Ne\"),\"dobre\",IF(C21>D21,\"zle\",IF(AND(C21<=VEMA!P$18,VEMA!Q$18<=D21),\"obed\",IF(OR(D21<=VEMA!P$18,VEMA!Q$18<=C21),\"dobre\",\"zle\"))))","v":"dobre"}]
[null,{"$f":"B21","v":"Ut"},null,null,{"$f":"IF(OR(U22=\"dobre\",U22=\"obed\"),IF(OR(B22=\"So\",B22=\"Ne\"),\"\",IF(OR(D22<=VEMA!P$18,C22>=VEMA!Q$18),(D22-C22)*24,(D22-C22)*24-VEMA!R$18)),\"<< zlý čas\")","v":0},null,null,null,null,0,0,null,null,"4.1.4. Člen pracovnej skupiny",0.13689999999999999,"Banská Bystrica","4.1.2. ČES: Určenie základných princípov revízie profesijných štandardov.","D","",null,{"$f":"IF(OR(B22=\"So\",B22=\"Ne\"),\"dobre\",IF(C22>D22,\"zle\",IF(AND(C22<=VEMA!P$18,VEMA!Q$18<=D22),\"obed\",IF(OR(D22<=VEMA!P$18,VEMA!Q$18<=C22),\"dobre\",\"zle\"))))","v":"dobre"}]
[null,{"$f":"B22","v":"Ut"},null,null,{"$f":"IF(OR(U23=\"dobre\",U23=\"obed\"),IF(OR(B23=\"So\",B23=\"Ne\"),\"\",IF(OR(D23<=VEMA!P$18,C23>=VEMA!Q$18),(D23-C23)*24,(D23-C23)*24-VEMA!R$18)),\"<< zlý čas\")","v":0},null,null,null,null,0,0,null,null,"4.1.8. Regionálny odborný riešiteľ 1.2",0.13689999999999999,"Prešov","4.1.2. ČES: Stanovenie východísk pre inovovaný a nový profesijný štandard; vypracovanie vzorového profesijného štandardu (modelu) ","F","",null,{"$f":"IF(OR(B23=\"So\",B23=\"Ne\"),\"dobre\",IF(C23>D23,\"zle\",IF(AND(C23<=VEMA!P$18,VEMA!Q$18<=D23),\"obed\",IF(OR(D23<=VEMA!P$18,VEMA!Q$18<=C23),\"dobre\",\"zle\"))))","v":"dobre"}]
[{"$f":"IF(A21=\"\",\"\",IF(A21+1<=$D$146,A21+1,\"\"))","v":2},{"$f":"IF(A24=\"\",\"\",IF(B21=\"Po\",\"Ut\",IF(B21=\"Ut\",\"St\",IF(B21=\"St\",\"Št\",IF(B21=\"Št\",\"Pi\",IF(B21=\"Pi\",\"So\",IF(B21=\"So\",\"Ne\",IF(B21=\"Ne\",\"Po\",\"\"))))))))","v":"St"},null,null,{"$f":"IF(OR(U24=\"dobre\",U24=\"obed\"),IF(OR(B24=\"So\",B24=\"Ne\"),\"\",IF(OR(D24<=VEMA!P$19,C24>=VEMA!Q$19),(D24-C24)*24,(D24-C24)*24-VEMA!R$19)),\"<< zlý čas\")","v":0},null,null,null,null,0,0,null,null,"4.1.9. Odborný personál podaktivity 1.2",0.13689999999999999,"Košice","4.1.2. ČES: Určenie základných princípov  tvorby nových profesijných štandardov.","I",{"$f":"IF(SUM(E24:E26)=0,\"\",SUM(E24:E26))","v":""},null,{"$f":"IF(OR(B24=\"So\",B24=\"Ne\"),\"dobre\",IF(C24>D24,\"zle\",IF(AND(C24<=VEMA!P$19,VEMA!Q$19<=D24),\"obed\",IF(OR(D24<=VEMA!P$19,VEMA!Q$19<=C24),\"dobre\",\"zle\"))))","v":"dobre"}]
[null,{"$f":"B24","v":"St"},null,null,{"$f":"IF(OR(U25=\"dobre\",U25=\"obed\"),IF(OR(B25=\"So\",B25=\"Ne\"),\"\",IF(OR(D25<=VEMA!P$19,C25>=VEMA!Q$19),(D25-C25)*24,(D25-C25)*24-VEMA!R$19)),\"<< zlý čas\")","v":0},null,null,null,null,0,0,null,null,"4.1.12. Odborný konzultant NOPS",0.13689999999999999,"Komárno","4.1.2. ČES: Účasť na zasadnutí/porade expertnej skupiny.","DD",null,null,{"$f":"IF(OR(B25=\"So\",B25=\"Ne\"),\"dobre\",IF(C25>D25,\"zle\",IF(AND(C25<=VEMA!P$19,VEMA!Q$19<=D25),\"obed\",IF(OR(D25<=VEMA!P$19,VEMA!Q$19<=C25),\"dobre\",\"zle\"))))","v":"dobre"}]
[null,{"$f":"B25","v":"St"},null,null,{"$f":"IF(OR(U26=\"dobre\",U26=\"obed\"),IF(OR(B26=\"So\",B26=\"Ne\"),\"\",IF(OR(D26<=VEMA!P$19,C26>=VEMA!Q$19),(D26-C26)*24,(D26-C26)*24-VEMA!R$19)),\"<< zlý čas\")","v":0},null,null,null,null,0,0,null,null,"4.1.15. Hodnotiteľ NOPS",0.13689999999999999,"Nitra","4.1.2. ČES: Plnenie úloh na základe pokynov Hlavného odborného riešiteľa 1.1.",null,null,null,{"$f":"IF(OR(B26=\"So\",B26=\"Ne\"),\"dobre\",IF(C26>D26,\"zle\",IF(AND(C26<=VEMA!P$19,VEMA!Q$19<=D26),\"obed\",IF(OR(D26<=VEMA!P$19,VEMA!Q$19<=C26),\"dobre\",\"zle\"))))","v":"dobre"}]
[{"$f":"IF(A24=\"\",\"\",IF(A24+1<=$D$146,A24+1,\"\"))","v":3},{"$f":"IF(A27=\"\",\"\",IF(B24=\"Po\",\"Ut\",IF(B24=\"Ut\",\"St\",IF(B24=\"St\",\"Št\",IF(B24=\"Št\",\"Pi\",IF(B24=\"Pi\",\"So\",IF(B24=\"So\",\"Ne\",IF(B24=\"Ne\",\"Po\",\"\"))))))))","v":"Št"},null,null,{"$f":"IF(OR(U27=\"dobre\",U27=\"obed\"),IF(OR(B27=\"So\",B27=\"Ne\"),\"\",IF(OR(D27<=VEMA!P$20,C27>=VEMA!Q$20),(D27-C27)*24,(D27-C27)*24-VEMA!R$20)),\"<< zlý čas\")","v":0},null,null,null,null,0,0,null,null,"4.1.17. Moderátor konferencie",0.13689999999999999,"Trenčín","4.1.2. ČES: Analýza profesijných štandardov, posúdenie obsahu a formálnej štruktúry, identifikácia nedostatkov, návrh na inováciu",null,{"$f":"IF(SUM(E27:E29)=0,\"\",SUM(E27:E29))","v":""},null,{"$f":"IF(OR(B27=\"So\",B27=\"Ne\"),\"dobre\",IF(C27>D27,\"zle\",IF(AND(C27<=VEMA!P$20,VEMA!Q$20<=D27),\"obed\",IF(OR(D27<=VEMA!P$20,VEMA!Q$20<=C27),\"dobre\",\"zle\"))))","v":"dobre"}]
[null,{"$f":"B27","v":"Št"},null,null,{"$f":"IF(OR(U28=\"dobre\",U28=\"obed\"),IF(OR(B28=\"So\",B28=\"Ne\"),\"\",IF(OR(D28<=VEMA!P$20,C28>=VEMA!Q$20),(D28-C28)*24,(D28-C28)*24-VEMA!R$20)),\"<< zlý čas\")","v":0},null,null,null,null,0,0,null,null,"4.1.18. Odborný personál konfrencie",0.13689999999999999,"Trnava","4.1.2.ČES: Koordinácia činností pracovných skupín, usmerňovanie aktivít, konzultácia s členmi pracovných skupín, práca s členmi pracovných skupín, prenos informácií",null,null,null,{"$f":"IF(OR(B28=\"So\",B28=\"Ne\"),\"dobre\",IF(C28>D28,\"zle\",IF(AND(C28<=VEMA!P$20,VEMA!Q$20<=D28),\"obed\",IF(OR(D28<=VEMA!P$20,VEMA!Q$20<=C28),\"dobre\",\"zle\"))))","v":"dobre"}]
[null,{"$f":"B28","v":"Št"},null,null,{"$f":"IF(OR(U29=\"dobre\",U29=\"obed\"),IF(OR(B29=\"So\",B29=\"Ne\"),\"\",IF(OR(D29<=VEMA!P$20,C29>=VEMA!Q$20),(D29-C29)*24,(D29-C29)*24-VEMA!R$20)),\"<< zlý čas\")","v":0},null,null,null,null,0,0,null,null,"4.1.20. Lektor učiteľských fór",0.13689999999999999,"Žilina","4.1.4. ČPS: Analýza profesijného štandardu, identifikácia nedostatkov ",null,null,null,{"$f":"IF(OR(B29=\"So\",B29=\"Ne\"),\"dobre\",IF(C29>D29,\"zle\",IF(AND(C29<=VEMA!P$20,VEMA!Q$20<=D29),\"obed\",IF(OR(D29<=VEMA!P$20,VEMA!Q$20<=C29),\"dobre\",\"zle\"))))","v":"dobre"}]
[{"$f":"IF(A27=\"\",\"\",IF(A27+1<=$D$146,A27+1,\"\"))","v":4},{"$f":"IF(A30=\"\",\"\",IF(B27=\"Po\",\"Ut\",IF(B27=\"Ut\",\"St\",IF(B27=\"St\",\"Št\",IF(B27=\"Št\",\"Pi\",IF(B27=\"Pi\",\"So\",IF(B27=\"So\",\"Ne\",IF(B27=\"Ne\",\"Po\",\"\"))))))))","v":"Pi"},null,null,{"$f":"IF(OR(U30=\"dobre\",U30=\"obed\"),IF(OR(B30=\"So\",B30=\"Ne\"),\"\",IF(OR(D30<=VEMA!P$21,C30>=VEMA!Q$21),(D30-C30)*24,(D30-C30)*24-VEMA!R$21)),\"<< zlý čas\")","v":0},null,null,null,null,0,0,null,null,"4.1.22. Moderátor učiteľských fór",0.13689999999999999,"home office ","4.1.4. ČPS: Predloženie návrhu na inováciu resp. tvorbu profesijného štandardu.",null,{"$f":"IF(SUM(E30:E32)=0,\"\",SUM(E30:E32))","v":""},null,{"$f":"IF(OR(B30=\"So\",B30=\"Ne\"),\"dobre\",IF(C30>D30,\"zle\",IF(AND(C30<=VEMA!P$21,VEMA!Q$21<=D30),\"obed\",IF(OR(D30<=VEMA!P$21,VEMA!Q$21<=C30),\"dobre\",\"zle\"))))","v":"dobre"}]
[null,{"$f":"B30","v":"Pi"},null,null,{"$f":"IF(OR(U31=\"dobre\",U31=\"obed\"),IF(OR(B31=\"So\",B31=\"Ne\"),\"\",IF(OR(D31<=VEMA!P$21,C31>=VEMA!Q$21),(D31-C31)*24,(D31-C31)*24-VEMA!R$21)),\"<< zlý čas\")","v":0},null,null,null,null,0,0,null,null,"4.1.23. Analytik",0.13689999999999999,"home office (miesto trvalého bydliska)","4.1.4. ČPS: Priebežné spracovávanie profesijného štandardu.",null,null,null,{"$f":"IF(OR(B31=\"So\",B31=\"Ne\"),\"dobre\",IF(C31>D31,\"zle\",IF(AND(C31<=VEMA!P$21,VEMA!Q$21<=D31),\"obed\",IF(OR(D31<=VEMA!P$21,VEMA!Q$21<=C31),\"dobre\",\"zle\"))))","v":"dobre"}]
[null,{"$f":"B31","v":"Pi"},null,null,{"$f":"IF(OR(U32=\"dobre\",U32=\"obed\"),IF(OR(B32=\"So\",B32=\"Ne\"),\"\",IF(OR(D32<=VEMA!P$21,C32>=VEMA!Q$21),(D32-C32)*24,(D32-C32)*24-VEMA!R$21)),\"<< zlý čas\")","v":0},null,null,null,null,0,0,null,null,"4.1. 25. Tvorca PV a UZ",0.13689999999999999,null,"4.1.4. ČPS: Finálne spracovanie a odovzdanie profesijného štandardu.",null,null,null,{"$f":"IF(OR(B32=\"So\",B32=\"Ne\"),\"dobre\",IF(C32>D32,\"zle\",IF(AND(C32<=VEMA!P$21,VEMA!Q$21<=D32),\"obed\",IF(OR(D32<=VEMA!P$21,VEMA!Q$21<=C32),\"dobre\",\"zle\"))))","v":"dobre"}]
[{"$f":"IF(A30=\"\",\"\",IF(A30+1<=$D$146,A30+1,\"\"))","v":5},{"$f":"IF(A33=\"\",\"\",IF(B30=\"Po\",\"Ut\",IF(B30=\"Ut\",\"St\",IF(B30=\"St\",\"Št\",IF(B30=\"Št\",\"Pi\",IF(B30=\"Pi\",\"So\",IF(B30=\"So\",\"Ne\",IF(B30=\"Ne\",\"Po\",\"\"))))))))","v":"So"},null,null,{"$f":"IF(OR(U33=\"dobre\",U33=\"obed\"),IF(OR(B33=\"So\",B33=\"Ne\"),\"\",IF(OR(D33<=VEMA!P$22,C33>=VEMA!Q$22),(D33-C33)*24,(D33-C33)*24-VEMA!R$22)),\"<< zlý čas\")","v":""},null,null,null,null,"","",null,null,"4.1.28. Odborný garant PV - inovačné programy (podľa zákona č. 138/2019 Z.z.)",0.13689999999999999,null,"4.1.4. ČPS: Plnenie úloh na základe pokynov Hlavného odborného riešiteľa 1.1.",null,{"$f":"IF(SUM(E33:E35)=0,\"\",SUM(E33:E35))","v":""},null,{"$f":"IF(OR(B33=\"So\",B33=\"Ne\"),\"dobre\",IF(C33>D33,\"zle\",IF(AND(C33<=VEMA!P$22,VEMA!Q$22<=D33),\"obed\",IF(OR(D33<=VEMA!P$22,VEMA!Q$22<=C33),\"dobre\",\"zle\"))))","v":"dobre"}]
[null,{"$f":"B33","v":"So"},null,null,{"$f":"IF(OR(U34=\"dobre\",U34=\"obed\"),IF(OR(B34=\"So\",B34=\"Ne\"),\"\",IF(OR(D34<=VEMA!P$22,C34>=VEMA!Q$22),(D34-C34)*24,(D34-C34)*24-VEMA!R$22)),\"<< zlý čas\")","v":""},null,null,null,null,"","",null,null,"4.1.29. Vedúci vzdelávacej skupiny",0.13689999999999999,null,"4.1.4. ČPS: Účasť na zasadnutí/porade pracovnej skupiny.",null,null,null,{"$f":"IF(OR(B34=\"So\",B34=\"Ne\"),\"dobre\",IF(C34>D34,\"zle\",IF(AND(C34<=VEMA!P$22,VEMA!Q$22<=D34),\"obed\",IF(OR(D34<=VEMA!P$22,VEMA!Q$22<=C34),\"dobre\",\"zle\"))))","v":"dobre"}]
[null,{"$f":"B34","v":"So"},null,null,{"$f":"IF(OR(U35=\"dobre\",U35=\"obed\"),IF(OR(B35=\"So\",B35=\"Ne\"),\"\",IF(OR(D35<=VEMA!P$22,C35>=VEMA!Q$22),(D35-C35)*24,(D35-C35)*24-VEMA!R$22)),\"<< zlý čas\")","v":""},null,null,null,null,"","",null,null,"4.1.30. Lektor PV",0.13689999999999999,null,"4.1.4. ČPS: Zapracovanie pripomienok hodnotiteľa profesijného štandardu, úprava profesijného štandardu na základe hodnotiaceho posudku.",null,null,null,{"$f":"IF(OR(B35=\"So\",B35=\"Ne\"),\"dobre\",IF(C35>D35,\"zle\",IF(AND(C35<=VEMA!P$22,VEMA!Q$22<=D35),\"obed\",IF(OR(D35<=VEMA!P$22,VEMA!Q$22<=C35),\"dobre\",\"zle\"))))","v":"dobre"}]
[{"$f":"IF(A33=\"\",\"\",IF(A33+1<=$D$146,A33+1,\"\"))","v":6},{"$f":"IF(A36=\"\",\"\",IF(B33=\"Po\",\"Ut\",IF(B33=\"Ut\",\"St\",IF(B33=\"St\",\"Št\",IF(B33=\"Št\",\"Pi\",IF(B33=\"Pi\",\"So\",IF(B33=\"So\",\"Ne\",IF(B33=\"Ne\",\"Po\",\"\"))))))))","v":"Ne"},null,null,{"$f":"IF(OR(U36=\"dobre\",U36=\"obed\"),IF(OR(B36=\"So\",B36=\"Ne\"),\"\",IF(OR(D36<=VEMA!P$23,C36>=VEMA!Q$23),(D36-C36)*24,(D36-C36)*24-VEMA!R$23)),\"<< zlý čas\")","v":""},null,null,null,null,"","",null,null,"4.1.32. Poradcovia v školách ",0.13689999999999999,null,"4.1.8. ROR 1.2: Koordinovanie odborných aktivít realizovaných v národnom projekte.",null,{"$f":"IF(SUM(E36:E38)=0,\"\",SUM(E36:E38))","v":""},null,{"$f":"IF(OR(B36=\"So\",B36=\"Ne\"),\"dobre\",IF(C36>D36,\"zle\",IF(AND(C36<=VEMA!P$23,VEMA!Q$23<=D36),\"obed\",IF(OR(D36<=VEMA!P$23,VEMA!Q$23<=C36),\"dobre\",\"zle\"))))","v":"dobre"}]
[null,{"$f":"B36","v":"Ne"},null,null,{"$f":"IF(OR(U37=\"dobre\",U37=\"obed\"),IF(OR(B37=\"So\",B37=\"Ne\"),\"\",IF(OR(D37<=VEMA!P$23,C37>=VEMA!Q$23),(D37-C37)*24,(D37-C37)*24-VEMA!R$23)),\"<< zlý čas\")","v":""},null,null,null,null,"","",null,null,"4.1.33. Poradcovia v školách ",0.13689999999999999,null,"4.1.8. ROR 1.2: Kontrola plnenia čiastkových  úloh na jednotlivých činnostiach/aktivitách.",null,null,null,{"$f":"IF(OR(B37=\"So\",B37=\"Ne\"),\"dobre\",IF(C37>D37,\"zle\",IF(AND(C37<=VEMA!P$23,VEMA!Q$23<=D37),\"obed\",IF(OR(D37<=VEMA!P$23,VEMA!Q$23<=C37),\"dobre\",\"zle\"))))","v":"dobre"}]
[null,{"$f":"B37","v":"Ne"},null,null,{"$f":"IF(OR(U38=\"dobre\",U38=\"obed\"),IF(OR(B38=\"So\",B38=\"Ne\"),\"\",IF(OR(D38<=VEMA!P$23,C38>=VEMA!Q$23),(D38-C38)*24,(D38-C38)*24-VEMA!R$23)),\"<< zlý čas\")","v":""},null,null,null,null,"","",null,null,null,null,null,"4.1.8. ROR 1.2: Účasť na zasadnutí/porade s hlavným odborným riešiteľom podaktivity.",null,null,null,{"$f":"IF(OR(B38=\"So\",B38=\"Ne\"),\"dobre\",IF(C38>D38,\"zle\",IF(AND(C38<=VEMA!P$23,VEMA!Q$23<=D38),\"obed\",IF(OR(D38<=VEMA!P$23,VEMA!Q$23<=C38),\"dobre\",\"zle\"))))","v":"dobre"}]
[{"$f":"IF(A36=\"\",\"\",IF(A36+1<=$D$146,A36+1,\"\"))","v":7},{"$f":"IF(A39=\"\",\"\",IF(B36=\"Po\",\"Ut\",IF(B36=\"Ut\",\"St\",IF(B36=\"St\",\"Št\",IF(B36=\"Št\",\"Pi\",IF(B36=\"Pi\",\"So\",IF(B36=\"So\",\"Ne\",IF(B36=\"Ne\",\"Po\",\"\"))))))))","v":"Po"},null,null,{"$f":"IF(OR(U39=\"dobre\",U39=\"obed\"),IF(OR(B39=\"So\",B39=\"Ne\"),\"\",IF(OR(D39<=VEMA!P$24,C39>=VEMA!Q$24),(D39-C39)*24,(D39-C39)*24-VEMA!R$24)),\"<< zlý čas\")","v":0},null,null,null,null,0,0,null,null,null,null,null,"4.1.8. ROR 1.2: Účasť na porade k národnému projektu ",null,{"$f":"IF(SUM(E39:E41)=0,\"\",SUM(E39:E41))","v":""},null,{"$f":"IF(OR(B39=\"So\",B39=\"Ne\"),\"dobre\",IF(C39>D39,\"zle\",IF(AND(C39<=VEMA!P$24,VEMA!Q$24<=D39),\"obed\",IF(OR(D39<=VEMA!P$24,VEMA!Q$24<=C39),\"dobre\",\"zle\"))))","v":"dobre"}]
[null,{"$f":"B39","v":"Po"},null,null,{"$f":"IF(OR(U40=\"dobre\",U40=\"obed\"),IF(OR(B40=\"So\",B40=\"Ne\"),\"\",IF(OR(D40<=VEMA!P$24,C40>=VEMA!Q$24),(D40-C40)*24,(D40-C40)*24-VEMA!R$24)),\"<< zlý čas\")","v":0},null,null,null,null,0,0,null,null,null,null,null,"4.1.8. ROR 1.2: Koordinovanie odborných aktivít a priebežná kontrola plnenia úloh realizovaných v národnom projekte.",null,null,null,{"$f":"IF(OR(B40=\"So\",B40=\"Ne\"),\"dobre\",IF(C40>D40,\"zle\",IF(AND(C40<=VEMA!P$24,VEMA!Q$24<=D40),\"obed\",IF(OR(D40<=VEMA!P$24,VEMA!Q$24<=C40),\"dobre\",\"zle\"))))","v":"dobre"}]
[null,{"$f":"B40","v":"Po"},null,null,{"$f":"IF(OR(U41=\"dobre\",U41=\"obed\"),IF(OR(B41=\"So\",B41=\"Ne\"),\"\",IF(OR(D41<=VEMA!P$24,C41>=VEMA!Q$24),(D41-C41)*24,(D41-C41)*24-VEMA!R$24)),\"<< zlý čas\")","v":0},null,null,null,null,0,0,null,null,null,null,null,"4.1.9. OPP:  Výkon odbornej činnosti podľa pokynov hlavného odborného riešiteľa podaktivity1.2.",null,null,null,{"$f":"IF(OR(B41=\"So\",B41=\"Ne\"),\"dobre\",IF(C41>D41,\"zle\",IF(AND(C41<=VEMA!P$24,VEMA!Q$24<=D41),\"obed\",IF(OR(D41<=VEMA!P$24,VEMA!Q$24<=C41),\"dobre\",\"zle\"))))","v":"dobre"}]
[{"$f":"IF(A39=\"\",\"\",IF(A39+1<=$D$146,A39+1,\"\"))","v":8},{"$f":"IF(A42=\"\",\"\",IF(B39=\"Po\",\"Ut\",IF(B39=\"Ut\",\"St\",IF(B39=\"St\",\"Št\",IF(B39=\"Št\",\"Pi\",IF(B39=\"Pi\",\"So\",IF(B39=\"So\",\"Ne\",IF(B39=\"Ne\",\"Po\",\"\"))))))))","v":"Ut"},null,null,{"$f":"IF(OR(U42=\"dobre\",U42=\"obed\"),IF(OR(B42=\"So\",B42=\"Ne\"),\"\",IF(OR(D42<=VEMA!P$25,C42>=VEMA!Q$25),(D42-C42)*24,(D42-C42)*24-VEMA!R$25)),\"<< zlý čas\")","v":0},null,null,null,null,0,0,null,null,null,null,null,"4.1.9. OPP: Výkon odbornej činnosti podľa pokynov regionálneho odborného riešiteľa podaktivity 1.2.",null,{"$f":"IF(SUM(E42:E44)=0,\"\",SUM(E42:E44))","v":""},null,{"$f":"IF(OR(B42=\"So\",B42=\"Ne\"),\"dobre\",IF(C42>D42,\"zle\",IF(AND(C42<=VEMA!P$25,VEMA!Q$25<=D42),\"obed\",IF(OR(D42<=VEMA!P$25,VEMA!Q$25<=C42),\"dobre\",\"zle\"))))","v":"dobre"}]
[null,{"$f":"B42","v":"Ut"},null,null,{"$f":"IF(OR(U43=\"dobre\",U43=\"obed\"),IF(OR(B43=\"So\",B43=\"Ne\"),\"\",IF(OR(D43<=VEMA!P$25,C43>=VEMA!Q$25),(D43-C43)*24,(D43-C43)*24-VEMA!R$25)),\"<< zlý čas\")","v":0},null,null,null,null,0,0,null,null,null,null,null,"4.1.9. OPP: Účasť na zasadnutí/porade s hlavným odborným riešiteľom podaktivity.",null,null,null,{"$f":"IF(OR(B43=\"So\",B43=\"Ne\"),\"dobre\",IF(C43>D43,\"zle\",IF(AND(C43<=VEMA!P$25,VEMA!Q$25<=D43),\"obed\",IF(OR(D43<=VEMA!P$25,VEMA!Q$25<=C43),\"dobre\",\"zle\"))))","v":"dobre"}]
[null,{"$f":"B43","v":"Ut"},null,null,{"$f":"IF(OR(U44=\"dobre\",U44=\"obed\"),IF(OR(B44=\"So\",B44=\"Ne\"),\"\",IF(OR(D44<=VEMA!P$25,C44>=VEMA!Q$25),(D44-C44)*24,(D44-C44)*24-VEMA!R$25)),\"<< zlý čas\")","v":0},null,null,null,null,0,0,null,null,null,null,null,"4.1.9. OPP: Účasť na zasadnutí/porade v MPC k implementácii národného projektu.",null,null,null,{"$f":"IF(OR(B44=\"So\",B44=\"Ne\"),\"dobre\",IF(C44>D44,\"zle\",IF(AND(C44<=VEMA!P$25,VEMA!Q$25<=D44),\"obed\",IF(OR(D44<=VEMA!P$25,VEMA!Q$25<=C44),\"dobre\",\"zle\"))))","v":"dobre"}]
[{"$f":"IF(A42=\"\",\"\",IF(A42+1<=$D$146,A42+1,\"\"))","v":9},{"$f":"IF(A45=\"\",\"\",IF(B42=\"Po\",\"Ut\",IF(B42=\"Ut\",\"St\",IF(B42=\"St\",\"Št\",IF(B42=\"Št\",\"Pi\",IF(B42=\"Pi\",\"So\",IF(B42=\"So\",\"Ne\",IF(B42=\"Ne\",\"Po\",\"\"))))))))","v":"St"},null,null,{"$f":"IF(OR(U45=\"dobre\",U45=\"obed\"),IF(OR(B45=\"So\",B45=\"Ne\"),\"\",IF(OR(D45<=VEMA!P$26,C45>=VEMA!Q$26),(D45-C45)*24,(D45-C45)*24-VEMA!R$26)),\"<< zlý čas\")","v":0},null,null,null,null,0,0,null,null,null,null,null,"4.1.9. OPP: Výkon odbornej činnosti (podpora pri plánovaní a realizácií NOPS, vzdelávacích aktivít, konferencií, poradenstva, UF).",null,{"$f":"IF(SUM(E45:E47)=0,\"\",SUM(E45:E47))","v":""},null,{"$f":"IF(OR(B45=\"So\",B45=\"Ne\"),\"dobre\",IF(C45>D45,\"zle\",IF(AND(C45<=VEMA!P$26,VEMA!Q$26<=D45),\"obed\",IF(OR(D45<=VEMA!P$26,VEMA!Q$26<=C45),\"dobre\",\"zle\"))))","v":"dobre"}]
[null,{"$f":"B45","v":"St"},null,null,{"$f":"IF(OR(U46=\"dobre\",U46=\"obed\"),IF(OR(B46=\"So\",B46=\"Ne\"),\"\",IF(OR(D46<=VEMA!P$26,C46>=VEMA!Q$26),(D46-C46)*24,(D46-C46)*24-VEMA!R$26)),\"<< zlý čas\")","v":0},null,null,null,null,0,0,null,null,null,null,null,"4.1.12. OK NOPS: Odborné konzultácie pri prihlasovaní a v procese  spracovania NOPS.",null,null,null,{"$f":"IF(OR(B46=\"So\",B46=\"Ne\"),\"dobre\",IF(C46>D46,\"zle\",IF(AND(C46<=VEMA!P$26,VEMA!Q$26<=D46),\"obed\",IF(OR(D46<=VEMA!P$26,VEMA!Q$26<=C46),\"dobre\",\"zle\"))))","v":"dobre"}]
[null,{"$f":"B46","v":"St"},null,null,{"$f":"IF(OR(U47=\"dobre\",U47=\"obed\"),IF(OR(B47=\"So\",B47=\"Ne\"),\"\",IF(OR(D47<=VEMA!P$26,C47>=VEMA!Q$26),(D47-C47)*24,(D47-C47)*24-VEMA!R$26)),\"<< zlý čas\")","v":0},null,null,null,null,0,0,null,null,null,null,null,"4.1.12. OK NOPS: Priebežné pripomienkovanie materiálu  pri procese  spracovania NOPS.",null,null,null,{"$f":"IF(OR(B47=\"So\",B47=\"Ne\"),\"dobre\",IF(C47>D47,\"zle\",IF(AND(C47<=VEMA!P$26,VEMA!Q$26<=D47),\"obed\",IF(OR(D47<=VEMA!P$26,VEMA!Q$26<=C47),\"dobre\",\"zle\"))))","v":"dobre"}]
[{"$f":"IF(A45=\"\",\"\",IF(A45+1<=$D$146,A45+1,\"\"))","v":10},{"$f":"IF(A48=\"\",\"\",IF(B45=\"Po\",\"Ut\",IF(B45=\"Ut\",\"St\",IF(B45=\"St\",\"Št\",IF(B45=\"Št\",\"Pi\",IF(B45=\"Pi\",\"So\",IF(B45=\"So\",\"Ne\",IF(B45=\"Ne\",\"Po\",\"\"))))))))","v":"Št"},null,null,{"$f":"IF(OR(U48=\"dobre\",U48=\"obed\"),IF(OR(B48=\"So\",B48=\"Ne\"),\"\",IF(OR(D48<=VEMA!P$27,C48>=VEMA!Q$27),(D48-C48)*24,(D48-C48)*24-VEMA!R$27)),\"<< zlý čas\")","v":0},null,null,null,null,0,0,null,null,null,null,null,"4.1.12. OK NOPS: Poskytovanie súčinnosti garantovi NOPS pri tvorbe smernice, vyhlasovaní výzvy na spracovanie NOPS, vyhodnotení doručených prihlášok a podkladov k uzatváraniu zmluvných vzťahov s vybranými spracovateľmi NOPS.",null,{"$f":"IF(SUM(E48:E50)=0,\"\",SUM(E48:E50))","v":""},null,{"$f":"IF(OR(B48=\"So\",B48=\"Ne\"),\"dobre\",IF(C48>D48,\"zle\",IF(AND(C48<=VEMA!P$27,VEMA!Q$27<=D48),\"obed\",IF(OR(D48<=VEMA!P$27,VEMA!Q$27<=C48),\"dobre\",\"zle\"))))","v":"dobre"}]
[null,{"$f":"B48","v":"Št"},null,null,{"$f":"IF(OR(U49=\"dobre\",U49=\"obed\"),IF(OR(B49=\"So\",B49=\"Ne\"),\"\",IF(OR(D49<=VEMA!P$27,C49>=VEMA!Q$27),(D49-C49)*24,(D49-C49)*24-VEMA!R$27)),\"<< zlý čas\")","v":0},null,null,null,null,0,0,null,null,null,null,null,"4.1.12. OK NOPS: Preberanie odovzdaných NOPS, predkladanie návrhu interných hodnotiteľov.",null,null,null,{"$f":"IF(OR(B49=\"So\",B49=\"Ne\"),\"dobre\",IF(C49>D49,\"zle\",IF(AND(C49<=VEMA!P$27,VEMA!Q$27<=D49),\"obed\",IF(OR(D49<=VEMA!P$27,VEMA!Q$27<=C49),\"dobre\",\"zle\"))))","v":"dobre"}]
[null,{"$f":"B49","v":"Št"},null,null,{"$f":"IF(OR(U50=\"dobre\",U50=\"obed\"),IF(OR(B50=\"So\",B50=\"Ne\"),\"\",IF(OR(D50<=VEMA!P$27,C50>=VEMA!Q$27),(D50-C50)*24,(D50-C50)*24-VEMA!R$27)),\"<< zlý čas\")","v":0},null,null,null,null,0,0,null,null,null,null,null,"4.1.12. OK NOPS: Odborné konzultácie/podpora  pri procese  spracovania  a finalizácii NOPS.",null,null,null,{"$f":"IF(OR(B50=\"So\",B50=\"Ne\"),\"dobre\",IF(C50>D50,\"zle\",IF(AND(C50<=VEMA!P$27,VEMA!Q$27<=D50),\"obed\",IF(OR(D50<=VEMA!P$27,VEMA!Q$27<=C50),\"dobre\",\"zle\"))))","v":"dobre"}]
[{"$f":"IF(A48=\"\",\"\",IF(A48+1<=$D$146,A48+1,\"\"))","v":11},{"$f":"IF(A51=\"\",\"\",IF(B48=\"Po\",\"Ut\",IF(B48=\"Ut\",\"St\",IF(B48=\"St\",\"Št\",IF(B48=\"Št\",\"Pi\",IF(B48=\"Pi\",\"So\",IF(B48=\"So\",\"Ne\",IF(B48=\"Ne\",\"Po\",\"\"))))))))","v":"Pi"},null,null,{"$f":"IF(OR(U51=\"dobre\",U51=\"obed\"),IF(OR(B51=\"So\",B51=\"Ne\"),\"\",IF(OR(D51<=VEMA!P$28,C51>=VEMA!Q$28),(D51-C51)*24,(D51-C51)*24-VEMA!R$28)),\"<< zlý čas\")","v":0},null,null,null,null,0,0,null,null,null,null,null,"4.1.15. H NOPS: Spracovanie hodnotenia dokumentu NOPS podľa schválenej prihlášky, v danej štruktúre a určenej šablóne dokumentu.",null,{"$f":"IF(SUM(E51:E53)=0,\"\",SUM(E51:E53))","v":""},null,{"$f":"IF(OR(B51=\"So\",B51=\"Ne\"),\"dobre\",IF(C51>D51,\"zle\",IF(AND(C51<=VEMA!P$28,VEMA!Q$28<=D51),\"obed\",IF(OR(D51<=VEMA!P$28,VEMA!Q$28<=C51),\"dobre\",\"zle\"))))","v":"dobre"}]
[null,{"$f":"B51","v":"Pi"},null,null,{"$f":"IF(OR(U52=\"dobre\",U52=\"obed\"),IF(OR(B52=\"So\",B52=\"Ne\"),\"\",IF(OR(D52<=VEMA!P$28,C52>=VEMA!Q$28),(D52-C52)*24,(D52-C52)*24-VEMA!R$28)),\"<< zlý čas\")","v":0},null,null,null,null,0,0,null,null,null,null,null,"4.1.15. H NOPS: Finalizácia hodnotenia dokumentu NOPS podľa schválenej prihlášky, v danej štruktúre a určenej šablóne dokumentu.",null,null,null,{"$f":"IF(OR(B52=\"So\",B52=\"Ne\"),\"dobre\",IF(C52>D52,\"zle\",IF(AND(C52<=VEMA!P$28,VEMA!Q$28<=D52),\"obed\",IF(OR(D52<=VEMA!P$28,VEMA!Q$28<=C52),\"dobre\",\"zle\"))))","v":"dobre"}]
[null,{"$f":"B52","v":"Pi"},null,null,{"$f":"IF(OR(U53=\"dobre\",U53=\"obed\"),IF(OR(B53=\"So\",B53=\"Ne\"),\"\",IF(OR(D53<=VEMA!P$28,C53>=VEMA!Q$28),(D53-C53)*24,(D53-C53)*24-VEMA!R$28)),\"<< zlý čas\")","v":0},null,null,null,null,0,0,null,null,null,null,null,"4.1.17. MK: Odborné zabezpečenie prípravy, programových  zložiek a priebehu konferencie. ",null,null,null,{"$f":"IF(OR(B53=\"So\",B53=\"Ne\"),\"dobre\",IF(C53>D53,\"zle\",IF(AND(C53<=VEMA!P$28,VEMA!Q$28<=D53),\"obed\",IF(OR(D53<=VEMA!P$28,VEMA!Q$28<=C53),\"dobre\",\"zle\"))))","v":"dobre"}]
[{"$f":"IF(A51=\"\",\"\",IF(A51+1<=$D$146,A51+1,\"\"))","v":12},{"$f":"IF(A54=\"\",\"\",IF(B51=\"Po\",\"Ut\",IF(B51=\"Ut\",\"St\",IF(B51=\"St\",\"Št\",IF(B51=\"Št\",\"Pi\",IF(B51=\"Pi\",\"So\",IF(B51=\"So\",\"Ne\",IF(B51=\"Ne\",\"Po\",\"\"))))))))","v":"So"},null,null,{"$f":"IF(OR(U54=\"dobre\",U54=\"obed\"),IF(OR(B54=\"So\",B54=\"Ne\"),\"\",IF(OR(D54<=VEMA!P$29,C54>=VEMA!Q$29),(D54-C54)*24,(D54-C54)*24-VEMA!R$29)),\"<< zlý čas\")","v":""},null,null,null,null,"","",null,null,null,null,null,"4.1.17. MK: Odborné zabezpečenie priebehu konferencie (moderovanie/vedenie). ",null,{"$f":"IF(SUM(E54:E56)=0,\"\",SUM(E54:E56))","v":""},null,{"$f":"IF(OR(B54=\"So\",B54=\"Ne\"),\"dobre\",IF(C54>D54,\"zle\",IF(AND(C54<=VEMA!P$29,VEMA!Q$29<=D54),\"obed\",IF(OR(D54<=VEMA!P$29,VEMA!Q$29<=C54),\"dobre\",\"zle\"))))","v":"dobre"}]
[null,{"$f":"B54","v":"So"},null,null,{"$f":"IF(OR(U55=\"dobre\",U55=\"obed\"),IF(OR(B55=\"So\",B55=\"Ne\"),\"\",IF(OR(D55<=VEMA!P$29,C55>=VEMA!Q$29),(D55-C55)*24,(D55-C55)*24-VEMA!R$29)),\"<< zlý čas\")","v":""},null,null,null,null,"","",null,null,null,null,null,"4.1.17. MK: Odborné vedenie sekcií (diskusných skupín) a workshopov.",null,null,null,{"$f":"IF(OR(B55=\"So\",B55=\"Ne\"),\"dobre\",IF(C55>D55,\"zle\",IF(AND(C55<=VEMA!P$29,VEMA!Q$29<=D55),\"obed\",IF(OR(D55<=VEMA!P$29,VEMA!Q$29<=C55),\"dobre\",\"zle\"))))","v":"dobre"}]
[null,{"$f":"B55","v":"So"},null,null,{"$f":"IF(OR(U56=\"dobre\",U56=\"obed\"),IF(OR(B56=\"So\",B56=\"Ne\"),\"\",IF(OR(D56<=VEMA!P$29,C56>=VEMA!Q$29),(D56-C56)*24,(D56-C56)*24-VEMA!R$29)),\"<< zlý čas\")","v":""},null,null,null,null,"","",null,null,null,null,null,"4.1.17. MK: Odborné zabezpečenie prípravy a celého priebehu konferencie.",null,null,null,{"$f":"IF(OR(B56=\"So\",B56=\"Ne\"),\"dobre\",IF(C56>D56,\"zle\",IF(AND(C56<=VEMA!P$29,VEMA!Q$29<=D56),\"obed\",IF(OR(D56<=VEMA!P$29,VEMA!Q$29<=C56),\"dobre\",\"zle\"))))","v":"dobre"}]
[{"$f":"IF(A54=\"\",\"\",IF(A54+1<=$D$146,A54+1,\"\"))","v":13},{"$f":"IF(A57=\"\",\"\",IF(B54=\"Po\",\"Ut\",IF(B54=\"Ut\",\"St\",IF(B54=\"St\",\"Št\",IF(B54=\"Št\",\"Pi\",IF(B54=\"Pi\",\"So\",IF(B54=\"So\",\"Ne\",IF(B54=\"Ne\",\"Po\",\"\"))))))))","v":"Ne"},null,null,{"$f":"IF(OR(U57=\"dobre\",U57=\"obed\"),IF(OR(B57=\"So\",B57=\"Ne\"),\"\",IF(OR(D57<=VEMA!P$30,C57>=VEMA!Q$30),(D57-C57)*24,(D57-C57)*24-VEMA!R$30)),\"<< zlý čas\")","v":""},null,null,null,null,"","",null,null,null,null,null,"4.1.18. OPK: Odborné zabezpečenie prípravy konferencie.",null,{"$f":"IF(SUM(E57:E59)=0,\"\",SUM(E57:E59))","v":""},null,{"$f":"IF(OR(B57=\"So\",B57=\"Ne\"),\"dobre\",IF(C57>D57,\"zle\",IF(AND(C57<=VEMA!P$30,VEMA!Q$30<=D57),\"obed\",IF(OR(D57<=VEMA!P$30,VEMA!Q$30<=C57),\"dobre\",\"zle\"))))","v":"dobre"}]
[null,{"$f":"B57","v":"Ne"},null,null,{"$f":"IF(OR(U58=\"dobre\",U58=\"obed\"),IF(OR(B58=\"So\",B58=\"Ne\"),\"\",IF(OR(D58<=VEMA!P$30,C58>=VEMA!Q$30),(D58-C58)*24,(D58-C58)*24-VEMA!R$30)),\"<< zlý čas\")","v":""},null,null,null,null,"","",null,null,null,null,null,"4.1.18. OPK: Organizačné zabezpečenie prípravy konferencie. ",null,null,null,{"$f":"IF(OR(B58=\"So\",B58=\"Ne\"),\"dobre\",IF(C58>D58,\"zle\",IF(AND(C58<=VEMA!P$30,VEMA!Q$30<=D58),\"obed\",IF(OR(D58<=VEMA!P$30,VEMA!Q$30<=C58),\"dobre\",\"zle\"))))","v":"dobre"}]
[null,{"$f":"B58","v":"Ne"},null,null,{"$f":"IF(OR(U59=\"dobre\",U59=\"obed\"),IF(OR(B59=\"So\",B59=\"Ne\"),\"\",IF(OR(D59<=VEMA!P$30,C59>=VEMA!Q$30),(D59-C59)*24,(D59-C59)*24-VEMA!R$30)),\"<< zlý čas\")","v":""},null,null,null,null,"","",null,null,null,null,null,"4.1.18. OPK: Odborné/organizačné zabezpečenie  priebehu konferencie.",null,null,null,{"$f":"IF(OR(B59=\"So\",B59=\"Ne\"),\"dobre\",IF(C59>D59,\"zle\",IF(AND(C59<=VEMA!P$30,VEMA!Q$30<=D59),\"obed\",IF(OR(D59<=VEMA!P$30,VEMA!Q$30<=C59),\"dobre\",\"zle\"))))","v":"dobre"}]
[{"$f":"IF(A57=\"\",\"\",IF(A57+1<=$D$146,A57+1,\"\"))","v":14},{"$f":"IF(A60=\"\",\"\",IF(B57=\"Po\",\"Ut\",IF(B57=\"Ut\",\"St\",IF(B57=\"St\",\"Št\",IF(B57=\"Št\",\"Pi\",IF(B57=\"Pi\",\"So\",IF(B57=\"So\",\"Ne\",IF(B57=\"Ne\",\"Po\",\"\"))))))))","v":"Po"},null,null,{"$f":"IF(OR(U60=\"dobre\",U60=\"obed\"),IF(OR(B60=\"So\",B60=\"Ne\"),\"\",IF(OR(D60<=VEMA!P$31,C60>=VEMA!Q$31),(D60-C60)*24,(D60-C60)*24-VEMA!R$31)),\"<< zlý čas\")","v":0},null,null,null,null,0,0,null,null,null,null,null,"4.1.18. OPK:  Spracovanie výstupov z realizovanej konferencie.",null,{"$f":"IF(SUM(E60:E62)=0,\"\",SUM(E60:E62))","v":""},null,{"$f":"IF(OR(B60=\"So\",B60=\"Ne\"),\"dobre\",IF(C60>D60,\"zle\",IF(AND(C60<=VEMA!P$31,VEMA!Q$31<=D60),\"obed\",IF(OR(D60<=VEMA!P$31,VEMA!Q$31<=C60),\"dobre\",\"zle\"))))","v":"dobre"}]
[null,{"$f":"B60","v":"Po"},null,null,{"$f":"IF(OR(U61=\"dobre\",U61=\"obed\"),IF(OR(B61=\"So\",B61=\"Ne\"),\"\",IF(OR(D61<=VEMA!P$31,C61>=VEMA!Q$31),(D61-C61)*24,(D61-C61)*24-VEMA!R$31)),\"<< zlý čas\")","v":0},null,null,null,null,0,0,null,null,null,null,null,"4.1.18. OPK:  Spracovanie diskusií z jednotlivých sekcií a  z jednotlivých workshopov.",null,null,null,{"$f":"IF(OR(B61=\"So\",B61=\"Ne\"),\"dobre\",IF(C61>D61,\"zle\",IF(AND(C61<=VEMA!P$31,VEMA!Q$31<=D61),\"obed\",IF(OR(D61<=VEMA!P$31,VEMA!Q$31<=C61),\"dobre\",\"zle\"))))","v":"dobre"}]
[null,{"$f":"B61","v":"Po"},null,null,{"$f":"IF(OR(U62=\"dobre\",U62=\"obed\"),IF(OR(B62=\"So\",B62=\"Ne\"),\"\",IF(OR(D62<=VEMA!P$31,C62>=VEMA!Q$31),(D62-C62)*24,(D62-C62)*24-VEMA!R$31)),\"<< zlý čas\")","v":0},null,null,null,null,0,0,null,null,null,null,null,"4.1.20. LUF: Výkon činnosti lektora v rámci učiteľského fóra podľa opisu a schváleného plánu práce.  ",null,null,null,{"$f":"IF(OR(B62=\"So\",B62=\"Ne\"),\"dobre\",IF(C62>D62,\"zle\",IF(AND(C62<=VEMA!P$31,VEMA!Q$31<=D62),\"obed\",IF(OR(D62<=VEMA!P$31,VEMA!Q$31<=C62),\"dobre\",\"zle\"))))","v":"dobre"}]
[{"$f":"IF(A60=\"\",\"\",IF(A60+1<=$D$146,A60+1,\"\"))","v":15},{"$f":"IF(A63=\"\",\"\",IF(B60=\"Po\",\"Ut\",IF(B60=\"Ut\",\"St\",IF(B60=\"St\",\"Št\",IF(B60=\"Št\",\"Pi\",IF(B60=\"Pi\",\"So\",IF(B60=\"So\",\"Ne\",IF(B60=\"Ne\",\"Po\",\"\"))))))))","v":"Ut"},null,null,{"$f":"IF(OR(U63=\"dobre\",U63=\"obed\"),IF(OR(B63=\"So\",B63=\"Ne\"),\"\",IF(OR(D63<=VEMA!P$32,C63>=VEMA!Q$32),(D63-C63)*24,(D63-C63)*24-VEMA!R$32)),\"<< zlý čas\")","v":0},null,null,null,null,0,0,null,null,null,null,null,"4.1.20. LUF: Príprava programu a scenára stretnutia učiteľského fóra.",null,{"$f":"IF(SUM(E63:E65)=0,\"\",SUM(E63:E65))","v":""},null,{"$f":"IF(OR(B63=\"So\",B63=\"Ne\"),\"dobre\",IF(C63>D63,\"zle\",IF(AND(C63<=VEMA!P$32,VEMA!Q$32<=D63),\"obed\",IF(OR(D63<=VEMA!P$32,VEMA!Q$32<=C63),\"dobre\",\"zle\"))))","v":"dobre"}]
[null,{"$f":"B63","v":"Ut"},null,null,{"$f":"IF(OR(U64=\"dobre\",U64=\"obed\"),IF(OR(B64=\"So\",B64=\"Ne\"),\"\",IF(OR(D64<=VEMA!P$32,C64>=VEMA!Q$32),(D64-C64)*24,(D64-C64)*24-VEMA!R$32)),\"<< zlý čas\")","v":0},null,null,null,null,0,0,null,null,null,null,null,"4.1.20 LUF: Odborné vedenie diskusie účastníkov fóra v rámci diskusných skupín, diskusných fór.",null,null,null,{"$f":"IF(OR(B64=\"So\",B64=\"Ne\"),\"dobre\",IF(C64>D64,\"zle\",IF(AND(C64<=VEMA!P$32,VEMA!Q$32<=D64),\"obed\",IF(OR(D64<=VEMA!P$32,VEMA!Q$32<=C64),\"dobre\",\"zle\"))))","v":"dobre"}]
[null,{"$f":"B64","v":"Ut"},null,null,{"$f":"IF(OR(U65=\"dobre\",U65=\"obed\"),IF(OR(B65=\"So\",B65=\"Ne\"),\"\",IF(OR(D65<=VEMA!P$32,C65>=VEMA!Q$32),(D65-C65)*24,(D65-C65)*24-VEMA!R$32)),\"<< zlý čas\")","v":0},null,null,null,null,0,0,null,null,null,null,null,"4.1.20. LUF: Príprava programu a dokumentácie, realizácia učiteľského fóra.",null,null,null,{"$f":"IF(OR(B65=\"So\",B65=\"Ne\"),\"dobre\",IF(C65>D65,\"zle\",IF(AND(C65<=VEMA!P$32,VEMA!Q$32<=D65),\"obed\",IF(OR(D65<=VEMA!P$32,VEMA!Q$32<=C65),\"dobre\",\"zle\"))))","v":"dobre"}]
[{"$f":"IF(A63=\"\",\"\",IF(A63+1<=$D$146,A63+1,\"\"))","v":16},{"$f":"IF(A66=\"\",\"\",IF(B63=\"Po\",\"Ut\",IF(B63=\"Ut\",\"St\",IF(B63=\"St\",\"Št\",IF(B63=\"Št\",\"Pi\",IF(B63=\"Pi\",\"So\",IF(B63=\"So\",\"Ne\",IF(B63=\"Ne\",\"Po\",\"\"))))))))","v":"St"},null,null,{"$f":"IF(OR(U66=\"dobre\",U66=\"obed\"),IF(OR(B66=\"So\",B66=\"Ne\"),\"\",IF(OR(D66<=VEMA!P$33,C66>=VEMA!Q$33),(D66-C66)*24,(D66-C66)*24-VEMA!R$33)),\"<< zlý čas\")","v":0},null,null,null,null,0,0,null,null,null,null,null,"4.1.22. MUF: Založenie skupiny účastníkov fóra v CIS MPC, Moodle a používaných aplikáciách.",null,{"$f":"IF(SUM(E66:E68)=0,\"\",SUM(E66:E68))","v":""},null,{"$f":"IF(OR(B66=\"So\",B66=\"Ne\"),\"dobre\",IF(C66>D66,\"zle\",IF(AND(C66<=VEMA!P$33,VEMA!Q$33<=D66),\"obed\",IF(OR(D66<=VEMA!P$33,VEMA!Q$33<=C66),\"dobre\",\"zle\"))))","v":"dobre"}]
[null,{"$f":"B66","v":"St"},null,null,{"$f":"IF(OR(U67=\"dobre\",U67=\"obed\"),IF(OR(B67=\"So\",B67=\"Ne\"),\"\",IF(OR(D67<=VEMA!P$33,C67>=VEMA!Q$33),(D67-C67)*24,(D67-C67)*24-VEMA!R$33)),\"<< zlý čas\")","v":0},null,null,null,null,0,0,null,null,null,null,null,"4.1.22. MUF: Správa skupiny účastníkov fóra v CIS MPC, Moodle a používaných aplikáciách.",null,null,null,{"$f":"IF(OR(B67=\"So\",B67=\"Ne\"),\"dobre\",IF(C67>D67,\"zle\",IF(AND(C67<=VEMA!P$33,VEMA!Q$33<=D67),\"obed\",IF(OR(D67<=VEMA!P$33,VEMA!Q$33<=C67),\"dobre\",\"zle\"))))","v":"dobre"}]
[null,{"$f":"B67","v":"St"},null,null,{"$f":"IF(OR(U68=\"dobre\",U68=\"obed\"),IF(OR(B68=\"So\",B68=\"Ne\"),\"\",IF(OR(D68<=VEMA!P$33,C68>=VEMA!Q$33),(D68-C68)*24,(D68-C68)*24-VEMA!R$33)),\"<< zlý čas\")","v":0},null,null,null,null,0,0,null,null,null,null,null,"4.1.22. MUF: Snímanie aktuálnych potrieb PZ a OZ pred založením a v priebehu činnosti fóra.",null,null,null,{"$f":"IF(OR(B68=\"So\",B68=\"Ne\"),\"dobre\",IF(C68>D68,\"zle\",IF(AND(C68<=VEMA!P$33,VEMA!Q$33<=D68),\"obed\",IF(OR(D68<=VEMA!P$33,VEMA!Q$33<=C68),\"dobre\",\"zle\"))))","v":"dobre"}]
[{"$f":"IF(A66=\"\",\"\",IF(A66+1<=$D$146,A66+1,\"\"))","v":17},{"$f":"IF(A69=\"\",\"\",IF(B66=\"Po\",\"Ut\",IF(B66=\"Ut\",\"St\",IF(B66=\"St\",\"Št\",IF(B66=\"Št\",\"Pi\",IF(B66=\"Pi\",\"So\",IF(B66=\"So\",\"Ne\",IF(B66=\"Ne\",\"Po\",\"\"))))))))","v":"Št"},null,null,{"$f":"IF(OR(U69=\"dobre\",U69=\"obed\"),IF(OR(B69=\"So\",B69=\"Ne\"),\"\",IF(OR(D69<=VEMA!P$34,C69>=VEMA!Q$34),(D69-C69)*24,(D69-C69)*24-VEMA!R$34)),\"<< zlý čas\")","v":0},null,null,null,null,0,0,null,null,null,null,null,"4.1.22. MUF: Iniciovanie, príprava a realizácia prieskumov realizovaných v rámci fóra učiteľov",null,{"$f":"IF(SUM(E69:E71)=0,\"\",SUM(E69:E71))","v":""},null,{"$f":"IF(OR(B69=\"So\",B69=\"Ne\"),\"dobre\",IF(C69>D69,\"zle\",IF(AND(C69<=VEMA!P$34,VEMA!Q$34<=D69),\"obed\",IF(OR(D69<=VEMA!P$34,VEMA!Q$34<=C69),\"dobre\",\"zle\"))))","v":"dobre"}]
[null,{"$f":"B69","v":"Št"},null,null,{"$f":"IF(OR(U70=\"dobre\",U70=\"obed\"),IF(OR(B70=\"So\",B70=\"Ne\"),\"\",IF(OR(D70<=VEMA!P$34,C70>=VEMA!Q$34),(D70-C70)*24,(D70-C70)*24-VEMA!R$34)),\"<< zlý čas\")","v":0},null,null,null,null,0,0,null,null,null,null,null,"4.1.22. MUF: Riadenie pracovnej skupiny lektorov v rámci fóra učiteľov.",null,null,null,{"$f":"IF(OR(B70=\"So\",B70=\"Ne\"),\"dobre\",IF(C70>D70,\"zle\",IF(AND(C70<=VEMA!P$34,VEMA!Q$34<=D70),\"obed\",IF(OR(D70<=VEMA!P$34,VEMA!Q$34<=C70),\"dobre\",\"zle\"))))","v":"dobre"}]
[null,{"$f":"B70","v":"Št"},null,null,{"$f":"IF(OR(U71=\"dobre\",U71=\"obed\"),IF(OR(B71=\"So\",B71=\"Ne\"),\"\",IF(OR(D71<=VEMA!P$34,C71>=VEMA!Q$34),(D71-C71)*24,(D71-C71)*24-VEMA!R$34)),\"<< zlý čas\")","v":0},null,null,null,null,0,0,null,null,null,null,null,"4.1.22. MUF: Podpora lektorov pri príprave materiálov učiteľského fóra.",null,null,null,{"$f":"IF(OR(B71=\"So\",B71=\"Ne\"),\"dobre\",IF(C71>D71,\"zle\",IF(AND(C71<=VEMA!P$34,VEMA!Q$34<=D71),\"obed\",IF(OR(D71<=VEMA!P$34,VEMA!Q$34<=C71),\"dobre\",\"zle\"))))","v":"dobre"}]
[{"$f":"IF(A69=\"\",\"\",IF(A69+1<=$D$146,A69+1,\"\"))","v":18},{"$f":"IF(A72=\"\",\"\",IF(B69=\"Po\",\"Ut\",IF(B69=\"Ut\",\"St\",IF(B69=\"St\",\"Št\",IF(B69=\"Št\",\"Pi\",IF(B69=\"Pi\",\"So\",IF(B69=\"So\",\"Ne\",IF(B69=\"Ne\",\"Po\",\"\"))))))))","v":"Pi"},null,null,{"$f":"IF(OR(U72=\"dobre\",U72=\"obed\"),IF(OR(B72=\"So\",B72=\"Ne\"),\"\",IF(OR(D72<=VEMA!P$35,C72>=VEMA!Q$35),(D72-C72)*24,(D72-C72)*24-VEMA!R$35)),\"<< zlý čas\")","v":0},null,null,null,null,0,0,null,null,null,null,null,"4.1.22. MUF: Spracovanie výstupov zo stretnutia učiteľského fóra, spracovanie prehľadov a sumárnych výstupov z činnosti fóra učiteľov.",null,{"$f":"IF(SUM(E72:E74)=0,\"\",SUM(E72:E74))","v":""},null,{"$f":"IF(OR(B72=\"So\",B72=\"Ne\"),\"dobre\",IF(C72>D72,\"zle\",IF(AND(C72<=VEMA!P$35,VEMA!Q$35<=D72),\"obed\",IF(OR(D72<=VEMA!P$35,VEMA!Q$35<=C72),\"dobre\",\"zle\"))))","v":"dobre"}]
[null,{"$f":"B72","v":"Pi"},null,null,{"$f":"IF(OR(U73=\"dobre\",U73=\"obed\"),IF(OR(B73=\"So\",B73=\"Ne\"),\"\",IF(OR(D73<=VEMA!P$35,C73>=VEMA!Q$35),(D73-C73)*24,(D73-C73)*24-VEMA!R$35)),\"<< zlý čas\")","v":0},null,null,null,null,0,0,null,null,null,null,null,"4.1.22. MUF: Moderovanie priebehu v rámci prezenčných a on-line stretnutí.",null,null,null,{"$f":"IF(OR(B73=\"So\",B73=\"Ne\"),\"dobre\",IF(C73>D73,\"zle\",IF(AND(C73<=VEMA!P$35,VEMA!Q$35<=D73),\"obed\",IF(OR(D73<=VEMA!P$35,VEMA!Q$35<=C73),\"dobre\",\"zle\"))))","v":"dobre"}]
[null,{"$f":"B73","v":"Pi"},null,null,{"$f":"IF(OR(U74=\"dobre\",U74=\"obed\"),IF(OR(B74=\"So\",B74=\"Ne\"),\"\",IF(OR(D74<=VEMA!P$35,C74>=VEMA!Q$35),(D74-C74)*24,(D74-C74)*24-VEMA!R$35)),\"<< zlý čas\")","v":0},null,null,null,null,0,0,null,null,null,null,null,"4.1.22. MUF: Moderovanie priebehu v rámci  príspevkov v diskusných (on-line) fórach v rámci používaných aplikácií.",null,null,null,{"$f":"IF(OR(B74=\"So\",B74=\"Ne\"),\"dobre\",IF(C74>D74,\"zle\",IF(AND(C74<=VEMA!P$35,VEMA!Q$35<=D74),\"obed\",IF(OR(D74<=VEMA!P$35,VEMA!Q$35<=C74),\"dobre\",\"zle\"))))","v":"dobre"}]
[{"$f":"IF(A72=\"\",\"\",IF(A72+1<=$D$146,A72+1,\"\"))","v":19},{"$f":"IF(A75=\"\",\"\",IF(B72=\"Po\",\"Ut\",IF(B72=\"Ut\",\"St\",IF(B72=\"St\",\"Št\",IF(B72=\"Št\",\"Pi\",IF(B72=\"Pi\",\"So\",IF(B72=\"So\",\"Ne\",IF(B72=\"Ne\",\"Po\",\"\"))))))))","v":"So"},null,null,{"$f":"IF(OR(U75=\"dobre\",U75=\"obed\"),IF(OR(B75=\"So\",B75=\"Ne\"),\"\",IF(OR(D75<=VEMA!P$36,C75>=VEMA!Q$36),(D75-C75)*24,(D75-C75)*24-VEMA!R$36)),\"<< zlý čas\")","v":""},null,null,null,null,"","",null,null,null,null,null,"4.1.22. MUF: Moderovanie v organizovanom virtuálnom mieste asynchrónnych online diskusií.",null,{"$f":"IF(SUM(E75:E77)=0,\"\",SUM(E75:E77))","v":""},null,{"$f":"IF(OR(B75=\"So\",B75=\"Ne\"),\"dobre\",IF(C75>D75,\"zle\",IF(AND(C75<=VEMA!P$36,VEMA!Q$36<=D75),\"obed\",IF(OR(D75<=VEMA!P$36,VEMA!Q$36<=C75),\"dobre\",\"zle\"))))","v":"dobre"}]
[null,{"$f":"B75","v":"So"},null,null,{"$f":"IF(OR(U76=\"dobre\",U76=\"obed\"),IF(OR(B76=\"So\",B76=\"Ne\"),\"\",IF(OR(D76<=VEMA!P$36,C76>=VEMA!Q$36),(D76-C76)*24,(D76-C76)*24-VEMA!R$36)),\"<< zlý čas\")","v":""},null,null,null,null,"","",null,null,null,null,null,"4.1.22. MUF: Konzultovanie tém, ktoré navrhnú účastníci fóra (vrátanej offline formy).",null,null,null,{"$f":"IF(OR(B76=\"So\",B76=\"Ne\"),\"dobre\",IF(C76>D76,\"zle\",IF(AND(C76<=VEMA!P$36,VEMA!Q$36<=D76),\"obed\",IF(OR(D76<=VEMA!P$36,VEMA!Q$36<=C76),\"dobre\",\"zle\"))))","v":"dobre"}]
[null,{"$f":"B76","v":"So"},null,null,{"$f":"IF(OR(U77=\"dobre\",U77=\"obed\"),IF(OR(B77=\"So\",B77=\"Ne\"),\"\",IF(OR(D77<=VEMA!P$36,C77>=VEMA!Q$36),(D77-C77)*24,(D77-C77)*24-VEMA!R$36)),\"<< zlý čas\")","v":""},null,null,null,null,"","",null,null,null,null,null,"4.1.22. MUF: Moderovanie učiteľského fóra.",null,null,null,{"$f":"IF(OR(B77=\"So\",B77=\"Ne\"),\"dobre\",IF(C77>D77,\"zle\",IF(AND(C77<=VEMA!P$36,VEMA!Q$36<=D77),\"obed\",IF(OR(D77<=VEMA!P$36,VEMA!Q$36<=C77),\"dobre\",\"zle\"))))","v":"dobre"}]
[{"$f":"IF(A75=\"\",\"\",IF(A75+1<=$D$146,A75+1,\"\"))","v":20},{"$f":"IF(A78=\"\",\"\",IF(B75=\"Po\",\"Ut\",IF(B75=\"Ut\",\"St\",IF(B75=\"St\",\"Št\",IF(B75=\"Št\",\"Pi\",IF(B75=\"Pi\",\"So\",IF(B75=\"So\",\"Ne\",IF(B75=\"Ne\",\"Po\",\"\"))))))))","v":"Ne"},null,null,{"$f":"IF(OR(U78=\"dobre\",U78=\"obed\"),IF(OR(B78=\"So\",B78=\"Ne\"),\"\",IF(OR(D78<=VEMA!P$37,C78>=VEMA!Q$37),(D78-C78)*24,(D78-C78)*24-VEMA!R$37)),\"<< zlý čas\")","v":""},null,null,null,null,"","",null,null,null,null,null,"4.1.23. A: Realizácia prieskumnej činnosti v projekte.",null,{"$f":"IF(SUM(E78:E80)=0,\"\",SUM(E78:E80))","v":""},null,{"$f":"IF(OR(B78=\"So\",B78=\"Ne\"),\"dobre\",IF(C78>D78,\"zle\",IF(AND(C78<=VEMA!P$37,VEMA!Q$37<=D78),\"obed\",IF(OR(D78<=VEMA!P$37,VEMA!Q$37<=C78),\"dobre\",\"zle\"))))","v":"dobre"}]
[null,{"$f":"B78","v":"Ne"},null,null,{"$f":"IF(OR(U79=\"dobre\",U79=\"obed\"),IF(OR(B79=\"So\",B79=\"Ne\"),\"\",IF(OR(D79<=VEMA!P$37,C79>=VEMA!Q$37),(D79-C79)*24,(D79-C79)*24-VEMA!R$37)),\"<< zlý čas\")","v":""},null,null,null,null,"","",null,null,null,null,null,"4.1.23. A: Návrh zámeru prieskumu, cieľov, metodiky, nástrojov zisťovania a cieľovej skupiny.",null,null,null,{"$f":"IF(OR(B79=\"So\",B79=\"Ne\"),\"dobre\",IF(C79>D79,\"zle\",IF(AND(C79<=VEMA!P$37,VEMA!Q$37<=D79),\"obed\",IF(OR(D79<=VEMA!P$37,VEMA!Q$37<=C79),\"dobre\",\"zle\"))))","v":"dobre"}]
[null,{"$f":"B79","v":"Ne"},null,null,{"$f":"IF(OR(U80=\"dobre\",U80=\"obed\"),IF(OR(B80=\"So\",B80=\"Ne\"),\"\",IF(OR(D80<=VEMA!P$37,C80>=VEMA!Q$37),(D80-C80)*24,(D80-C80)*24-VEMA!R$37)),\"<< zlý čas\")","v":""},null,null,null,null,"","",null,null,null,null,null,"4.1.23. A: Určenie postupu, termínu a miesta realizácie opytovania.",null,null,null,{"$f":"IF(OR(B80=\"So\",B80=\"Ne\"),\"dobre\",IF(C80>D80,\"zle\",IF(AND(C80<=VEMA!P$37,VEMA!Q$37<=D80),\"obed\",IF(OR(D80<=VEMA!P$37,VEMA!Q$37<=C80),\"dobre\",\"zle\"))))","v":"dobre"}]
[{"$f":"IF(A78=\"\",\"\",IF(A78+1<=$D$146,A78+1,\"\"))","v":21},{"$f":"IF(A81=\"\",\"\",IF(B78=\"Po\",\"Ut\",IF(B78=\"Ut\",\"St\",IF(B78=\"St\",\"Št\",IF(B78=\"Št\",\"Pi\",IF(B78=\"Pi\",\"So\",IF(B78=\"So\",\"Ne\",IF(B78=\"Ne\",\"Po\",\"\"))))))))","v":"Po"},null,null,{"$f":"IF(OR(U81=\"dobre\",U81=\"obed\"),IF(OR(B81=\"So\",B81=\"Ne\"),\"\",IF(OR(D81<=VEMA!P$38,C81>=VEMA!Q$38),(D81-C81)*24,(D81-C81)*24-VEMA!R$38)),\"<< zlý čas\")","v":0},null,null,null,null,0,0,null,null,null,null,null,"4.1.23. A:  Spracovanie a interpretácia zistenia z opytovania.",null,{"$f":"IF(SUM(E81:E83)=0,\"\",SUM(E81:E83))","v":""},null,{"$f":"IF(OR(B81=\"So\",B81=\"Ne\"),\"dobre\",IF(C81>D81,\"zle\",IF(AND(C81<=VEMA!P$38,VEMA!Q$38<=D81),\"obed\",IF(OR(D81<=VEMA!P$38,VEMA!Q$38<=C81),\"dobre\",\"zle\"))))","v":"dobre"}]
[null,{"$f":"B81","v":"Po"},null,null,{"$f":"IF(OR(U82=\"dobre\",U82=\"obed\"),IF(OR(B82=\"So\",B82=\"Ne\"),\"\",IF(OR(D82<=VEMA!P$38,C82>=VEMA!Q$38),(D82-C82)*24,(D82-C82)*24-VEMA!R$38)),\"<< zlý čas\")","v":0},null,null,null,null,0,0,null,null,null,null,null,"4.1.23. A: Formulovanie návrhov a odporúčaní vyplývajúcich z prieskumu pre realizáciu projektu.",null,null,null,{"$f":"IF(OR(B82=\"So\",B82=\"Ne\"),\"dobre\",IF(C82>D82,\"zle\",IF(AND(C82<=VEMA!P$38,VEMA!Q$38<=D82),\"obed\",IF(OR(D82<=VEMA!P$38,VEMA!Q$38<=C82),\"dobre\",\"zle\"))))","v":"dobre"}]
[null,{"$f":"B82","v":"Po"},null,null,{"$f":"IF(OR(U83=\"dobre\",U83=\"obed\"),IF(OR(B83=\"So\",B83=\"Ne\"),\"\",IF(OR(D83<=VEMA!P$38,C83>=VEMA!Q$38),(D83-C83)*24,(D83-C83)*24-VEMA!R$38)),\"<< zlý čas\")","v":0},null,null,null,null,0,0,null,null,null,null,null,"4.1.23. A: Realizácia prieskumnej činnosti v projekte, následne spracovanie a interpretácia zistenia z opytovania, finalizácia prieskumu.",null,null,null,{"$f":"IF(OR(B83=\"So\",B83=\"Ne\"),\"dobre\",IF(C83>D83,\"zle\",IF(AND(C83<=VEMA!P$38,VEMA!Q$38<=D83),\"obed\",IF(OR(D83<=VEMA!P$38,VEMA!Q$38<=C83),\"dobre\",\"zle\"))))","v":"dobre"}]
[{"$f":"IF(A81=\"\",\"\",IF(A81+1<=$D$146,A81+1,\"\"))","v":22},{"$f":"IF(A84=\"\",\"\",IF(B81=\"Po\",\"Ut\",IF(B81=\"Ut\",\"St\",IF(B81=\"St\",\"Št\",IF(B81=\"Št\",\"Pi\",IF(B81=\"Pi\",\"So\",IF(B81=\"So\",\"Ne\",IF(B81=\"Ne\",\"Po\",\"\"))))))))","v":"Ut"},null,null,{"$f":"IF(OR(U84=\"dobre\",U84=\"obed\"),IF(OR(B84=\"So\",B84=\"Ne\"),\"\",IF(OR(D84<=VEMA!P$39,C84>=VEMA!Q$39),(D84-C84)*24,(D84-C84)*24-VEMA!R$39)),\"<< zlý čas\")","v":0},null,null,null,null,0,0,null,null,null,null,null,"4.1.25. T PV a UZ: Návrh programu vzdelávania.",null,{"$f":"IF(SUM(E84:E86)=0,\"\",SUM(E84:E86))","v":""},null,{"$f":"IF(OR(B84=\"So\",B84=\"Ne\"),\"dobre\",IF(C84>D84,\"zle\",IF(AND(C84<=VEMA!P$39,VEMA!Q$39<=D84),\"obed\",IF(OR(D84<=VEMA!P$39,VEMA!Q$39<=C84),\"dobre\",\"zle\"))))","v":"dobre"}]
[null,{"$f":"B84","v":"Ut"},null,null,{"$f":"IF(OR(U85=\"dobre\",U85=\"obed\"),IF(OR(B85=\"So\",B85=\"Ne\"),\"\",IF(OR(D85<=VEMA!P$39,C85>=VEMA!Q$39),(D85-C85)*24,(D85-C85)*24-VEMA!R$39)),\"<< zlý čas\")","v":0},null,null,null,null,{"$f":"IF(B85=\"\",\"\",IF(B85=\"So\",\"\",(IF(B85=\"Ne\",\"\",(ROUND(E85-K85,2))))))","v":0},{"$f":"IF(B85=\"So\",\"\",(IF(B85=\"Ne\",\"\",(IF(B85=\"\",\"\",(IF(COUNTIF(Pozicia,$F$16),ROUND(VRR*E85,2),0)))))))","v":0},null,null,null,null,null,"4.1.25. T PV a UZ: Spracovanie programu vzdelávania.",null,null,null,{"$f":"IF(OR(B85=\"So\",B85=\"Ne\"),\"dobre\",IF(C85>D85,\"zle\",IF(AND(C85<=VEMA!P$39,VEMA!Q$39<=D85),\"obed\",IF(OR(D85<=VEMA!P$39,VEMA!Q$39<=C85),\"dobre\",\"zle\"))))","v":"dobre"}]
[null,{"$f":"B85","v":"Ut"},null,null,{"$f":"IF(OR(U86=\"dobre\",U86=\"obed\"),IF(OR(B86=\"So\",B86=\"Ne\"),\"\",IF(OR(D86<=VEMA!P$39,C86>=VEMA!Q$39),(D86-C86)*24,(D86-C86)*24-VEMA!R$39)),\"<< zlý čas\")","v":0},null,null,null,null,0,0,null,null,null,null,null,"4.1.25. T PV a UZ: Finálne spracovanie programu vzdelávania.",null,null,null,{"$f":"IF(OR(B86=\"So\",B86=\"Ne\"),\"dobre\",IF(C86>D86,\"zle\",IF(AND(C86<=VEMA!P$39,VEMA!Q$39<=D86),\"obed\",IF(OR(D86<=VEMA!P$39,VEMA!Q$39<=C86),\"dobre\",\"zle\"))))","v":"dobre"}]
[{"$f":"IF(A84=\"\",\"\",IF(A84+1<=$D$146,A84+1,\"\"))","v":23},{"$f":"IF(A87=\"\",\"\",IF(B84=\"Po\",\"Ut\",IF(B84=\"Ut\",\"St\",IF(B84=\"St\",\"Št\",IF(B84=\"Št\",\"Pi\",IF(B84=\"Pi\",\"So\",IF(B84=\"So\",\"Ne\",IF(B84=\"Ne\",\"Po\",\"\"))))))))","v":"St"},null,null,{"$f":"IF(OR(U87=\"dobre\",U87=\"obed\"),IF(OR(B87=\"So\",B87=\"Ne\"),\"\",IF(OR(D87<=VEMA!P$40,C87>=VEMA!Q$40),(D87-C87)*24,(D87-C87)*24-VEMA!R$40)),\"<< zlý čas\")","v":0},null,null,null,null,0,0,null,null,null,null,null,"4.1.25. T PV a UZ: Zapracovanie pripomienok do  programu vzdelávania.",null,{"$f":"IF(SUM(E87:E89)=0,\"\",SUM(E87:E89))","v":""},null,{"$f":"IF(OR(B87=\"So\",B87=\"Ne\"),\"dobre\",IF(C87>D87,\"zle\",IF(AND(C87<=VEMA!P$40,VEMA!Q$40<=D87),\"obed\",IF(OR(D87<=VEMA!P$40,VEMA!Q$40<=C87),\"dobre\",\"zle\"))))","v":"dobre"}]
[null,{"$f":"B87","v":"St"},null,null,{"$f":"IF(OR(U88=\"dobre\",U88=\"obed\"),IF(OR(B88=\"So\",B88=\"Ne\"),\"\",IF(OR(D88<=VEMA!P$40,C88>=VEMA!Q$40),(D88-C88)*24,(D88-C88)*24-VEMA!R$40)),\"<< zlý čas\")","v":0},null,null,null,null,0,0,null,null,null,null,null,"4.1.25. T PV a UZ: Návrh učebných zdrojov k programu vzdelávania.",null,null,null,{"$f":"IF(OR(B88=\"So\",B88=\"Ne\"),\"dobre\",IF(C88>D88,\"zle\",IF(AND(C88<=VEMA!P$40,VEMA!Q$40<=D88),\"obed\",IF(OR(D88<=VEMA!P$40,VEMA!Q$40<=C88),\"dobre\",\"zle\"))))","v":"dobre"}]
[null,{"$f":"B88","v":"St"},null,null,{"$f":"IF(OR(U89=\"dobre\",U89=\"obed\"),IF(OR(B89=\"So\",B89=\"Ne\"),\"\",IF(OR(D89<=VEMA!P$40,C89>=VEMA!Q$40),(D89-C89)*24,(D89-C89)*24-VEMA!R$40)),\"<< zlý čas\")","v":0},null,null,null,null,0,0,null,null,null,null,null,"4.1.25. T PV a UZ: Spracovanie  učebných zdrojov k programu vzdelávania.",null,null,null,{"$f":"IF(OR(B89=\"So\",B89=\"Ne\"),\"dobre\",IF(C89>D89,\"zle\",IF(AND(C89<=VEMA!P$40,VEMA!Q$40<=D89),\"obed\",IF(OR(D89<=VEMA!P$40,VEMA!Q$40<=C89),\"dobre\",\"zle\"))))","v":"dobre"}]
[{"$f":"IF(A87=\"\",\"\",IF(A87+1<=$D$146,A87+1,\"\"))","v":24},{"$f":"IF(A90=\"\",\"\",IF(B87=\"Po\",\"Ut\",IF(B87=\"Ut\",\"St\",IF(B87=\"St\",\"Št\",IF(B87=\"Št\",\"Pi\",IF(B87=\"Pi\",\"So\",IF(B87=\"So\",\"Ne\",IF(B87=\"Ne\",\"Po\",\"\"))))))))","v":"Št"},null,null,{"$f":"IF(OR(U90=\"dobre\",U90=\"obed\"),IF(OR(B90=\"So\",B90=\"Ne\"),\"\",IF(OR(D90<=VEMA!P$41,C90>=VEMA!Q$41),(D90-C90)*24,(D90-C90)*24-VEMA!R$41)),\"<< zlý čas\")","v":0},null,null,null,null,0,0,null,null,null,null,null,"4.1.25. T PV a UZ: Zapracovanie pripomienok do  programu vzdelávania a do učebných zdrojov.",null,{"$f":"IF(SUM(E90:E92)=0,\"\",SUM(E90:E92))","v":""},null,{"$f":"IF(OR(B90=\"So\",B90=\"Ne\"),\"dobre\",IF(C90>D90,\"zle\",IF(AND(C90<=VEMA!P$41,VEMA!Q$41<=D90),\"obed\",IF(OR(D90<=VEMA!P$41,VEMA!Q$41<=C90),\"dobre\",\"zle\"))))","v":"dobre"}]
[null,{"$f":"B90","v":"Št"},null,null,{"$f":"IF(OR(U91=\"dobre\",U91=\"obed\"),IF(OR(B91=\"So\",B91=\"Ne\"),\"\",IF(OR(D91<=VEMA!P$41,C91>=VEMA!Q$41),(D91-C91)*24,(D91-C91)*24-VEMA!R$41)),\"<< zlý čas\")","v":0},null,null,null,null,0,0,null,null,null,null,null,"4.1.25. T PV a UZ:  Návrh  a spracovanie programu vzdelávania a učebných zdrojov.",null,null,null,{"$f":"IF(OR(B91=\"So\",B91=\"Ne\"),\"dobre\",IF(C91>D91,\"zle\",IF(AND(C91<=VEMA!P$41,VEMA!Q$41<=D91),\"obed\",IF(OR(D91<=VEMA!P$41,VEMA!Q$41<=C91),\"dobre\",\"zle\"))))","v":"dobre"}]
[null,{"$f":"B91","v":"Št"},null,null,{"$f":"IF(OR(U92=\"dobre\",U92=\"obed\"),IF(OR(B92=\"So\",B92=\"Ne\"),\"\",IF(OR(D92<=VEMA!P$41,C92>=VEMA!Q$41),(D92-C92)*24,(D92-C92)*24-VEMA!R$41)),\"<< zlý čas\")","v":0},null,null,null,null,0,0,null,null,null,null,null,"4.1.25. T PV a UZ: Finalizácia vzdelávacieho programu a učebných zdrojov.",null,null,null,{"$f":"IF(OR(B92=\"So\",B92=\"Ne\"),\"dobre\",IF(C92>D92,\"zle\",IF(AND(C92<=VEMA!P$41,VEMA!Q$41<=D92),\"obed\",IF(OR(D92<=VEMA!P$41,VEMA!Q$41<=C92),\"dobre\",\"zle\"))))","v":"dobre"}]
[{"$f":"IF(A90=\"\",\"\",IF(A90+1<=$D$146,A90+1,\"\"))","v":25},{"$f":"IF(A93=\"\",\"\",IF(B90=\"Po\",\"Ut\",IF(B90=\"Ut\",\"St\",IF(B90=\"St\",\"Št\",IF(B90=\"Št\",\"Pi\",IF(B90=\"Pi\",\"So\",IF(B90=\"So\",\"Ne\",IF(B90=\"Ne\",\"Po\",\"\"))))))))","v":"Pi"},null,null,{"$f":"IF(OR(U93=\"dobre\",U93=\"obed\"),IF(OR(B93=\"So\",B93=\"Ne\"),\"\",IF(OR(D93<=VEMA!P$42,C93>=VEMA!Q$42),(D93-C93)*24,(D93-C93)*24-VEMA!R$42)),\"<< zlý čas\")","v":0},null,null,null,null,0,0,null,null,null,null,null,"4.1.25. T PV a UZ: Konzultovanie pripomienok s konzultantom obsahu PV a UZ.",null,{"$f":"IF(SUM(E93:E95)=0,\"\",SUM(E93:E95))","v":""},null,{"$f":"IF(OR(B93=\"So\",B93=\"Ne\"),\"dobre\",IF(C93>D93,\"zle\",IF(AND(C93<=VEMA!P$42,VEMA!Q$42<=D93),\"obed\",IF(OR(D93<=VEMA!P$42,VEMA!Q$42<=C93),\"dobre\",\"zle\"))))","v":"dobre"}]
[null,{"$f":"B93","v":"Pi"},null,null,{"$f":"IF(OR(U94=\"dobre\",U94=\"obed\"),IF(OR(B94=\"So\",B94=\"Ne\"),\"\",IF(OR(D94<=VEMA!P$42,C94>=VEMA!Q$42),(D94-C94)*24,(D94-C94)*24-VEMA!R$42)),\"<< zlý čas\")","v":0},null,null,null,null,0,0,null,null,null,null,null,"4.1.28. OG IV: Dohľad pri realizácii vzdelávacích aktivít v inovačných programoch vzdelávania.",null,null,null,{"$f":"IF(OR(B94=\"So\",B94=\"Ne\"),\"dobre\",IF(C94>D94,\"zle\",IF(AND(C94<=VEMA!P$42,VEMA!Q$42<=D94),\"obed\",IF(OR(D94<=VEMA!P$42,VEMA!Q$42<=C94),\"dobre\",\"zle\"))))","v":"dobre"}]
[null,{"$f":"B94","v":"Pi"},null,null,{"$f":"IF(OR(U95=\"dobre\",U95=\"obed\"),IF(OR(B95=\"So\",B95=\"Ne\"),\"\",IF(OR(D95<=VEMA!P$42,C95>=VEMA!Q$42),(D95-C95)*24,(D95-C95)*24-VEMA!R$42)),\"<< zlý čas\")","v":0},null,null,null,null,0,0,null,null,null,null,null,"4.1.28. OG IV: Príprava a vedie lektorov.",null,null,null,{"$f":"IF(OR(B95=\"So\",B95=\"Ne\"),\"dobre\",IF(C95>D95,\"zle\",IF(AND(C95<=VEMA!P$42,VEMA!Q$42<=D95),\"obed\",IF(OR(D95<=VEMA!P$42,VEMA!Q$42<=C95),\"dobre\",\"zle\"))))","v":"dobre"}]
[{"$f":"IF(A93=\"\",\"\",IF(A93+1<=$D$146,A93+1,\"\"))","v":26},{"$f":"IF(A96=\"\",\"\",IF(B93=\"Po\",\"Ut\",IF(B93=\"Ut\",\"St\",IF(B93=\"St\",\"Št\",IF(B93=\"Št\",\"Pi\",IF(B93=\"Pi\",\"So\",IF(B93=\"So\",\"Ne\",IF(B93=\"Ne\",\"Po\",\"\"))))))))","v":"So"},null,null,{"$f":"IF(OR(U96=\"dobre\",U96=\"obed\"),IF(OR(B96=\"So\",B96=\"Ne\"),\"\",IF(OR(D96<=VEMA!P$43,C96>=VEMA!Q$43),(D96-C96)*24,(D96-C96)*24-VEMA!R$43)),\"<< zlý čas\")","v":""},null,null,null,null,"","",null,null,null,null,null,"4.1.28. OG IV: Kontrola priebehu  realizácie vzdelávacích programov.",null,{"$f":"IF(SUM(E96:E98)=0,\"\",SUM(E96:E98))","v":""},null,{"$f":"IF(OR(B96=\"So\",B96=\"Ne\"),\"dobre\",IF(C96>D96,\"zle\",IF(AND(C96<=VEMA!P$43,VEMA!Q$43<=D96),\"obed\",IF(OR(D96<=VEMA!P$43,VEMA!Q$43<=C96),\"dobre\",\"zle\"))))","v":"dobre"}]
[null,{"$f":"B96","v":"So"},null,null,{"$f":"IF(OR(U97=\"dobre\",U97=\"obed\"),IF(OR(B97=\"So\",B97=\"Ne\"),\"\",IF(OR(D97<=VEMA!P$43,C97>=VEMA!Q$43),(D97-C97)*24,(D97-C97)*24-VEMA!R$43)),\"<< zlý čas\")","v":""},null,null,null,null,"","",null,null,null,null,null,"4.1.28. OG IV: Kontrola ukončenia realizácie vzdelávacích programov.",null,null,null,{"$f":"IF(OR(B97=\"So\",B97=\"Ne\"),\"dobre\",IF(C97>D97,\"zle\",IF(AND(C97<=VEMA!P$43,VEMA!Q$43<=D97),\"obed\",IF(OR(D97<=VEMA!P$43,VEMA!Q$43<=C97),\"dobre\",\"zle\"))))","v":"dobre"}]
[null,{"$f":"B97","v":"So"},null,null,{"$f":"IF(OR(U98=\"dobre\",U98=\"obed\"),IF(OR(B98=\"So\",B98=\"Ne\"),\"\",IF(OR(D98<=VEMA!P$43,C98>=VEMA!Q$43),(D98-C98)*24,(D98-C98)*24-VEMA!R$43)),\"<< zlý čas\")","v":""},null,null,null,null,"","",null,null,null,null,null,"4.1.28. OG IV: Vyhodnotenie realizácie programu vzdelávania.",null,null,null,{"$f":"IF(OR(B98=\"So\",B98=\"Ne\"),\"dobre\",IF(C98>D98,\"zle\",IF(AND(C98<=VEMA!P$43,VEMA!Q$43<=D98),\"obed\",IF(OR(D98<=VEMA!P$43,VEMA!Q$43<=C98),\"dobre\",\"zle\"))))","v":"dobre"}]
[{"$f":"IF(A96=\"\",\"\",IF(A96+1<=$D$146,A96+1,\"\"))","v":27},{"$f":"IF(A99=\"\",\"\",IF(B96=\"Po\",\"Ut\",IF(B96=\"Ut\",\"St\",IF(B96=\"St\",\"Št\",IF(B96=\"Št\",\"Pi\",IF(B96=\"Pi\",\"So\",IF(B96=\"So\",\"Ne\",IF(B96=\"Ne\",\"Po\",\"\"))))))))","v":"Ne"},null,null,{"$f":"IF(OR(U99=\"dobre\",U99=\"obed\"),IF(OR(B99=\"So\",B99=\"Ne\"),\"\",IF(OR(D99<=VEMA!P$44,C99>=VEMA!Q$44),(D99-C99)*24,(D99-C99)*24-VEMA!R$44)),\"<< zlý čas\")","v":""},null,null,null,null,"","",null,null,null,null,null,"4.1.28. OG IV: Príprava podkladov na archiváciu v zmysle interných a projektových pokynov.",null,{"$f":"IF(SUM(E99:E101)=0,\"\",SUM(E99:E101))","v":""},null,{"$f":"IF(OR(B99=\"So\",B99=\"Ne\"),\"dobre\",IF(C99>D99,\"zle\",IF(AND(C99<=VEMA!P$44,VEMA!Q$44<=D99),\"obed\",IF(OR(D99<=VEMA!P$44,VEMA!Q$44<=C99),\"dobre\",\"zle\"))))","v":"dobre"}]
[null,{"$f":"B99","v":"Ne"},null,null,{"$f":"IF(OR(U100=\"dobre\",U100=\"obed\"),IF(OR(B100=\"So\",B100=\"Ne\"),\"\",IF(OR(D100<=VEMA!P$44,C100>=VEMA!Q$44),(D100-C100)*24,(D100-C100)*24-VEMA!R$44)),\"<< zlý čas\")","v":""},null,null,null,null,"","",null,null,null,null,null,"4.1.28. OG IV: Kontrola zapracovaných pripomienok.",null,null,null,{"$f":"IF(OR(B100=\"So\",B100=\"Ne\"),\"dobre\",IF(C100>D100,\"zle\",IF(AND(C100<=VEMA!P$44,VEMA!Q$44<=D100),\"obed\",IF(OR(D100<=VEMA!P$44,VEMA!Q$44<=C100),\"dobre\",\"zle\"))))","v":"dobre"}]
[null,{"$f":"B100","v":"Ne"},null,null,{"$f":"IF(OR(U101=\"dobre\",U101=\"obed\"),IF(OR(B101=\"So\",B101=\"Ne\"),\"\",IF(OR(D101<=VEMA!P$44,C101>=VEMA!Q$44),(D101-C101)*24,(D101-C101)*24-VEMA!R$44)),\"<< zlý čas\")","v":""},null,null,null,null,"","",null,null,null,null,null,"4.1.28. OG IV: Účasť na porade k vzdelávacím programom v rámci národného projektu.",null,null,null,{"$f":"IF(OR(B101=\"So\",B101=\"Ne\"),\"dobre\",IF(C101>D101,\"zle\",IF(AND(C101<=VEMA!P$44,VEMA!Q$44<=D101),\"obed\",IF(OR(D101<=VEMA!P$44,VEMA!Q$44<=C101),\"dobre\",\"zle\"))))","v":"dobre"}]
[{"$f":"IF(A99=\"\",\"\",IF(A99+1<=$D$146,A99+1,\"\"))","v":28},{"$f":"IF(A102=\"\",\"\",IF(B99=\"Po\",\"Ut\",IF(B99=\"Ut\",\"St\",IF(B99=\"St\",\"Št\",IF(B99=\"Št\",\"Pi\",IF(B99=\"Pi\",\"So\",IF(B99=\"So\",\"Ne\",IF(B99=\"Ne\",\"Po\",\"\"))))))))","v":"Po"},null,null,{"$f":"IF(OR(U102=\"dobre\",U102=\"obed\"),IF(OR(B102=\"So\",B102=\"Ne\"),\"\",IF(OR(D102<=VEMA!P$45,C102>=VEMA!Q$45),(D102-C102)*24,(D102-C102)*24-VEMA!R$45)),\"<< zlý čas\")","v":0},null,null,null,null,0,0,null,null,null,null,null,"4.1.28. OG IV: Priebežné vyhodnocovanie výstupov z realizovaných vzdelávacích programov.",null,{"$f":"IF(SUM(E102:E104)=0,\"\",SUM(E102:E104))","v":""},null,{"$f":"IF(OR(B102=\"So\",B102=\"Ne\"),\"dobre\",IF(C102>D102,\"zle\",IF(AND(C102<=VEMA!P$45,VEMA!Q$45<=D102),\"obed\",IF(OR(D102<=VEMA!P$45,VEMA!Q$45<=C102),\"dobre\",\"zle\"))))","v":"dobre"}]
[null,{"$f":"B102","v":"Po"},null,null,{"$f":"IF(OR(U103=\"dobre\",U103=\"obed\"),IF(OR(B103=\"So\",B103=\"Ne\"),\"\",IF(OR(D103<=VEMA!P$45,C103>=VEMA!Q$45),(D103-C103)*24,(D103-C103)*24-VEMA!R$45)),\"<< zlý čas\")","v":0},null,null,null,null,0,0,null,null,null,null,null,"4.1.28. OG IV: Vyhodnotenie programu vzdelávania.",null,null,null,{"$f":"IF(OR(B103=\"So\",B103=\"Ne\"),\"dobre\",IF(C103>D103,\"zle\",IF(AND(C103<=VEMA!P$45,VEMA!Q$45<=D103),\"obed\",IF(OR(D103<=VEMA!P$45,VEMA!Q$45<=C103),\"dobre\",\"zle\"))))","v":"dobre"}]
[null,{"$f":"B103","v":"Po"},null,null,{"$f":"IF(OR(U104=\"dobre\",U104=\"obed\"),IF(OR(B104=\"So\",B104=\"Ne\"),\"\",IF(OR(D104<=VEMA!P$45,C104>=VEMA!Q$45),(D104-C104)*24,(D104-C104)*24-VEMA!R$45)),\"<< zlý čas\")","v":0},null,null,null,null,0,0,null,null,null,null,null,"4.1.28. OG IV: Účasť na porade k vzdelávacím programom v rámci národného projektu a vyhodnotenie programu vzdelávania.",null,null,null,{"$f":"IF(OR(B104=\"So\",B104=\"Ne\"),\"dobre\",IF(C104>D104,\"zle\",IF(AND(C104<=VEMA!P$45,VEMA!Q$45<=D104),\"obed\",IF(OR(D104<=VEMA!P$45,VEMA!Q$45<=C104),\"dobre\",\"zle\"))))","v":"dobre"}]
[{"$f":"IF(A102=\"\",\"\",IF(A102+1<=$D$146,A102+1,\"\"))","v":29},{"$f":"IF(A105=\"\",\"\",IF(B102=\"Po\",\"Ut\",IF(B102=\"Ut\",\"St\",IF(B102=\"St\",\"Št\",IF(B102=\"Št\",\"Pi\",IF(B102=\"Pi\",\"So\",IF(B102=\"So\",\"Ne\",IF(B102=\"Ne\",\"Po\",\"\"))))))))","v":"Ut"},null,null,{"$f":"IF(OR(U105=\"dobre\",U105=\"obed\"),IF(OR(B105=\"So\",B105=\"Ne\",B105=\"\"),\"\",IF(OR(D105<=VEMA!P$46,C105>=VEMA!Q$46),(D105-C105)*24,(D105-C105)*24-VEMA!R$46)),\"<< zlý čas\")","v":0},null,null,null,null,0,0,null,null,null,null,null,"4.1.29 VVS: Zakladanie vzdelávacej skupiny.",null,{"$f":"IF(SUM(E105:E107)=0,\"\",SUM(E105:E107))","v":""},null,{"$f":"IF(OR(B105=\"So\",B105=\"Ne\"),\"dobre\",IF(C105>D105,\"zle\",IF(AND(C105<=VEMA!P$46,VEMA!Q$46<=D105),\"obed\",IF(OR(D105<=VEMA!P$46,VEMA!Q$46<=C105),\"dobre\",\"zle\"))))","v":"dobre"}]
[null,{"$f":"B105","v":"Ut"},null,null,{"$f":"IF(OR(U106=\"dobre\",U106=\"obed\"),IF(OR(B106=\"So\",B106=\"Ne\",B106=\"\"),\"\",IF(OR(D106<=VEMA!P$46,C106>=VEMA!Q$46),(D106-C106)*24,(D106-C106)*24-VEMA!R$46)),\"<< zlý čas\")","v":0},null,null,null,null,0,0,null,null,null,null,null,"4.1.29. VVS: Správa databázy účastníkov, tvorba materiálov (pozvánky, prezenčné listiny, triednu knihu skupiny).",null,null,null,{"$f":"IF(OR(B106=\"So\",B106=\"Ne\"),\"dobre\",IF(C106>D106,\"zle\",IF(AND(C106<=VEMA!P$46,VEMA!Q$46<=D106),\"obed\",IF(OR(D106<=VEMA!P$46,VEMA!Q$46<=C106),\"dobre\",\"zle\"))))","v":"dobre"}]
[null,{"$f":"B106","v":"Ut"},null,null,{"$f":"IF(OR(U107=\"dobre\",U107=\"obed\"),IF(OR(B107=\"So\",B107=\"Ne\",B107=\"\"),\"\",IF(OR(D107<=VEMA!P$46,C107>=VEMA!Q$46),(D107-C107)*24,(D107-C107)*24-VEMA!R$46)),\"<< zlý čas\")","v":0},null,null,null,null,0,0,null,null,null,null,null,"4.1.29. VVS: Sumarizácia dištančných úloh.",null,null,null,{"$f":"IF(OR(B107=\"So\",B107=\"Ne\"),\"dobre\",IF(C107>D107,\"zle\",IF(AND(C107<=VEMA!P$46,VEMA!Q$46<=D107),\"obed\",IF(OR(D107<=VEMA!P$46,VEMA!Q$46<=C107),\"dobre\",\"zle\"))))","v":"dobre"}]
[{"$f":"IF(A105=\"\",\"\",IF(A105+1<=$D$146,A105+1,\"\"))","v":30},{"$f":"IF(A108=\"\",\"\",IF(B105=\"Po\",\"Ut\",IF(B105=\"Ut\",\"St\",IF(B105=\"St\",\"Št\",IF(B105=\"Št\",\"Pi\",IF(B105=\"Pi\",\"So\",IF(B105=\"So\",\"Ne\",IF(B105=\"Ne\",\"Po\",\"\"))))))))","v":"St"},null,null,{"$f":"IF(OR(U108=\"dobre\",U108=\"obed\"),IF(OR(B108=\"So\",B108=\"Ne\",B108=\"\"),\"\",IF(OR(D108<=VEMA!P$47,C108>=VEMA!Q$47),(D108-C108)*24,(D108-C108)*24-VEMA!R$47)),\"<< zlý čas\")","v":0},null,null,null,null,0,0,null,null,null,null,null,"4.1.29. VVS: Plánovanie a príprava harmonogramu vzdelávacích aktivít.",null,{"$f":"IF(SUM(E108:E110)=0,\"\",SUM(E108:E110))","v":""},null,{"$f":"IF(OR(B108=\"So\",B108=\"Ne\"),\"dobre\",IF(C108>D108,\"zle\",IF(AND(C108<=VEMA!P$47,VEMA!Q$47<=D108),\"obed\",IF(OR(D108<=VEMA!P$47,VEMA!Q$47<=C108),\"dobre\",\"zle\"))))","v":"dobre"}]
[null,{"$f":"B108","v":"St"},null,null,{"$f":"IF(OR(U109=\"dobre\",U109=\"obed\"),IF(OR(B109=\"So\",B109=\"Ne\",B109=\"\"),\"\",IF(OR(D109<=VEMA!P$47,C109>=VEMA!Q$47),(D109-C109)*24,(D109-C109)*24-VEMA!R$47)),\"<< zlý čas\")","v":0},null,null,null,null,0,0,null,null,null,null,null,"4.1.29. VVS: Sumarizácia dištančných úloh a záverečných prezentácii, príprava a spracovanie záverov, vrátane podkladov na spracovanie osvedčení a protokolov. ",null,null,null,{"$f":"IF(OR(B109=\"So\",B109=\"Ne\"),\"dobre\",IF(C109>D109,\"zle\",IF(AND(C109<=VEMA!P$47,VEMA!Q$47<=D109),\"obed\",IF(OR(D109<=VEMA!P$47,VEMA!Q$47<=C109),\"dobre\",\"zle\"))))","v":"dobre"}]
[null,{"$f":"B109","v":"St"},null,null,{"$f":"IF(OR(U110=\"dobre\",U110=\"obed\"),IF(OR(B110=\"So\",B110=\"Ne\",B110=\"\"),\"\",IF(OR(D110<=VEMA!P$47,C110>=VEMA!Q$47),(D110-C110)*24,(D110-C110)*24-VEMA!R$47)),\"<< zlý čas\")","v":0},null,null,null,null,0,0,null,null,null,null,null,"4.1.29. VVS: Príprava podkladov na archiváciu v zmysle interných a projektových pokynov.",null,null,null,{"$f":"IF(OR(B110=\"So\",B110=\"Ne\"),\"dobre\",IF(C110>D110,\"zle\",IF(AND(C110<=VEMA!P$47,VEMA!Q$47<=D110),\"obed\",IF(OR(D110<=VEMA!P$47,VEMA!Q$47<=C110),\"dobre\",\"zle\"))))","v":"dobre"}]
[{"$f":"IF(A108=\"\",\"\",IF(A108+1<=$D$146,A108+1,\"\"))","v":""},{"$f":"IF(A111=\"\",\"\",IF(B108=\"Po\",\"Ut\",IF(B108=\"Ut\",\"St\",IF(B108=\"St\",\"Št\",IF(B108=\"Št\",\"Pi\",IF(B108=\"Pi\",\"So\",IF(B108=\"So\",\"Ne\",IF(B108=\"Ne\",\"Po\",\"\"))))))))","v":""},null,null,{"$f":"IF(OR(U111=\"dobre\",U111=\"obed\"),IF(OR(B111=\"So\",B111=\"Ne\",B111=\"\"),\"\",IF(OR(D111<=VEMA!P$48,C111>=VEMA!Q$48),(D111-C111)*24,(D111-C111)*24-VEMA!R$48)),\"<< zlý čas\")","v":""},null,null,null,null,"",{"$f":"IF(AND(B111=\"So\"),\"\",(IF(AND(B111=\"Ne\"),\"\",(IF(AND(B111=\"\"),\"\",(SUMIF(N21:N48,F16,O21:O48))*E111)))))","v":""},null,null,null,null,null,"4.1.29. VVS: Koordinovanie vzdelávacích skupín.",null,{"$f":"IF(SUM(E111:E113)=0,\"\",SUM(E111:E113))","v":""},null,{"$f":"IF(OR(B111=\"So\",B111=\"Ne\",B111=\"\"),\"dobre\",IF(C111>D111,\"zle\",IF(AND(C111<=VEMA!P$48,VEMA!Q$48<=D111),\"obed\",IF(OR(D111<=VEMA!P$48,VEMA!Q$48<=C111),\"dobre\",\"zle\"))))","v":"dobre"}]
[null,{"$f":"B111","v":""},null,null,{"$f":"IF(OR(U112=\"dobre\",U112=\"obed\"),IF(OR(B112=\"So\",B112=\"Ne\",B112=\"\"),\"\",IF(OR(D112<=VEMA!P$48,C112>=VEMA!Q$48),(D112-C112)*24,(D112-C112)*24-VEMA!R$48)),\"<< zlý čas\")","v":""},null,null,null,null,{"$f":"IF(AND(B112=\"\"),\"\",IF(AND(B112=\"So\"),\"\",(IF(AND(B112=\"Ne\"),\"\",(ROUND(E112-K112,2))))))","v":""},{"$f":"IF(AND(B112=\"So\"),\"\",(IF(AND(B112=\"Ne\"),\"\",(IF(AND(B112=\"\"),\"\",(SUMIF(N21:N48,F16,O21:O48))*E112)))))","v":""},null,null,null,null,null,"4.1.30. L: Príprava na lektorskú činnosť.",null,null,null,{"$f":"IF(OR(B112=\"So\",B112=\"Ne\",B112=\"\"),\"dobre\",IF(C112>D112,\"zle\",IF(AND(C112<=VEMA!P$48,VEMA!Q$48<=D112),\"obed\",IF(OR(D112<=VEMA!P$48,VEMA!Q$48<=C112),\"dobre\",\"zle\"))))","v":"dobre"}]
[null,{"$f":"B112","v":""},null,null,{"$f":"IF(OR(U113=\"dobre\",U113=\"obed\"),IF(OR(B113=\"So\",B113=\"Ne\",B113=\"\"),\"\",IF(OR(D113<=VEMA!P$48,C113>=VEMA!Q$48),(D113-C113)*24,(D113-C113)*24-VEMA!R$48)),\"<< zlý čas\")","v":""},null,null,null,null,{"$f":"IF(AND(B113=\"\"),\"\",IF(AND(B113=\"So\"),\"\",(IF(AND(B113=\"Ne\"),\"\",(ROUND(E113-K113,2))))))","v":""},{"$f":"IF(AND(B113=\"So\"),\"\",(IF(AND(B113=\"Ne\"),\"\",(IF(AND(B113=\"\"),\"\",(SUMIF(N21:N48,F16,O21:O48))*E113)))))","v":""},null,null,null,null,null,"4.1.30. L: Úprava materiálov pre účastníkov vzdelávania.",null,null,null,{"$f":"IF(OR(B113=\"So\",B113=\"Ne\",B113=\"\"),\"dobre\",IF(C113>D113,\"zle\",IF(AND(C113<=VEMA!P$48,VEMA!Q$48<=D113),\"obed\",IF(OR(D113<=VEMA!P$48,VEMA!Q$48<=C113),\"dobre\",\"zle\"))))","v":"dobre"}]
["Spolu:",null,null,null,{"$f":"SUMIF(B21:B111,\"Po\",E21:E113)+SUMIF(B21:B111,\"Ut\",E21:E111)+SUMIF(B21:B111,\"St\",E21:E111)+SUMIF(B21:B111,\"Št\",E21:E111)+SUMIF(B21:B111,\"Pi\",E21:E111)","v":0},null,null,null,null,{"$f":"SUM(J21:J111)","v":0},{"$f":"SUM(K21:K111)","v":0},null,null,null,null,null,"4.1.30. L: Lektorovanie programu vzdelávania."]
["Čestné vyhlásenie:",null,null,null,null,null,null,null,null,null,null,null,null,null,null,null,"4.1.30. L: Ukončovanie  vzdelávacieho programu (člen skúšobnej komisie). "]
[null,null,"❶Ako prijímateľ vyhlasujem, že údaje uvedené v pracovnom výkaze sú pravdivé, reálne a správne a som si vedomý následkov spojených s uvedením/predložením nesprávneho, neúplného alebo falšovaného výkazu.",null,null,null,null,null,null,null,null,null,null,null,null,null,"4.1.30. L: Ukončovanie  vzdelávacieho programu (predseda skúšobnej komisie). "]
["X",null,null,null,null,null,null,null,null,null,null,null,null,"X",null,null,"4.1.30. L: Vyhodnotenie programu vzdelávania za skupinu."]
[null,null,null,null,null,null,null,null,null,null,null,null,null,null,null,null,"4.1.30. L: Príprava na lektorskú činnosť.  Úprava materiálov pre účastníkov vzdelávania."]
[null,null,"❷Svojim podpisom potvrdzujem, že v uvedenom mesiaci som mal iba jediný pracovnoprávny vzťah,  nevykonával som iné činnosti u tohto zamestnávateľa ani u iných zamestnávateľov, údaje uvedené v pracovnom výkaze sú pravdivé, reálne a správne a som si vedomý následkov spojených s uvedením/predložením nesprávneho, neúplného alebo falšovaného pracovného výkazu.",null,null,null,null,null,null,null,null,null,null,null,null,null,"4.1.30. L: Príprava na lektorskú činnosť a lektorovanie programu vzdelávania."]
[null,null,null,null,null,null,null,null,null,null,null,null,null,null,null,null,"4.1.32. P.: Realizácia individuálneho poradenstva pedagogickým zamestnancom s dôrazom na aplikáciu poznatkov zo vzdelávacích programov a aktivít v školskej praxi."]
["Dátum odovzdania: ",null,null,null,null,null,null,"Dátum prevzatia:",null,null,null,null,null,null,null,null,"4.1.32. P.: Poskytovanie spätnej väzby na pozorované edukačné procesy."]
[null,null,null,null,null,null,null,null,null,null,null,null,null,null,null,null,"4.1.32. P.: Realizácia poradenského projektu."]
["Podpis osoby***:",null,null,null,null,null,null,"Podpis štatutárneho orgánu prijímateľa:**",null,null,null,null,null,null,null,null,"4.1.32. P.: Návrh a vypracovanie odporúčaní na zvýšenie kvality výchovno-vzdelávacieho procesu."]
[null,null,null,null,null,null,null,null,null,null,null,null,null,null,null,null,"4.1.32. P.: Vyhodnotenie realizácie poradenského projektu."]
["Poznámka: Osobou sa rozumie zamestnanec v pracovnoprávnom vzťahu (pracovný pomer, dohody) ako aj osoba pracujúca na základe iných ako pracovnoprávnych vzťahov, resp. osoba pracujúca pre dodávateľa, ktorý vykonáva činnosť pre prijímateľa.                                                                                                         \n*Počet hodín je uvádzaný pre 60 minútový interval.",null,null,null,null,null,null,null,null,null,null,null,null,null,null,null,"4.1.32. P: Príprava podkladom na realizáciu poradenského projektu, realizácia poradenského projektu."]
[null,null,null,null,null,null,null,null,null,null,null,null,null,null,null,null,"4.1.32. P: Príprava poradenského projektu."]
["**V prípade splmonocnenia sa uvedia osoba splnomocnená štatutárnym orgánom na podpisovanie pracovných výkazov",null,null,null,null,null,null,null,null,null,null,null,null,null,null,null,"sviatok"]
["***V prípade dodávateľských vzťahov sa uvedie podpis osoby, ktorá vykonala činnosti a výstupy uvádzané v PV a podpis osoby, ktorá zastupuje dodávateľa. Ak osoby sú totožné uvedie sa iba jeden podpis",null,null,null,null,null,null,null,null,null,null,null,null,null,null,null,"dovolenka"]
[null,null,null,null,null,null,null,null,null,null,null,null,null,null,null,null,"iné náhrady"]
["❶",null,"osoba  pracujúca na rôzne pracovnoprávne vzťahy u jedného resp. rôznych zamestnávateľov ",null,null,null,null,null,null,null,null,null,null,null,null,null,"lekár"]
["❷",null,"osoba pracujúca 100% na projekt, ktorá mala iba jediný pracovnoprávny vzťah",null,null,null,null,null,null,null,null,null,null,null,null,null,"sprevádzanie člena rodiny"]
[null,null,null,null,null,null,null,null,null,null,null,null,null,null,null,null,"PN"]
[null,null,null,null,null,null,null,null,null,null,null,null,null,null,null,null,"OČR"]
[null,null,null,null,null,null,null,null,null,null,null,null,null,null,null,null,"neplatené voľno"]
["PRÁCA NADČAS*"]
["Mesiac ",null,null,null,null,null,null,{"$f":"F17","v":"September"}]
["Fond pracovného času v príslušnom mesiaci "]
["Celkový počet odpracovaných hodín v príslušnom mesiaci "]
["Nariadená/dododnutá práca nadčas financovaná v rámci projektu**"]
[]
["* vypĺňa sa iba v prípade, ak sa v rámci projektu v danom mesiaci financuje v projekte práca nadčas"]
["** práca nadčas je oprávnená iba vo výnimočných a odôvodnených prípadoch. musí byť vykonávaná na príkaz zamestnávateľa alebo s jeho súhlasom. Nadčas je oprávneným výdavkom iba v prípade, ak činnosti vykonávané počas práce nadčas priamo súvisia s aktivitami projektu. Pri využívaní nadčas je potrebné dodržiavať platnú legislatívu SR (najmä zákonník práce).\n"]
[]
["Začiatok mesiaca",null,null,{"$f":"VLOOKUP(F17,A163:E174,(VLOOKUP(K17,A177:B180,2,0)),0)","v":2}]
[]
["Počet dní v mesiaci",null,null,{"$f":"VLOOKUP(F17,A183:C194,(VLOOKUP(K17,A196:B199,2,0)),0)","v":30}]
[]
["Vyberte",2019,2020,2021,2022]
["Január","ut","st","pi","so"]
["Február","pi","so","po","ut"]
["Marec","pi","ne","po","ut"]
["Apríl","po","st","št","pi"]
["Máj","st","pi","so","ne"]
["Jún","so","po","ut","st"]
["Júl","po","st","št","pi"]
["August","št","so","ne","po"]
["September","ne","ut","st","št"]
["Október","ut","št","pi","so"]
["November","pi","ne","po","ut"]
["December","ne","ut","st","št"]
[]
[null,2019,2020,2021,2022]
["Január",2,3,5,6]
["Február",5,6,1,2]
["Marec",5,7,1,2]
["Apríl",1,3,4,5]
["Máj",3,5,6,7]
["Jún",6,1,2,3]
["Júl",1,3,4,5]
["August",4,6,7,1]
["September",7,2,3,4]
["Október",2,4,5,6]
["November",5,7,1,2]
["December",7,2,3,4]
[]
[]
[2019,{"$f":"COLUMN(B162)","v":2}]
[2020,{"$f":"COLUMN($C$162)","v":3}]
[2021,{"$f":"COLUMN($D$162)","v":4}]
[2022,{"$f":"COLUMN($E$162)","v":5}]
[]
[null,"ostatné",2020]
["Január",31,31]
["Február",28,29]
["Marec",31,31]
["Apríl",30,30]
["Máj",31,31]
["Jún",30,30]
["Júl",31,31]
["August",31,31]
["September",30,30]
["Október",31,31]
["November",30,30]
["December",31,31]
[]
[2019,{"$f":"COLUMN(B182)","v":2}]
[2020,{"$f":"COLUMN($C$182)","v":3}]
[2021,{"$f":"COLUMN($B$182)","v":2}]
[2022,{"$f":"COLUMN($B$182)","v":2}]

{"sheet":"PV7","index":6,"n_rows":199,"n_cols":21,"rows_kept":199,"cut":false,"hidden":false,"merged":[[5,5,5,7],[5,8,5,9],[7,0,7,4],[7,5,7,11],[8,0,8,4],[8,5,8,11],[14,0,14,4],[14,5,14,11],[15,0,15,4],[15,5,15,10],[16,0,16,4],[16,5,16,9],[9,0,9,4],[9,5,9,11],[10,0,11,4],[10,5,11,11],[12,0,12,4],[12,5,12,11],[18,10,19,10],[18,11,19,11],[20,5,20,8],[21,5,21,8],[22,5,22,8],[23,5,23,8],[18,0,19,0],[18,1,19,1],[18,2,18,3],[18,4,19,4],[18,5,19,8],[18,9,19,9],[30,5,30,8],[31,5,31,8],[32,5,32,8],[33,5,33,8],[34,5,34,8],[35,5,35,8],[24,5,24,8],[25,5,25,8],[26,5,26,8],[27,5,27,8],[28,5,28,8],[29,5,29,8],[42,5,42,8],[43,5,43,8],[44,5,44,8],[45,5,45,8],[46,5,46,8],[47,5,47,8],[36,5,36,8],[37,5,37,8],[38,5,38,8],[39,5,39,8],[40,5,40,8],[41,5,41,8],[54,5,54,8],[55,5,55,8],[56,5,56,8],[57,5,57,8],[58,5,58,8],[59,5,59,8],[48,5,48,8],[49,5,49,8],[50,5,50,8],[51,5,51,8],[52,5,52,8],[53,5,53,8],[66,5,66,8],[67,5,67,8],[68,5,68,8],[69,5,69,8],[70,5,70,8],[71,5,71,8],[60,5,60,8],[61,5,61,8],[62,5,62,8],[63,5,63,8],[64,5,64,8],[65,5,65,8],[78,5,78,8],[79,5,79,8],[80,5,80,8],[81,5,81,8],[82,5,82,8],[83,5,83,8],[72,5,72,8],[73,5,73,8],[74,5,74,8],[75,5,75,8],[76,5,76,8],[77,5,77,8],[90,5,90,8],[91,5,91,8],[92,5,92,8],[93,5,93,8],[94,5,94,8],[95,5,95,8],[84,5,84,8],[85,5,85,8],[86,5,86,8],[87,5,87,8],[88,5,88,8],[89,5,89,8],[102,5,102,8],[103,5,103,8],[104,5,104,8],[105,5,105,8],[106,5,106,8],[107,5,107,8],[96,5,96,8],[97,5,97,8],[98,5,98,8],[99,5,99,8],[100,5,100,8],[101,5,101,8],[118,2,118,11],[120,0,120,2],[120,3,120,5],[120,9,120,11],[122,0,122,2],[122,3,122,5],[122,7,122,10],[108,5,108,8],[109,5,109,8],[110,5,110,8],[111,5,111,8],[112,5,112,8],[115,2,116,11],[140,0,140,11],[141,0,141,11],[136,0,136,6],[136,7,136,11],[137,0,137,6],[137,7,137,11],[138,0,138,6],[138,7,138,11],[124,0,125,11],[126,0,126,11],[127,0,128,11],[134,0,134,11],[135,0,135,6],[135,7,135,11]]}
[]
[null,null,null,null,null,null,null,null,null,null,null,null,null,null,null,null,null,null,null,null,{"$f":"VLOOKUP(F17,PV!A149:'PV'!F160,6,0)","v":9}]
[null,null,null,null,null,null,null,null,null,null,null,null,null,null,null,null,null,null,null,null,{"$f":"IF(U17=\"\",\"\",LEFT(U17,1))","v":"M"}]
[null,null,null,null,null,null,null,null,null,null,null,null,null,null,null,null,null,null,null,null,{"$f":"IF(U17=\"\",\"\",LEFT(RIGHT(U17,LEN(U17)-FIND(\" \",U17,1)),1))","v":"P"}]
[]
[null,null,null,null,null,"PRACOVNÝ VÝKAZ č. ",null,null,{"$f":"IF(U2>9,CONCATENATE(U2,\"/\",U3,U4,\"/04\"),CONCATENATE(\"0\",U2,\"/\",U3,U4,\"/07\"))","v":"09/MP/07"},null,null,null,null,null,null,null,null,null,null,null,{"$f":"SUBSTITUTE(F15,\"Ing.\",\"\")","v":"Mgr. Meno Priezvisko, PhD."}]
[null,null,null,null,null,null,null,null,null,null,null,null,null,null,null,null,null,null,null,null,{"$f":"SUBSTITUTE(U6,\"Mgr.\",\"\")","v":" Meno Priezvisko, PhD."}]
["Operačný program:",null,null,null,null,"Ľudské zdroje",null,null,null,null,null,null,null,null,null,null,null,null,null,null,{"$f":"SUBSTITUTE(U7,\"Bc.\",\"\")","v":" Meno Priezvisko, PhD."}]
["Programové obdobie:",null,null,null,null,"2014-2020",null,null,null,null,null,null,null,null,null,null,null,null,null,null,{"$f":"SUBSTITUTE(U8,\"PaedDr.\",\"\")","v":" Meno Priezvisko, PhD."}]
["Prijímateľ:",null,null,null,null,"Metodicko-pedagogické centrum",null,null,null,null,null,null,null,null,null,null,null,null,null,null,{"$f":"SUBSTITUTE(U9,\"PhDr.\",\"\")","v":" Meno Priezvisko, PhD."}]
["Názov projektu:",null,null,null,null,"Profesijný rozvoj učiteľov (TEACHERS)",null,null,null,null,null,null,null,null,null,null,null,null,null,null,{"$f":"SUBSTITUTE(U10,\"Doc.\",\"\")","v":" Meno Priezvisko, PhD."}]
[null,null,null,null,null,null,null,null,null,null,null,null,null,null,null,null,null,null,null,null,{"$f":"SUBSTITUTE(U11,\"ThDr.\",\"\")","v":" Meno Priezvisko, PhD."}]
["Kód ITMS projektu:",null,null,null,null,"312011AUN7",null,null,null,null,null,null,null,null,null,null,null,null,null,null,{"$f":"SUBSTITUTE(U12,\"MUDr.\",\"\")","v":" Meno Priezvisko, PhD."}]
[null,null,null,null,null,null,null,null,null,null,null,null,null,null,null,null,null,null,null,null,{"$f":"SUBSTITUTE(U13,\"Dr.\",\"\")","v":" Meno Priezvisko, PhD."}]
["Meno a priezvisko osoby:",null,null,null,null,{"$f":"PV!F15","v":"Mgr. Meno Priezvisko, PhD."},null,null,null,null,null,null,null,null,null,null,null,null,null,null,{"$f":"SUBSTITUTE(U14,\"habil.\",\"\")","v":" Meno Priezvisko, PhD."}]
["Funkcia/Právny vzťah",null,null,null,null,null,null,null,null,null,null,"PP",null,null,null,null,null,null,null,null,{"$f":"SUBSTITUTE(U15,\"MUDr.\",\"\")","v":" Meno Priezvisko, PhD."}]
["Obdobie vykonávania činností:",null,null,null,null,{"$f":"PV!F17","v":"September"},null,null,null,null,{"$f":"PV!K17","v":2020},null,null,null,null,null,null,null,null,null,{"$f":"TRIM(U16)","v":"Meno Priezvisko, PhD."}]
[]
["Dátum","Deň","Čas vykonania\n prác",null,"Počet \nodpracovaných hodín*","Detailný popis činností vykonávaných na základe zmluvy o poskytnutí NFP a popis výsledkov vykonanej činnosti",null,null,null,"Počet odpracovaných hodín MRR*","Počet odpracovaných hodín VRR*","Miesto výkonávania činnosti",null,null,null,null,null,null,null,null,"Nastavenie času vzhľadom na obed"]
[null,null,"Od","Do",null,null,null,null,null,null,null,null,null,"Pozícia","VRR","Miesto","Činnosť","Pracovný pomer"]
[1,{"$f":"IF($D$144=1,\"Po\",IF($D$144=2,\"Ut\",IF($D$144=3,\"St\",IF($D$144=4,\"Št\",IF($D$144=5,\"Pi\",IF($D$144=6,\"So\",IF($D$144=7,\"Ne\",\"Nastala chyba\")))))))","v":"Ut"},null,null,{"$f":"IF(OR(U21=\"dobre\",U21=\"obed\"),IF(OR(B21=\"So\",B21=\"Ne\"),\"\",IF(OR(D21<=VEMA!P$18,C21>=VEMA!Q$18),(D21-C21)*24,(D21-C21)*24-VEMA!R$18)),\"<< zlý čas\")","v":0},null,null,null,null,{"$f":"IF(B21=\"\",\"\",IF(B21=\"So\",\"\",(IF(B21=\"Ne\",\"\",(ROUND(E21-K21,2))))))","v":0},{"$f":"IF(B21=\"So\",\"\",(IF(B21=\"Ne\",\"\",(IF(B21=\"\",\"\",(IF(COUNTIF(Pozicia,$F$16),ROUND(VRR*E21,2),0)))))))","v":0},null,null,"4.1.2. Člen expertnej skupiny",0.13689999999999999,"Bratislava","4.1.2. ČES: Spracovanie východísk inovácie a tvorby nových profesijných štandardov.","PP",{"$f":"IF(SUM(E21:E23)=0,\"\",SUM(E21:E23))","v":""},null,{"$f":"IF(OR(B21=\"So\",B21=\"Ne\"),\"dobre\",IF(C21>D21,\"zle\",IF(AND(C21<=VEMA!P$18,VEMA!Q$18<=D21),\"obed\",IF(OR(D21<=VEMA!P$18,VEMA!Q$18<=C21),\"dobre\",\"zle\"))))","v":"dobre"}]
[null,{"$f":"B21","v":"Ut"},null,null,{"$f":"IF(OR(U22=\"dobre\",U22=\"obed\"),IF(OR(B22=\"So\",B22=\"Ne\"),\"\",IF(OR(D22<=VEMA!P$18,C22>=VEMA!Q$18),(D22-C22)*24,(D22-C22)*24-VEMA!R$18)),\"<< zlý čas\")","v":0},null,null,null,null,0,0,null,null,"4.1.4. Člen pracovnej skupiny",0.13689999999999999,"Banská Bystrica","4.1.2. ČES: Určenie základných princípov revízie profesijných štandardov.","D","",null,{"$f":"IF(OR(B22=\"So\",B22=\"Ne\"),\"dobre\",IF(C22>D22,\"zle\",IF(AND(C22<=VEMA!P$18,VEMA!Q$18<=D22),\"obed\",IF(OR(D22<=VEMA!P$18,VEMA!Q$18<=C22),\"dobre\",\"zle\"))))","v":"dobre"}]
[null,{"$f":"B22","v":"Ut"},null,null,{"$f":"IF(OR(U23=\"dobre\",U23=\"obed\"),IF(OR(B23=\"So\",B23=\"Ne\"),\"\",IF(OR(D23<=VEMA!P$18,C23>=VEMA!Q$18),(D23-C23)*24,(D23-C23)*24-VEMA!R$18)),\"<< zlý čas\")","v":0},null,null,null,null,0,0,null,null,"4.1.8. Regionálny odborný riešiteľ 1.2",0.13689999999999999,"Prešov","4.1.2. ČES: Stanovenie východísk pre inovovaný a nový profesijný štandard; vypracovanie vzorového profesijného štandardu (modelu) ","F","",null,{"$f":"IF(OR(B23=\"So\",B23=\"Ne\"),\"dobre\",IF(C23>D23,\"zle\",IF(AND(C23<=VEMA!P$18,VEMA!Q$18<=D23),\"obed\",IF(OR(D23<=VEMA!P$18,VEMA!Q$18<=C23),\"dobre\",\"zle\"))))","v":"dobre"}]
[{"$f":"IF(A21=\"\",\"\",IF(A21+1<=$D$146,A21+1,\"\"))","v":2},{"$f":"IF(A24=\"\",\"\",IF(B21=\"Po\",\"Ut\",IF(B21=\"Ut\",\"St\",IF(B21=\"St\",\"Št\",IF(B21=\"Št\",\"Pi\",IF(B21=\"Pi\",\"So\",IF(B21=\"So\",\"Ne\",IF(B21=\"Ne\",\"Po\",\"\"))))))))","v":"St"},null,null,{"$f":"IF(OR(U24=\"dobre\",U24=\"obed\"),IF(OR(B24=\"So\",B24=\"Ne\"),\"\",IF(OR(D24<=VEMA!P$19,C24>=VEMA!Q$19),(D24-C24)*24,(D24-C24)*24-VEMA!R$19)),\"<< zlý čas\")","v":0},null,null,null,null,0,0,null,null,"4.1.9. Odborný personál podaktivity 1.2",0.13689999999999999,"Košice","4.1.2. ČES: Určenie základných princípov  tvorby nových profesijných štandardov.","I",{"$f":"IF(SUM(E24:E26)=0,\"\",SUM(E24:E26))","v":""},null,{"$f":"IF(OR(B24=\"So\",B24=\"Ne\"),\"dobre\",IF(C24>D24,\"zle\",IF(AND(C24<=VEMA!P$19,VEMA!Q$19<=D24),\"obed\",IF(OR(D24<=VEMA!P$19,VEMA!Q$19<=C24),\"dobre\",\"zle\"))))","v":"dobre"}]
[null,{"$f":"B24","v":"St"},null,null,{"$f":"IF(OR(U25=\"dobre\",U25=\"obed\"),IF(OR(B25=\"So\",B25=\"Ne\"),\"\",IF(OR(D25<=VEMA!P$19,C25>=VEMA!Q$19),(D25-C25)*24,(D25-C25)*24-VEMA!R$19)),\"<< zlý čas\")","v":0},null,null,null,null,0,0,null,null,"4.1.12. Odborný konzultant NOPS",0.13689999999999999,"Komárno","4.1.2. ČES: Účasť na zasadnutí/porade expertnej skupiny.","DD",null,null,{"$f":"IF(OR(B25=\"So\",B25=\"Ne\"),\"dobre\",IF(C25>D25,\"zle\",IF(AND(C25<=VEMA!P$19,VEMA!Q$19<=D25),\"obed\",IF(OR(D25<=VEMA!P$19,VEMA!Q$19<=C25),\"dobre\",\"zle\"))))","v":"dobre"}]
[null,{"$f":"B25","v":"St"},null,null,{"$f":"IF(OR(U26=\"dobre\",U26=\"obed\"),IF(OR(B26=\"So\",B26=\"Ne\"),\"\",IF(OR(D26<=VEMA!P$19,C26>=VEMA!Q$19),(D26-C26)*24,(D26-C26)*24-VEMA!R$19)),\"<< zlý čas\")","v":0},null,null,null,null,0,0,null,null,"4.1.15. Hodnotiteľ NOPS",0.13689999999999999,"Nitra","4.1.2. ČES: Plnenie úloh na základe pokynov Hlavného odborného riešiteľa 1.1.",null,null,null,{"$f":"IF(OR(B26=\"So\",B26=\"Ne\"),\"dobre\",IF(C26>D26,\"zle\",IF(AND(C26<=VEMA!P$19,VEMA!Q$19<=D26),\"obed\",IF(OR(D26<=VEMA!P$19,VEMA!Q$19<=C26),\"dobre\",\"zle\"))))","v":"dobre"}]
[{"$f":"IF(A24=\"\",\"\",IF(A24+1<=$D$146,A24+1,\"\"))","v":3},{"$f":"IF(A27=\"\",\"\",IF(B24=\"Po\",\"Ut\",IF(B24=\"Ut\",\"St\",IF(B24=\"St\",\"Št\",IF(B24=\"Št\",\"Pi\",IF(B24=\"Pi\",\"So\",IF(B24=\"So\",\"Ne\",IF(B24=\"Ne\",\"Po\",\"\"))))))))","v":"Št"},null,null,{"$f":"IF(OR(U27=\"dobre\",U27=\"obed\"),IF(OR(B27=\"So\",B27=\"Ne\"),\"\",IF(OR(D27<=VEMA!P$20,C27>=VEMA!Q$20),(D27-C27)*24,(D27-C27)*24-VEMA!R$20)),\"<< zlý čas\")","v":0},null,null,null,null,0,0,null,null,"4.1.17. Moderátor konferencie",0.13689999999999999,"Trenčín","4.1.2. ČES: Analýza profesijných štandardov, posúdenie obsahu a formálnej štruktúry, identifikácia nedostatkov, návrh na inováciu",null,{"$f":"IF(SUM(E27:E29)=0,\"\",SUM(E27:E29))","v":""},null,{"$f":"IF(OR(B27=\"So\",B27=\"Ne\"),\"dobre\",IF(C27>D27,\"zle\",IF(AND(C27<=VEMA!P$20,VEMA!Q$20<=D27),\"obed\",IF(OR(D27<=VEMA!P$20,VEMA!Q$20<=C27),\"dobre\",\"zle\"))))","v":"dobre"}]
[null,{"$f":"B27","v":"Št"},null,null,{"$f":"IF(OR(U28=\"dobre\",U28=\"obed\"),IF(OR(B28=\"So\",B28=\"Ne\"),\"\",IF(OR(D28<=VEMA!P$20,C28>=VEMA!Q$20),(D28-C28)*24,(D28-C28)*24-VEMA!R$20)),\"<< zlý čas\")","v":0},null,null,null,null,0,0,null,null,"4.1.18. Odborný personál konfrencie",0.13689999999999999,"Trnava","4.1.2.ČES: Koordinácia činností pracovných skupín, usmerňovanie aktivít, konzultácia s členmi pracovných skupín, práca s členmi pracovných skupín, prenos informácií",null,null,null,{"$f":"IF(OR(B28=\"So\",B28=\"Ne\"),\"dobre\",IF(C28>D28,\"zle\",IF(AND(C28<=VEMA!P$20,VEMA!Q$20<=D28),\"obed\",IF(OR(D28<=VEMA!P$20,VEMA!Q$20<=C28),\"dobre\",\"zle\"))))","v":"dobre"}]
[null,{"$f":"B28","v":"Št"},null,null,{"$f":"IF(OR(U29=\"dobre\",U29=\"obed\"),IF(OR(B29=\"So\",B29=\"Ne\"),\"\",IF(OR(D29<=VEMA!P$20,C29>=VEMA!Q$20),(D29-C29)*24,(D29-C29)*24-VEMA!R$20)),\"<< zlý čas\")","v":0},null,null,null,null,0,0,null,null,"4.1.20. Lektor učiteľských fór",0.13689999999999999,"Žilina","4.1.4. ČPS: Analýza profesijného štandardu, identifikácia nedostatkov ",null,null,null,{"$f":"IF(OR(B29=\"So\",B29=\"Ne\"),\"dobre\",IF(C29>D29,\"zle\",IF(AND(C29<=VEMA!P$20,VEMA!Q$20<=D29),\"obed\",IF(OR(D29<=VEMA!P$20,VEMA!Q$20<=C29),\"dobre\",\"zle\"))))","v":"dobre"}]
[{"$f":"IF(A27=\"\",\"\",IF(A27+1<=$D$146,A27+1,\"\"))","v":4},{"$f":"IF(A30=\"\",\"\",IF(B27=\"Po\",\"Ut\",IF(B27=\"Ut\",\"St\",IF(B27=\"St\",\"Št\",IF(B27=\"Št\",\"Pi\",IF(B27=\"Pi\",\"So\",IF(B27=\"So\",\"Ne\",IF(B27=\"Ne\",\"Po\",\"\"))))))))","v":"Pi"},null,null,{"$f":"IF(OR(U30=\"dobre\",U30=\"obed\"),IF(OR(B30=\"So\",B30=\"Ne\"),\"\",IF(OR(D30<=VEMA!P$21,C30>=VEMA!Q$21),(D30-C30)*24,(D30-C30)*24-VEMA!R$21)),\"<< zlý čas\")","v":0},null,null,null,null,0,0,null,null,"4.1.22. Moderátor učiteľských fór",0.13689999999999999,"home office ","4.1.4. ČPS: Predloženie návrhu na inováciu resp. tvorbu profesijného štandardu.",null,{"$f":"IF(SUM(E30:E32)=0,\"\",SUM(E30:E32))","v":""},null,{"$f":"IF(OR(B30=\"So\",B30=\"Ne\"),\"dobre\",IF(C30>D30,\"zle\",IF(AND(C30<=VEMA!P$21,VEMA!Q$21<=D30),\"obed\",IF(OR(D30<=VEMA!P$21,VEMA!Q$21<=C30),\"dobre\",\"zle\"))))","v":"dobre"}]
[null,{"$f":"B30","v":"Pi"},null,null,{"$f":"IF(OR(U31=\"dobre\",U31=\"obed\"),IF(OR(B31=\"So\",B31=\"Ne\"),\"\",IF(OR(D31<=VEMA!P$21,C31>=VEMA!Q$21),(D31-C31)*24,(D31-C31)*24-VEMA!R$21)),\"<< zlý čas\")","v":0},null,null,null,null,0,0,null,null,"4.1.23. Analytik",0.13689999999999999,"home office (miesto trvalého bydliska)","4.1.4. ČPS: Priebežné spracovávanie profesijného štandardu.",null,null,null,{"$f":"IF(OR(B31=\"So\",B31=\"Ne\"),\"dobre\",IF(C31>D31,\"zle\",IF(AND(C31<=VEMA!P$21,VEMA!Q$21<=D31),\"obed\",IF(OR(D31<=VEMA!P$21,VEMA!Q$21<=C31),\"dobre\",\"zle\"))))","v":"dobre"}]
[null,{"$f":"B31","v":"Pi"},null,null,{"$f":"IF(OR(U32=\"dobre\",U32=\"obed\"),IF(OR(B32=\"So\",B32=\"Ne\"),\"\",IF(OR(D32<=VEMA!P$21,C32>=VEMA!Q$21),(D32-C32)*24,(D32-C32)*24-VEMA!R$21)),\"<< zlý čas\")","v":0},null,null,null,null,0,0,null,null,"4.1. 25. Tvorca PV a UZ",0.13689999999999999,null,"4.1.4. ČPS: Finálne spracovanie a odovzdanie profesijného štandardu.",null,null,null,{"$f":"IF(OR(B32=\"So\",B32=\"Ne\"),\"dobre\",IF(C32>D32,\"zle\",IF(AND(C32<=VEMA!P$21,VEMA!Q$21<=D32),\"obed\",IF(OR(D32<=VEMA!P$21,VEMA!Q$21<=C32),\"dobre\",\"zle\"))))","v":"dobre"}]
[{"$f":"IF(A30=\"\",\"\",IF(A30+1<=$D$146,A30+1,\"\"))","v":5},{"$f":"IF(A33=\"\",\"\",IF(B30=\"Po\",\"Ut\",IF(B30=\"Ut\",\"St\",IF(B30=\"St\",\"Št\",IF(B30=\"Št\",\"Pi\",IF(B30=\"Pi\",\"So\",IF(B30=\"So\",\"Ne\",IF(B30=\"Ne\",\"Po\",\"\"))))))))","v":"So"},null,null,{"$f":"IF(OR(U33=\"dobre\",U33=\"obed\"),IF(OR(B33=\"So\",B33=\"Ne\"),\"\",IF(OR(D33<=VEMA!P$22,C33>=VEMA!Q$22),(D33-C33)*24,(D33-C33)*24-VEMA!R$22)),\"<< zlý čas\")","v":""},null,null,null,null,"","",null,null,"4.1.28. Odborný garant PV - inovačné programy (podľa zákona č. 138/2019 Z.z.)",0.13689999999999999,null,"4.1.4. ČPS: Plnenie úloh na základe pokynov Hlavného odborného riešiteľa 1.1.",null,{"$f":"IF(SUM(E33:E35)=0,\"\",SUM(E33:E35))","v":""},null,{"$f":"IF(OR(B33=\"So\",B33=\"Ne\"),\"dobre\",IF(C33>D33,\"zle\",IF(AND(C33<=VEMA!P$22,VEMA!Q$22<=D33),\"obed\",IF(OR(D33<=VEMA!P$22,VEMA!Q$22<=C33),\"dobre\",\"zle\"))))","v":"dobre"}]
[null,{"$f":"B33","v":"So"},null,null,{"$f":"IF(OR(U34=\"dobre\",U34=\"obed\"),IF(OR(B34=\"So\",B34=\"Ne\"),\"\",IF(OR(D34<=VEMA!P$22,C34>=VEMA!Q$22),(D34-C34)*24,(D34-C34)*24-VEMA!R$22)),\"<< zlý čas\")","v":""},null,null,null,null,"","",null,null,"4.1.29. Vedúci vzdelávacej skupiny",0.13689999999999999,null,"4.1.4. ČPS: Účasť na zasadnutí/porade pracovnej skupiny.",null,null,null,{"$f":"IF(OR(B34=\"So\",B34=\"Ne\"),\"dobre\",IF(C34>D34,\"zle\",IF(AND(C34<=VEMA!P$22,VEMA!Q$22<=D34),\"obed\",IF(OR(D34<=VEMA!P$22,VEMA!Q$22<=C34),\"dobre\",\"zle\"))))","v":"dobre"}]
[null,{"$f":"B34","v":"So"},null,null,{"$f":"IF(OR(U35=\"dobre\",U35=\"obed\"),IF(OR(B35=\"So\",B35=\"Ne\"),\"\",IF(OR(D35<=VEMA!P$22,C35>=VEMA!Q$22),(D35-C35)*24,(D35-C35)*24-VEMA!R$22)),\"<< zlý čas\")","v":""},null,null,null,null,"","",null,null,"4.1.30. Lektor PV",0.13689999999999999,null,"4.1.4. ČPS: Zapracovanie pripomienok hodnotiteľa profesijného štandardu, úprava profesijného štandardu na základe hodnotiaceho posudku.",null,null,null,{"$f":"IF(OR(B35=\"So\",B35=\"Ne\"),\"dobre\",IF(C35>D35,\"zle\",IF(AND(C35<=VEMA!P$22,VEMA!Q$22<=D35),\"obed\",IF(OR(D35<=VEMA!P$22,VEMA!Q$22<=C35),\"dobre\",\"zle\"))))","v":"dobre"}]
[{"$f":"IF(A33=\"\",\"\",IF(A33+1<=$D$146,A33+1,\"\"))","v":6},{"$f":"IF(A36=\"\",\"\",IF(B33=\"Po\",\"Ut\",IF(B33=\"Ut\",\"St\",IF(B33=\"St\",\"Št\",IF(B33=\"Št\",\"Pi\",IF(B33=\"Pi\",\"So\",IF(B33=\"So\",\"Ne\",IF(B33=\"Ne\",\"Po\",\"\"))))))))","v":"Ne"},null,null,{"$f":"IF(OR(U36=\"dobre\",U36=\"obed\"),IF(OR(B36=\"So\",B36=\"Ne\"),\"\",IF(OR(D36<=VEMA!P$23,C36>=VEMA!Q$23),(D36-C36)*24,(D36-C36)*24-VEMA!R$23)),\"<< zlý čas\")","v":""},null,null,null,null,"","",null,null,"4.1.32. Poradcovia v školách ",0.13689999999999999,null,"4.1.8. ROR 1.2: Koordinovanie odborných aktivít realizovaných v národnom projekte.",null,{"$f":"IF(SUM(E36:E38)=0,\"\",SUM(E36:E38))","v":""},null,{"$f":"IF(OR(B36=\"So\",B36=\"Ne\"),\"dobre\",IF(C36>D36,\"zle\",IF(AND(C36<=VEMA!P$23,VEMA!Q$23<=D36),\"obed\",IF(OR(D36<=VEMA!P$23,VEMA!Q$23<=C36),\"dobre\",\"zle\"))))","v":"dobre"}]
[null,{"$f":"B36","v":"Ne"},null,null,{"$f":"IF(OR(U37=\"dobre\",U37=\"obed\"),IF(OR(B37=\"So\",B37=\"Ne\"),\"\",IF(OR(D37<=VEMA!P$23,C37>=VEMA!Q$23),(D37-C37)*24,(D37-C37)*24-VEMA!R$23)),\"<< zlý čas\")","v":""},null,null,null,null,"","",null,null,"4.1.33. Poradcovia v školách ",0.13689999999999999,null,"4.1.8. ROR 1.2: Kontrola plnenia čiastkových  úloh na jednotlivých činnostiach/aktivitách.",null,null,null,{"$f":"IF(OR(B37=\"So\",B37=\"Ne\"),\"dobre\",IF(C37>D37,\"zle\",IF(AND(C37<=VEMA!P$23,VEMA!Q$23<=D37),\"obed\",IF(OR(D37<=VEMA!P$23,VEMA!Q$23<=C37),\"dobre\",\"zle\"))))","v":"dobre"}]
[null,{"$f":"B37","v":"Ne"},null,null,{"$f":"IF(OR(U38=\"dobre\",U38=\"obed\"),IF(OR(B38=\"So\",B38=\"Ne\"),\"\",IF(OR(D38<=VEMA!P$23,C38>=VEMA!Q$23),(D38-C38)*24,(D38-C38)*24-VEMA!R$23)),\"<< zlý čas\")","v":""},null,null,null,null,"","",null,null,null,null,null,"4.1.8. ROR 1.2: Účasť na zasadnutí/porade s hlavným odborným riešiteľom podaktivity.",null,null,null,{"$f":"IF(OR(B38=\"So\",B38=\"Ne\"),\"dobre\",IF(C38>D38,\"zle\",IF(AND(C38<=VEMA!P$23,VEMA!Q$23<=D38),\"obed\",IF(OR(D38<=VEMA!P$23,VEMA!Q$23<=C38),\"dobre\",\"zle\"))))","v":"dobre"}]
[{"$f":"IF(A36=\"\",\"\",IF(A36+1<=$D$146,A36+1,\"\"))","v":7},{"$f":"IF(A39=\"\",\"\",IF(B36=\"Po\",\"Ut\",IF(B36=\"Ut\",\"St\",IF(B36=\"St\",\"Št\",IF(B36=\"Št\",\"Pi\",IF(B36=\"Pi\",\"So\",IF(B36=\"So\",\"Ne\",IF(B36=\"Ne\",\"Po\",\"\"))))))))","v":"Po"},null,null,{"$f":"IF(OR(U39=\"dobre\",U39=\"obed\"),IF(OR(B39=\"So\",B39=\"Ne\"),\"\",IF(OR(D39<=VEMA!P$24,C39>=VEMA!Q$24),(D39-C39)*24,(D39-C39)*24-VEMA!R$24)),\"<< zlý čas\")","v":0},null,null,null,null,0,0,null,null,null,null,null,"4.1.8. ROR 1.2: Účasť na porade k národnému projektu ",null,{"$f":"IF(SUM(E39:E41)=0,\"\",SUM(E39:E41))","v":""},null,{"$f":"IF(OR(B39=\"So\",B39=\"Ne\"),\"dobre\",IF(C39>D39,\"zle\",IF(AND(C39<=VEMA!P$24,VEMA!Q$24<=D39),\"obed\",IF(OR(D39<=VEMA!P$24,VEMA!Q$24<=C39),\"dobre\",\"zle\"))))","v":"dobre"}]
[null,{"$f":"B39","v":"Po"},null,null,{"$f":"IF(OR(U40=\"dobre\",U40=\"obed\"),IF(OR(B40=\"So\",B40=\"Ne\"),\"\",IF(OR(D40<=VEMA!P$24,C40>=VEMA!Q$24),(D40-C40)*24,(D40-C40)*24-VEMA!R$24)),\"<< zlý čas\")","v":0},null,null,null,null,0,0,null,null,null,null,null,"4.1.8. ROR 1.2: Koordinovanie odborných aktivít a priebežná kontrola plnenia úloh realizovaných v národnom projekte.",null,null,null,{"$f":"IF(OR(B40=\"So\",B40=\"Ne\"),\"dobre\",IF(C40>D40,\"zle\",IF(AND(C40<=VEMA!P$24,VEMA!Q$24<=D40),\"obed\",IF(OR(D40<=VEMA!P$24,VEMA!Q$24<=C40),\"dobre\",\"zle\"))))","v":"dobre"}]
[null,{"$f":"B40","v":"Po"},null,null,{"$f":"IF(OR(U41=\"dobre\",U41=\"obed\"),IF(OR(B41=\"So\",B41=\"Ne\"),\"\",IF(OR(D41<=VEMA!P$24,C41>=VEMA!Q$24),(D41-C41)*24,(D41-C41)*24-VEMA!R$24)),\"<< zlý čas\")","v":0},null,null,null,null,0,0,null,null,null,null,null,"4.1.9. OPP:  Výkon odbornej činnosti podľa pokynov hlavného odborného riešiteľa podaktivity1.2.",null,null,null,{"$f":"IF(OR(B41=\"So\",B41=\"Ne\"),\"dobre\",IF(C41>D41,\"zle\",IF(AND(C41<=VEMA!P$24,VEMA!Q$24<=D41),\"obed\",IF(OR(D41<=VEMA!P$24,VEMA!Q$24<=C41),\"dobre\",\"zle\"))))","v":"dobre"}]
[{"$f":"IF(A39=\"\",\"\",IF(A39+1<=$D$146,A39+1,\"\"))","v":8},{"$f":"IF(A42=\"\",\"\",IF(B39=\"Po\",\"Ut\",IF(B39=\"Ut\",\"St\",IF(B39=\"St\",\"Št\",IF(B39=\"Št\",\"Pi\",IF(B39=\"Pi\",\"So\",IF(B39=\"So\",\"Ne\",IF(B39=\"Ne\",\"Po\",\"\"))))))))","v":"Ut"},null,null,{"$f":"IF(OR(U42=\"dobre\",U42=\"obed\"),IF(OR(B42=\"So\",B42=\"Ne\"),\"\",IF(OR(D42<=VEMA!P$25,C42>=VEMA!Q$25),(D42-C42)*24,(D42-C42)*24-VEMA!R$25)),\"<< zlý čas\")","v":0},null,null,null,null,0,0,null,null,null,null,null,"4.1.9. OPP: Výkon odbornej činnosti podľa pokynov regionálneho odborného riešiteľa podaktivity 1.2.",null,{"$f":"IF(SUM(E42:E44)=0,\"\",SUM(E42:E44))","v":""},null,{"$f":"IF(OR(B42=\"So\",B42=\"Ne\"),\"dobre\",IF(C42>D42,\"zle\",IF(AND(C42<=VEMA!P$25,VEMA!Q$25<=D42),\"obed\",IF(OR(D42<=VEMA!P$25,VEMA!Q$25<=C42),\"dobre\",\"zle\"))))","v":"dobre"}]
[null,{"$f":"B42","v":"Ut"},null,null,{"$f":"IF(OR(U43=\"dobre\",U43=\"obed\"),IF(OR(B43=\"So\",B43=\"Ne\"),\"\",IF(OR(D43<=VEMA!P$25,C43>=VEMA!Q$25),(D43-C43)*24,(D43-C43)*24-VEMA!R$25)),\"<< zlý čas\")","v":0},null,null,null,null,0,0,null,null,null,null,null,"4.1.9. OPP: Účasť na zasadnutí/porade s hlavným odborným riešiteľom podaktivity.",null,null,null,{"$f":"IF(OR(B43=\"So\",B43=\"Ne\"),\"dobre\",IF(C43>D43,\"zle\",IF(AND(C43<=VEMA!P$25,VEMA!Q$25<=D43),\"obed\",IF(OR(D43<=VEMA!P$25,VEMA!Q$25<=C43),\"dobre\",\"zle\"))))","v":"dobre"}]
[null,{"$f":"B43","v":"Ut"},null,null,{"$f":"IF(OR(U44=\"dobre\",U44=\"obed\"),IF(OR(B44=\"So\",B44=\"Ne\"),\"\",IF(OR(D44<=VEMA!P$25,C44>=VEMA!Q$25),(D44-C44)*24,(D44-C44)*24-VEMA!R$25)),\"<< zlý čas\")","v":0},null,null,null,null,0,0,null,null,null,null,null,"4.1.9. OPP: Účasť na zasadnutí/porade v MPC k implementácii národného projektu.",null,null,null,{"$f":"IF(OR(B44=\"So\",B44=\"Ne\"),\"dobre\",IF(C44>D44,\"zle\",IF(AND(C44<=VEMA!P$25,VEMA!Q$25<=D44),\"obed\",IF(OR(D44<=VEMA!P$25,VEMA!Q$25<=C44),\"dobre\",\"zle\"))))","v":"dobre"}]
[{"$f":"IF(A42=\"\",\"\",IF(A42+1<=$D$146,A42+1,\"\"))","v":9},{"$f":"IF(A45=\"\",\"\",IF(B42=\"Po\",\"Ut\",IF(B42=\"Ut\",\"St\",IF(B42=\"St\",\"Št\",IF(B42=\"Št\",\"Pi\",IF(B42=\"Pi\",\"So\",IF(B42=\"So\",\"Ne\",IF(B42=\"Ne\",\"Po\",\"\"))))))))","v":"St"},null,null,{"$f":"IF(OR(U45=\"dobre\",U45=\"obed\"),IF(OR(B45=\"So\",B45=\"Ne\"),\"\",IF(OR(D45<=VEMA!P$26,C45>=VEMA!Q$26),(D45-C45)*24,(D45-C45)*24-VEMA!R$26)),\"<< zlý čas\")","v":0},null,null,null,null,0,0,null,null,null,null,null,"4.1.9. OPP: Výkon odbornej činnosti (podpora pri plánovaní a realizácií NOPS, vzdelávacích aktivít, konferencií, poradenstva, UF).",null,{"$f":"IF(SUM(E45:E47)=0,\"\",SUM(E45:E47))","v":""},null,{"$f":"IF(OR(B45=\"So\",B45=\"Ne\"),\"dobre\",IF(C45>D45,\"zle\",IF(AND(C45<=VEMA!P$26,VEMA!Q$26<=D45),\"obed\",IF(OR(D45<=VEMA!P$26,VEMA!Q$26<=C45),\"dobre\",\"zle\"))))","v":"dobre"}]
[null,{"$f":"B45","v":"St"},null,null,{"$f":"IF(OR(U46=\"dobre\",U46=\"obed\"),IF(OR(B46=\"So\",B46=\"Ne\"),\"\",IF(OR(D46<=VEMA!P$26,C46>=VEMA!Q$26),(D46-C46)*24,(D46-C46)*24-VEMA!R$26)),\"<< zlý čas\")","v":0},null,null,null,null,0,0,null,null,null,null,null,"4.1.12. OK NOPS: Odborné konzultácie pri prihlasovaní a v procese  spracovania NOPS.",null,null,null,{"$f":"IF(OR(B46=\"So\",B46=\"Ne\"),\"dobre\",IF(C46>D46,\"zle\",IF(AND(C46<=VEMA!P$26,VEMA!Q$26<=D46),\"obed\",IF(OR(D46<=VEMA!P$26,VEMA!Q$26<=C46),\"dobre\",\"zle\"))))","v":"dobre"}]
[null,{"$f":"B46","v":"St"},null,null,{"$f":"IF(OR(U47=\"dobre\",U47=\"obed\"),IF(OR(B47=\"So\",B47=\"Ne\"),\"\",IF(OR(D47<=VEMA!P$26,C47>=VEMA!Q$26),(D47-C47)*24,(D47-C47)*24-VEMA!R$26)),\"<< zlý čas\")","v":0},null,null,null,null,0,0,null,null,null,null,null,"4.1.12. OK NOPS: Priebežné pripomienkovanie materiálu  pri procese  spracovania NOPS.",null,null,null,{"$f":"IF(OR(B47=\"So\",B47=\"Ne\"),\"dobre\",IF(C47>D47,\"zle\",IF(AND(C47<=VEMA!P$26,VEMA!Q$26<=D47),\"obed\",IF(OR(D47<=VEMA!P$26,VEMA!Q$26<=C47),\"dobre\",\"zle\"))))","v":"dobre"}]
[{"$f":"IF(A45=\"\",\"\",IF(A45+1<=$D$146,A45+1,\"\"))","v":10},{"$f":"IF(A48=\"\",\"\",IF(B45=\"Po\",\"Ut\",IF(B45=\"Ut\",\"St\",IF(B45=\"St\",\"Št\",IF(B45=\"Št\",\"Pi\",IF(B45=\"Pi\",\"So\",IF(B45=\"So\",\"Ne\",IF(B45=\"Ne\",\"Po\",\"\"))))))))","v":"Št"},null,null,{"$f":"IF(OR(U48=\"dobre\",U48=\"obed\"),IF(OR(B48=\"So\",B48=\"Ne\"),\"\",IF(OR(D48<=VEMA!P$27,C48>=VEMA!Q$27),(D48-C48)*24,(D48-C48)*24-VEMA!R$27)),\"<< zlý čas\")","v":0},null,null,null,null,0,0,null,null,null,null,null,"4.1.12. OK NOPS: Poskytovanie súčinnosti garantovi NOPS pri tvorbe smernice, vyhlasovaní výzvy na spracovanie NOPS, vyhodnotení doručených prihlášok a podkladov k uzatváraniu zmluvných vzťahov s vybranými spracovateľmi NOPS.",null,{"$f":"IF(SUM(E48:E50)=0,\"\",SUM(E48:E50))","v":""},null,{"$f":"IF(OR(B48=\"So\",B48=\"Ne\"),\"dobre\",IF(C48>D48,\"zle\",IF(AND(C48<=VEMA!P$27,VEMA!Q$27<=D48),\"obed\",IF(OR(D48<=VEMA!P$27,VEMA!Q$27<=C48),\"dobre\",\"zle\"))))","v":"dobre"}]
[null,{"$f":"B48","v":"Št"},null,null,{"$f":"IF(OR(U49=\"dobre\",U49=\"obed\"),IF(OR(B49=\"So\",B49=\"Ne\"),\"\",IF(OR(D49<=VEMA!P$27,C49>=VEMA!Q$27),(D49-C49)*24,(D49-C49)*24-VEMA!R$27)),\"<< zlý čas\")","v":0},null,null,null,null,0,0,null,null,null,null,null,"4.1.12. OK NOPS: Preberanie odovzdaných NOPS, predkladanie návrhu interných hodnotiteľov.",null,null,null,{"$f":"IF(OR(B49=\"So\",B49=\"Ne\"),\"dobre\",IF(C49>D49,\"zle\",IF(AND(C49<=VEMA!P$27,VEMA!Q$27<=D49),\"obed\",IF(OR(D49<=VEMA!P$27,VEMA!Q$27<=C49),\"dobre\",\"zle\"))))","v":"dobre"}]
[null,{"$f":"B49","v":"Št"},null,null,{"$f":"IF(OR(U50=\"dobre\",U50=\"obed\"),IF(OR(B50=\"So\",B50=\"Ne\"),\"\",IF(OR(D50<=VEMA!P$27,C50>=VEMA!Q$27),(D50-C50)*24,(D50-C50)*24-VEMA!R$27)),\"<< zlý čas\")","v":0},null,null,null,null,0,0,null,null,null,null,null,"4.1.12. OK NOPS: Odborné konzultácie/podpora  pri procese  spracovania  a finalizácii NOPS.",null,null,null,{"$f":"IF(OR(B50=\"So\",B50=\"Ne\"),\"dobre\",IF(C50>D50,\"zle\",IF(AND(C50<=VEMA!P$27,VEMA!Q$27<=D50),\"obed\",IF(OR(D50<=VEMA!P$27,VEMA!Q$27<=C50),\"dobre\",\"zle\"))))","v":"dobre"}]
[{"$f":"IF(A48=\"\",\"\",IF(A48+1<=$D$146,A48+1,\"\"))","v":11},{"$f":"IF(A51=\"\",\"\",IF(B48=\"Po\",\"Ut\",IF(B48=\"Ut\",\"St\",IF(B48=\"St\",\"Št\",IF(B48=\"Št\",\"Pi\",IF(B48=\"Pi\",\"So\",IF(B48=\"So\",\"Ne\",IF(B48=\"Ne\",\"Po\",\"\"))))))))","v":"Pi"},null,null,{"$f":"IF(OR(U51=\"dobre\",U51=\"obed\"),IF(OR(B51=\"So\",B51=\"Ne\"),\"\",IF(OR(D51<=VEMA!P$28,C51>=VEMA!Q$28),(D51-C51)*24,(D51-C51)*24-VEMA!R$28)),\"<< zlý čas\")","v":0},null,null,null,null,0,0,null,null,null,null,null,"4.1.15. H NOPS: Spracovanie hodnotenia dokumentu NOPS podľa schválenej prihlášky, v danej štruktúre a určenej šablóne dokumentu.",null,{"$f":"IF(SUM(E51:E53)=0,\"\",SUM(E51:E53))","v":""},null,{"$f":"IF(OR(B51=\"So\",B51=\"Ne\"),\"dobre\",IF(C51>D51,\"zle\",IF(AND(C51<=VEMA!P$28,VEMA!Q$28<=D51),\"obed\",IF(OR(D51<=VEMA!P$28,VEMA!Q$28<=C51),\"dobre\",\"zle\"))))","v":"dobre"}]
[null,{"$f":"B51","v":"Pi"},null,null,{"$f":"IF(OR(U52=\"dobre\",U52=\"obed\"),IF(OR(B52=\"So\",B52=\"Ne\"),\"\",IF(OR(D52<=VEMA!P$28,C52>=VEMA!Q$28),(D52-C52)*24,(D52-C52)*24-VEMA!R$28)),\"<< zlý čas\")","v":0},null,null,null,null,0,0,null,null,null,null,null,"4.1.15. H NOPS: Finalizácia hodnotenia dokumentu NOPS podľa schválenej prihlášky, v danej štruktúre a určenej šablóne dokumentu.",null,null,null,{"$f":"IF(OR(B52=\"So\",B52=\"Ne\"),\"dobre\",IF(C52>D52,\"zle\",IF(AND(C52<=VEMA!P$28,VEMA!Q$28<=D52),\"obed\",IF(OR(D52<=VEMA!P$28,VEMA!Q$28<=C52),\"dobre\",\"zle\"))))","v":"dobre"}]
[null,{"$f":"B52","v":"Pi"},null,null,{"$f":"IF(OR(U53=\"dobre\",U53=\"obed\"),IF(OR(B53=\"So\",B53=\"Ne\"),\"\",IF(OR(D53<=VEMA!P$28,C53>=VEMA!Q$28),(D53-C53)*24,(D53-C53)*24-VEMA!R$28)),\"<< zlý čas\")","v":0},null,null,null,null,0,0,null,null,null,null,null,"4.1.17. MK: Odborné zabezpečenie prípravy, programových  zložiek a priebehu konferencie. ",null,null,null,{"$f":"IF(OR(B53=\"So\",B53=\"Ne\"),\"dobre\",IF(C53>D53,\"zle\",IF(AND(C53<=VEMA!P$28,VEMA!Q$28<=D53),\"obed\",IF(OR(D53<=VEMA!P$28,VEMA!Q$28<=C53),\"dobre\",\"zle\"))))","v":"dobre"}]
[{"$f":"IF(A51=\"\",\"\",IF(A51+1<=$D$146,A51+1,\"\"))","v":12},{"$f":"IF(A54=\"\",\"\",IF(B51=\"Po\",\"Ut\",IF(B51=\"Ut\",\"St\",IF(B51=\"St\",\"Št\",IF(B51=\"Št\",\"Pi\",IF(B51=\"Pi\",\"So\",IF(B51=\"So\",\"Ne\",IF(B51=\"Ne\",\"Po\",\"\"))))))))","v":"So"},null,null,{"$f":"IF(OR(U54=\"dobre\",U54=\"obed\"),IF(OR(B54=\"So\",B54=\"Ne\"),\"\",IF(OR(D54<=VEMA!P$29,C54>=VEMA!Q$29),(D54-C54)*24,(D54-C54)*24-VEMA!R$29)),\"<< zlý čas\")","v":""},null,null,null,null,"","",null,null,null,null,null,"4.1.17. MK: Odborné zabezpečenie priebehu konferencie (moderovanie/vedenie). ",null,{"$f":"IF(SUM(E54:E56)=0,\"\",SUM(E54:E56))","v":""},null,{"$f":"IF(OR(B54=\"So\",B54=\"Ne\"),\"dobre\",IF(C54>D54,\"zle\",IF(AND(C54<=VEMA!P$29,VEMA!Q$29<=D54),\"obed\",IF(OR(D54<=VEMA!P$29,VEMA!Q$29<=C54),\"dobre\",\"zle\"))))","v":"dobre"}]
[null,{"$f":"B54","v":"So"},null,null,{"$f":"IF(OR(U55=\"dobre\",U55=\"obed\"),IF(OR(B55=\"So\",B55=\"Ne\"),\"\",IF(OR(D55<=VEMA!P$29,C55>=VEMA!Q$29),(D55-C55)*24,(D55-C55)*24-VEMA!R$29)),\"<< zlý čas\")","v":""},null,null,null,null,"","",null,null,null,null,null,"4.1.17. MK: Odborné vedenie sekcií (diskusných skupín) a workshopov.",null,null,null,{"$f":"IF(OR(B55=\"So\",B55=\"Ne\"),\"dobre\",IF(C55>D55,\"zle\",IF(AND(C55<=VEMA!P$29,VEMA!Q$29<=D55),\"obed\",IF(OR(D55<=VEMA!P$29,VEMA!Q$29<=C55),\"dobre\",\"zle\"))))","v":"dobre"}]
[null,{"$f":"B55","v":"So"},null,null,{"$f":"IF(OR(U56=\"dobre\",U56=\"obed\"),IF(OR(B56=\"So\",B56=\"Ne\"),\"\",IF(OR(D56<=VEMA!P$29,C56>=VEMA!Q$29),(D56-C56)*24,(D56-C56)*24-VEMA!R$29)),\"<< zlý čas\")","v":""},null,null,null,null,"","",null,null,null,null,null,"4.1.17. MK: Odborné zabezpečenie prípravy a celého priebehu konferencie.",null,null,null,{"$f":"IF(OR(B56=\"So\",B56=\"Ne\"),\"dobre\",IF(C56>D56,\"zle\",IF(AND(C56<=VEMA!P$29,VEMA!Q$29<=D56),\"obed\",IF(OR(D56<=VEMA!P$29,VEMA!Q$29<=C56),\"dobre\",\"zle\"))))","v":"dobre"}]
[{"$f":"IF(A54=\"\",\"\",IF(A54+1<=$D$146,A54+1,\"\"))","v":13},{"$f":"IF(A57=\"\",\"\",IF(B54=\"Po\",\"Ut\",IF(B54=\"Ut\",\"St\",IF(B54=\"St\",\"Št\",IF(B54=\"Št\",\"Pi\",IF(B54=\"Pi\",\"So\",IF(B54=\"So\",\"Ne\",IF(B54=\"Ne\",\"Po\",\"\"))))))))","v":"Ne"},null,null,{"$f":"IF(OR(U57=\"dobre\",U57=\"obed\"),IF(OR(B57=\"So\",B57=\"Ne\"),\"\",IF(OR(D57<=VEMA!P$30,C57>=VEMA!Q$30),(D57-C57)*24,(D57-C57)*24-VEMA!R$30)),\"<< zlý čas\")","v":""},null,null,null,null,"","",null,null,null,null,null,"4.1.18. OPK: Odborné zabezpečenie prípravy konferencie.",null,{"$f":"IF(SUM(E57:E59)=0,\"\",SUM(E57:E59))","v":""},null,{"$f":"IF(OR(B57=\"So\",B57=\"Ne\"),\"dobre\",IF(C57>D57,\"zle\",IF(AND(C57<=VEMA!P$30,VEMA!Q$30<=D57),\"obed\",IF(OR(D57<=VEMA!P$30,VEMA!Q$30<=C57),\"dobre\",\"zle\"))))","v":"dobre"}]
[null,{"$f":"B57","v":"Ne"},null,null,{"$f":"IF(OR(U58=\"dobre\",U58=\"obed\"),IF(OR(B58=\"So\",B58=\"Ne\"),\"\",IF(OR(D58<=VEMA!P$30,C58>=VEMA!Q$30),(D58-C58)*24,(D58-C58)*24-VEMA!R$30)),\"<< zlý čas\")","v":""},null,null,null,null,"","",null,null,null,null,null,"4.1.18. OPK: Organizačné zabezpečenie prípravy konferencie. ",null,null,null,{"$f":"IF(OR(B58=\"So\",B58=\"Ne\"),\"dobre\",IF(C58>D58,\"zle\",IF(AND(C58<=VEMA!P$30,VEMA!Q$30<=D58),\"obed\",IF(OR(D58<=VEMA!P$30,VEMA!Q$30<=C58),\"dobre\",\"zle\"))))","v":"dobre"}]
[null,{"$f":"B58","v":"Ne"},null,null,{"$f":"IF(OR(U59=\"dobre\",U59=\"obed\"),IF(OR(B59=\"So\",B59=\"Ne\"),\"\",IF(OR(D59<=VEMA!P$30,C59>=VEMA!Q$30),(D59-C59)*24,(D59-C59)*24-VEMA!R$30)),\"<< zlý čas\")","v":""},null,null,null,null,"","",null,null,null,null,null,"4.1.18. OPK: Odborné/organizačné zabezpečenie  priebehu konferencie.",null,null,null,{"$f":"IF(OR(B59=\"So\",B59=\"Ne\"),\"dobre\",IF(C59>D59,\"zle\",IF(AND(C59<=VEMA!P$30,VEMA!Q$30<=D59),\"obed\",IF(OR(D59<=VEMA!P$30,VEMA!Q$30<=C59),\"dobre\",\"zle\"))))","v":"dobre"}]
[{"$f":"IF(A57=\"\",\"\",IF(A57+1<=$D$146,A57+1,\"\"))","v":14},{"$f":"IF(A60=\"\",\"\",IF(B57=\"Po\",\"Ut\",IF(B57=\"Ut\",\"St\",IF(B57=\"St\",\"Št\",IF(B57=\"Št\",\"Pi\",IF(B57=\"Pi\",\"So\",IF(B57=\"So\",\"Ne\",IF(B57=\"Ne\",\"Po\",\"\"))))))))","v":"Po"},null,null,{"$f":"IF(OR(U60=\"dobre\",U60=\"obed\"),IF(OR(B60=\"So\",B60=\"Ne\"),\"\",IF(OR(D60<=VEMA!P$31,C60>=VEMA!Q$31),(D60-C60)*24,(D60-C60)*24-VEMA!R$31)),\"<< zlý čas\")","v":0},null,null,null,null,0,0,null,null,null,null,null,"4.1.18. OPK:  Spracovanie výstupov z realizovanej konferencie.",null,{"$f":"IF(SUM(E60:E62)=0,\"\",SUM(E60:E62))","v":""},null,{"$f":"IF(OR(B60=\"So\",B60=\"Ne\"),\"dobre\",IF(C60>D60,\"zle\",IF(AND(C60<=VEMA!P$31,VEMA!Q$31<=D60),\"obed\",IF(OR(D60<=VEMA!P$31,VEMA!Q$31<=C60),\"dobre\",\"zle\"))))","v":"dobre"}]
[null,{"$f":"B60","v":"Po"},null,null,{"$f":"IF(OR(U61=\"dobre\",U61=\"obed\"),IF(OR(B61=\"So\",B61=\"Ne\"),\"\",IF(OR(D61<=VEMA!P$31,C61>=VEMA!Q$31),(D61-C61)*24,(D61-C61)*24-VEMA!R$31)),\"<< zlý čas\")","v":0},null,null,null,null,0,0,null,null,null,null,null,"4.1.18. OPK:  Spracovanie diskusií z jednotlivých sekcií a  z jednotlivých workshopov.",null,null,null,{"$f":"IF(OR(B61=\"So\",B61=\"Ne\"),\"dobre\",IF(C61>D61,\"zle\",IF(AND(C61<=VEMA!P$31,VEMA!Q$31<=D61),\"obed\",IF(OR(D61<=VEMA!P$31,VEMA!Q$31<=C61),\"dobre\",\"zle\"))))","v":"dobre"}]
[null,{"$f":"B61","v":"Po"},null,null,{"$f":"IF(OR(U62=\"dobre\",U62=\"obed\"),IF(OR(B62=\"So\",B62=\"Ne\"),\"\",IF(OR(D62<=VEMA!P$31,C62>=VEMA!Q$31),(D62-C62)*24,(D62-C62)*24-VEMA!R$31)),\"<< zlý čas\")","v":0},null,null,null,null,0,0,null,null,null,null,null,"4.1.20. LUF: Výkon činnosti lektora v rámci učiteľského fóra podľa opisu a schváleného plánu práce.  ",null,null,null,{"$f":"IF(OR(B62=\"So\",B62=\"Ne\"),\"dobre\",IF(C62>D62,\"zle\",IF(AND(C62<=VEMA!P$31,VEMA!Q$31<=D62),\"obed\",IF(OR(D62<=VEMA!P$31,VEMA!Q$31<=C62),\"dobre\",\"zle\"))))","v":"dobre"}]
[{"$f":"IF(A60=\"\",\"\",IF(A60+1<=$D$146,A60+1,\"\"))","v":15},{"$f":"IF(A63=\"\",\"\",IF(B60=\"Po\",\"Ut\",IF(B60=\"Ut\",\"St\",IF(B60=\"St\",\"Št\",IF(B60=\"Št\",\"Pi\",IF(B60=\"Pi\",\"So\",IF(B60=\"So\",\"Ne\",IF(B60=\"Ne\",\"Po\",\"\"))))))))","v":"Ut"},null,null,{"$f":"IF(OR(U63=\"dobre\",U63=\"obed\"),IF(OR(B63=\"So\",B63=\"Ne\"),\"\",IF(OR(D63<=VEMA!P$32,C63>=VEMA!Q$32),(D63-C63)*24,(D63-C63)*24-VEMA!R$32)),\"<< zlý čas\")","v":0},null,null,null,null,0,0,null,null,null,null,null,"4.1.20. LUF: Príprava programu a scenára stretnutia učiteľského fóra.",null,{"$f":"IF(SUM(E63:E65)=0,\"\",SUM(E63:E65))","v":""},null,{"$f":"IF(OR(B63=\"So\",B63=\"Ne\"),\"dobre\",IF(C63>D63,\"zle\",IF(AND(C63<=VEMA!P$32,VEMA!Q$32<=D63),\"obed\",IF(OR(D63<=VEMA!P$32,VEMA!Q$32<=C63),\"dobre\",\"zle\"))))","v":"dobre"}]
[null,{"$f":"B63","v":"Ut"},null,null,{"$f":"IF(OR(U64=\"dobre\",U64=\"obed\"),IF(OR(B64=\"So\",B64=\"Ne\"),\"\",IF(OR(D64<=VEMA!P$32,C64>=VEMA!Q$32),(D64-C64)*24,(D64-C64)*24-VEMA!R$32)),\"<< zlý čas\")","v":0},null,null,null,null,0,0,null,null,null,null,null,"4.1.20 LUF: Odborné vedenie diskusie účastníkov fóra v rámci diskusných skupín, diskusných fór.",null,null,null,{"$f":"IF(OR(B64=\"So\",B64=\"Ne\"),\"dobre\",IF(C64>D64,\"zle\",IF(AND(C64<=VEMA!P$32,VEMA!Q$32<=D64),\"obed\",IF(OR(D64<=VEMA!P$32,VEMA!Q$32<=C64),\"dobre\",\"zle\"))))","v":"dobre"}]
[null,{"$f":"B64","v":"Ut"},null,null,{"$f":"IF(OR(U65=\"dobre\",U65=\"obed\"),IF(OR(B65=\"So\",B65=\"Ne\"),\"\",IF(OR(D65<=VEMA!P$32,C65>=VEMA!Q$32),(D65-C65)*24,(D65-C65)*24-VEMA!R$32)),\"<< zlý čas\")","v":0},null,null,null,null,0,0,null,null,null,null,null,"4.1.20. LUF: Príprava programu a dokumentácie, realizácia učiteľského fóra.",null,null,null,{"$f":"IF(OR(B65=\"So\",B65=\"Ne\"),\"dobre\",IF(C65>D65,\"zle\",IF(AND(C65<=VEMA!P$32,VEMA!Q$32<=D65),\"obed\",IF(OR(D65<=VEMA!P$32,VEMA!Q$32<=C65),\"dobre\",\"zle\"))))","v":"dobre"}]
[{"$f":"IF(A63=\"\",\"\",IF(A63+1<=$D$146,A63+1,\"\"))","v":16},{"$f":"IF(A66=\"\",\"\",IF(B63=\"Po\",\"Ut\",IF(B63=\"Ut\",\"St\",IF(B63=\"St\",\"Št\",IF(B63=\"Št\",\"Pi\",IF(B63=\"Pi\",\"So\",IF(B63=\"So\",\"Ne\",IF(B63=\"Ne\",\"Po\",\"\"))))))))","v":"St"},null,null,{"$f":"IF(OR(U66=\"dobre\",U66=\"obed\"),IF(OR(B66=\"So\",B66=\"Ne\"),\"\",IF(OR(D66<=VEMA!P$33,C66>=VEMA!Q$33),(D66-C66)*24,(D66-C66)*24-VEMA!R$33)),\"<< zlý čas\")","v":0},null,null,null,null,0,0,null,null,null,null,null,"4.1.22. MUF: Založenie skupiny účastníkov fóra v CIS MPC, Moodle a používaných aplikáciách.",null,{"$f":"IF(SUM(E66:E68)=0,\"\",SUM(E66:E68))","v":""},null,{"$f":"IF(OR(B66=\"So\",B66=\"Ne\"),\"dobre\",IF(C66>D66,\"zle\",IF(AND(C66<=VEMA!P$33,VEMA!Q$33<=D66),\"obed\",IF(OR(D66<=VEMA!P$33,VEMA!Q$33<=C66),\"dobre\",\"zle\"))))","v":"dobre"}]
[null,{"$f":"B66","v":"St"},null,null,{"$f":"IF(OR(U67=\"dobre\",U67=\"obed\"),IF(OR(B67=\"So\",B67=\"Ne\"),\"\",IF(OR(D67<=VEMA!P$33,C67>=VEMA!Q$33),(D67-C67)*24,(D67-C67)*24-VEMA!R$33)),\"<< zlý čas\")","v":0},null,null,null,null,0,0,null,null,null,null,null,"4.1.22. MUF: Správa skupiny účastníkov fóra v CIS MPC, Moodle a používaných aplikáciách.",null,null,null,{"$f":"IF(OR(B67=\"So\",B67=\"Ne\"),\"dobre\",IF(C67>D67,\"zle\",IF(AND(C67<=VEMA!P$33,VEMA!Q$33<=D67),\"obed\",IF(OR(D67<=VEMA!P$33,VEMA!Q$33<=C67),\"dobre\",\"zle\"))))","v":"dobre"}]
[null,{"$f":"B67","v":"St"},null,null,{"$f":"IF(OR(U68=\"dobre\",U68=\"obed\"),IF(OR(B68=\"So\",B68=\"Ne\"),\"\",IF(OR(D68<=VEMA!P$33,C68>=VEMA!Q$33),(D68-C68)*24,(D68-C68)*24-VEMA!R$33)),\"<< zlý čas\")","v":0},null,null,null,null,0,0,null,null,null,null,null,"4.1.22. MUF: Snímanie aktuálnych potrieb PZ a OZ pred založením a v priebehu činnosti fóra.",null,null,null,{"$f":"IF(OR(B68=\"So\",B68=\"Ne\"),\"dobre\",IF(C68>D68,\"zle\",IF(AND(C68<=VEMA!P$33,VEMA!Q$33<=D68),\"obed\",IF(OR(D68<=VEMA!P$33,VEMA!Q$33<=C68),\"dobre\",\"zle\"))))","v":"dobre"}]
[{"$f":"IF(A66=\"\",\"\",IF(A66+1<=$D$146,A66+1,\"\"))","v":17},{"$f":"IF(A69=\"\",\"\",IF(B66=\"Po\",\"Ut\",IF(B66=\"Ut\",\"St\",IF(B66=\"St\",\"Št\",IF(B66=\"Št\",\"Pi\",IF(B66=\"Pi\",\"So\",IF(B66=\"So\",\"Ne\",IF(B66=\"Ne\",\"Po\",\"\"))))))))","v":"Št"},null,null,{"$f":"IF(OR(U69=\"dobre\",U69=\"obed\"),IF(OR(B69=\"So\",B69=\"Ne\"),\"\",IF(OR(D69<=VEMA!P$34,C69>=VEMA!Q$34),(D69-C69)*24,(D69-C69)*24-VEMA!R$34)),\"<< zlý čas\")","v":0},null,null,null,null,0,0,null,null,null,null,null,"4.1.22. MUF: Iniciovanie, príprava a realizácia prieskumov realizovaných v rámci fóra učiteľov",null,{"$f":"IF(SUM(E69:E71)=0,\"\",SUM(E69:E71))","v":""},null,{"$f":"IF(OR(B69=\"So\",B69=\"Ne\"),\"dobre\",IF(C69>D69,\"zle\",IF(AND(C69<=VEMA!P$34,VEMA!Q$34<=D69),\"obed\",IF(OR(D69<=VEMA!P$34,VEMA!Q$34<=C69),\"dobre\",\"zle\"))))","v":"dobre"}]
[null,{"$f":"B69","v":"Št"},null,null,{"$f":"IF(OR(U70=\"dobre\",U70=\"obed\"),IF(OR(B70=\"So\",B70=\"Ne\"),\"\",IF(OR(D70<=VEMA!P$34,C70>=VEMA!Q$34),(D70-C70)*24,(D70-C70)*24-VEMA!R$34)),\"<< zlý čas\")","v":0},null,null,null,null,0,0,null,null,null,null,null,"4.1.22. MUF: Riadenie pracovnej skupiny lektorov v rámci fóra učiteľov.",null,null,null,{"$f":"IF(OR(B70=\"So\",B70=\"Ne\"),\"dobre\",IF(C70>D70,\"zle\",IF(AND(C70<=VEMA!P$34,VEMA!Q$34<=D70),\"obed\",IF(OR(D70<=VEMA!P$34,VEMA!Q$34<=C70),\"dobre\",\"zle\"))))","v":"dobre"}]
[null,{"$f":"B70","v":"Št"},null,null,{"$f":"IF(OR(U71=\"dobre\",U71=\"obed\"),IF(OR(B71=\"So\",B71=\"Ne\"),\"\",IF(OR(D71<=VEMA!P$34,C71>=VEMA!Q$34),(D71-C71)*24,(D71-C71)*24-VEMA!R$34)),\"<< zlý čas\")","v":0},null,null,null,null,0,0,null,null,null,null,null,"4.1.22. MUF: Podpora lektorov pri príprave materiálov učiteľského fóra.",null,null,null,{"$f":"IF(OR(B71=\"So\",B71=\"Ne\"),\"dobre\",IF(C71>D71,\"zle\",IF(AND(C71<=VEMA!P$34,VEMA!Q$34<=D71),\"obed\",IF(OR(D71<=VEMA!P$34,VEMA!Q$34<=C71),\"dobre\",\"zle\"))))","v":"dobre"}]
[{"$f":"IF(A69=\"\",\"\",IF(A69+1<=$D$146,A69+1,\"\"))","v":18},{"$f":"IF(A72=\"\",\"\",IF(B69=\"Po\",\"Ut\",IF(B69=\"Ut\",\"St\",IF(B69=\"St\",\"Št\",IF(B69=\"Št\",\"Pi\",IF(B69=\"Pi\",\"So\",IF(B69=\"So\",\"Ne\",IF(B69=\"Ne\",\"Po\",\"\"))))))))","v":"Pi"},null,null,{"$f":"IF(OR(U72=\"dobre\",U72=\"obed\"),IF(OR(B72=\"So\",B72=\"Ne\"),\"\",IF(OR(D72<=VEMA!P$35,C72>=VEMA!Q$35),(D72-C72)*24,(D72-C72)*24-VEMA!R$35)),\"<< zlý čas\")","v":0},null,null,null,null,0,0,null,null,null,null,null,"4.1.22. MUF: Spracovanie výstupov zo stretnutia učiteľského fóra, spracovanie prehľadov a sumárnych výstupov z činnosti fóra učiteľov.",null,{"$f":"IF(SUM(E72:E74)=0,\"\",SUM(E72:E74))","v":""},null,{"$f":"IF(OR(B72=\"So\",B72=\"Ne\"),\"dobre\",IF(C72>D72,\"zle\",IF(AND(C72<=VEMA!P$35,VEMA!Q$35<=D72),\"obed\",IF(OR(D72<=VEMA!P$35,VEMA!Q$35<=C72),\"dobre\",\"zle\"))))","v":"dobre"}]
[null,{"$f":"B72","v":"Pi"},null,null,{"$f":"IF(OR(U73=\"dobre\",U73=\"obed\"),IF(OR(B73=\"So\",B73=\"Ne\"),\"\",IF(OR(D73<=VEMA!P$35,C73>=VEMA!Q$35),(D73-C73)*24,(D73-C73)*24-VEMA!R$35)),\"<< zlý čas\")","v":0},null,null,null,null,0,0,null,null,null,null,null,"4.1.22. MUF: Moderovanie priebehu v rámci prezenčných a on-line stretnutí.",null,null,null,{"$f":"IF(OR(B73=\"So\",B73=\"Ne\"),\"dobre\",IF(C73>D73,\"zle\",IF(AND(C73<=VEMA!P$35,VEMA!Q$35<=D73),\"obed\",IF(OR(D73<=VEMA!P$35,VEMA!Q$35<=C73),\"dobre\",\"zle\"))))","v":"dobre"}]
[null,{"$f":"B73","v":"Pi"},null,null,{"$f":"IF(OR(U74=\"dobre\",U74=\"obed\"),IF(OR(B74=\"So\",B74=\"Ne\"),\"\",IF(OR(D74<=VEMA!P$35,C74>=VEMA!Q$35),(D74-C74)*24,(D74-C74)*24-VEMA!R$35)),\"<< zlý čas\")","v":0},null,null,null,null,0,0,null,null,null,null,null,"4.1.22. MUF: Moderovanie priebehu v rámci  príspevkov v diskusných (on-line) fórach v rámci používaných aplikácií.",null,null,null,{"$f":"IF(OR(B74=\"So\",B74=\"Ne\"),\"dobre\",IF(C74>D74,\"zle\",IF(AND(C74<=VEMA!P$35,VEMA!Q$35<=D74),\"obed\",IF(OR(D74<=VEMA!P$35,VEMA!Q$35<=C74),\"dobre\",\"zle\"))))","v":"dobre"}]
[{"$f":"IF(A72=\"\",\"\",IF(A72+1<=$D$146,A72+1,\"\"))","v":19},{"$f":"IF(A75=\"\",\"\",IF(B72=\"Po\",\"Ut\",IF(B72=\"Ut\",\"St\",IF(B72=\"St\",\"Št\",IF(B72=\"Št\",\"Pi\",IF(B72=\"Pi\",\"So\",IF(B72=\"So\",\"Ne\",IF(B72=\"Ne\",\"Po\",\"\"))))))))","v":"So"},null,null,{"$f":"IF(OR(U75=\"dobre\",U75=\"obed\"),IF(OR(B75=\"So\",B75=\"Ne\"),\"\",IF(OR(D75<=VEMA!P$36,C75>=VEMA!Q$36),(D75-C75)*24,(D75-C75)*24-VEMA!R$36)),\"<< zlý čas\")","v":""},null,null,null,null,"","",null,null,null,null,null,"4.1.22. MUF: Moderovanie v organizovanom virtuálnom mieste asynchrónnych online diskusií.",null,{"$f":"IF(SUM(E75:E77)=0,\"\",SUM(E75:E77))","v":""},null,{"$f":"IF(OR(B75=\"So\",B75=\"Ne\"),\"dobre\",IF(C75>D75,\"zle\",IF(AND(C75<=VEMA!P$36,VEMA!Q$36<=D75),\"obed\",IF(OR(D75<=VEMA!P$36,VEMA!Q$36<=C75),\"dobre\",\"zle\"))))","v":"dobre"}]
[null,{"$f":"B75","v":"So"},null,null,{"$f":"IF(OR(U76=\"dobre\",U76=\"obed\"),IF(OR(B76=\"So\",B76=\"Ne\"),\"\",IF(OR(D76<=VEMA!P$36,C76>=VEMA!Q$36),(D76-C76)*24,(D76-C76)*24-VEMA!R$36)),\"<< zlý čas\")","v":""},null,null,null,null,"","",null,null,null,null,null,"4.1.22. MUF: Konzultovanie tém, ktoré navrhnú účastníci fóra (vrátanej offline formy).",null,null,null,{"$f":"IF(OR(B76=\"So\",B76=\"Ne\"),\"dobre\",IF(C76>D76,\"zle\",IF(AND(C76<=VEMA!P$36,VEMA!Q$36<=D76),\"obed\",IF(OR(D76<=VEMA!P$36,VEMA!Q$36<=C76),\"dobre\",\"zle\"))))","v":"dobre"}]
[null,{"$f":"B76","v":"So"},null,null,{"$f":"IF(OR(U77=\"dobre\",U77=\"obed\"),IF(OR(B77=\"So\",B77=\"Ne\"),\"\",IF(OR(D77<=VEMA!P$36,C77>=VEMA!Q$36),(D77-C77)*24,(D77-C77)*24-VEMA!R$36)),\"<< zlý čas\")","v":""},null,null,null,null,"","",null,null,null,null,null,"4.1.22. MUF: Moderovanie učiteľského fóra.",null,null,null,{"$f":"IF(OR(B77=\"So\",B77=\"Ne\"),\"dobre\",IF(C77>D77,\"zle\",IF(AND(C77<=VEMA!P$36,VEMA!Q$36<=D77),\"obed\",IF(OR(D77<=VEMA!P$36,VEMA!Q$36<=C77),\"dobre\",\"zle\"))))","v":"dobre"}]
[{"$f":"IF(A75=\"\",\"\",IF(A75+1<=$D$146,A75+1,\"\"))","v":20},{"$f":"IF(A78=\"\",\"\",IF(B75=\"Po\",\"Ut\",IF(B75=\"Ut\",\"St\",IF(B75=\"St\",\"Št\",IF(B75=\"Št\",\"Pi\",IF(B75=\"Pi\",\"So\",IF(B75=\"So\",\"Ne\",IF(B75=\"Ne\",\"Po\",\"\"))))))))","v":"Ne"},null,null,{"$f":"IF(OR(U78=\"dobre\",U78=\"obed\"),IF(OR(B78=\"So\",B78=\"Ne\"),\"\",IF(OR(D78<=VEMA!P$37,C78>=VEMA!Q$37),(D78-C78)*24,(D78-C78)*24-VEMA!R$37)),\"<< zlý čas\")","v":""},null,null,null,null,"","",null,null,null,null,null,"4.1.23. A: Realizácia prieskumnej činnosti v projekte.",null,{"$f":"IF(SUM(E78:E80)=0,\"\",SUM(E78:E80))","v":""},null,{"$f":"IF(OR(B78=\"So\",B78=\"Ne\"),\"dobre\",IF(C78>D78,\"zle\",IF(AND(C78<=VEMA!P$37,VEMA!Q$37<=D78),\"obed\",IF(OR(D78<=VEMA!P$37,VEMA!Q$37<=C78),\"dobre\",\"zle\"))))","v":"dobre"}]
[null,{"$f":"B78","v":"Ne"},null,null,{"$f":"IF(OR(U79=\"dobre\",U79=\"obed\"),IF(OR(B79=\"So\",B79=\"Ne\"),\"\",IF(OR(D79<=VEMA!P$37,C79>=VEMA!Q$37),(D79-C79)*24,(D79-C79)*24-VEMA!R$37)),\"<< zlý čas\")","v":""},null,null,null,null,"","",null,null,null,null,null,"4.1.23. A: Návrh zámeru prieskumu, cieľov, metodiky, nástrojov zisťovania a cieľovej skupiny.",null,null,null,{"$f":"IF(OR(B79=\"So\",B79=\"Ne\"),\"dobre\",IF(C79>D79,\"zle\",IF(AND(C79<=VEMA!P$37,VEMA!Q$37<=D79),\"obed\",IF(OR(D79<=VEMA!P$37,VEMA!Q$37<=C79),\"dobre\",\"zle\"))))","v":"dobre"}]
[null,{"$f":"B79","v":"Ne"},null,null,{"$f":"IF(OR(U80=\"dobre\",U80=\"obed\"),IF(OR(B80=\"So\",B80=\"Ne\"),\"\",IF(OR(D80<=VEMA!P$37,C80>=VEMA!Q$37),(D80-C80)*24,(D80-C80)*24-VEMA!R$37)),\"<< zlý čas\")","v":""},null,null,null,null,"","",null,null,null,null,null,"4.1.23. A: Určenie postupu, termínu a miesta realizácie opytovania.",null,null,null,{"$f":"IF(OR(B80=\"So\",B80=\"Ne\"),\"dobre\",IF(C80>D80,\"zle\",IF(AND(C80<=VEMA!P$37,VEMA!Q$37<=D80),\"obed\",IF(OR(D80<=VEMA!P$37,VEMA!Q$37<=C80),\"dobre\",\"zle\"))))","v":"dobre"}]
[{"$f":"IF(A78=\"\",\"\",IF(A78+1<=$D$146,A78+1,\"\"))","v":21},{"$f":"IF(A81=\"\",\"\",IF(B78=\"Po\",\"Ut\",IF(B78=\"Ut\",\"St\",IF(B78=\"St\",\"Št\",IF(B78=\"Št\",\"Pi\",IF(B78=\"Pi\",\"So\",IF(B78=\"So\",\"Ne\",IF(B78=\"Ne\",\"Po\",\"\"))))))))","v":"Po"},null,null,{"$f":"IF(OR(U81=\"dobre\",U81=\"obed\"),IF(OR(B81=\"So\",B81=\"Ne\"),\"\",IF(OR(D81<=VEMA!P$38,C81>=VEMA!Q$38),(D81-C81)*24,(D81-C81)*24-VEMA!R$38)),\"<< zlý čas\")","v":0},null,null,null,null,0,0,null,null,null,null,null,"4.1.23. A:  Spracovanie a interpretácia zistenia z opytovania.",null,{"$f":"IF(SUM(E81:E83)=0,\"\",SUM(E81:E83))","v":""},null,{"$f":"IF(OR(B81=\"So\",B81=\"Ne\"),\"dobre\",IF(C81>D81,\"zle\",IF(AND(C81<=VEMA!P$38,VEMA!Q$38<=D81),\"obed\",IF(OR(D81<=VEMA!P$38,VEMA!Q$38<=C81),\"dobre\",\"zle\"))))","v":"dobre"}]
[null,{"$f":"B81","v":"Po"},null,null,{"$f":"IF(OR(U82=\"dobre\",U82=\"obed\"),IF(OR(B82=\"So\",B82=\"Ne\"),\"\",IF(OR(D82<=VEMA!P$38,C82>=VEMA!Q$38),(D82-C82)*24,(D82-C82)*24-VEMA!R$38)),\"<< zlý čas\")","v":0},null,null,null,null,0,0,null,null,null,null,null,"4.1.23. A: Formulovanie návrhov a odporúčaní vyplývajúcich z prieskumu pre realizáciu projektu.",null,null,null,{"$f":"IF(OR(B82=\"So\",B82=\"Ne\"),\"dobre\",IF(C82>D82,\"zle\",IF(AND(C82<=VEMA!P$38,VEMA!Q$38<=D82),\"obed\",IF(OR(D82<=VEMA!P$38,VEMA!Q$38<=C82),\"dobre\",\"zle\"))))","v":"dobre"}]
[null,{"$f":"B82","v":"Po"},null,null,{"$f":"IF(OR(U83=\"dobre\",U83=\"obed\"),IF(OR(B83=\"So\",B83=\"Ne\"),\"\",IF(OR(D83<=VEMA!P$38,C83>=VEMA!Q$38),(D83-C83)*24,(D83-C83)*24-VEMA!R$38)),\"<< zlý čas\")","v":0},null,null,null,null,0,0,null,null,null,null,null,"4.1.23. A: Realizácia prieskumnej činnosti v projekte, následne spracovanie a interpretácia zistenia z opytovania, finalizácia prieskumu.",null,null,null,{"$f":"IF(OR(B83=\"So\",B83=\"Ne\"),\"dobre\",IF(C83>D83,\"zle\",IF(AND(C83<=VEMA!P$38,VEMA!Q$38<=D83),\"obed\",IF(OR(D83<=VEMA!P$38,VEMA!Q$38<=C83),\"dobre\",\"zle\"))))","v":"dobre"}]
[{"$f":"IF(A81=\"\",\"\",IF(A81+1<=$D$146,A81+1,\"\"))","v":22},{"$f":"IF(A84=\"\",\"\",IF(B81=\"Po\",\"Ut\",IF(B81=\"Ut\",\"St\",IF(B81=\"St\",\"Št\",IF(B81=\"Št\",\"Pi\",IF(B81=\"Pi\",\"So\",IF(B81=\"So\",\"Ne\",IF(B81=\"Ne\",\"Po\",\"\"))))))))","v":"Ut"},null,null,{"$f":"IF(OR(U84=\"dobre\",U84=\"obed\"),IF(OR(B84=\"So\",B84=\"Ne\"),\"\",IF(OR(D84<=VEMA!P$39,C84>=VEMA!Q$39),(D84-C84)*24,(D84-C84)*24-VEMA!R$39)),\"<< zlý čas\")","v":0},null,null,null,null,0,0,null,null,null,null,null,"4.1.25. T PV a UZ: Návrh programu vzdelávania.",null,{"$f":"IF(SUM(E84:E86)=0,\"\",SUM(E84:E86))","v":""},null,{"$f":"IF(OR(B84=\"So\",B84=\"Ne\"),\"dobre\",IF(C84>D84,\"zle\",IF(AND(C84<=VEMA!P$39,VEMA!Q$39<=D84),\"obed\",IF(OR(D84<=VEMA!P$39,VEMA!Q$39<=C84),\"dobre\",\"zle\"))))","v":"dobre"}]
[null,{"$f":"B84","v":"Ut"},null,null,{"$f":"IF(OR(U85=\"dobre\",U85=\"obed\"),IF(OR(B85=\"So\",B85=\"Ne\"),\"\",IF(OR(D85<=VEMA!P$39,C85>=VEMA!Q$39),(D85-C85)*24,(D85-C85)*24-VEMA!R$39)),\"<< zlý čas\")","v":0},null,null,null,null,{"$f":"IF(B85=\"\",\"\",IF(B85=\"So\",\"\",(IF(B85=\"Ne\",\"\",(ROUND(E85-K85,2))))))","v":0},{"$f":"IF(B85=\"So\",\"\",(IF(B85=\"Ne\",\"\",(IF(B85=\"\",\"\",(IF(COUNTIF(Pozicia,$F$16),ROUND(VRR*E85,2),0)))))))","v":0},null,null,null,null,null,"4.1.25. T PV a UZ: Spracovanie programu vzdelávania.",null,null,null,{"$f":"IF(OR(B85=\"So\",B85=\"Ne\"),\"dobre\",IF(C85>D85,\"zle\",IF(AND(C85<=VEMA!P$39,VEMA!Q$39<=D85),\"obed\",IF(OR(D85<=VEMA!P$39,VEMA!Q$39<=C85),\"dobre\",\"zle\"))))","v":"dobre"}]
[null,{"$f":"B85","v":"Ut"},null,null,{"$f":"IF(OR(U86=\"dobre\",U86=\"obed\"),IF(OR(B86=\"So\",B86=\"Ne\"),\"\",IF(OR(D86<=VEMA!P$39,C86>=VEMA!Q$39),(D86-C86)*24,(D86-C86)*24-VEMA!R$39)),\"<< zlý čas\")","v":0},null,null,null,null,0,0,null,null,null,null,null,"4.1.25. T PV a UZ: Finálne spracovanie programu vzdelávania.",null,null,null,{"$f":"IF(OR(B86=\"So\",B86=\"Ne\"),\"dobre\",IF(C86>D86,\"zle\",IF(AND(C86<=VEMA!P$39,VEMA!Q$39<=D86),\"obed\",IF(OR(D86<=VEMA!P$39,VEMA!Q$39<=C86),\"dobre\",\"zle\"))))","v":"dobre"}]
[{"$f":"IF(A84=\"\",\"\",IF(A84+1<=$D$146,A84+1,\"\"))","v":23},{"$f":"IF(A87=\"\",\"\",IF(B84=\"Po\",\"Ut\",IF(B84=\"Ut\",\"St\",IF(B84=\"St\",\"Št\",IF(B84=\"Št\",\"Pi\",IF(B84=\"Pi\",\"So\",IF(B84=\"So\",\"Ne\",IF(B84=\"Ne\",\"Po\",\"\"))))))))","v":"St"},null,null,{"$f":"IF(OR(U87=\"dobre\",U87=\"obed\"),IF(OR(B87=\"So\",B87=\"Ne\"),\"\",IF(OR(D87<=VEMA!P$40,C87>=VEMA!Q$40),(D87-C87)*24,(D87-C87)*24-VEMA!R$40)),\"<< zlý čas\")","v":0},null,null,null,null,0,0,null,null,null,null,null,"4.1.25. T PV a UZ: Zapracovanie pripomienok do  programu vzdelávania.",null,{"$f":"IF(SUM(E87:E89)=0,\"\",SUM(E87:E89))","v":""},null,{"$f":"IF(OR(B87=\"So\",B87=\"Ne\"),\"dobre\",IF(C87>D87,\"zle\",IF(AND(C87<=VEMA!P$40,VEMA!Q$40<=D87),\"obed\",IF(OR(D87<=VEMA!P$40,VEMA!Q$40<=C87),\"dobre\",\"zle\"))))","v":"dobre"}]
[null,{"$f":"B87","v":"St"},null,null,{"$f":"IF(OR(U88=\"dobre\",U88=\"obed\"),IF(OR(B88=\"So\",B88=\"Ne\"),\"\",IF(OR(D88<=VEMA!P$40,C88>=VEMA!Q$40),(D88-C88)*24,(D88-C88)*24-VEMA!R$40)),\"<< zlý čas\")","v":0},null,null,null,null,0,0,null,null,null,null,null,"4.1.25. T PV a UZ: Návrh učebných zdrojov k programu vzdelávania.",null,null,null,{"$f":"IF(OR(B88=\"So\",B88=\"Ne\"),\"dobre\",IF(C88>D88,\"zle\",IF(AND(C88<=VEMA!P$40,VEMA!Q$40<=D88),\"obed\",IF(OR(D88<=VEMA!P$40,VEMA!Q$40<=C88),\"dobre\",\"zle\"))))","v":"dobre"}]
[null,{"$f":"B88","v":"St"},null,null,{"$f":"IF(OR(U89=\"dobre\",U89=\"obed\"),IF(OR(B89=\"So\",B89=\"Ne\"),\"\",IF(OR(D89<=VEMA!P$40,C89>=VEMA!Q$40),(D89-C89)*24,(D89-C89)*24-VEMA!R$40)),\"<< zlý čas\")","v":0},null,null,null,null,0,0,null,null,null,null,null,"4.1.25. T PV a UZ: Spracovanie  učebných zdrojov k programu vzdelávania.",null,null,null,{"$f":"IF(OR(B89=\"So\",B89=\"Ne\"),\"dobre\",IF(C89>D89,\"zle\",IF(AND(C89<=VEMA!P$40,VEMA!Q$40<=D89),\"obed\",IF(OR(D89<=VEMA!P$40,VEMA!Q$40<=C89),\"dobre\",\"zle\"))))","v":"dobre"}]
[{"$f":"IF(A87=\"\",\"\",IF(A87+1<=$D$146,A87+1,\"\"))","v":24},{"$f":"IF(A90=\"\",\"\",IF(B87=\"Po\",\"Ut\",IF(B87=\"Ut\",\"St\",IF(B87=\"St\",\"Št\",IF(B87=\"Št\",\"Pi\",IF(B87=\"Pi\",\"So\",IF(B87=\"So\",\"Ne\",IF(B87=\"Ne\",\"Po\",\"\"))))))))","v":"Št"},null,null,{"$f":"IF(OR(U90=\"dobre\",U90=\"obed\"),IF(OR(B90=\"So\",B90=\"Ne\"),\"\",IF(OR(D90<=VEMA!P$41,C90>=VEMA!Q$41),(D90-C90)*24,(D90-C90)*24-VEMA!R$41)),\"<< zlý čas\")","v":0},null,null,null,null,0,0,null,null,null,null,null,"4.1.25. T PV a UZ: Zapracovanie pripomienok do  programu vzdelávania a do učebných zdrojov.",null,{"$f":"IF(SUM(E90:E92)=0,\"\",SUM(E90:E92))","v":""},null,{"$f":"IF(OR(B90=\"So\",B90=\"Ne\"),\"dobre\",IF(C90>D90,\"zle\",IF(AND(C90<=VEMA!P$41,VEMA!Q$41<=D90),\"obed\",IF(OR(D90<=VEMA!P$41,VEMA!Q$41<=C90),\"dobre\",\"zle\"))))","v":"dobre"}]
[null,{"$f":"B90","v":"Št"},null,null,{"$f":"IF(OR(U91=\"dobre\",U91=\"obed\"),IF(OR(B91=\"So\",B91=\"Ne\"),\"\",IF(OR(D91<=VEMA!P$41,C91>=VEMA!Q$41),(D91-C91)*24,(D91-C91)*24-VEMA!R$41)),\"<< zlý čas\")","v":0},null,null,null,null,0,0,null,null,null,null,null,"4.1.25. T PV a UZ:  Návrh  a spracovanie programu vzdelávania a učebných zdrojov.",null,null,null,{"$f":"IF(OR(B91=\"So\",B91=\"Ne\"),\"dobre\",IF(C91>D91,\"zle\",IF(AND(C91<=VEMA!P$41,VEMA!Q$41<=D91),\"obed\",IF(OR(D91<=VEMA!P$41,VEMA!Q$41<=C91),\"dobre\",\"zle\"))))","v":"dobre"}]
[null,{"$f":"B91","v":"Št"},null,null,{"$f":"IF(OR(U92=\"dobre\",U92=\"obed\"),IF(OR(B92=\"So\",B92=\"Ne\"),\"\",IF(OR(D92<=VEMA!P$41,C92>=VEMA!Q$41),(D92-C92)*24,(D92-C92)*24-VEMA!R$41)),\"<< zlý čas\")","v":0},null,null,null,null,0,0,null,null,null,null,null,"4.1.25. T PV a UZ: Finalizácia vzdelávacieho programu a učebných zdrojov.",null,null,null,{"$f":"IF(OR(B92=\"So\",B92=\"Ne\"),\"dobre\",IF(C92>D92,\"zle\",IF(AND(C92<=VEMA!P$41,VEMA!Q$41<=D92),\"obed\",IF(OR(D92<=VEMA!P$41,VEMA!Q$41<=C92),\"dobre\",\"zle\"))))","v":"dobre"}]
[{"$f":"IF(A90=\"\",\"\",IF(A90+1<=$D$146,A90+1,\"\"))","v":25},{"$f":"IF(A93=\"\",\"\",IF(B90=\"Po\",\"Ut\",IF(B90=\"Ut\",\"St\",IF(B90=\"St\",\"Št\",IF(B90=\"Št\",\"Pi\",IF(B90=\"Pi\",\"So\",IF(B90=\"So\",\"Ne\",IF(B90=\"Ne\",\"Po\",\"\"))))))))","v":"Pi"},null,null,{"$f":"IF(OR(U93=\"dobre\",U93=\"obed\"),IF(OR(B93=\"So\",B93=\"Ne\"),\"\",IF(OR(D93<=VEMA!P$42,C93>=VEMA!Q$42),(D93-C93)*24,(D93-C93)*24-VEMA!R$42)),\"<< zlý čas\")","v":0},null,null,null,null,0,0,null,null,null,null,null,"4.1.25. T PV a UZ: Konzultovanie pripomienok s konzultantom obsahu PV a UZ.",null,{"$f":"IF(SUM(E93:E95)=0,\"\",SUM(E93:E95))","v":""},null,{"$f":"IF(OR(B93=\"So\",B93=\"Ne\"),\"dobre\",IF(C93>D93,\"zle\",IF(AND(C93<=VEMA!P$42,VEMA!Q$42<=D93),\"obed\",IF(OR(D93<=VEMA!P$42,VEMA!Q$42<=C93),\"dobre\",\"zle\"))))","v":"dobre"}]
[null,{"$f":"B93","v":"Pi"},null,null,{"$f":"IF(OR(U94=\"dobre\",U94=\"obed\"),IF(OR(B94=\"So\",B94=\"Ne\"),\"\",IF(OR(D94<=VEMA!P$42,C94>=VEMA!Q$42),(D94-C94)*24,(D94-C94)*24-VEMA!R$42)),\"<< zlý čas\")","v":0},null,null,null,null,0,0,null,null,null,null,null,"4.1.28. OG IV: Dohľad pri realizácii vzdelávacích aktivít v inovačných programoch vzdelávania.",null,null,null,{"$f":"IF(OR(B94=\"So\",B94=\"Ne\"),\"dobre\",IF(C94>D94,\"zle\",IF(AND(C94<=VEMA!P$42,VEMA!Q$42<=D94),\"obed\",IF(OR(D94<=VEMA!P$42,VEMA!Q$42<=C94),\"dobre\",\"zle\"))))","v":"dobre"}]
[null,{"$f":"B94","v":"Pi"},null,null,{"$f":"IF(OR(U95=\"dobre\",U95=\"obed\"),IF(OR(B95=\"So\",B95=\"Ne\"),\"\",IF(OR(D95<=VEMA!P$42,C95>=VEMA!Q$42),(D95-C95)*24,(D95-C95)*24-VEMA!R$42)),\"<< zlý čas\")","v":0},null,null,null,null,0,0,null,null,null,null,null,"4.1.28. OG IV: Príprava a vedie lektorov.",null,null,null,{"$f":"IF(OR(B95=\"So\",B95=\"Ne\"),\"dobre\",IF(C95>D95,\"zle\",IF(AND(C95<=VEMA!P$42,VEMA!Q$42<=D95),\"obed\",IF(OR(D95<=VEMA!P$42,VEMA!Q$42<=C95),\"dobre\",\"zle\"))))","v":"dobre"}]
[{"$f":"IF(A93=\"\",\"\",IF(A93+1<=$D$146,A93+1,\"\"))","v":26},{"$f":"IF(A96=\"\",\"\",IF(B93=\"Po\",\"Ut\",IF(B93=\"Ut\",\"St\",IF(B93=\"St\",\"Št\",IF(B93=\"Št\",\"Pi\",IF(B93=\"Pi\",\"So\",IF(B93=\"So\",\"Ne\",IF(B93=\"Ne\",\"Po\",\"\"))))))))","v":"So"},null,null,{"$f":"IF(OR(U96=\"dobre\",U96=\"obed\"),IF(OR(B96=\"So\",B96=\"Ne\"),\"\",IF(OR(D96<=VEMA!P$43,C96>=VEMA!Q$43),(D96-C96)*24,(D96-C96)*24-VEMA!R$43)),\"<< zlý čas\")","v":""},null,null,null,null,"","",null,null,null,null,null,"4.1.28. OG IV: Kontrola priebehu  realizácie vzdelávacích programov.",null,{"$f":"IF(SUM(E96:E98)=0,\"\",SUM(E96:E98))","v":""},null,{"$f":"IF(OR(B96=\"So\",B96=\"Ne\"),\"dobre\",IF(C96>D96,\"zle\",IF(AND(C96<=VEMA!P$43,VEMA!Q$43<=D96),\"obed\",IF(OR(D96<=VEMA!P$43,VEMA!Q$43<=C96),\"dobre\",\"zle\"))))","v":"dobre"}]
[null,{"$f":"B96","v":"So"},null,null,{"$f":"IF(OR(U97=\"dobre\",U97=\"obed\"),IF(OR(B97=\"So\",B97=\"Ne\"),\"\",IF(OR(D97<=VEMA!P$43,C97>=VEMA!Q$43),(D97-C97)*24,(D97-C97)*24-VEMA!R$43)),\"<< zlý čas\")","v":""},null,null,null,null,"","",null,null,null,null,null,"4.1.28. OG IV: Kontrola ukončenia realizácie vzdelávacích programov.",null,null,null,{"$f":"IF(OR(B97=\"So\",B97=\"Ne\"),\"dobre\",IF(C97>D97,\"zle\",IF(AND(C97<=VEMA!P$43,VEMA!Q$43<=D97),\"obed\",IF(OR(D97<=VEMA!P$43,VEMA!Q$43<=C97),\"dobre\",\"zle\"))))","v":"dobre"}]
[null,{"$f":"B97","v":"So"},null,null,{"$f":"IF(OR(U98=\"dobre\",U98=\"obed\"),IF(OR(B98=\"So\",B98=\"Ne\"),\"\",IF(OR(D98<=VEMA!P$43,C98>=VEMA!Q$43),(D98-C98)*24,(D98-C98)*24-VEMA!R$43)),\"<< zlý čas\")","v":""},null,null,null,null,"","",null,null,null,null,null,"4.1.28. OG IV: Vyhodnotenie realizácie programu vzdelávania.",null,null,null,{"$f":"IF(OR(B98=\"So\",B98=\"Ne\"),\"dobre\",IF(C98>D98,\"zle\",IF(AND(C98<=VEMA!P$43,VEMA!Q$43<=D98),\"obed\",IF(OR(D98<=VEMA!P$43,VEMA!Q$43<=C98),\"dobre\",\"zle\"))))","v":"dobre"}]
[{"$f":"IF(A96=\"\",\"\",IF(A96+1<=$D$146,A96+1,\"\"))","v":27},{"$f":"IF(A99=\"\",\"\",IF(B96=\"Po\",\"Ut\",IF(B96=\"Ut\",\"St\",IF(B96=\"St\",\"Št\",IF(B96=\"Št\",\"Pi\",IF(B96=\"Pi\",\"So\",IF(B96=\"So\",\"Ne\",IF(B96=\"Ne\",\"Po\",\"\"))))))))","v":"Ne"},null,null,{"$f":"IF(OR(U99=\"dobre\",U99=\"obed\"),IF(OR(B99=\"So\",B99=\"Ne\"),\"\",IF(OR(D99<=VEMA!P$44,C99>=VEMA!Q$44),(D99-C99)*24,(D99-C99)*24-VEMA!R$44)),\"<< zlý čas\")","v":""},null,null,null,null,"","",null,null,null,null,null,"4.1.28. OG IV: Príprava podkladov na archiváciu v zmysle interných a projektových pokynov.",null,{"$f":"IF(SUM(E99:E101)=0,\"\",SUM(E99:E101))","v":""},null,{"$f":"IF(OR(B99=\"So\",B99=\"Ne\"),\"dobre\",IF(C99>D99,\"zle\",IF(AND(C99<=VEMA!P$44,VEMA!Q$44<=D99),\"obed\",IF(OR(D99<=VEMA!P$44,VEMA!Q$44<=C99),\"dobre\",\"zle\"))))","v":"dobre"}]
[null,{"$f":"B99","v":"Ne"},null,null,{"$f":"IF(OR(U100=\"dobre\",U100=\"obed\"),IF(OR(B100=\"So\",B100=\"Ne\"),\"\",IF(OR(D100<=VEMA!P$44,C100>=VEMA!Q$44),(D100-C100)*24,(D100-C100)*24-VEMA!R$44)),\"<< zlý čas\")","v":""},null,null,null,null,"","",null,null,null,null,null,"4.1.28. OG IV: Kontrola zapracovaných pripomienok.",null,null,null,{"$f":"IF(OR(B100=\"So\",B100=\"Ne\"),\"dobre\",IF(C100>D100,\"zle\",IF(AND(C100<=VEMA!P$44,VEMA!Q$44<=D100),\"obed\",IF(OR(D100<=VEMA!P$44,VEMA!Q$44<=C100),\"dobre\",\"zle\"))))","v":"dobre"}]
[null,{"$f":"B100","v":"Ne"},null,null,{"$f":"IF(OR(U101=\"dobre\",U101=\"obed\"),IF(OR(B101=\"So\",B101=\"Ne\"),\"\",IF(OR(D101<=VEMA!P$44,C101>=VEMA!Q$44),(D101-C101)*24,(D101-C101)*24-VEMA!R$44)),\"<< zlý čas\")","v":""},null,null,null,null,"","",null,null,null,null,null,"4.1.28. OG IV: Účasť na porade k vzdelávacím programom v rámci národného projektu.",null,null,null,{"$f":"IF(OR(B101=\"So\",B101=\"Ne\"),\"dobre\",IF(C101>D101,\"zle\",IF(AND(C101<=VEMA!P$44,VEMA!Q$44<=D101),\"obed\",IF(OR(D101<=VEMA!P$44,VEMA!Q$44<=C101),\"dobre\",\"zle\"))))","v":"dobre"}]
[{"$f":"IF(A99=\"\",\"\",IF(A99+1<=$D$146,A99+1,\"\"))","v":28},{"$f":"IF(A102=\"\",\"\",IF(B99=\"Po\",\"Ut\",IF(B99=\"Ut\",\"St\",IF(B99=\"St\",\"Št\",IF(B99=\"Št\",\"Pi\",IF(B99=\"Pi\",\"So\",IF(B99=\"So\",\"Ne\",IF(B99=\"Ne\",\"Po\",\"\"))))))))","v":"Po"},null,null,{"$f":"IF(OR(U102=\"dobre\",U102=\"obed\"),IF(OR(B102=\"So\",B102=\"Ne\"),\"\",IF(OR(D102<=VEMA!P$45,C102>=VEMA!Q$45),(D102-C102)*24,(D102-C102)*24-VEMA!R$45)),\"<< zlý čas\")","v":0},null,null,null,null,0,0,null,null,null,null,null,"4.1.28. OG IV: Priebežné vyhodnocovanie výstupov z realizovaných vzdelávacích programov.",null,{"$f":"IF(SUM(E102:E104)=0,\"\",SUM(E102:E104))","v":""},null,{"$f":"IF(OR(B102=\"So\",B102=\"Ne\"),\"dobre\",IF(C102>D102,\"zle\",IF(AND(C102<=VEMA!P$45,VEMA!Q$45<=D102),\"obed\",IF(OR(D102<=VEMA!P$45,VEMA!Q$45<=C102),\"dobre\",\"zle\"))))","v":"dobre"}]
[null,{"$f":"B102","v":"Po"},null,null,{"$f":"IF(OR(U103=\"dobre\",U103=\"obed\"),IF(OR(B103=\"So\",B103=\"Ne\"),\"\",IF(OR(D103<=VEMA!P$45,C103>=VEMA!Q$45),(D103-C103)*24,(D103-C103)*24-VEMA!R$45)),\"<< zlý čas\")","v":0},null,null,null,null,0,0,null,null,null,null,null,"4.1.28. OG IV: Vyhodnotenie programu vzdelávania.",null,null,null,{"$f":"IF(OR(B103=\"So\",B103=\"Ne\"),\"dobre\",IF(C103>D103,\"zle\",IF(AND(C103<=VEMA!P$45,VEMA!Q$45<=D103),\"obed\",IF(OR(D103<=VEMA!P$45,VEMA!Q$45<=C103),\"dobre\",\"zle\"))))","v":"dobre"}]
[null,{"$f":"B103","v":"Po"},null,null,{"$f":"IF(OR(U104=\"dobre\",U104=\"obed\"),IF(OR(B104=\"So\",B104=\"Ne\"),\"\",IF(OR(D104<=VEMA!P$45,C104>=VEMA!Q$45),(D104-C104)*24,(D104-C104)*24-VEMA!R$45)),\"<< zlý čas\")","v":0},null,null,null,null,0,0,null,null,null,null,null,"4.1.28. OG IV: Účasť na porade k vzdelávacím programom v rámci národného projektu a vyhodnotenie programu vzdelávania.",null,null,null,{"$f":"IF(OR(B104=\"So\",B104=\"Ne\"),\"dobre\",IF(C104>D104,\"zle\",IF(AND(C104<=VEMA!P$45,VEMA!Q$45<=D104),\"obed\",IF(OR(D104<=VEMA!P$45,VEMA!Q$45<=C104),\"dobre\",\"zle\"))))","v":"dobre"}]
[{"$f":"IF(A102=\"\",\"\",IF(A102+1<=$D$146,A102+1,\"\"))","v":29},{"$f":"IF(A105=\"\",\"\",IF(B102=\"Po\",\"Ut\",IF(B102=\"Ut\",\"St\",IF(B102=\"St\",\"Št\",IF(B102=\"Št\",\"Pi\",IF(B102=\"Pi\",\"So\",IF(B102=\"So\",\"Ne\",IF(B102=\"Ne\",\"Po\",\"\"))))))))","v":"Ut"},null,null,{"$f":"IF(OR(U105=\"dobre\",U105=\"obed\"),IF(OR(B105=\"So\",B105=\"Ne\",B105=\"\"),\"\",IF(OR(D105<=VEMA!P$46,C105>=VEMA!Q$46),(D105-C105)*24,(D105-C105)*24-VEMA!R$46)),\"<< zlý čas\")","v":0},null,null,null,null,0,0,null,null,null,null,null,"4.1.29 VVS: Zakladanie vzdelávacej skupiny.",null,{"$f":"IF(SUM(E105:E107)=0,\"\",SUM(E105:E107))","v":""},null,{"$f":"IF(OR(B105=\"So\",B105=\"Ne\"),\"dobre\",IF(C105>D105,\"zle\",IF(AND(C105<=VEMA!P$46,VEMA!Q$46<=D105),\"obed\",IF(OR(D105<=VEMA!P$46,VEMA!Q$46<=C105),\"dobre\",\"zle\"))))","v":"dobre"}]
[null,{"$f":"B105","v":"Ut"},null,null,{"$f":"IF(OR(U106=\"dobre\",U106=\"obed\"),IF(OR(B106=\"So\",B106=\"Ne\",B106=\"\"),\"\",IF(OR(D106<=VEMA!P$46,C106>=VEMA!Q$46),(D106-C106)*24,(D106-C106)*24-VEMA!R$46)),\"<< zlý čas\")","v":0},null,null,null,null,0,0,null,null,null,null,null,"4.1.29. VVS: Správa databázy účastníkov, tvorba materiálov (pozvánky, prezenčné listiny, triednu knihu skupiny).",null,null,null,{"$f":"IF(OR(B106=\"So\",B106=\"Ne\"),\"dobre\",IF(C106>D106,\"zle\",IF(AND(C106<=VEMA!P$46,VEMA!Q$46<=D106),\"obed\",IF(OR(D106<=VEMA!P$46,VEMA!Q$46<=C106),\"dobre\",\"zle\"))))","v":"dobre"}]
[null,{"$f":"B106","v":"Ut"},null,null,{"$f":"IF(OR(U107=\"dobre\",U107=\"obed\"),IF(OR(B107=\"So\",B107=\"Ne\",B107=\"\"),\"\",IF(OR(D107<=VEMA!P$46,C107>=VEMA!Q$46),(D107-C107)*24,(D107-C107)*24-VEMA!R$46)),\"<< zlý čas\")","v":0},null,null,null,null,0,0,null,null,null,null,null,"4.1.29. VVS: Sumarizácia dištančných úloh.",null,null,null,{"$f":"IF(OR(B107=\"So\",B107=\"Ne\"),\"dobre\",IF(C107>D107,\"zle\",IF(AND(C107<=VEMA!P$46,VEMA!Q$46<=D107),\"obed\",IF(OR(D107<=VEMA!P$46,VEMA!Q$46<=C107),\"dobre\",\"zle\"))))","v":"dobre"}]
[{"$f":"IF(A105=\"\",\"\",IF(A105+1<=$D$146,A105+1,\"\"))","v":30},{"$f":"IF(A108=\"\",\"\",IF(B105=\"Po\",\"Ut\",IF(B105=\"Ut\",\"St\",IF(B105=\"St\",\"Št\",IF(B105=\"Št\",\"Pi\",IF(B105=\"Pi\",\"So\",IF(B105=\"So\",\"Ne\",IF(B105=\"Ne\",\"Po\",\"\"))))))))","v":"St"},null,null,{"$f":"IF(OR(U108=\"dobre\",U108=\"obed\"),IF(OR(B108=\"So\",B108=\"Ne\",B108=\"\"),\"\",IF(OR(D108<=VEMA!P$47,C108>=VEMA!Q$47),(D108-C108)*24,(D108-C108)*24-VEMA!R$47)),\"<< zlý čas\")","v":0},null,null,null,null,0,0,null,null,null,null,null,"4.1.29. VVS: Plánovanie a príprava harmonogramu vzdelávacích aktivít.",null,{"$f":"IF(SUM(E108:E110)=0,\"\",SUM(E108:E110))","v":""},null,{"$f":"IF(OR(B108=\"So\",B108=\"Ne\"),\"dobre\",IF(C108>D108,\"zle\",IF(AND(C108<=VEMA!P$47,VEMA!Q$47<=D108),\"obed\",IF(OR(D108<=VEMA!P$47,VEMA!Q$47<=C108),\"dobre\",\"zle\"))))","v":"dobre"}]
[null,{"$f":"B108","v":"St"},null,null,{"$f":"IF(OR(U109=\"dobre\",U109=\"obed\"),IF(OR(B109=\"So\",B109=\"Ne\",B109=\"\"),\"\",IF(OR(D109<=VEMA!P$47,C109>=VEMA!Q$47),(D109-C109)*24,(D109-C109)*24-VEMA!R$47)),\"<< zlý čas\")","v":0},null,null,null,null,0,0,null,null,null,null,null,"4.1.29. VVS: Sumarizácia dištančných úloh a záverečných prezentácii, príprava a spracovanie záverov, vrátane podkladov na spracovanie osvedčení a protokolov. ",null,null,null,{"$f":"IF(OR(B109=\"So\",B109=\"Ne\"),\"dobre\",IF(C109>D109,\"zle\",IF(AND(C109<=VEMA!P$47,VEMA!Q$47<=D109),\"obed\",IF(OR(D109<=VEMA!P$47,VEMA!Q$47<=C109),\"dobre\",\"zle\"))))","v":"dobre"}]
[null,{"$f":"B109","v":"St"},null,null,{"$f":"IF(OR(U110=\"dobre\",U110=\"obed\"),IF(OR(B110=\"So\",B110=\"Ne\",B110=\"\"),\"\",IF(OR(D110<=VEMA!P$47,C110>=VEMA!Q$47),(D110-C110)*24,(D110-C110)*24-VEMA!R$47)),\"<< zlý čas\")","v":0},null,null,null,null,0,0,null,null,null,null,null,"4.1.29. VVS: Príprava podkladov na archiváciu v zmysle interných a projektových pokynov.",null,null,null,{"$f":"IF(OR(B110=\"So\",B110=\"Ne\"),\"dobre\",IF(C110>D110,\"zle\",IF(AND(C110<=VEMA!P$47,VEMA!Q$47<=D110),\"obed\",IF(OR(D110<=VEMA!P$47,VEMA!Q$47<=C110),\"dobre\",\"zle\"))))","v":"dobre"}]
[{"$f":"IF(A108=\"\",\"\",IF(A108+1<=$D$146,A108+1,\"\"))","v":""},{"$f":"IF(A111=\"\",\"\",IF(B108=\"Po\",\"Ut\",IF(B108=\"Ut\",\"St\",IF(B108=\"St\",\"Št\",IF(B108=\"Št\",\"Pi\",IF(B108=\"Pi\",\"So\",IF(B108=\"So\",\"Ne\",IF(B108=\"Ne\",\"Po\",\"\"))))))))","v":""},null,null,{"$f":"IF(OR(U111=\"dobre\",U111=\"obed\"),IF(OR(B111=\"So\",B111=\"Ne\",B111=\"\"),\"\",IF(OR(D111<=VEMA!P$48,C111>=VEMA!Q$48),(D111-C111)*24,(D111-C111)*24-VEMA!R$48)),\"<< zlý čas\")","v":""},null,null,null,null,"",{"$f":"IF(AND(B111=\"So\"),\"\",(IF(AND(B111=\"Ne\"),\"\",(IF(AND(B111=\"\"),\"\",(SUMIF(N21:N48,F16,O21:O48))*E111)))))","v":""},null,null,null,null,null,"4.1.29. VVS: Koordinovanie vzdelávacích skupín.",null,{"$f":"IF(SUM(E111:E113)=0,\"\",SUM(E111:E113))","v":""},null,{"$f":"IF(OR(B111=\"So\",B111=\"Ne\",B111=\"\"),\"dobre\",IF(C111>D111,\"zle\",IF(AND(C111<=VEMA!P$48,VEMA!Q$48<=D111),\"obed\",IF(OR(D111<=VEMA!P$48,VEMA!Q$48<=C111),\"dobre\",\"zle\"))))","v":"dobre"}]
[null,{"$f":"B111","v":""},null,null,{"$f":"IF(OR(U112=\"dobre\",U112=\"obed\"),IF(OR(B112=\"So\",B112=\"Ne\",B112=\"\"),\"\",IF(OR(D112<=VEMA!P$48,C112>=VEMA!Q$48),(D112-C112)*24,(D112-C112)*24-VEMA!R$48)),\"<< zlý čas\")","v":""},null,null,null,null,{"$f":"IF(AND(B112=\"\"),\"\",IF(AND(B112=\"So\"),\"\",(IF(AND(B112=\"Ne\"),\"\",(ROUND(E112-K112,2))))))","v":""},{"$f":"IF(AND(B112=\"So\"),\"\",(IF(AND(B112=\"Ne\"),\"\",(IF(AND(B112=\"\"),\"\",(SUMIF(N21:N48,F16,O21:O48))*E112)))))","v":""},null,null,null,null,null,"4.1.30. L: Príprava na lektorskú činnosť.",null,null,null,{"$f":"IF(OR(B112=\"So\",B112=\"Ne\",B112=\"\"),\"dobre\",IF(C112>D112,\"zle\",IF(AND(C112<=VEMA!P$48,VEMA!Q$48<=D112),\"obed\",IF(OR(D112<=VEMA!P$48,VEMA!Q$48<=C112),\"dobre\",\"zle\"))))","v":"dobre"}]
[null,{"$f":"B112","v":""},null,null,{"$f":"IF(OR(U113=\"dobre\",U113=\"obed\"),IF(OR(B113=\"So\",B113=\"Ne\",B113=\"\"),\"\",IF(OR(D113<=VEMA!P$48,C113>=VEMA!Q$48),(D113-C113)*24,(D113-C113)*24-VEMA!R$48)),\"<< zlý čas\")","v":""},null,null,null,null,{"$f":"IF(AND(B113=\"\"),\"\",IF(AND(B113=\"So\"),\"\",(IF(AND(B113=\"Ne\"),\"\",(ROUND(E113-K113,2))))))","v":""},{"$f":"IF(AND(B113=\"So\"),\"\",(IF(AND(B113=\"Ne\"),\"\",(IF(AND(B113=\"\"),\"\",(SUMIF(N21:N48,F16,O21:O48))*E113)))))","v":""},null,null,null,null,null,"4.1.30. L: Úprava materiálov pre účastníkov vzdelávania.",null,null,null,{"$f":"IF(OR(B113=\"So\",B113=\"Ne\",B113=\"\"),\"dobre\",IF(C113>D113,\"zle\",IF(AND(C113<=VEMA!P$48,VEMA!Q$48<=D113),\"obed\",IF(OR(D113<=VEMA!P$48,VEMA!Q$48<=C113),\"dobre\",\"zle\"))))","v":"dobre"}]
["Spolu:",null,null,null,{"$f":"SUMIF(B21:B111,\"Po\",E21:E113)+SUMIF(B21:B111,\"Ut\",E21:E111)+SUMIF(B21:B111,\"St\",E21:E111)+SUMIF(B21:B111,\"Št\",E21:E111)+SUMIF(B21:B111,\"Pi\",E21:E111)","v":0},null,null,null,null,{"$f":"SUM(J21:J111)","v":0},{"$f":"SUM(K21:K111)","v":0},null,null,null,null,null,"4.1.30. L: Lektorovanie programu vzdelávania."]
["Čestné vyhlásenie:",null,null,null,null,null,null,null,null,null,null,null,null,null,null,null,"4.1.30. L: Ukončovanie  vzdelávacieho programu (člen skúšobnej komisie). "]
[null,null,"❶Ako prijímateľ vyhlasujem, že údaje uvedené v pracovnom výkaze sú pravdivé, reálne a správne a som si vedomý následkov spojených s uvedením/predložením nesprávneho, neúplného alebo falšovaného výkazu.",null,null,null,null,null,null,null,null,null,null,null,null,null,"4.1.30. L: Ukončovanie  vzdelávacieho programu (predseda skúšobnej komisie). "]
["X",null,null,null,null,null,null,null,null,null,null,null,null,"X",null,null,"4.1.30. L: Vyhodnotenie programu vzdelávania za skupinu."]
[null,null,null,null,null,null,null,null,null,null,null,null,null,null,null,null,"4.1.30. L: Príprava na lektorskú činnosť.  Úprava materiálov pre účastníkov vzdelávania."]
[null,null,"❷Svojim podpisom potvrdzujem, že v uvedenom mesiaci som mal iba jediný pracovnoprávny vzťah,  nevykonával som iné činnosti u tohto zamestnávateľa ani u iných zamestnávateľov, údaje uvedené v pracovnom výkaze sú pravdivé, reálne a správne a som si vedomý následkov spojených s uvedením/predložením nesprávneho, neúplného alebo falšovaného pracovného výkazu.",null,null,null,null,null,null,null,null,null,null,null,null,null,"4.1.30. L: Príprava na lektorskú činnosť a lektorovanie programu vzdelávania."]
[null,null,null,null,null,null,null,null,null,null,null,null,null,null,null,null,"4.1.32. P.: Realizácia individuálneho poradenstva pedagogickým zamestnancom s dôrazom na aplikáciu poznatkov zo vzdelávacích programov a aktivít v školskej praxi."]
["Dátum odovzdania: ",null,null,null,null,null,null,"Dátum prevzatia:",null,null,null,null,null,null,null,null,"4.1.32. P.: Poskytovanie spätnej väzby na pozorované edukačné procesy."]
[null,null,null,null,null,null,null,null,null,null,null,null,null,null,null,null,"4.1.32. P.: Realizácia poradenského projektu."]
["Podpis osoby***:",null,null,null,null,null,null,"Podpis štatutárneho orgánu prijímateľa:**",null,null,null,null,null,null,null,null,"4.1.32. P.: Návrh a vypracovanie odporúčaní na zvýšenie kvality výchovno-vzdelávacieho procesu."]
[null,null,null,null,null,null,null,null,null,null,null,null,null,null,null,null,"4.1.32. P.: Vyhodnotenie realizácie poradenského projektu."]
["Poznámka: Osobou sa rozumie zamestnanec v pracovnoprávnom vzťahu (pracovný pomer, dohody) ako aj osoba pracujúca na základe iných ako pracovnoprávnych vzťahov, resp. osoba pracujúca pre dodávateľa, ktorý vykonáva činnosť pre prijímateľa.                                                                                                         \n*Počet hodín je uvádzaný pre 60 minútový interval.",null,null,null,null,null,null,null,null,null,null,null,null,null,null,null,"4.1.32. P: Príprava podkladom na realizáciu poradenského projektu, realizácia poradenského projektu."]
[null,null,null,null,null,null,null,null,null,null,null,null,null,null,null,null,"4.1.32. P: Príprava poradenského projektu."]
["**V prípade splmonocnenia sa uvedia osoba splnomocnená štatutárnym orgánom na podpisovanie pracovných výkazov",null,null,null,null,null,null,null,null,null,null,null,null,null,null,null,"sviatok"]
["***V prípade dodávateľských vzťahov sa uvedie podpis osoby, ktorá vykonala činnosti a výstupy uvádzané v PV a podpis osoby, ktorá zastupuje dodávateľa. Ak osoby sú totožné uvedie sa iba jeden podpis",null,null,null,null,null,null,null,null,null,null,null,null,null,null,null,"dovolenka"]
[null,null,null,null,null,null,null,null,null,null,null,null,null,null,null,null,"iné náhrady"]
["❶",null,"osoba  pracujúca na rôzne pracovnoprávne vzťahy u jedného resp. rôznych zamestnávateľov ",null,null,null,null,null,null,null,null,null,null,null,null,null,"lekár"]
["❷",null,"osoba pracujúca 100% na projekt, ktorá mala iba jediný pracovnoprávny vzťah",null,null,null,null,null,null,null,null,null,null,null,null,null,"sprevádzanie člena rodiny"]
[null,null,null,null,null,null,null,null,null,null,null,null,null,null,null,null,"PN"]
[null,null,null,null,null,null,null,null,null,null,null,null,null,null,null,null,"OČR"]
[null,null,null,null,null,null,null,null,null,null,null,null,null,null,null,null,"neplatené voľno"]
["PRÁCA NADČAS*"]
["Mesiac ",null,null,null,null,null,null,{"$f":"F17","v":"September"}]
["Fond pracovného času v príslušnom mesiaci "]
["Celkový počet odpracovaných hodín v príslušnom mesiaci "]
["Nariadená/dododnutá práca nadčas financovaná v rámci projektu**"]
[]
["* vypĺňa sa iba v prípade, ak sa v rámci projektu v danom mesiaci financuje v projekte práca nadčas"]
["** práca nadčas je oprávnená iba vo výnimočných a odôvodnených prípadoch. musí byť vykonávaná na príkaz zamestnávateľa alebo s jeho súhlasom. Nadčas je oprávneným výdavkom iba v prípade, ak činnosti vykonávané počas práce nadčas priamo súvisia s aktivitami projektu. Pri využívaní nadčas je potrebné dodržiavať platnú legislatívu SR (najmä zákonník práce).\n"]
[]
["Začiatok mesiaca",null,null,{"$f":"VLOOKUP(F17,A163:E174,(VLOOKUP(K17,A177:B180,2,0)),0)","v":2}]
[]
["Počet dní v mesiaci",null,null,{"$f":"VLOOKUP(F17,A183:C194,(VLOOKUP(K17,A196:B199,2,0)),0)","v":30}]
[]
["Vyberte",2019,2020,2021,2022]
["Január","ut","st","pi","so"]
["Február","pi","so","po","ut"]
["Marec","pi","ne","po","ut"]
["Apríl","po","st","št","pi"]
["Máj","st","pi","so","ne"]
["Jún","so","po","ut","st"]
["Júl","po","st","št","pi"]
["August","št","so","ne","po"]
["September","ne","ut","st","št"]
["Október","ut","št","pi","so"]
["November","pi","ne","po","ut"]
["December","ne","ut","st","št"]
[]
[null,2019,2020,2021,2022]
["Január",2,3,5,6]
["Február",5,6,1,2]
["Marec",5,7,1,2]
["Apríl",1,3,4,5]
["Máj",3,5,6,7]
["Jún",6,1,2,3]
["Júl",1,3,4,5]
["August",4,6,7,1]
["September",7,2,3,4]
["Október",2,4,5,6]
["November",5,7,1,2]
["December",7,2,3,4]
[]
[]
[2019,{"$f":"COLUMN(B162)","v":2}]
[2020,{"$f":"COLUMN($C$162)","v":3}]
[2021,{"$f":"COLUMN($D$162)","v":4}]
[2022,{"$f":"COLUMN($E$162)","v":5}]
[]
[null,"ostatné",2020]
["Január",31,31]
["Február",28,29]
["Marec",31,31]
["Apríl",30,30]
["Máj",31,31]
["Jún",30,30]
["Júl",31,31]
["August",31,31]
["September",30,30]
["Október",31,31]
["November",30,30]
["December",31,31]
[]
[2019,{"$f":"COLUMN(B182)","v":2}]
[2020,{"$f":"COLUMN($C$182)","v":3}]
[2021,{"$f":"COLUMN($B$182)","v":2}]
[2022,{"$f":"COLUMN($B$182)","v":2}]

{"sheet":"PV8","index":7,"n_rows":199,"n_cols":21,"rows_kept":199,"cut":false,"hidden":false,"merged":[[5,5,5,7],[5,8,5,9],[7,0,7,4],[7,5,7,11],[8,0,8,4],[8,5,8,11],[14,0,14,4],[14,5,14,11],[15,0,15,4],[15,5,15,10],[16,0,16,4],[16,5,16,9],[9,0,9,4],[9,5,9,11],[10,0,11,4],[10,5,11,11],[12,0,12,4],[12,5,12,11],[18,10,19,10],[18,11,19,11],[20,5,20,8],[21,5,21,8],[22,5,22,8],[23,5,23,8],[18,0,19,0],[18,1,19,1],[18,2,18,3],[18,4,19,4],[18,5,19,8],[18,9,19,9],[30,5,30,8],[31,5,31,8],[32,5,32,8],[33,5,33,8],[34,5,34,8],[35,5,35,8],[24,5,24,8],[25,5,25,8],[26,5,26,8],[27,5,27,8],[28,5,28,8],[29,5,29,8],[42,5,42,8],[43,5,43,8],[44,5,44,8],[45,5,45,8],[46,5,46,8],[47,5,47,8],[36,5,36,8],[37,5,37,8],[38,5,38,8],[39,5,39,8],[40,5,40,8],[41,5,41,8],[54,5,54,8],[55,5,55,8],[56,5,56,8],[57,5,57,8],[58,5,58,8],[59,5,59,8],[48,5,48,8],[49,5,49,8],[50,5,50,8],[51,5,51,8],[52,5,52,8],[53,5,53,8],[66,5,66,8],[67,5,67,8],[68,5,68,8],[69,5,69,8],[70,5,70,8],[71,5,71,8],[60,5,60,8],[61,5,61,8],[62,5,62,8],[63,5,63,8],[64,5,64,8],[65,5,65,8],[78,5,78,8],[79,5,79,8],[80,5,80,8],[81,5,81,8],[82,5,82,8],[83,5,83,8],[72,5,72,8],[73,5,73,8],[74,5,74,8],[75,5,75,8],[76,5,76,8],[77,5,77,8],[90,5,90,8],[91,5,91,8],[92,5,92,8],[93,5,93,8],[94,5,94,8],[95,5,95,8],[84,5,84,8],[85,5,85,8],[86,5,86,8],[87,5,87,8],[88,5,88,8],[89,5,89,8],[102,5,102,8],[103,5,103,8],[104,5,104,8],[105,5,105,8],[106,5,106,8],[107,5,107,8],[96,5,96,8],[97,5,97,8],[98,5,98,8],[99,5,99,8],[100,5,100,8],[101,5,101,8],[118,2,118,11],[120,0,120,2],[120,3,120,5],[120,9,120,11],[122,0,122,2],[122,3,122,5],[122,7,122,10],[108,5,108,8],[109,5,109,8],[110,5,110,8],[111,5,111,8],[112,5,112,8],[115,2,116,11],[140,0,140,11],[141,0,141,11],[136,0,136,6],[136,7,136,11],[137,0,137,6],[137,7,137,11],[138,0,138,6],[138,7,138,11],[124,0,125,11],[126,0,126,11],[127,0,128,11],[134,0,134,11],[135,0,135,6],[135,7,135,11]]}
[]
[null,null,null,null,null,null,null,null,null,null,null,null,null,null,null,null,null,null,null,null,{"$f":"VLOOKUP(F17,PV!A149:'PV'!F160,6,0)","v":9}]
[null,null,null,null,null,null,null,null,null,null,null,null,null,null,null,null,null,null,null,null,{"$f":"IF(U17=\"\",\"\",LEFT(U17,1))","v":"M"}]
[null,null,null,null,null,null,null,null,null,null,null,null,null,null,null,null,null,null,null,null,{"$f":"IF(U17=\"\",\"\",LEFT(RIGHT(U17,LEN(U17)-FIND(\" \",U17,1)),1))","v":"P"}]
[]
[null,null,null,null,null,"PRACOVNÝ VÝKAZ č. ",null,null,{"$f":"IF(U2>9,CONCATENATE(U2,\"/\",U3,U4,\"/04\"),CONCATENATE(\"0\",U2,\"/\",U3,U4,\"/08\"))","v":"09/MP/08"},null,null,null,null,null,null,null,null,null,null,null,{"$f":"SUBSTITUTE(F15,\"Ing.\",\"\")","v":"Mgr. Meno Priezvisko, PhD."}]
[null,null,null,null,null,null,null,null,null,null,null,null,null,null,null,null,null,null,null,null,{"$f":"SUBSTITUTE(U6,\"Mgr.\",\"\")","v":" Meno Priezvisko, PhD."}]
["Operačný program:",null,null,null,null,"Ľudské zdroje",null,null,null,null,null,null,null,null,null,null,null,null,null,null,{"$f":"SUBSTITUTE(U7,\"Bc.\",\"\")","v":" Meno Priezvisko, PhD."}]
["Programové obdobie:",null,null,null,null,"2014-2020",null,null,null,null,null,null,null,null,null,null,null,null,null,null,{"$f":"SUBSTITUTE(U8,\"PaedDr.\",\"\")","v":" Meno Priezvisko, PhD."}]
["Prijímateľ:",null,null,null,null,"Metodicko-pedagogické centrum",null,null,null,null,null,null,null,null,null,null,null,null,null,null,{"$f":"SUBSTITUTE(U9,\"PhDr.\",\"\")","v":" Meno Priezvisko, PhD."}]
["Názov projektu:",null,null,null,null,"Profesijný rozvoj učiteľov (TEACHERS)",null,null,null,null,null,null,null,null,null,null,null,null,null,null,{"$f":"SUBSTITUTE(U10,\"Doc.\",\"\")","v":" Meno Priezvisko, PhD."}]
[null,null,null,null,null,null,null,null,null,null,null,null,null,null,null,null,null,null,null,null,{"$f":"SUBSTITUTE(U11,\"ThDr.\",\"\")","v":" Meno Priezvisko, PhD."}]
["Kód ITMS projektu:",null,null,null,null,"312011AUN7",null,null,null,null,null,null,null,null,null,null,null,null,null,null,{"$f":"SUBSTITUTE(U12,\"MUDr.\",\"\")","v":" Meno Priezvisko, PhD."}]
[null,null,null,null,null,null,null,null,null,null,null,null,null,null,null,null,null,null,null,null,{"$f":"SUBSTITUTE(U13,\"Dr.\",\"\")","v":" Meno Priezvisko, PhD."}]
["Meno a priezvisko osoby:",null,null,null,null,{"$f":"PV!F15","v":"Mgr. Meno Priezvisko, PhD."},null,null,null,null,null,null,null,null,null,null,null,null,null,null,{"$f":"SUBSTITUTE(U14,\"habil.\",\"\")","v":" Meno Priezvisko, PhD."}]
["Funkcia/Právny vzťah",null,null,null,null,null,null,null,null,null,null,"PP",null,null,null,null,null,null,null,null,{"$f":"SUBSTITUTE(U15,\"MUDr.\",\"\")","v":" Meno Priezvisko, PhD."}]
["Obdobie vykonávania činností:",null,null,null,null,{"$f":"PV!F17","v":"September"},null,null,null,null,{"$f":"PV!K17","v":2020},null,null,null,null,null,null,null,null,null,{"$f":"TRIM(U16)","v":"Meno Priezvisko, PhD."}]
[]
["Dátum","Deň","Čas vykonania\n prác",null,"Počet \nodpracovaných hodín*","Detailný popis činností vykonávaných na základe zmluvy o poskytnutí NFP a popis výsledkov vykonanej činnosti",null,null,null,"Počet odpracovaných hodín MRR*","Počet odpracovaných hodín VRR*","Miesto výkonávania činnosti",null,null,null,null,null,null,null,null,"Nastavenie času vzhľadom na obed"]
[null,null,"Od","Do",null,null,null,null,null,null,null,null,null,"Pozícia","VRR","Miesto","Činnosť","Pracovný pomer"]
[1,{"$f":"IF($D$144=1,\"Po\",IF($D$144=2,\"Ut\",IF($D$144=3,\"St\",IF($D$144=4,\"Št\",IF($D$144=5,\"Pi\",IF($D$144=6,\"So\",IF($D$144=7,\"Ne\",\"Nastala chyba\")))))))","v":"Ut"},null,null,{"$f":"IF(OR(U21=\"dobre\",U21=\"obed\"),IF(OR(B21=\"So\",B21=\"Ne\"),\"\",IF(OR(D21<=VEMA!P$18,C21>=VEMA!Q$18),(D21-C21)*24,(D21-C21)*24-VEMA!R$18)),\"<< zlý čas\")","v":0},null,null,null,null,{"$f":"IF(B21=\"\",\"\",IF(B21=\"So\",\"\",(IF(B21=\"Ne\",\"\",(ROUND(E21-K21,2))))))","v":0},{"$f":"IF(B21=\"So\",\"\",(IF(B21=\"Ne\",\"\",(IF(B21=\"\",\"\",(IF(COUNTIF(Pozicia,$F$16),ROUND(VRR*E21,2),0)))))))","v":0},null,null,"4.1.2. Člen expertnej skupiny",0.13689999999999999,"Bratislava","4.1.2. ČES: Spracovanie východísk inovácie a tvorby nových profesijných štandardov.","PP",{"$f":"IF(SUM(E21:E23)=0,\"\",SUM(E21:E23))","v":""},null,{"$f":"IF(OR(B21=\"So\",B21=\"Ne\"),\"dobre\",IF(C21>D21,\"zle\",IF(AND(C21<=VEMA!P$18,VEMA!Q$18<=D21),\"obed\",IF(OR(D21<=VEMA!P$18,VEMA!Q$18<=C21),\"dobre\",\"zle\"))))","v":"dobre"}]
[null,{"$f":"B21","v":"Ut"},null,null,{"$f":"IF(OR(U22=\"dobre\",U22=\"obed\"),IF(OR(B22=\"So\",B22=\"Ne\"),\"\",IF(OR(D22<=VEMA!P$18,C22>=VEMA!Q$18),(D22-C22)*24,(D22-C22)*24-VEMA!R$18)),\"<< zlý čas\")","v":0},null,null,null,null,0,0,null,null,"4.1.4. Člen pracovnej skupiny",0.13689999999999999,"Banská Bystrica","4.1.2. ČES: Určenie základných princípov revízie profesijných štandardov.","D","",null,{"$f":"IF(OR(B22=\"So\",B22=\"Ne\"),\"dobre\",IF(C22>D22,\"zle\",IF(AND(C22<=VEMA!P$18,VEMA!Q$18<=D22),\"obed\",IF(OR(D22<=VEMA!P$18,VEMA!Q$18<=C22),\"dobre\",\"zle\"))))","v":"dobre"}]
[null,{"$f":"B22","v":"Ut"},null,null,{"$f":"IF(OR(U23=\"dobre\",U23=\"obed\"),IF(OR(B23=\"So\",B23=\"Ne\"),\"\",IF(OR(D23<=VEMA!P$18,C23>=VEMA!Q$18),(D23-C23)*24,(D23-C23)*24-VEMA!R$18)),\"<< zlý čas\")","v":0},null,null,null,null,0,0,null,null,"4.1.8. Regionálny odborný riešiteľ 1.2",0.13689999999999999,"Prešov","4.1.2. ČES: Stanovenie východísk pre inovovaný a nový profesijný štandard; vypracovanie vzorového profesijného štandardu (modelu) ","F","",null,{"$f":"IF(OR(B23=\"So\",B23=\"Ne\"),\"dobre\",IF(C23>D23,\"zle\",IF(AND(C23<=VEMA!P$18,VEMA!Q$18<=D23),\"obed\",IF(OR(D23<=VEMA!P$18,VEMA!Q$18<=C23),\"dobre\",\"zle\"))))","v":"dobre"}]
[{"$f":"IF(A21=\"\",\"\",IF(A21+1<=$D$146,A21+1,\"\"))","v":2},{"$f":"IF(A24=\"\",\"\",IF(B21=\"Po\",\"Ut\",IF(B21=\"Ut\",\"St\",IF(B21=\"St\",\"Št\",IF(B21=\"Št\",\"Pi\",IF(B21=\"Pi\",\"So\",IF(B21=\"So\",\"Ne\",IF(B21=\"Ne\",\"Po\",\"\"))))))))","v":"St"},null,null,{"$f":"IF(OR(U24=\"dobre\",U24=\"obed\"),IF(OR(B24=\"So\",B24=\"Ne\"),\"\",IF(OR(D24<=VEMA!P$19,C24>=VEMA!Q$19),(D24-C24)*24,(D24-C24)*24-VEMA!R$19)),\"<< zlý čas\")","v":0},null,null,null,null,0,0,null,null,"4.1.9. Odborný personál podaktivity 1.2",0.13689999999999999,"Košice","4.1.2. ČES: Určenie základných princípov  tvorby nových profesijných štandardov.","I",{"$f":"IF(SUM(E24:E26)=0,\"\",SUM(E24:E26))","v":""},null,{"$f":"IF(OR(B24=\"So\",B24=\"Ne\"),\"dobre\",IF(C24>D24,\"zle\",IF(AND(C24<=VEMA!P$19,VEMA!Q$19<=D24),\"obed\",IF(OR(D24<=VEMA!P$19,VEMA!Q$19<=C24),\"dobre\",\"zle\"))))","v":"dobre"}]
[null,{"$f":"B24","v":"St"},null,null,{"$f":"IF(OR(U25=\"dobre\",U25=\"obed\"),IF(OR(B25=\"So\",B25=\"Ne\"),\"\",IF(OR(D25<=VEMA!P$19,C25>=VEMA!Q$19),(D25-C25)*24,(D25-C25)*24-VEMA!R$19)),\"<< zlý čas\")","v":0},null,null,null,null,0,0,null,null,"4.1.12. Odborný konzultant NOPS",0.13689999999999999,"Komárno","4.1.2. ČES: Účasť na zasadnutí/porade expertnej skupiny.","DD",null,null,{"$f":"IF(OR(B25=\"So\",B25=\"Ne\"),\"dobre\",IF(C25>D25,\"zle\",IF(AND(C25<=VEMA!P$19,VEMA!Q$19<=D25),\"obed\",IF(OR(D25<=VEMA!P$19,VEMA!Q$19<=C25),\"dobre\",\"zle\"))))","v":"dobre"}]
[null,{"$f":"B25","v":"St"},null,null,{"$f":"IF(OR(U26=\"dobre\",U26=\"obed\"),IF(OR(B26=\"So\",B26=\"Ne\"),\"\",IF(OR(D26<=VEMA!P$19,C26>=VEMA!Q$19),(D26-C26)*24,(D26-C26)*24-VEMA!R$19)),\"<< zlý čas\")","v":0},null,null,null,null,0,0,null,null,"4.1.15. Hodnotiteľ NOPS",0.13689999999999999,"Nitra","4.1.2. ČES: Plnenie úloh na základe pokynov Hlavného odborného riešiteľa 1.1.",null,null,null,{"$f":"IF(OR(B26=\"So\",B26=\"Ne\"),\"dobre\",IF(C26>D26,\"zle\",IF(AND(C26<=VEMA!P$19,VEMA!Q$19<=D26),\"obed\",IF(OR(D26<=VEMA!P$19,VEMA!Q$19<=C26),\"dobre\",\"zle\"))))","v":"dobre"}]
[{"$f":"IF(A24=\"\",\"\",IF(A24+1<=$D$146,A24+1,\"\"))","v":3},{"$f":"IF(A27=\"\",\"\",IF(B24=\"Po\",\"Ut\",IF(B24=\"Ut\",\"St\",IF(B24=\"St\",\"Št\",IF(B24=\"Št\",\"Pi\",IF(B24=\"Pi\",\"So\",IF(B24=\"So\",\"Ne\",IF(B24=\"Ne\",\"Po\",\"\"))))))))","v":"Št"},null,null,{"$f":"IF(OR(U27=\"dobre\",U27=\"obed\"),IF(OR(B27=\"So\",B27=\"Ne\"),\"\",IF(OR(D27<=VEMA!P$20,C27>=VEMA!Q$20),(D27-C27)*24,(D27-C27)*24-VEMA!R$20)),\"<< zlý čas\")","v":0},null,null,null,null,0,0,null,null,"4.1.17. Moderátor konferencie",0.13689999999999999,"Trenčín","4.1.2. ČES: Analýza profesijných štandardov, posúdenie obsahu a formálnej štruktúry, identifikácia nedostatkov, návrh na inováciu",null,{"$f":"IF(SUM(E27:E29)=0,\"\",SUM(E27:E29))","v":""},null,{"$f":"IF(OR(B27=\"So\",B27=\"Ne\"),\"dobre\",IF(C27>D27,\"zle\",IF(AND(C27<=VEMA!P$20,VEMA!Q$20<=D27),\"obed\",IF(OR(D27<=VEMA!P$20,VEMA!Q$20<=C27),\"dobre\",\"zle\"))))","v":"dobre"}]
[null,{"$f":"B27","v":"Št"},null,null,{"$f":"IF(OR(U28=\"dobre\",U28=\"obed\"),IF(OR(B28=\"So\",B28=\"Ne\"),\"\",IF(OR(D28<=VEMA!P$20,C28>=VEMA!Q$20),(D28-C28)*24,(D28-C28)*24-VEMA!R$20)),\"<< zlý čas\")","v":0},null,null,null,null,0,0,null,null,"4.1.18. Odborný personál konfrencie",0.13689999999999999,"Trnava","4.1.2.ČES: Koordinácia činností pracovných skupín, usmerňovanie aktivít, konzultácia s členmi pracovných skupín, práca s členmi pracovných skupín, prenos informácií",null,null,null,{"$f":"IF(OR(B28=\"So\",B28=\"Ne\"),\"dobre\",IF(C28>D28,\"zle\",IF(AND(C28<=VEMA!P$20,VEMA!Q$20<=D28),\"obed\",IF(OR(D28<=VEMA!P$20,VEMA!Q$20<=C28),\"dobre\",\"zle\"))))","v":"dobre"}]
[null,{"$f":"B28","v":"Št"},null,null,{"$f":"IF(OR(U29=\"dobre\",U29=\"obed\"),IF(OR(B29=\"So\",B29=\"Ne\"),\"\",IF(OR(D29<=VEMA!P$20,C29>=VEMA!Q$20),(D29-C29)*24,(D29-C29)*24-VEMA!R$20)),\"<< zlý čas\")","v":0},null,null,null,null,0,0,null,null,"4.1.20. Lektor učiteľských fór",0.13689999999999999,"Žilina","4.1.4. ČPS: Analýza profesijného štandardu, identifikácia nedostatkov ",null,null,null,{"$f":"IF(OR(B29=\"So\",B29=\"Ne\"),\"dobre\",IF(C29>D29,\"zle\",IF(AND(C29<=VEMA!P$20,VEMA!Q$20<=D29),\"obed\",IF(OR(D29<=VEMA!P$20,VEMA!Q$20<=C29),\"dobre\",\"zle\"))))","v":"dobre"}]
[{"$f":"IF(A27=\"\",\"\",IF(A27+1<=$D$146,A27+1,\"\"))","v":4},{"$f":"IF(A30=\"\",\"\",IF(B27=\"Po\",\"Ut\",IF(B27=\"Ut\",\"St\",IF(B27=\"St\",\"Št\",IF(B27=\"Št\",\"Pi\",IF(B27=\"Pi\",\"So\",IF(B27=\"So\",\"Ne\",IF(B27=\"Ne\",\"Po\",\"\"))))))))","v":"Pi"},null,null,{"$f":"IF(OR(U30=\"dobre\",U30=\"obed\"),IF(OR(B30=\"So\",B30=\"Ne\"),\"\",IF(OR(D30<=VEMA!P$21,C30>=VEMA!Q$21),(D30-C30)*24,(D30-C30)*24-VEMA!R$21)),\"<< zlý čas\")","v":0},null,null,null,null,0,0,null,null,"4.1.22. Moderátor učiteľských fór",0.13689999999999999,"home office ","4.1.4. ČPS: Predloženie návrhu na inováciu resp. tvorbu profesijného štandardu.",null,{"$f":"IF(SUM(E30:E32)=0,\"\",SUM(E30:E32))","v":""},null,{"$f":"IF(OR(B30=\"So\",B30=\"Ne\"),\"dobre\",IF(C30>D30,\"zle\",IF(AND(C30<=VEMA!P$21,VEMA!Q$21<=D30),\"obed\",IF(OR(D30<=VEMA!P$21,VEMA!Q$21<=C30),\"dobre\",\"zle\"))))","v":"dobre"}]
[null,{"$f":"B30","v":"Pi"},null,null,{"$f":"IF(OR(U31=\"dobre\",U31=\"obed\"),IF(OR(B31=\"So\",B31=\"Ne\"),\"\",IF(OR(D31<=VEMA!P$21,C31>=VEMA!Q$21),(D31-C31)*24,(D31-C31)*24-VEMA!R$21)),\"<< zlý čas\")","v":0},null,null,null,null,0,0,null,null,"4.1.23. Analytik",0.13689999999999999,"home office (miesto trvalého bydliska)","4.1.4. ČPS: Priebežné spracovávanie profesijného štandardu.",null,null,null,{"$f":"IF(OR(B31=\"So\",B31=\"Ne\"),\"dobre\",IF(C31>D31,\"zle\",IF(AND(C31<=VEMA!P$21,VEMA!Q$21<=D31),\"obed\",IF(OR(D31<=VEMA!P$21,VEMA!Q$21<=C31),\"dobre\",\"zle\"))))","v":"dobre"}]
[null,{"$f":"B31","v":"Pi"},null,null,{"$f":"IF(OR(U32=\"dobre\",U32=\"obed\"),IF(OR(B32=\"So\",B32=\"Ne\"),\"\",IF(OR(D32<=VEMA!P$21,C32>=VEMA!Q$21),(D32-C32)*24,(D32-C32)*24-VEMA!R$21)),\"<< zlý čas\")","v":0},null,null,null,null,0,0,null,null,"4.1. 25. Tvorca PV a UZ",0.13689999999999999,null,"4.1.4. ČPS: Finálne spracovanie a odovzdanie profesijného štandardu.",null,null,null,{"$f":"IF(OR(B32=\"So\",B32=\"Ne\"),\"dobre\",IF(C32>D32,\"zle\",IF(AND(C32<=VEMA!P$21,VEMA!Q$21<=D32),\"obed\",IF(OR(D32<=VEMA!P$21,VEMA!Q$21<=C32),\"dobre\",\"zle\"))))","v":"dobre"}]
[{"$f":"IF(A30=\"\",\"\",IF(A30+1<=$D$146,A30+1,\"\"))","v":5},{"$f":"IF(A33=\"\",\"\",IF(B30=\"Po\",\"Ut\",IF(B30=\"Ut\",\"St\",IF(B30=\"St\",\"Št\",IF(B30=\"Št\",\"Pi\",IF(B30=\"Pi\",\"So\",IF(B30=\"So\",\"Ne\",IF(B30=\"Ne\",\"Po\",\"\"))))))))","v":"So"},null,null,{"$f":"IF(OR(U33=\"dobre\",U33=\"obed\"),IF(OR(B33=\"So\",B33=\"Ne\"),\"\",IF(OR(D33<=VEMA!P$22,C33>=VEMA!Q$22),(D33-C33)*24,(D33-C33)*24-VEMA!R$22)),\"<< zlý čas\")","v":""},null,null,null,null,"","",null,null,"4.1.28. Odborný garant PV - inovačné programy (podľa zákona č. 138/2019 Z.z.)",0.13689999999999999,null,"4.1.4. ČPS: Plnenie úloh na základe pokynov Hlavného odborného riešiteľa 1.1.",null,{"$f":"IF(SUM(E33:E35)=0,\"\",SUM(E33:E35))","v":""},null,{"$f":"IF(OR(B33=\"So\",B33=\"Ne\"),\"dobre\",IF(C33>D33,\"zle\",IF(AND(C33<=VEMA!P$22,VEMA!Q$22<=D33),\"obed\",IF(OR(D33<=VEMA!P$22,VEMA!Q$22<=C33),\"dobre\",\"zle\"))))","v":"dobre"}]
[null,{"$f":"B33","v":"So"},null,null,{"$f":"IF(OR(U34=\"dobre\",U34=\"obed\"),IF(OR(B34=\"So\",B34=\"Ne\"),\"\",IF(OR(D34<=VEMA!P$22,C34>=VEMA!Q$22),(D34-C34)*24,(D34-C34)*24-VEMA!R$22)),\"<< zlý čas\")","v":""},null,null,null,null,"","",null,null,"4.1.29. Vedúci vzdelávacej skupiny",0.13689999999999999,null,"4.1.4. ČPS: Účasť na zasadnutí/porade pracovnej skupiny.",null,null,null,{"$f":"IF(OR(B34=\"So\",B34=\"Ne\"),\"dobre\",IF(C34>D34,\"zle\",IF(AND(C34<=VEMA!P$22,VEMA!Q$22<=D34),\"obed\",IF(OR(D34<=VEMA!P$22,VEMA!Q$22<=C34),\"dobre\",\"zle\"))))","v":"dobre"}]
[null,{"$f":"B34","v":"So"},null,null,{"$f":"IF(OR(U35=\"dobre\",U35=\"obed\"),IF(OR(B35=\"So\",B35=\"Ne\"),\"\",IF(OR(D35<=VEMA!P$22,C35>=VEMA!Q$22),(D35-C35)*24,(D35-C35)*24-VEMA!R$22)),\"<< zlý čas\")","v":""},null,null,null,null,"","",null,null,"4.1.30. Lektor PV",0.13689999999999999,null,"4.1.4. ČPS: Zapracovanie pripomienok hodnotiteľa profesijného štandardu, úprava profesijného štandardu na základe hodnotiaceho posudku.",null,null,null,{"$f":"IF(OR(B35=\"So\",B35=\"Ne\"),\"dobre\",IF(C35>D35,\"zle\",IF(AND(C35<=VEMA!P$22,VEMA!Q$22<=D35),\"obed\",IF(OR(D35<=VEMA!P$22,VEMA!Q$22<=C35),\"dobre\",\"zle\"))))","v":"dobre"}]
[{"$f":"IF(A33=\"\",\"\",IF(A33+1<=$D$146,A33+1,\"\"))","v":6},{"$f":"IF(A36=\"\",\"\",IF(B33=\"Po\",\"Ut\",IF(B33=\"Ut\",\"St\",IF(B33=\"St\",\"Št\",IF(B33=\"Št\",\"Pi\",IF(B33=\"Pi\",\"So\",IF(B33=\"So\",\"Ne\",IF(B33=\"Ne\",\"Po\",\"\"))))))))","v":"Ne"},null,null,{"$f":"IF(OR(U36=\"dobre\",U36=\"obed\"),IF(OR(B36=\"So\",B36=\"Ne\"),\"\",IF(OR(D36<=VEMA!P$23,C36>=VEMA!Q$23),(D36-C36)*24,(D36-C36)*24-VEMA!R$23)),\"<< zlý čas\")","v":""},null,null,null,null,"","",null,null,"4.1.32. Poradcovia v školách ",0.13689999999999999,null,"4.1.8. ROR 1.2: Koordinovanie odborných aktivít realizovaných v národnom projekte.",null,{"$f":"IF(SUM(E36:E38)=0,\"\",SUM(E36:E38))","v":""},null,{"$f":"IF(OR(B36=\"So\",B36=\"Ne\"),\"dobre\",IF(C36>D36,\"zle\",IF(AND(C36<=VEMA!P$23,VEMA!Q$23<=D36),\"obed\",IF(OR(D36<=VEMA!P$23,VEMA!Q$23<=C36),\"dobre\",\"zle\"))))","v":"dobre"}]
[null,{"$f":"B36","v":"Ne"},null,null,{"$f":"IF(OR(U37=\"dobre\",U37=\"obed\"),IF(OR(B37=\"So\",B37=\"Ne\"),\"\",IF(OR(D37<=VEMA!P$23,C37>=VEMA!Q$23),(D37-C37)*24,(D37-C37)*24-VEMA!R$23)),\"<< zlý čas\")","v":""},null,null,null,null,"","",null,null,"4.1.33. Poradcovia v školách ",0.13689999999999999,null,"4.1.8. ROR 1.2: Kontrola plnenia čiastkových  úloh na jednotlivých činnostiach/aktivitách.",null,null,null,{"$f":"IF(OR(B37=\"So\",B37=\"Ne\"),\"dobre\",IF(C37>D37,\"zle\",IF(AND(C37<=VEMA!P$23,VEMA!Q$23<=D37),\"obed\",IF(OR(D37<=VEMA!P$23,VEMA!Q$23<=C37),\"dobre\",\"zle\"))))","v":"dobre"}]
[null,{"$f":"B37","v":"Ne"},null,null,{"$f":"IF(OR(U38=\"dobre\",U38=\"obed\"),IF(OR(B38=\"So\",B38=\"Ne\"),\"\",IF(OR(D38<=VEMA!P$23,C38>=VEMA!Q$23),(D38-C38)*24,(D38-C38)*24-VEMA!R$23)),\"<< zlý čas\")","v":""},null,null,null,null,"","",null,null,null,null,null,"4.1.8. ROR 1.2: Účasť na zasadnutí/porade s hlavným odborným riešiteľom podaktivity.",null,null,null,{"$f":"IF(OR(B38=\"So\",B38=\"Ne\"),\"dobre\",IF(C38>D38,\"zle\",IF(AND(C38<=VEMA!P$23,VEMA!Q$23<=D38),\"obed\",IF(OR(D38<=VEMA!P$23,VEMA!Q$23<=C38),\"dobre\",\"zle\"))))","v":"dobre"}]
[{"$f":"IF(A36=\"\",\"\",IF(A36+1<=$D$146,A36+1,\"\"))","v":7},{"$f":"IF(A39=\"\",\"\",IF(B36=\"Po\",\"Ut\",IF(B36=\"Ut\",\"St\",IF(B36=\"St\",\"Št\",IF(B36=\"Št\",\"Pi\",IF(B36=\"Pi\",\"So\",IF(B36=\"So\",\"Ne\",IF(B36=\"Ne\",\"Po\",\"\"))))))))","v":"Po"},null,null,{"$f":"IF(OR(U39=\"dobre\",U39=\"obed\"),IF(OR(B39=\"So\",B39=\"Ne\"),\"\",IF(OR(D39<=VEMA!P$24,C39>=VEMA!Q$24),(D39-C39)*24,(D39-C39)*24-VEMA!R$24)),\"<< zlý čas\")","v":0},null,null,null,null,0,0,null,null,null,null,null,"4.1.8. ROR 1.2: Účasť na porade k národnému projektu ",null,{"$f":"IF(SUM(E39:E41)=0,\"\",SUM(E39:E41))","v":""},null,{"$f":"IF(OR(B39=\"So\",B39=\"Ne\"),\"dobre\",IF(C39>D39,\"zle\",IF(AND(C39<=VEMA!P$24,VEMA!Q$24<=D39),\"obed\",IF(OR(D39<=VEMA!P$24,VEMA!Q$24<=C39),\"dobre\",\"zle\"))))","v":"dobre"}]
[null,{"$f":"B39","v":"Po"},null,null,{"$f":"IF(OR(U40=\"dobre\",U40=\"obed\"),IF(OR(B40=\"So\",B40=\"Ne\"),\"\",IF(OR(D40<=VEMA!P$24,C40>=VEMA!Q$24),(D40-C40)*24,(D40-C40)*24-VEMA!R$24)),\"<< zlý čas\")","v":0},null,null,null,null,0,0,null,null,null,null,null,"4.1.8. ROR 1.2: Koordinovanie odborných aktivít a priebežná kontrola plnenia úloh realizovaných v národnom projekte.",null,null,null,{"$f":"IF(OR(B40=\"So\",B40=\"Ne\"),\"dobre\",IF(C40>D40,\"zle\",IF(AND(C40<=VEMA!P$24,VEMA!Q$24<=D40),\"obed\",IF(OR(D40<=VEMA!P$24,VEMA!Q$24<=C40),\"dobre\",\"zle\"))))","v":"dobre"}]
[null,{"$f":"B40","v":"Po"},null,null,{"$f":"IF(OR(U41=\"dobre\",U41=\"obed\"),IF(OR(B41=\"So\",B41=\"Ne\"),\"\",IF(OR(D41<=VEMA!P$24,C41>=VEMA!Q$24),(D41-C41)*24,(D41-C41)*24-VEMA!R$24)),\"<< zlý čas\")","v":0},null,null,null,null,0,0,null,null,null,null,null,"4.1.9. OPP:  Výkon odbornej činnosti podľa pokynov hlavného odborného riešiteľa podaktivity1.2.",null,null,null,{"$f":"IF(OR(B41=\"So\",B41=\"Ne\"),\"dobre\",IF(C41>D41,\"zle\",IF(AND(C41<=VEMA!P$24,VEMA!Q$24<=D41),\"obed\",IF(OR(D41<=VEMA!P$24,VEMA!Q$24<=C41),\"dobre\",\"zle\"))))","v":"dobre"}]
[{"$f":"IF(A39=\"\",\"\",IF(A39+1<=$D$146,A39+1,\"\"))","v":8},{"$f":"IF(A42=\"\",\"\",IF(B39=\"Po\",\"Ut\",IF(B39=\"Ut\",\"St\",IF(B39=\"St\",\"Št\",IF(B39=\"Št\",\"Pi\",IF(B39=\"Pi\",\"So\",IF(B39=\"So\",\"Ne\",IF(B39=\"Ne\",\"Po\",\"\"))))))))","v":"Ut"},null,null,{"$f":"IF(OR(U42=\"dobre\",U42=\"obed\"),IF(OR(B42=\"So\",B42=\"Ne\"),\"\",IF(OR(D42<=VEMA!P$25,C42>=VEMA!Q$25),(D42-C42)*24,(D42-C42)*24-VEMA!R$25)),\"<< zlý čas\")","v":0},null,null,null,null,0,0,null,null,null,null,null,"4.1.9. OPP: Výkon odbornej činnosti podľa pokynov regionálneho odborného riešiteľa podaktivity 1.2.",null,{"$f":"IF(SUM(E42:E44)=0,\"\",SUM(E42:E44))","v":""},null,{"$f":"IF(OR(B42=\"So\",B42=\"Ne\"),\"dobre\",IF(C42>D42,\"zle\",IF(AND(C42<=VEMA!P$25,VEMA!Q$25<=D42),\"obed\",IF(OR(D42<=VEMA!P$25,VEMA!Q$25<=C42),\"dobre\",\"zle\"))))","v":"dobre"}]
[null,{"$f":"B42","v":"Ut"},null,null,{"$f":"IF(OR(U43=\"dobre\",U43=\"obed\"),IF(OR(B43=\"So\",B43=\"Ne\"),\"\",IF(OR(D43<=VEMA!P$25,C43>=VEMA!Q$25),(D43-C43)*24,(D43-C43)*24-VEMA!R$25)),\"<< zlý čas\")","v":0},null,null,null,null,0,0,null,null,null,null,null,"4.1.9. OPP: Účasť na zasadnutí/porade s hlavným odborným riešiteľom podaktivity.",null,null,null,{"$f":"IF(OR(B43=\"So\",B43=\"Ne\"),\"dobre\",IF(C43>D43,\"zle\",IF(AND(C43<=VEMA!P$25,VEMA!Q$25<=D43),\"obed\",IF(OR(D43<=VEMA!P$25,VEMA!Q$25<=C43),\"dobre\",\"zle\"))))","v":"dobre"}]
[null,{"$f":"B43","v":"Ut"},null,null,{"$f":"IF(OR(U44=\"dobre\",U44=\"obed\"),IF(OR(B44=\"So\",B44=\"Ne\"),\"\",IF(OR(D44<=VEMA!P$25,C44>=VEMA!Q$25),(D44-C44)*24,(D44-C44)*24-VEMA!R$25)),\"<< zlý čas\")","v":0},null,null,null,null,0,0,null,null,null,null,null,"4.1.9. OPP: Účasť na zasadnutí/porade v MPC k implementácii národného projektu.",null,null,null,{"$f":"IF(OR(B44=\"So\",B44=\"Ne\"),\"dobre\",IF(C44>D44,\"zle\",IF(AND(C44<=VEMA!P$25,VEMA!Q$25<=D44),\"obed\",IF(OR(D44<=VEMA!P$25,VEMA!Q$25<=C44),\"dobre\",\"zle\"))))","v":"dobre"}]
[{"$f":"IF(A42=\"\",\"\",IF(A42+1<=$D$146,A42+1,\"\"))","v":9},{"$f":"IF(A45=\"\",\"\",IF(B42=\"Po\",\"Ut\",IF(B42=\"Ut\",\"St\",IF(B42=\"St\",\"Št\",IF(B42=\"Št\",\"Pi\",IF(B42=\"Pi\",\"So\",IF(B42=\"So\",\"Ne\",IF(B42=\"Ne\",\"Po\",\"\"))))))))","v":"St"},null,null,{"$f":"IF(OR(U45=\"dobre\",U45=\"obed\"),IF(OR(B45=\"So\",B45=\"Ne\"),\"\",IF(OR(D45<=VEMA!P$26,C45>=VEMA!Q$26),(D45-C45)*24,(D45-C45)*24-VEMA!R$26)),\"<< zlý čas\")","v":0},null,null,null,null,0,0,null,null,null,null,null,"4.1.9. OPP: Výkon odbornej činnosti (podpora pri plánovaní a realizácií NOPS, vzdelávacích aktivít, konferencií, poradenstva, UF).",null,{"$f":"IF(SUM(E45:E47)=0,\"\",SUM(E45:E47))","v":""},null,{"$f":"IF(OR(B45=\"So\",B45=\"Ne\"),\"dobre\",IF(C45>D45,\"zle\",IF(AND(C45<=VEMA!P$26,VEMA!Q$26<=D45),\"obed\",IF(OR(D45<=VEMA!P$26,VEMA!Q$26<=C45),\"dobre\",\"zle\"))))","v":"dobre"}]
[null,{"$f":"B45","v":"St"},null,null,{"$f":"IF(OR(U46=\"dobre\",U46=\"obed\"),IF(OR(B46=\"So\",B46=\"Ne\"),\"\",IF(OR(D46<=VEMA!P$26,C46>=VEMA!Q$26),(D46-C46)*24,(D46-C46)*24-VEMA!R$26)),\"<< zlý čas\")","v":0},null,null,null,null,0,0,null,null,null,null,null,"4.1.12. OK NOPS: Odborné konzultácie pri prihlasovaní a v procese  spracovania NOPS.",null,null,null,{"$f":"IF(OR(B46=\"So\",B46=\"Ne\"),\"dobre\",IF(C46>D46,\"zle\",IF(AND(C46<=VEMA!P$26,VEMA!Q$26<=D46),\"obed\",IF(OR(D46<=VEMA!P$26,VEMA!Q$26<=C46),\"dobre\",\"zle\"))))","v":"dobre"}]
[null,{"$f":"B46","v":"St"},null,null,{"$f":"IF(OR(U47=\"dobre\",U47=\"obed\"),IF(OR(B47=\"So\",B47=\"Ne\"),\"\",IF(OR(D47<=VEMA!P$26,C47>=VEMA!Q$26),(D47-C47)*24,(D47-C47)*24-VEMA!R$26)),\"<< zlý čas\")","v":0},null,null,null,null,0,0,null,null,null,null,null,"4.1.12. OK NOPS: Priebežné pripomienkovanie materiálu  pri procese  spracovania NOPS.",null,null,null,{"$f":"IF(OR(B47=\"So\",B47=\"Ne\"),\"dobre\",IF(C47>D47,\"zle\",IF(AND(C47<=VEMA!P$26,VEMA!Q$26<=D47),\"obed\",IF(OR(D47<=VEMA!P$26,VEMA!Q$26<=C47),\"dobre\",\"zle\"))))","v":"dobre"}]
[{"$f":"IF(A45=\"\",\"\",IF(A45+1<=$D$146,A45+1,\"\"))","v":10},{"$f":"IF(A48=\"\",\"\",IF(B45=\"Po\",\"Ut\",IF(B45=\"Ut\",\"St\",IF(B45=\"St\",\"Št\",IF(B45=\"Št\",\"Pi\",IF(B45=\"Pi\",\"So\",IF(B45=\"So\",\"Ne\",IF(B45=\"Ne\",\"Po\",\"\"))))))))","v":"Št"},null,null,{"$f":"IF(OR(U48=\"dobre\",U48=\"obed\"),IF(OR(B48=\"So\",B48=\"Ne\"),\"\",IF(OR(D48<=VEMA!P$27,C48>=VEMA!Q$27),(D48-C48)*24,(D48-C48)*24-VEMA!R$27)),\"<< zlý čas\")","v":0},null,null,null,null,0,0,null,null,null,null,null,"4.1.12. OK NOPS: Poskytovanie súčinnosti garantovi NOPS pri tvorbe smernice, vyhlasovaní výzvy na spracovanie NOPS, vyhodnotení doručených prihlášok a podkladov k uzatváraniu zmluvných vzťahov s vybranými spracovateľmi NOPS.",null,{"$f":"IF(SUM(E48:E50)=0,\"\",SUM(E48:E50))","v":""},null,{"$f":"IF(OR(B48=\"So\",B48=\"Ne\"),\"dobre\",IF(C48>D48,\"zle\",IF(AND(C48<=VEMA!P$27,VEMA!Q$27<=D48),\"obed\",IF(OR(D48<=VEMA!P$27,VEMA!Q$27<=C48),\"dobre\",\"zle\"))))","v":"dobre"}]
[null,{"$f":"B48","v":"Št"},null,null,{"$f":"IF(OR(U49=\"dobre\",U49=\"obed\"),IF(OR(B49=\"So\",B49=\"Ne\"),\"\",IF(OR(D49<=VEMA!P$27,C49>=VEMA!Q$27),(D49-C49)*24,(D49-C49)*24-VEMA!R$27)),\"<< zlý čas\")","v":0},null,null,null,null,0,0,null,null,null,null,null,"4.1.12. OK NOPS: Preberanie odovzdaných NOPS, predkladanie návrhu interných hodnotiteľov.",null,null,null,{"$f":"IF(OR(B49=\"So\",B49=\"Ne\"),\"dobre\",IF(C49>D49,\"zle\",IF(AND(C49<=VEMA!P$27,VEMA!Q$27<=D49),\"obed\",IF(OR(D49<=VEMA!P$27,VEMA!Q$27<=C49),\"dobre\",\"zle\"))))","v":"dobre"}]
[null,{"$f":"B49","v":"Št"},null,null,{"$f":"IF(OR(U50=\"dobre\",U50=\"obed\"),IF(OR(B50=\"So\",B50=\"Ne\"),\"\",IF(OR(D50<=VEMA!P$27,C50>=VEMA!Q$27),(D50-C50)*24,(D50-C50)*24-VEMA!R$27)),\"<< zlý čas\")","v":0},null,null,null,null,0,0,null,null,null,null,null,"4.1.12. OK NOPS: Odborné konzultácie/podpora  pri procese  spracovania  a finalizácii NOPS.",null,null,null,{"$f":"IF(OR(B50=\"So\",B50=\"Ne\"),\"dobre\",IF(C50>D50,\"zle\",IF(AND(C50<=VEMA!P$27,VEMA!Q$27<=D50),\"obed\",IF(OR(D50<=VEMA!P$27,VEMA!Q$27<=C50),\"dobre\",\"zle\"))))","v":"dobre"}]
[{"$f":"IF(A48=\"\",\"\",IF(A48+1<=$D$146,A48+1,\"\"))","v":11},{"$f":"IF(A51=\"\",\"\",IF(B48=\"Po\",\"Ut\",IF(B48=\"Ut\",\"St\",IF(B48=\"St\",\"Št\",IF(B48=\"Št\",\"Pi\",IF(B48=\"Pi\",\"So\",IF(B48=\"So\",\"Ne\",IF(B48=\"Ne\",\"Po\",\"\"))))))))","v":"Pi"},null,null,{"$f":"IF(OR(U51=\"dobre\",U51=\"obed\"),IF(OR(B51=\"So\",B51=\"Ne\"),\"\",IF(OR(D51<=VEMA!P$28,C51>=VEMA!Q$28),(D51-C51)*24,(D51-C51)*24-VEMA!R$28)),\"<< zlý čas\")","v":0},null,null,null,null,0,0,null,null,null,null,null,"4.1.15. H NOPS: Spracovanie hodnotenia dokumentu NOPS podľa schválenej prihlášky, v danej štruktúre a určenej šablóne dokumentu.",null,{"$f":"IF(SUM(E51:E53)=0,\"\",SUM(E51:E53))","v":""},null,{"$f":"IF(OR(B51=\"So\",B51=\"Ne\"),\"dobre\",IF(C51>D51,\"zle\",IF(AND(C51<=VEMA!P$28,VEMA!Q$28<=D51),\"obed\",IF(OR(D51<=VEMA!P$28,VEMA!Q$28<=C51),\"dobre\",\"zle\"))))","v":"dobre"}]
[null,{"$f":"B51","v":"Pi"},null,null,{"$f":"IF(OR(U52=\"dobre\",U52=\"obed\"),IF(OR(B52=\"So\",B52=\"Ne\"),\"\",IF(OR(D52<=VEMA!P$28,C52>=VEMA!Q$28),(D52-C52)*24,(D52-C52)*24-VEMA!R$28)),\"<< zlý čas\")","v":0},null,null,null,null,0,0,null,null,null,null,null,"4.1.15. H NOPS: Finalizácia hodnotenia dokumentu NOPS podľa schválenej prihlášky, v danej štruktúre a určenej šablóne dokumentu.",null,null,null,{"$f":"IF(OR(B52=\"So\",B52=\"Ne\"),\"dobre\",IF(C52>D52,\"zle\",IF(AND(C52<=VEMA!P$28,VEMA!Q$28<=D52),\"obed\",IF(OR(D52<=VEMA!P$28,VEMA!Q$28<=C52),\"dobre\",\"zle\"))))","v":"dobre"}]
[null,{"$f":"B52","v":"Pi"},null,null,{"$f":"IF(OR(U53=\"dobre\",U53=\"obed\"),IF(OR(B53=\"So\",B53=\"Ne\"),\"\",IF(OR(D53<=VEMA!P$28,C53>=VEMA!Q$28),(D53-C53)*24,(D53-C53)*24-VEMA!R$28)),\"<< zlý čas\")","v":0},null,null,null,null,0,0,null,null,null,null,null,"4.1.17. MK: Odborné zabezpečenie prípravy, programových  zložiek a priebehu konferencie. ",null,null,null,{"$f":"IF(OR(B53=\"So\",B53=\"Ne\"),\"dobre\",IF(C53>D53,\"zle\",IF(AND(C53<=VEMA!P$28,VEMA!Q$28<=D53),\"obed\",IF(OR(D53<=VEMA!P$28,VEMA!Q$28<=C53),\"dobre\",\"zle\"))))","v":"dobre"}]
[{"$f":"IF(A51=\"\",\"\",IF(A51+1<=$D$146,A51+1,\"\"))","v":12},{"$f":"IF(A54=\"\",\"\",IF(B51=\"Po\",\"Ut\",IF(B51=\"Ut\",\"St\",IF(B51=\"St\",\"Št\",IF(B51=\"Št\",\"Pi\",IF(B51=\"Pi\",\"So\",IF(B51=\"So\",\"Ne\",IF(B51=\"Ne\",\"Po\",\"\"))))))))","v":"So"},null,null,{"$f":"IF(OR(U54=\"dobre\",U54=\"obed\"),IF(OR(B54=\"So\",B54=\"Ne\"),\"\",IF(OR(D54<=VEMA!P$29,C54>=VEMA!Q$29),(D54-C54)*24,(D54-C54)*24-VEMA!R$29)),\"<< zlý čas\")","v":""},null,null,null,null,"","",null,null,null,null,null,"4.1.17. MK: Odborné zabezpečenie priebehu konferencie (moderovanie/vedenie). ",null,{"$f":"IF(SUM(E54:E56)=0,\"\",SUM(E54:E56))","v":""},null,{"$f":"IF(OR(B54=\"So\",B54=\"Ne\"),\"dobre\",IF(C54>D54,\"zle\",IF(AND(C54<=VEMA!P$29,VEMA!Q$29<=D54),\"obed\",IF(OR(D54<=VEMA!P$29,VEMA!Q$29<=C54),\"dobre\",\"zle\"))))","v":"dobre"}]
[null,{"$f":"B54","v":"So"},null,null,{"$f":"IF(OR(U55=\"dobre\",U55=\"obed\"),IF(OR(B55=\"So\",B55=\"Ne\"),\"\",IF(OR(D55<=VEMA!P$29,C55>=VEMA!Q$29),(D55-C55)*24,(D55-C55)*24-VEMA!R$29)),\"<< zlý čas\")","v":""},null,null,null,null,"","",null,null,null,null,null,"4.1.17. MK: Odborné vedenie sekcií (diskusných skupín) a workshopov.",null,null,null,{"$f":"IF(OR(B55=\"So\",B55=\"Ne\"),\"dobre\",IF(C55>D55,\"zle\",IF(AND(C55<=VEMA!P$29,VEMA!Q$29<=D55),\"obed\",IF(OR(D55<=VEMA!P$29,VEMA!Q$29<=C55),\"dobre\",\"zle\"))))","v":"dobre"}]
[null,{"$f":"B55","v":"So"},null,null,{"$f":"IF(OR(U56=\"dobre\",U56=\"obed\"),IF(OR(B56=\"So\",B56=\"Ne\"),\"\",IF(OR(D56<=VEMA!P$29,C56>=VEMA!Q$29),(D56-C56)*24,(D56-C56)*24-VEMA!R$29)),\"<< zlý čas\")","v":""},null,null,null,null,"","",null,null,null,null,null,"4.1.17. MK: Odborné zabezpečenie prípravy a celého priebehu konferencie.",null,null,null,{"$f":"IF(OR(B56=\"So\",B56=\"Ne\"),\"dobre\",IF(C56>D56,\"zle\",IF(AND(C56<=VEMA!P$29,VEMA!Q$29<=D56),\"obed\",IF(OR(D56<=VEMA!P$29,VEMA!Q$29<=C56),\"dobre\",\"zle\"))))","v":"dobre"}]
[{"$f":"IF(A54=\"\",\"\",IF(A54+1<=$D$146,A54+1,\"\"))","v":13},{"$f":"IF(A57=\"\",\"\",IF(B54=\"Po\",\"Ut\",IF(B54=\"Ut\",\"St\",IF(B54=\"St\",\"Št\",IF(B54=\"Št\",\"Pi\",IF(B54=\"Pi\",\"So\",IF(B54=\"So\",\"Ne\",IF(B54=\"Ne\",\"Po\",\"\"))))))))","v":"Ne"},null,null,{"$f":"IF(OR(U57=\"dobre\",U57=\"obed\"),IF(OR(B57=\"So\",B57=\"Ne\"),\"\",IF(OR(D57<=VEMA!P$30,C57>=VEMA!Q$30),(D57-C57)*24,(D57-C57)*24-VEMA!R$30)),\"<< zlý čas\")","v":""},null,null,null,null,"","",null,null,null,null,null,"4.1.18. OPK: Odborné zabezpečenie prípravy konferencie.",null,{"$f":"IF(SUM(E57:E59)=0,\"\",SUM(E57:E59))","v":""},null,{"$f":"IF(OR(B57=\"So\",B57=\"Ne\"),\"dobre\",IF(C57>D57,\"zle\",IF(AND(C57<=VEMA!P$30,VEMA!Q$30<=D57),\"obed\",IF(OR(D57<=VEMA!P$30,VEMA!Q$30<=C57),\"dobre\",\"zle\"))))","v":"dobre"}]
[null,{"$f":"B57","v":"Ne"},null,null,{"$f":"IF(OR(U58=\"dobre\",U58=\"obed\"),IF(OR(B58=\"So\",B58=\"Ne\"),\"\",IF(OR(D58<=VEMA!P$30,C58>=VEMA!Q$30),(D58-C58)*24,(D58-C58)*24-VEMA!R$30)),\"<< zlý čas\")","v":""},null,null,null,null,"","",null,null,null,null,null,"4.1.18. OPK: Organizačné zabezpečenie prípravy konferencie. ",null,null,null,{"$f":"IF(OR(B58=\"So\",B58=\"Ne\"),\"dobre\",IF(C58>D58,\"zle\",IF(AND(C58<=VEMA!P$30,VEMA!Q$30<=D58),\"obed\",IF(OR(D58<=VEMA!P$30,VEMA!Q$30<=C58),\"dobre\",\"zle\"))))","v":"dobre"}]
[null,{"$f":"B58","v":"Ne"},null,null,{"$f":"IF(OR(U59=\"dobre\",U59=\"obed\"),IF(OR(B59=\"So\",B59=\"Ne\"),\"\",IF(OR(D59<=VEMA!P$30,C59>=VEMA!Q$30),(D59-C59)*24,(D59-C59)*24-VEMA!R$30)),\"<< zlý čas\")","v":""},null,null,null,null,"","",null,null,null,null,null,"4.1.18. OPK: Odborné/organizačné zabezpečenie  priebehu konferencie.",null,null,null,{"$f":"IF(OR(B59=\"So\",B59=\"Ne\"),\"dobre\",IF(C59>D59,\"zle\",IF(AND(C59<=VEMA!P$30,VEMA!Q$30<=D59),\"obed\",IF(OR(D59<=VEMA!P$30,VEMA!Q$30<=C59),\"dobre\",\"zle\"))))","v":"dobre"}]
[{"$f":"IF(A57=\"\",\"\",IF(A57+1<=$D$146,A57+1,\"\"))","v":14},{"$f":"IF(A60=\"\",\"\",IF(B57=\"Po\",\"Ut\",IF(B57=\"Ut\",\"St\",IF(B57=\"St\",\"Št\",IF(B57=\"Št\",\"Pi\",IF(B57=\"Pi\",\"So\",IF(B57=\"So\",\"Ne\",IF(B57=\"Ne\",\"Po\",\"\"))))))))","v":"Po"},null,null,{"$f":"IF(OR(U60=\"dobre\",U60=\"obed\"),IF(OR(B60=\"So\",B60=\"Ne\"),\"\",IF(OR(D60<=VEMA!P$31,C60>=VEMA!Q$31),(D60-C60)*24,(D60-C60)*24-VEMA!R$31)),\"<< zlý čas\")","v":0},null,null,null,null,0,0,null,null,null,null,null,"4.1.18. OPK:  Spracovanie výstupov z realizovanej konferencie.",null,{"$f":"IF(SUM(E60:E62)=0,\"\",SUM(E60:E62))","v":""},null,{"$f":"IF(OR(B60=\"So\",B60=\"Ne\"),\"dobre\",IF(C60>D60,\"zle\",IF(AND(C60<=VEMA!P$31,VEMA!Q$31<=D60),\"obed\",IF(OR(D60<=VEMA!P$31,VEMA!Q$31<=C60),\"dobre\",\"zle\"))))","v":"dobre"}]
[null,{"$f":"B60","v":"Po"},null,null,{"$f":"IF(OR(U61=\"dobre\",U61=\"obed\"),IF(OR(B61=\"So\",B61=\"Ne\"),\"\",IF(OR(D61<=VEMA!P$31,C61>=VEMA!Q$31),(D61-C61)*24,(D61-C61)*24-VEMA!R$31)),\"<< zlý čas\")","v":0},null,null,null,null,0,0,null,null,null,null,null,"4.1.18. OPK:  Spracovanie diskusií z jednotlivých sekcií a  z jednotlivých workshopov.",null,null,null,{"$f":"IF(OR(B61=\"So\",B61=\"Ne\"),\"dobre\",IF(C61>D61,\"zle\",IF(AND(C61<=VEMA!P$31,VEMA!Q$31<=D61),\"obed\",IF(OR(D61<=VEMA!P$31,VEMA!Q$31<=C61),\"dobre\",\"zle\"))))","v":"dobre"}]
[null,{"$f":"B61","v":"Po"},null,null,{"$f":"IF(OR(U62=\"dobre\",U62=\"obed\"),IF(OR(B62=\"So\",B62=\"Ne\"),\"\",IF(OR(D62<=VEMA!P$31,C62>=VEMA!Q$31),(D62-C62)*24,(D62-C62)*24-VEMA!R$31)),\"<< zlý čas\")","v":0},null,null,null,null,0,0,null,null,null,null,null,"4.1.20. LUF: Výkon činnosti lektora v rámci učiteľského fóra podľa opisu a schváleného plánu práce.  ",null,null,null,{"$f":"IF(OR(B62=\"So\",B62=\"Ne\"),\"dobre\",IF(C62>D62,\"zle\",IF(AND(C62<=VEMA!P$31,VEMA!Q$31<=D62),\"obed\",IF(OR(D62<=VEMA!P$31,VEMA!Q$31<=C62),\"dobre\",\"zle\"))))","v":"dobre"}]
[{"$f":"IF(A60=\"\",\"\",IF(A60+1<=$D$146,A60+1,\"\"))","v":15},{"$f":"IF(A63=\"\",\"\",IF(B60=\"Po\",\"Ut\",IF(B60=\"Ut\",\"St\",IF(B60=\"St\",\"Št\",IF(B60=\"Št\",\"Pi\",IF(B60=\"Pi\",\"So\",IF(B60=\"So\",\"Ne\",IF(B60=\"Ne\",\"Po\",\"\"))))))))","v":"Ut"},null,null,{"$f":"IF(OR(U63=\"dobre\",U63=\"obed\"),IF(OR(B63=\"So\",B63=\"Ne\"),\"\",IF(OR(D63<=VEMA!P$32,C63>=VEMA!Q$32),(D63-C63)*24,(D63-C63)*24-VEMA!R$32)),\"<< zlý čas\")","v":0},null,null,null,null,0,0,null,null,null,null,null,"4.1.20. LUF: Príprava programu a scenára stretnutia učiteľského fóra.",null,{"$f":"IF(SUM(E63:E65)=0,\"\",SUM(E63:E65))","v":""},null,{"$f":"IF(OR(B63=\"So\",B63=\"Ne\"),\"dobre\",IF(C63>D63,\"zle\",IF(AND(C63<=VEMA!P$32,VEMA!Q$32<=D63),\"obed\",IF(OR(D63<=VEMA!P$32,VEMA!Q$32<=C63),\"dobre\",\"zle\"))))","v":"dobre"}]
[null,{"$f":"B63","v":"Ut"},null,null,{"$f":"IF(OR(U64=\"dobre\",U64=\"obed\"),IF(OR(B64=\"So\",B64=\"Ne\"),\"\",IF(OR(D64<=VEMA!P$32,C64>=VEMA!Q$32),(D64-C64)*24,(D64-C64)*24-VEMA!R$32)),\"<< zlý čas\")","v":0},null,null,null,null,0,0,null,null,null,null,null,"4.1.20 LUF: Odborné vedenie diskusie účastníkov fóra v rámci diskusných skupín, diskusných fór.",null,null,null,{"$f":"IF(OR(B64=\"So\",B64=\"Ne\"),\"dobre\",IF(C64>D64,\"zle\",IF(AND(C64<=VEMA!P$32,VEMA!Q$32<=D64),\"obed\",IF(OR(D64<=VEMA!P$32,VEMA!Q$32<=C64),\"dobre\",\"zle\"))))","v":"dobre"}]
[null,{"$f":"B64","v":"Ut"},null,null,{"$f":"IF(OR(U65=\"dobre\",U65=\"obed\"),IF(OR(B65=\"So\",B65=\"Ne\"),\"\",IF(OR(D65<=VEMA!P$32,C65>=VEMA!Q$32),(D65-C65)*24,(D65-C65)*24-VEMA!R$32)),\"<< zlý čas\")","v":0},null,null,null,null,0,0,null,null,null,null,null,"4.1.20. LUF: Príprava programu a dokumentácie, realizácia učiteľského fóra.",null,null,null,{"$f":"IF(OR(B65=\"So\",B65=\"Ne\"),\"dobre\",IF(C65>D65,\"zle\",IF(AND(C65<=VEMA!P$32,VEMA!Q$32<=D65),\"obed\",IF(OR(D65<=VEMA!P$32,VEMA!Q$32<=C65),\"dobre\",\"zle\"))))","v":"dobre"}]
[{"$f":"IF(A63=\"\",\"\",IF(A63+1<=$D$146,A63+1,\"\"))","v":16},{"$f":"IF(A66=\"\",\"\",IF(B63=\"Po\",\"Ut\",IF(B63=\"Ut\",\"St\",IF(B63=\"St\",\"Št\",IF(B63=\"Št\",\"Pi\",IF(B63=\"Pi\",\"So\",IF(B63=\"So\",\"Ne\",IF(B63=\"Ne\",\"Po\",\"\"))))))))","v":"St"},null,null,{"$f":"IF(OR(U66=\"dobre\",U66=\"obed\"),IF(OR(B66=\"So\",B66=\"Ne\"),\"\",IF(OR(D66<=VEMA!P$33,C66>=VEMA!Q$33),(D66-C66)*24,(D66-C66)*24-VEMA!R$33)),\"<< zlý čas\")","v":0},null,null,null,null,0,0,null,null,null,null,null,"4.1.22. MUF: Založenie skupiny účastníkov fóra v CIS MPC, Moodle a používaných aplikáciách.",null,{"$f":"IF(SUM(E66:E68)=0,\"\",SUM(E66:E68))","v":""},null,{"$f":"IF(OR(B66=\"So\",B66=\"Ne\"),\"dobre\",IF(C66>D66,\"zle\",IF(AND(C66<=VEMA!P$33,VEMA!Q$33<=D66),\"obed\",IF(OR(D66<=VEMA!P$33,VEMA!Q$33<=C66),\"dobre\",\"zle\"))))","v":"dobre"}]
[null,{"$f":"B66","v":"St"},null,null,{"$f":"IF(OR(U67=\"dobre\",U67=\"obed\"),IF(OR(B67=\"So\",B67=\"Ne\"),\"\",IF(OR(D67<=VEMA!P$33,C67>=VEMA!Q$33),(D67-C67)*24,(D67-C67)*24-VEMA!R$33)),\"<< zlý čas\")","v":0},null,null,null,null,0,0,null,null,null,null,null,"4.1.22. MUF: Správa skupiny účastníkov fóra v CIS MPC, Moodle a používaných aplikáciách.",null,null,null,{"$f":"IF(OR(B67=\"So\",B67=\"Ne\"),\"dobre\",IF(C67>D67,\"zle\",IF(AND(C67<=VEMA!P$33,VEMA!Q$33<=D67),\"obed\",IF(OR(D67<=VEMA!P$33,VEMA!Q$33<=C67),\"dobre\",\"zle\"))))","v":"dobre"}]
[null,{"$f":"B67","v":"St"},null,null,{"$f":"IF(OR(U68=\"dobre\",U68=\"obed\"),IF(OR(B68=\"So\",B68=\"Ne\"),\"\",IF(OR(D68<=VEMA!P$33,C68>=VEMA!Q$33),(D68-C68)*24,(D68-C68)*24-VEMA!R$33)),\"<< zlý čas\")","v":0},null,null,null,null,0,0,null,null,null,null,null,"4.1.22. MUF: Snímanie aktuálnych potrieb PZ a OZ pred založením a v priebehu činnosti fóra.",null,null,null,{"$f":"IF(OR(B68=\"So\",B68=\"Ne\"),\"dobre\",IF(C68>D68,\"zle\",IF(AND(C68<=VEMA!P$33,VEMA!Q$33<=D68),\"obed\",IF(OR(D68<=VEMA!P$33,VEMA!Q$33<=C68),\"dobre\",\"zle\"))))","v":"dobre"}]
[{"$f":"IF(A66=\"\",\"\",IF(A66+1<=$D$146,A66+1,\"\"))","v":17},{"$f":"IF(A69=\"\",\"\",IF(B66=\"Po\",\"Ut\",IF(B66=\"Ut\",\"St\",IF(B66=\"St\",\"Št\",IF(B66=\"Št\",\"Pi\",IF(B66=\"Pi\",\"So\",IF(B66=\"So\",\"Ne\",IF(B66=\"Ne\",\"Po\",\"\"))))))))","v":"Št"},null,null,{"$f":"IF(OR(U69=\"dobre\",U69=\"obed\"),IF(OR(B69=\"So\",B69=\"Ne\"),\"\",IF(OR(D69<=VEMA!P$34,C69>=VEMA!Q$34),(D69-C69)*24,(D69-C69)*24-VEMA!R$34)),\"<< zlý čas\")","v":0},null,null,null,null,0,0,null,null,null,null,null,"4.1.22. MUF: Iniciovanie, príprava a realizácia prieskumov realizovaných v rámci fóra učiteľov",null,{"$f":"IF(SUM(E69:E71)=0,\"\",SUM(E69:E71))","v":""},null,{"$f":"IF(OR(B69=\"So\",B69=\"Ne\"),\"dobre\",IF(C69>D69,\"zle\",IF(AND(C69<=VEMA!P$34,VEMA!Q$34<=D69),\"obed\",IF(OR(D69<=VEMA!P$34,VEMA!Q$34<=C69),\"dobre\",\"zle\"))))","v":"dobre"}]
[null,{"$f":"B69","v":"Št"},null,null,{"$f":"IF(OR(U70=\"dobre\",U70=\"obed\"),IF(OR(B70=\"So\",B70=\"Ne\"),\"\",IF(OR(D70<=VEMA!P$34,C70>=VEMA!Q$34),(D70-C70)*24,(D70-C70)*24-VEMA!R$34)),\"<< zlý čas\")","v":0},null,null,null,null,0,0,null,null,null,null,null,"4.1.22. MUF: Riadenie pracovnej skupiny lektorov v rámci fóra učiteľov.",null,null,null,{"$f":"IF(OR(B70=\"So\",B70=\"Ne\"),\"dobre\",IF(C70>D70,\"zle\",IF(AND(C70<=VEMA!P$34,VEMA!Q$34<=D70),\"obed\",IF(OR(D70<=VEMA!P$34,VEMA!Q$34<=C70),\"dobre\",\"zle\"))))","v":"dobre"}]
[null,{"$f":"B70","v":"Št"},null,null,{"$f":"IF(OR(U71=\"dobre\",U71=\"obed\"),IF(OR(B71=\"So\",B71=\"Ne\"),\"\",IF(OR(D71<=VEMA!P$34,C71>=VEMA!Q$34),(D71-C71)*24,(D71-C71)*24-VEMA!R$34)),\"<< zlý čas\")","v":0},null,null,null,null,0,0,null,null,null,null,null,"4.1.22. MUF: Podpora lektorov pri príprave materiálov učiteľského fóra.",null,null,null,{"$f":"IF(OR(B71=\"So\",B71=\"Ne\"),\"dobre\",IF(C71>D71,\"zle\",IF(AND(C71<=VEMA!P$34,VEMA!Q$34<=D71),\"obed\",IF(OR(D71<=VEMA!P$34,VEMA!Q$34<=C71),\"dobre\",\"zle\"))))","v":"dobre"}]
[{"$f":"IF(A69=\"\",\"\",IF(A69+1<=$D$146,A69+1,\"\"))","v":18},{"$f":"IF(A72=\"\",\"\",IF(B69=\"Po\",\"Ut\",IF(B69=\"Ut\",\"St\",IF(B69=\"St\",\"Št\",IF(B69=\"Št\",\"Pi\",IF(B69=\"Pi\",\"So\",IF(B69=\"So\",\"Ne\",IF(B69=\"Ne\",\"Po\",\"\"))))))))","v":"Pi"},null,null,{"$f":"IF(OR(U72=\"dobre\",U72=\"obed\"),IF(OR(B72=\"So\",B72=\"Ne\"),\"\",IF(OR(D72<=VEMA!P$35,C72>=VEMA!Q$35),(D72-C72)*24,(D72-C72)*24-VEMA!R$35)),\"<< zlý čas\")","v":0},null,null,null,null,0,0,null,null,null,null,null,"4.1.22. MUF: Spracovanie výstupov zo stretnutia učiteľského fóra, spracovanie prehľadov a sumárnych výstupov z činnosti fóra učiteľov.",null,{"$f":"IF(SUM(E72:E74)=0,\"\",SUM(E72:E74))","v":""},null,{"$f":"IF(OR(B72=\"So\",B72=\"Ne\"),\"dobre\",IF(C72>D72,\"zle\",IF(AND(C72<=VEMA!P$35,VEMA!Q$35<=D72),\"obed\",IF(OR(D72<=VEMA!P$35,VEMA!Q$35<=C72),\"dobre\",\"zle\"))))","v":"dobre"}]
[null,{"$f":"B72","v":"Pi"},null,null,{"$f":"IF(OR(U73=\"dobre\",U73=\"obed\"),IF(OR(B73=\"So\",B73=\"Ne\"),\"\",IF(OR(D73<=VEMA!P$35,C73>=VEMA!Q$35),(D73-C73)*24,(D73-C73)*24-VEMA!R$35)),\"<< zlý čas\")","v":0},null,null,null,null,0,0,null,null,null,null,null,"4.1.22. MUF: Moderovanie priebehu v rámci prezenčných a on-line stretnutí.",null,null,null,{"$f":"IF(OR(B73=\"So\",B73=\"Ne\"),\"dobre\",IF(C73>D73,\"zle\",IF(AND(C73<=VEMA!P$35,VEMA!Q$35<=D73),\"obed\",IF(OR(D73<=VEMA!P$35,VEMA!Q$35<=C73),\"dobre\",\"zle\"))))","v":"dobre"}]
[null,{"$f":"B73","v":"Pi"},null,null,{"$f":"IF(OR(U74=\"dobre\",U74=\"obed\"),IF(OR(B74=\"So\",B74=\"Ne\"),\"\",IF(OR(D74<=VEMA!P$35,C74>=VEMA!Q$35),(D74-C74)*24,(D74-C74)*24-VEMA!R$35)),\"<< zlý čas\")","v":0},null,null,null,null,0,0,null,null,null,null,null,"4.1.22. MUF: Moderovanie priebehu v rámci  príspevkov v diskusných (on-line) fórach v rámci používaných aplikácií.",null,null,null,{"$f":"IF(OR(B74=\"So\",B74=\"Ne\"),\"dobre\",IF(C74>D74,\"zle\",IF(AND(C74<=VEMA!P$35,VEMA!Q$35<=D74),\"obed\",IF(OR(D74<=VEMA!P$35,VEMA!Q$35<=C74),\"dobre\",\"zle\"))))","v":"dobre"}]
[{"$f":"IF(A72=\"\",\"\",IF(A72+1<=$D$146,A72+1,\"\"))","v":19},{"$f":"IF(A75=\"\",\"\",IF(B72=\"Po\",\"Ut\",IF(B72=\"Ut\",\"St\",IF(B72=\"St\",\"Št\",IF(B72=\"Št\",\"Pi\",IF(B72=\"Pi\",\"So\",IF(B72=\"So\",\"Ne\",IF(B72=\"Ne\",\"Po\",\"\"))))))))","v":"So"},null,null,{"$f":"IF(OR(U75=\"dobre\",U75=\"obed\"),IF(OR(B75=\"So\",B75=\"Ne\"),\"\",IF(OR(D75<=VEMA!P$36,C75>=VEMA!Q$36),(D75-C75)*24,(D75-C75)*24-VEMA!R$36)),\"<< zlý čas\")","v":""},null,null,null,null,"","",null,null,null,null,null,"4.1.22. MUF: Moderovanie v organizovanom virtuálnom mieste asynchrónnych online diskusií.",null,{"$f":"IF(SUM(E75:E77)=0,\"\",SUM(E75:E77))","v":""},null,{"$f":"IF(OR(B75=\"So\",B75=\"Ne\"),\"dobre\",IF(C75>D75,\"zle\",IF(AND(C75<=VEMA!P$36,VEMA!Q$36<=D75),\"obed\",IF(OR(D75<=VEMA!P$36,VEMA!Q$36<=C75),\"dobre\",\"zle\"))))","v":"dobre"}]
[null,{"$f":"B75","v":"So"},null,null,{"$f":"IF(OR(U76=\"dobre\",U76=\"obed\"),IF(OR(B76=\"So\",B76=\"Ne\"),\"\",IF(OR(D76<=VEMA!P$36,C76>=VEMA!Q$36),(D76-C76)*24,(D76-C76)*24-VEMA!R$36)),\"<< zlý čas\")","v":""},null,null,null,null,"","",null,null,null,null,null,"4.1.22. MUF: Konzultovanie tém, ktoré navrhnú účastníci fóra (vrátanej offline formy).",null,null,null,{"$f":"IF(OR(B76=\"So\",B76=\"Ne\"),\"dobre\",IF(C76>D76,\"zle\",IF(AND(C76<=VEMA!P$36,VEMA!Q$36<=D76),\"obed\",IF(OR(D76<=VEMA!P$36,VEMA!Q$36<=C76),\"dobre\",\"zle\"))))","v":"dobre"}]
[null,{"$f":"B76","v":"So"},null,null,{"$f":"IF(OR(U77=\"dobre\",U77=\"obed\"),IF(OR(B77=\"So\",B77=\"Ne\"),\"\",IF(OR(D77<=VEMA!P$36,C77>=VEMA!Q$36),(D77-C77)*24,(D77-C77)*24-VEMA!R$36)),\"<< zlý čas\")","v":""},null,null,null,null,"","",null,null,null,null,null,"4.1.22. MUF: Moderovanie učiteľského fóra.",null,null,null,{"$f":"IF(OR(B77=\"So\",B77=\"Ne\"),\"dobre\",IF(C77>D77,\"zle\",IF(AND(C77<=VEMA!P$36,VEMA!Q$36<=D77),\"obed\",IF(OR(D77<=VEMA!P$36,VEMA!Q$36<=C77),\"dobre\",\"zle\"))))","v":"dobre"}]
[{"$f":"IF(A75=\"\",\"\",IF(A75+1<=$D$146,A75+1,\"\"))","v":20},{"$f":"IF(A78=\"\",\"\",IF(B75=\"Po\",\"Ut\",IF(B75=\"Ut\",\"St\",IF(B75=\"St\",\"Št\",IF(B75=\"Št\",\"Pi\",IF(B75=\"Pi\",\"So\",IF(B75=\"So\",\"Ne\",IF(B75=\"Ne\",\"Po\",\"\"))))))))","v":"Ne"},null,null,{"$f":"IF(OR(U78=\"dobre\",U78=\"obed\"),IF(OR(B78=\"So\",B78=\"Ne\"),\"\",IF(OR(D78<=VEMA!P$37,C78>=VEMA!Q$37),(D78-C78)*24,(D78-C78)*24-VEMA!R$37)),\"<< zlý čas\")","v":""},null,null,null,null,"","",null,null,null,null,null,"4.1.23. A: Realizácia prieskumnej činnosti v projekte.",null,{"$f":"IF(SUM(E78:E80)=0,\"\",SUM(E78:E80))","v":""},null,{"$f":"IF(OR(B78=\"So\",B78=\"Ne\"),\"dobre\",IF(C78>D78,\"zle\",IF(AND(C78<=VEMA!P$37,VEMA!Q$37<=D78),\"obed\",IF(OR(D78<=VEMA!P$37,VEMA!Q$37<=C78),\"dobre\",\"zle\"))))","v":"dobre"}]
[null,{"$f":"B78","v":"Ne"},null,null,{"$f":"IF(OR(U79=\"dobre\",U79=\"obed\"),IF(OR(B79=\"So\",B79=\"Ne\"),\"\",IF(OR(D79<=VEMA!P$37,C79>=VEMA!Q$37),(D79-C79)*24,(D79-C79)*24-VEMA!R$37)),\"<< zlý čas\")","v":""},null,null,null,null,"","",null,null,null,null,null,"4.1.23. A: Návrh zámeru prieskumu, cieľov, metodiky, nástrojov zisťovania a cieľovej skupiny.",null,null,null,{"$f":"IF(OR(B79=\"So\",B79=\"Ne\"),\"dobre\",IF(C79>D79,\"zle\",IF(AND(C79<=VEMA!P$37,VEMA!Q$37<=D79),\"obed\",IF(OR(D79<=VEMA!P$37,VEMA!Q$37<=C79),\"dobre\",\"zle\"))))","v":"dobre"}]
[null,{"$f":"B79","v":"Ne"},null,null,{"$f":"IF(OR(U80=\"dobre\",U80=\"obed\"),IF(OR(B80=\"So\",B80=\"Ne\"),\"\",IF(OR(D80<=VEMA!P$37,C80>=VEMA!Q$37),(D80-C80)*24,(D80-C80)*24-VEMA!R$37)),\"<< zlý čas\")","v":""},null,null,null,null,"","",null,null,null,null,null,"4.1.23. A: Určenie postupu, termínu a miesta realizácie opytovania.",null,null,null,{"$f":"IF(OR(B80=\"So\",B80=\"Ne\"),\"dobre\",IF(C80>D80,\"zle\",IF(AND(C80<=VEMA!P$37,VEMA!Q$37<=D80),\"obed\",IF(OR(D80<=VEMA!P$37,VEMA!Q$37<=C80),\"dobre\",\"zle\"))))","v":"dobre"}]
[{"$f":"IF(A78=\"\",\"\",IF(A78+1<=$D$146,A78+1,\"\"))","v":21},{"$f":"IF(A81=\"\",\"\",IF(B78=\"Po\",\"Ut\",IF(B78=\"Ut\",\"St\",IF(B78=\"St\",\"Št\",IF(B78=\"Št\",\"Pi\",IF(B78=\"Pi\",\"So\",IF(B78=\"So\",\"Ne\",IF(B78=\"Ne\",\"Po\",\"\"))))))))","v":"Po"},null,null,{"$f":"IF(OR(U81=\"dobre\",U81=\"obed\"),IF(OR(B81=\"So\",B81=\"Ne\"),\"\",IF(OR(D81<=VEMA!P$38,C81>=VEMA!Q$38),(D81-C81)*24,(D81-C81)*24-VEMA!R$38)),\"<< zlý čas\")","v":0},null,null,null,null,0,0,null,null,null,null,null,"4.1.23. A:  Spracovanie a interpretácia zistenia z opytovania.",null,{"$f":"IF(SUM(E81:E83)=0,\"\",SUM(E81:E83))","v":""},null,{"$f":"IF(OR(B81=\"So\",B81=\"Ne\"),\"dobre\",IF(C81>D81,\"zle\",IF(AND(C81<=VEMA!P$38,VEMA!Q$38<=D81),\"obed\",IF(OR(D81<=VEMA!P$38,VEMA!Q$38<=C81),\"dobre\",\"zle\"))))","v":"dobre"}]
[null,{"$f":"B81","v":"Po"},null,null,{"$f":"IF(OR(U82=\"dobre\",U82=\"obed\"),IF(OR(B82=\"So\",B82=\"Ne\"),\"\",IF(OR(D82<=VEMA!P$38,C82>=VEMA!Q$38),(D82-C82)*24,(D82-C82)*24-VEMA!R$38)),\"<< zlý čas\")","v":0},null,null,null,null,0,0,null,null,null,null,null,"4.1.23. A: Formulovanie návrhov a odporúčaní vyplývajúcich z prieskumu pre realizáciu projektu.",null,null,null,{"$f":"IF(OR(B82=\"So\",B82=\"Ne\"),\"dobre\",IF(C82>D82,\"zle\",IF(AND(C82<=VEMA!P$38,VEMA!Q$38<=D82),\"obed\",IF(OR(D82<=VEMA!P$38,VEMA!Q$38<=C82),\"dobre\",\"zle\"))))","v":"dobre"}]
[null,{"$f":"B82","v":"Po"},null,null,{"$f":"IF(OR(U83=\"dobre\",U83=\"obed\"),IF(OR(B83=\"So\",B83=\"Ne\"),\"\",IF(OR(D83<=VEMA!P$38,C83>=VEMA!Q$38),(D83-C83)*24,(D83-C83)*24-VEMA!R$38)),\"<< zlý čas\")","v":0},null,null,null,null,0,0,null,null,null,null,null,"4.1.23. A: Realizácia prieskumnej činnosti v projekte, následne spracovanie a interpretácia zistenia z opytovania, finalizácia prieskumu.",null,null,null,{"$f":"IF(OR(B83=\"So\",B83=\"Ne\"),\"dobre\",IF(C83>D83,\"zle\",IF(AND(C83<=VEMA!P$38,VEMA!Q$38<=D83),\"obed\",IF(OR(D83<=VEMA!P$38,VEMA!Q$38<=C83),\"dobre\",\"zle\"))))","v":"dobre"}]
[{"$f":"IF(A81=\"\",\"\",IF(A81+1<=$D$146,A81+1,\"\"))","v":22},{"$f":"IF(A84=\"\",\"\",IF(B81=\"Po\",\"Ut\",IF(B81=\"Ut\",\"St\",IF(B81=\"St\",\"Št\",IF(B81=\"Št\",\"Pi\",IF(B81=\"Pi\",\"So\",IF(B81=\"So\",\"Ne\",IF(B81=\"Ne\",\"Po\",\"\"))))))))","v":"Ut"},null,null,{"$f":"IF(OR(U84=\"dobre\",U84=\"obed\"),IF(OR(B84=\"So\",B84=\"Ne\"),\"\",IF(OR(D84<=VEMA!P$39,C84>=VEMA!Q$39),(D84-C84)*24,(D84-C84)*24-VEMA!R$39)),\"<< zlý čas\")","v":0},null,null,null,null,0,0,null,null,null,null,null,"4.1.25. T PV a UZ: Návrh programu vzdelávania.",null,{"$f":"IF(SUM(E84:E86)=0,\"\",SUM(E84:E86))","v":""},null,{"$f":"IF(OR(B84=\"So\",B84=\"Ne\"),\"dobre\",IF(C84>D84,\"zle\",IF(AND(C84<=VEMA!P$39,VEMA!Q$39<=D84),\"obed\",IF(OR(D84<=VEMA!P$39,VEMA!Q$39<=C84),\"dobre\",\"zle\"))))","v":"dobre"}]
[null,{"$f":"B84","v":"Ut"},null,null,{"$f":"IF(OR(U85=\"dobre\",U85=\"obed\"),IF(OR(B85=\"So\",B85=\"Ne\"),\"\",IF(OR(D85<=VEMA!P$39,C85>=VEMA!Q$39),(D85-C85)*24,(D85-C85)*24-VEMA!R$39)),\"<< zlý čas\")","v":0},null,null,null,null,{"$f":"IF(B85=\"\",\"\",IF(B85=\"So\",\"\",(IF(B85=\"Ne\",\"\",(ROUND(E85-K85,2))))))","v":0},{"$f":"IF(B85=\"So\",\"\",(IF(B85=\"Ne\",\"\",(IF(B85=\"\",\"\",(IF(COUNTIF(Pozicia,$F$16),ROUND(VRR*E85,2),0)))))))","v":0},null,null,null,null,null,"4.1.25. T PV a UZ: Spracovanie programu vzdelávania.",null,null,null,{"$f":"IF(OR(B85=\"So\",B85=\"Ne\"),\"dobre\",IF(C85>D85,\"zle\",IF(AND(C85<=VEMA!P$39,VEMA!Q$39<=D85),\"obed\",IF(OR(D85<=VEMA!P$39,VEMA!Q$39<=C85),\"dobre\",\"zle\"))))","v":"dobre"}]
[null,{"$f":"B85","v":"Ut"},null,null,{"$f":"IF(OR(U86=\"dobre\",U86=\"obed\"),IF(OR(B86=\"So\",B86=\"Ne\"),\"\",IF(OR(D86<=VEMA!P$39,C86>=VEMA!Q$39),(D86-C86)*24,(D86-C86)*24-VEMA!R$39)),\"<< zlý čas\")","v":0},null,null,null,null,0,0,null,null,null,null,null,"4.1.25. T PV a UZ: Finálne spracovanie programu vzdelávania.",null,null,null,{"$f":"IF(OR(B86=\"So\",B86=\"Ne\"),\"dobre\",IF(C86>D86,\"zle\",IF(AND(C86<=VEMA!P$39,VEMA!Q$39<=D86),\"obed\",IF(OR(D86<=VEMA!P$39,VEMA!Q$39<=C86),\"dobre\",\"zle\"))))","v":"dobre"}]
[{"$f":"IF(A84=\"\",\"\",IF(A84+1<=$D$146,A84+1,\"\"))","v":23},{"$f":"IF(A87=\"\",\"\",IF(B84=\"Po\",\"Ut\",IF(B84=\"Ut\",\"St\",IF(B84=\"St\",\"Št\",IF(B84=\"Št\",\"Pi\",IF(B84=\"Pi\",\"So\",IF(B84=\"So\",\"Ne\",IF(B84=\"Ne\",\"Po\",\"\"))))))))","v":"St"},null,null,{"$f":"IF(OR(U87=\"dobre\",U87=\"obed\"),IF(OR(B87=\"So\",B87=\"Ne\"),\"\",IF(OR(D87<=VEMA!P$40,C87>=VEMA!Q$40),(D87-C87)*24,(D87-C87)*24-VEMA!R$40)),\"<< zlý čas\")","v":0},null,null,null,null,0,0,null,null,null,null,null,"4.1.25. T PV a UZ: Zapracovanie pripomienok do  programu vzdelávania.",null,{"$f":"IF(SUM(E87:E89)=0,\"\",SUM(E87:E89))","v":""},null,{"$f":"IF(OR(B87=\"So\",B87=\"Ne\"),\"dobre\",IF(C87>D87,\"zle\",IF(AND(C87<=VEMA!P$40,VEMA!Q$40<=D87),\"obed\",IF(OR(D87<=VEMA!P$40,VEMA!Q$40<=C87),\"dobre\",\"zle\"))))","v":"dobre"}]
[null,{"$f":"B87","v":"St"},null,null,{"$f":"IF(OR(U88=\"dobre\",U88=\"obed\"),IF(OR(B88=\"So\",B88=\"Ne\"),\"\",IF(OR(D88<=VEMA!P$40,C88>=VEMA!Q$40),(D88-C88)*24,(D88-C88)*24-VEMA!R$40)),\"<< zlý čas\")","v":0},null,null,null,null,0,0,null,null,null,null,null,"4.1.25. T PV a UZ: Návrh učebných zdrojov k programu vzdelávania.",null,null,null,{"$f":"IF(OR(B88=\"So\",B88=\"Ne\"),\"dobre\",IF(C88>D88,\"zle\",IF(AND(C88<=VEMA!P$40,VEMA!Q$40<=D88),\"obed\",IF(OR(D88<=VEMA!P$40,VEMA!Q$40<=C88),\"dobre\",\"zle\"))))","v":"dobre"}]
[null,{"$f":"B88","v":"St"},null,null,{"$f":"IF(OR(U89=\"dobre\",U89=\"obed\"),IF(OR(B89=\"So\",B89=\"Ne\"),\"\",IF(OR(D89<=VEMA!P$40,C89>=VEMA!Q$40),(D89-C89)*24,(D89-C89)*24-VEMA!R$40)),\"<< zlý čas\")","v":0},null,null,null,null,0,0,null,null,null,null,null,"4.1.25. T PV a UZ: Spracovanie  učebných zdrojov k programu vzdelávania.",null,null,null,{"$f":"IF(OR(B89=\"So\",B89=\"Ne\"),\"dobre\",IF(C89>D89,\"zle\",IF(AND(C89<=VEMA!P$40,VEMA!Q$40<=D89),\"obed\",IF(OR(D89<=VEMA!P$40,VEMA!Q$40<=C89),\"dobre\",\"zle\"))))","v":"dobre"}]
[{"$f":"IF(A87=\"\",\"\",IF(A87+1<=$D$146,A87+1,\"\"))","v":24},{"$f":"IF(A90=\"\",\"\",IF(B87=\"Po\",\"Ut\",IF(B87=\"Ut\",\"St\",IF(B87=\"St\",\"Št\",IF(B87=\"Št\",\"Pi\",IF(B87=\"Pi\",\"So\",IF(B87=\"So\",\"Ne\",IF(B87=\"Ne\",\"Po\",\"\"))))))))","v":"Št"},null,null,{"$f":"IF(OR(U90=\"dobre\",U90=\"obed\"),IF(OR(B90=\"So\",B90=\"Ne\"),\"\",IF(OR(D90<=VEMA!P$41,C90>=VEMA!Q$41),(D90-C90)*24,(D90-C90)*24-VEMA!R$41)),\"<< zlý čas\")","v":0},null,null,null,null,0,0,null,null,null,null,null,"4.1.25. T PV a UZ: Zapracovanie pripomienok do  programu vzdelávania a do učebných zdrojov.",null,{"$f":"IF(SUM(E90:E92)=0,\"\",SUM(E90:E92))","v":""},null,{"$f":"IF(OR(B90=\"So\",B90=\"Ne\"),\"dobre\",IF(C90>D90,\"zle\",IF(AND(C90<=VEMA!P$41,VEMA!Q$41<=D90),\"obed\",IF(OR(D90<=VEMA!P$41,VEMA!Q$41<=C90),\"dobre\",\"zle\"))))","v":"dobre"}]
[null,{"$f":"B90","v":"Št"},null,null,{"$f":"IF(OR(U91=\"dobre\",U91=\"obed\"),IF(OR(B91=\"So\",B91=\"Ne\"),\"\",IF(OR(D91<=VEMA!P$41,C91>=VEMA!Q$41),(D91-C91)*24,(D91-C91)*24-VEMA!R$41)),\"<< zlý čas\")","v":0},null,null,null,null,0,0,null,null,null,null,null,"4.1.25. T PV a UZ:  Návrh  a spracovanie programu vzdelávania a učebných zdrojov.",null,null,null,{"$f":"IF(OR(B91=\"So\",B91=\"Ne\"),\"dobre\",IF(C91>D91,\"zle\",IF(AND(C91<=VEMA!P$41,VEMA!Q$41<=D91),\"obed\",IF(OR(D91<=VEMA!P$41,VEMA!Q$41<=C91),\"dobre\",\"zle\"))))","v":"dobre"}]
[null,{"$f":"B91","v":"Št"},null,null,{"$f":"IF(OR(U92=\"dobre\",U92=\"obed\"),IF(OR(B92=\"So\",B92=\"Ne\"),\"\",IF(OR(D92<=VEMA!P$41,C92>=VEMA!Q$41),(D92-C92)*24,(D92-C92)*24-VEMA!R$41)),\"<< zlý čas\")","v":0},null,null,null,null,0,0,null,null,null,null,null,"4.1.25. T PV a UZ: Finalizácia vzdelávacieho programu a učebných zdrojov.",null,null,null,{"$f":"IF(OR(B92=\"So\",B92=\"Ne\"),\"dobre\",IF(C92>D92,\"zle\",IF(AND(C92<=VEMA!P$41,VEMA!Q$41<=D92),\"obed\",IF(OR(D92<=VEMA!P$41,VEMA!Q$41<=C92),\"dobre\",\"zle\"))))","v":"dobre"}]
[{"$f":"IF(A90=\"\",\"\",IF(A90+1<=$D$146,A90+1,\"\"))","v":25},{"$f":"IF(A93=\"\",\"\",IF(B90=\"Po\",\"Ut\",IF(B90=\"Ut\",\"St\",IF(B90=\"St\",\"Št\",IF(B90=\"Št\",\"Pi\",IF(B90=\"Pi\",\"So\",IF(B90=\"So\",\"Ne\",IF(B90=\"Ne\",\"Po\",\"\"))))))))","v":"Pi"},null,null,{"$f":"IF(OR(U93=\"dobre\",U93=\"obed\"),IF(OR(B93=\"So\",B93=\"Ne\"),\"\",IF(OR(D93<=VEMA!P$42,C93>=VEMA!Q$42),(D93-C93)*24,(D93-C93)*24-VEMA!R$42)),\"<< zlý čas\")","v":0},null,null,null,null,0,0,null,null,null,null,null,"4.1.25. T PV a UZ: Konzultovanie pripomienok s konzultantom obsahu PV a UZ.",null,{"$f":"IF(SUM(E93:E95)=0,\"\",SUM(E93:E95))","v":""},null,{"$f":"IF(OR(B93=\"So\",B93=\"Ne\"),\"dobre\",IF(C93>D93,\"zle\",IF(AND(C93<=VEMA!P$42,VEMA!Q$42<=D93),\"obed\",IF(OR(D93<=VEMA!P$42,VEMA!Q$42<=C93),\"dobre\",\"zle\"))))","v":"dobre"}]
[null,{"$f":"B93","v":"Pi"},null,null,{"$f":"IF(OR(U94=\"dobre\",U94=\"obed\"),IF(OR(B94=\"So\",B94=\"Ne\"),\"\",IF(OR(D94<=VEMA!P$42,C94>=VEMA!Q$42),(D94-C94)*24,(D94-C94)*24-VEMA!R$42)),\"<< zlý čas\")","v":0},null,null,null,null,0,0,null,null,null,null,null,"4.1.28. OG IV: Dohľad pri realizácii vzdelávacích aktivít v inovačných programoch vzdelávania.",null,null,null,{"$f":"IF(OR(B94=\"So\",B94=\"Ne\"),\"dobre\",IF(C94>D94,\"zle\",IF(AND(C94<=VEMA!P$42,VEMA!Q$42<=D94),\"obed\",IF(OR(D94<=VEMA!P$42,VEMA!Q$42<=C94),\"dobre\",\"zle\"))))","v":"dobre"}]
[null,{"$f":"B94","v":"Pi"},null,null,{"$f":"IF(OR(U95=\"dobre\",U95=\"obed\"),IF(OR(B95=\"So\",B95=\"Ne\"),\"\",IF(OR(D95<=VEMA!P$42,C95>=VEMA!Q$42),(D95-C95)*24,(D95-C95)*24-VEMA!R$42)),\"<< zlý čas\")","v":0},null,null,null,null,0,0,null,null,null,null,null,"4.1.28. OG IV: Príprava a vedie lektorov.",null,null,null,{"$f":"IF(OR(B95=\"So\",B95=\"Ne\"),\"dobre\",IF(C95>D95,\"zle\",IF(AND(C95<=VEMA!P$42,VEMA!Q$42<=D95),\"obed\",IF(OR(D95<=VEMA!P$42,VEMA!Q$42<=C95),\"dobre\",\"zle\"))))","v":"dobre"}]
[{"$f":"IF(A93=\"\",\"\",IF(A93+1<=$D$146,A93+1,\"\"))","v":26},{"$f":"IF(A96=\"\",\"\",IF(B93=\"Po\",\"Ut\",IF(B93=\"Ut\",\"St\",IF(B93=\"St\",\"Št\",IF(B93=\"Št\",\"Pi\",IF(B93=\"Pi\",\"So\",IF(B93=\"So\",\"Ne\",IF(B93=\"Ne\",\"Po\",\"\"))))))))","v":"So"},null,null,{"$f":"IF(OR(U96=\"dobre\",U96=\"obed\"),IF(OR(B96=\"So\",B96=\"Ne\"),\"\",IF(OR(D96<=VEMA!P$43,C96>=VEMA!Q$43),(D96-C96)*24,(D96-C96)*24-VEMA!R$43)),\"<< zlý čas\")","v":""},null,null,null,null,"","",null,null,null,null,null,"4.1.28. OG IV: Kontrola priebehu  realizácie vzdelávacích programov.",null,{"$f":"IF(SUM(E96:E98)=0,\"\",SUM(E96:E98))","v":""},null,{"$f":"IF(OR(B96=\"So\",B96=\"Ne\"),\"dobre\",IF(C96>D96,\"zle\",IF(AND(C96<=VEMA!P$43,VEMA!Q$43<=D96),\"obed\",IF(OR(D96<=VEMA!P$43,VEMA!Q$43<=C96),\"dobre\",\"zle\"))))","v":"dobre"}]
[null,{"$f":"B96","v":"So"},null,null,{"$f":"IF(OR(U97=\"dobre\",U97=\"obed\"),IF(OR(B97=\"So\",B97=\"Ne\"),\"\",IF(OR(D97<=VEMA!P$43,C97>=VEMA!Q$43),(D97-C97)*24,(D97-C97)*24-VEMA!R$43)),\"<< zlý čas\")","v":""},null,null,null,null,"","",null,null,null,null,null,"4.1.28. OG IV: Kontrola ukončenia realizácie vzdelávacích programov.",null,null,null,{"$f":"IF(OR(B97=\"So\",B97=\"Ne\"),\"dobre\",IF(C97>D97,\"zle\",IF(AND(C97<=VEMA!P$43,VEMA!Q$43<=D97),\"obed\",IF(OR(D97<=VEMA!P$43,VEMA!Q$43<=C97),\"dobre\",\"zle\"))))","v":"dobre"}]
[null,{"$f":"B97","v":"So"},null,null,{"$f":"IF(OR(U98=\"dobre\",U98=\"obed\"),IF(OR(B98=\"So\",B98=\"Ne\"),\"\",IF(OR(D98<=VEMA!P$43,C98>=VEMA!Q$43),(D98-C98)*24,(D98-C98)*24-VEMA!R$43)),\"<< zlý čas\")","v":""},null,null,null,null,"","",null,null,null,null,null,"4.1.28. OG IV: Vyhodnotenie realizácie programu vzdelávania.",null,null,null,{"$f":"IF(OR(B98=\"So\",B98=\"Ne\"),\"dobre\",IF(C98>D98,\"zle\",IF(AND(C98<=VEMA!P$43,VEMA!Q$43<=D98),\"obed\",IF(OR(D98<=VEMA!P$43,VEMA!Q$43<=C98),\"dobre\",\"zle\"))))","v":"dobre"}]
[{"$f":"IF(A96=\"\",\"\",IF(A96+1<=$D$146,A96+1,\"\"))","v":27},{"$f":"IF(A99=\"\",\"\",IF(B96=\"Po\",\"Ut\",IF(B96=\"Ut\",\"St\",IF(B96=\"St\",\"Št\",IF(B96=\"Št\",\"Pi\",IF(B96=\"Pi\",\"So\",IF(B96=\"So\",\"Ne\",IF(B96=\"Ne\",\"Po\",\"\"))))))))","v":"Ne"},null,null,{"$f":"IF(OR(U99=\"dobre\",U99=\"obed\"),IF(OR(B99=\"So\",B99=\"Ne\"),\"\",IF(OR(D99<=VEMA!P$44,C99>=VEMA!Q$44),(D99-C99)*24,(D99-C99)*24-VEMA!R$44)),\"<< zlý čas\")","v":""},null,null,null,null,"","",null,null,null,null,null,"4.1.28. OG IV: Príprava podkladov na archiváciu v zmysle interných a projektových pokynov.",null,{"$f":"IF(SUM(E99:E101)=0,\"\",SUM(E99:E101))","v":""},null,{"$f":"IF(OR(B99=\"So\",B99=\"Ne\"),\"dobre\",IF(C99>D99,\"zle\",IF(AND(C99<=VEMA!P$44,VEMA!Q$44<=D99),\"obed\",IF(OR(D99<=VEMA!P$44,VEMA!Q$44<=C99),\"dobre\",\"zle\"))))","v":"dobre"}]
[null,{"$f":"B99","v":"Ne"},null,null,{"$f":"IF(OR(U100=\"dobre\",U100=\"obed\"),IF(OR(B100=\"So\",B100=\"Ne\"),\"\",IF(OR(D100<=VEMA!P$44,C100>=VEMA!Q$44),(D100-C100)*24,(D100-C100)*24-VEMA!R$44)),\"<< zlý čas\")","v":""},null,null,null,null,"","",null,null,null,null,null,"4.1.28. OG IV: Kontrola zapracovaných pripomienok.",null,null,null,{"$f":"IF(OR(B100=\"So\",B100=\"Ne\"),\"dobre\",IF(C100>D100,\"zle\",IF(AND(C100<=VEMA!P$44,VEMA!Q$44<=D100),\"obed\",IF(OR(D100<=VEMA!P$44,VEMA!Q$44<=C100),\"dobre\",\"zle\"))))","v":"dobre"}]
[null,{"$f":"B100","v":"Ne"},null,null,{"$f":"IF(OR(U101=\"dobre\",U101=\"obed\"),IF(OR(B101=\"So\",B101=\"Ne\"),\"\",IF(OR(D101<=VEMA!P$44,C101>=VEMA!Q$44),(D101-C101)*24,(D101-C101)*24-VEMA!R$44)),\"<< zlý čas\")","v":""},null,null,null,null,"","",null,null,null,null,null,"4.1.28. OG IV: Účasť na porade k vzdelávacím programom v rámci národného projektu.",null,null,null,{"$f":"IF(OR(B101=\"So\",B101=\"Ne\"),\"dobre\",IF(C101>D101,\"zle\",IF(AND(C101<=VEMA!P$44,VEMA!Q$44<=D101),\"obed\",IF(OR(D101<=VEMA!P$44,VEMA!Q$44<=C101),\"dobre\",\"zle\"))))","v":"dobre"}]
[{"$f":"IF(A99=\"\",\"\",IF(A99+1<=$D$146,A99+1,\"\"))","v":28},{"$f":"IF(A102=\"\",\"\",IF(B99=\"Po\",\"Ut\",IF(B99=\"Ut\",\"St\",IF(B99=\"St\",\"Št\",IF(B99=\"Št\",\"Pi\",IF(B99=\"Pi\",\"So\",IF(B99=\"So\",\"Ne\",IF(B99=\"Ne\",\"Po\",\"\"))))))))","v":"Po"},null,null,{"$f":"IF(OR(U102=\"dobre\",U102=\"obed\"),IF(OR(B102=\"So\",B102=\"Ne\"),\"\",IF(OR(D102<=VEMA!P$45,C102>=VEMA!Q$45),(D102-C102)*24,(D102-C102)*24-VEMA!R$45)),\"<< zlý čas\")","v":0},null,null,null,null,0,0,null,null,null,null,null,"4.1.28. OG IV: Priebežné vyhodnocovanie výstupov z realizovaných vzdelávacích programov.",null,{"$f":"IF(SUM(E102:E104)=0,\"\",SUM(E102:E104))","v":""},null,{"$f":"IF(OR(B102=\"So\",B102=\"Ne\"),\"dobre\",IF(C102>D102,\"zle\",IF(AND(C102<=VEMA!P$45,VEMA!Q$45<=D102),\"obed\",IF(OR(D102<=VEMA!P$45,VEMA!Q$45<=C102),\"dobre\",\"zle\"))))","v":"dobre"}]
[null,{"$f":"B102","v":"Po"},null,null,{"$f":"IF(OR(U103=\"dobre\",U103=\"obed\"),IF(OR(B103=\"So\",B103=\"Ne\"),\"\",IF(OR(D103<=VEMA!P$45,C103>=VEMA!Q$45),(D103-C103)*24,(D103-C103)*24-VEMA!R$45)),\"<< zlý čas\")","v":0},null,null,null,null,0,0,null,null,null,null,null,"4.1.28. OG IV: Vyhodnotenie programu vzdelávania.",null,null,null,{"$f":"IF(OR(B103=\"So\",B103=\"Ne\"),\"dobre\",IF(C103>D103,\"zle\",IF(AND(C103<=VEMA!P$45,VEMA!Q$45<=D103),\"obed\",IF(OR(D103<=VEMA!P$45,VEMA!Q$45<=C103),\"dobre\",\"zle\"))))","v":"dobre"}]
[null,{"$f":"B103","v":"Po"},null,null,{"$f":"IF(OR(U104=\"dobre\",U104=\"obed\"),IF(OR(B104=\"So\",B104=\"Ne\"),\"\",IF(OR(D104<=VEMA!P$45,C104>=VEMA!Q$45),(D104-C104)*24,(D104-C104)*24-VEMA!R$45)),\"<< zlý čas\")","v":0},null,null,null,null,0,0,null,null,null,null,null,"4.1.28. OG IV: Účasť na porade k vzdelávacím programom v rámci národného projektu a vyhodnotenie programu vzdelávania.",null,null,null,{"$f":"IF(OR(B104=\"So\",B104=\"Ne\"),\"dobre\",IF(C104>D104,\"zle\",IF(AND(C104<=VEMA!P$45,VEMA!Q$45<=D104),\"obed\",IF(OR(D104<=VEMA!P$45,VEMA!Q$45<=C104),\"dobre\",\"zle\"))))","v":"dobre"}]
[{"$f":"IF(A102=\"\",\"\",IF(A102+1<=$D$146,A102+1,\"\"))","v":29},{"$f":"IF(A105=\"\",\"\",IF(B102=\"Po\",\"Ut\",IF(B102=\"Ut\",\"St\",IF(B102=\"St\",\"Št\",IF(B102=\"Št\",\"Pi\",IF(B102=\"Pi\",\"So\",IF(B102=\"So\",\"Ne\",IF(B102=\"Ne\",\"Po\",\"\"))))))))","v":"Ut"},null,null,{"$f":"IF(OR(U105=\"dobre\",U105=\"obed\"),IF(OR(B105=\"So\",B105=\"Ne\",B105=\"\"),\"\",IF(OR(D105<=VEMA!P$46,C105>=VEMA!Q$46),(D105-C105)*24,(D105-C105)*24-VEMA!R$46)),\"<< zlý čas\")","v":0},null,null,null,null,0,0,null,null,null,null,null,"4.1.29 VVS: Zakladanie vzdelávacej skupiny.",null,{"$f":"IF(SUM(E105:E107)=0,\"\",SUM(E105:E107))","v":""},null,{"$f":"IF(OR(B105=\"So\",B105=\"Ne\"),\"dobre\",IF(C105>D105,\"zle\",IF(AND(C105<=VEMA!P$46,VEMA!Q$46<=D105),\"obed\",IF(OR(D105<=VEMA!P$46,VEMA!Q$46<=C105),\"dobre\",\"zle\"))))","v":"dobre"}]
[null,{"$f":"B105","v":"Ut"},null,null,{"$f":"IF(OR(U106=\"dobre\",U106=\"obed\"),IF(OR(B106=\"So\",B106=\"Ne\",B106=\"\"),\"\",IF(OR(D106<=VEMA!P$46,C106>=VEMA!Q$46),(D106-C106)*24,(D106-C106)*24-VEMA!R$46)),\"<< zlý čas\")","v":0},null,null,null,null,0,0,null,null,null,null,null,"4.1.29. VVS: Správa databázy účastníkov, tvorba materiálov (pozvánky, prezenčné listiny, triednu knihu skupiny).",null,null,null,{"$f":"IF(OR(B106=\"So\",B106=\"Ne\"),\"dobre\",IF(C106>D106,\"zle\",IF(AND(C106<=VEMA!P$46,VEMA!Q$46<=D106),\"obed\",IF(OR(D106<=VEMA!P$46,VEMA!Q$46<=C106),\"dobre\",\"zle\"))))","v":"dobre"}]
[null,{"$f":"B106","v":"Ut"},null,null,{"$f":"IF(OR(U107=\"dobre\",U107=\"obed\"),IF(OR(B107=\"So\",B107=\"Ne\",B107=\"\"),\"\",IF(OR(D107<=VEMA!P$46,C107>=VEMA!Q$46),(D107-C107)*24,(D107-C107)*24-VEMA!R$46)),\"<< zlý čas\")","v":0},null,null,null,null,0,0,null,null,null,null,null,"4.1.29. VVS: Sumarizácia dištančných úloh.",null,null,null,{"$f":"IF(OR(B107=\"So\",B107=\"Ne\"),\"dobre\",IF(C107>D107,\"zle\",IF(AND(C107<=VEMA!P$46,VEMA!Q$46<=D107),\"obed\",IF(OR(D107<=VEMA!P$46,VEMA!Q$46<=C107),\"dobre\",\"zle\"))))","v":"dobre"}]
[{"$f":"IF(A105=\"\",\"\",IF(A105+1<=$D$146,A105+1,\"\"))","v":30},{"$f":"IF(A108=\"\",\"\",IF(B105=\"Po\",\"Ut\",IF(B105=\"Ut\",\"St\",IF(B105=\"St\",\"Št\",IF(B105=\"Št\",\"Pi\",IF(B105=\"Pi\",\"So\",IF(B105=\"So\",\"Ne\",IF(B105=\"Ne\",\"Po\",\"\"))))))))","v":"St"},null,null,{"$f":"IF(OR(U108=\"dobre\",U108=\"obed\"),IF(OR(B108=\"So\",B108=\"Ne\",B108=\"\"),\"\",IF(OR(D108<=VEMA!P$47,C108>=VEMA!Q$47),(D108-C108)*24,(D108-C108)*24-VEMA!R$47)),\"<< zlý čas\")","v":0},null,null,null,null,0,0,null,null,null,null,null,"4.1.29. VVS: Plánovanie a príprava harmonogramu vzdelávacích aktivít.",null,{"$f":"IF(SUM(E108:E110)=0,\"\",SUM(E108:E110))","v":""},null,{"$f":"IF(OR(B108=\"So\",B108=\"Ne\"),\"dobre\",IF(C108>D108,\"zle\",IF(AND(C108<=VEMA!P$47,VEMA!Q$47<=D108),\"obed\",IF(OR(D108<=VEMA!P$47,VEMA!Q$47<=C108),\"dobre\",\"zle\"))))","v":"dobre"}]
[null,{"$f":"B108","v":"St"},null,null,{"$f":"IF(OR(U109=\"dobre\",U109=\"obed\"),IF(OR(B109=\"So\",B109=\"Ne\",B109=\"\"),\"\",IF(OR(D109<=VEMA!P$47,C109>=VEMA!Q$47),(D109-C109)*24,(D109-C109)*24-VEMA!R$47)),\"<< zlý čas\")","v":0},null,null,null,null,0,0,null,null,null,null,null,"4.1.29. VVS: Sumarizácia dištančných úloh a záverečných prezentácii, príprava a spracovanie záverov, vrátane podkladov na spracovanie osvedčení a protokolov. ",null,null,null,{"$f":"IF(OR(B109=\"So\",B109=\"Ne\"),\"dobre\",IF(C109>D109,\"zle\",IF(AND(C109<=VEMA!P$47,VEMA!Q$47<=D109),\"obed\",IF(OR(D109<=VEMA!P$47,VEMA!Q$47<=C109),\"dobre\",\"zle\"))))","v":"dobre"}]
[null,{"$f":"B109","v":"St"},null,null,{"$f":"IF(OR(U110=\"dobre\",U110=\"obed\"),IF(OR(B110=\"So\",B110=\"Ne\",B110=\"\"),\"\",IF(OR(D110<=VEMA!P$47,C110>=VEMA!Q$47),(D110-C110)*24,(D110-C110)*24-VEMA!R$47)),\"<< zlý čas\")","v":0},null,null,null,null,0,0,null,null,null,null,null,"4.1.29. VVS: Príprava podkladov na archiváciu v zmysle interných a projektových pokynov.",null,null,null,{"$f":"IF(OR(B110=\"So\",B110=\"Ne\"),\"dobre\",IF(C110>D110,\"zle\",IF(AND(C110<=VEMA!P$47,VEMA!Q$47<=D110),\"obed\",IF(OR(D110<=VEMA!P$47,VEMA!Q$47<=C110),\"dobre\",\"zle\"))))","v":"dobre"}]
[{"$f":"IF(A108=\"\",\"\",IF(A108+1<=$D$146,A108+1,\"\"))","v":""},{"$f":"IF(A111=\"\",\"\",IF(B108=\"Po\",\"Ut\",IF(B108=\"Ut\",\"St\",IF(B108=\"St\",\"Št\",IF(B108=\"Št\",\"Pi\",IF(B108=\"Pi\",\"So\",IF(B108=\"So\",\"Ne\",IF(B108=\"Ne\",\"Po\",\"\"))))))))","v":""},null,null,{"$f":"IF(OR(U111=\"dobre\",U111=\"obed\"),IF(OR(B111=\"So\",B111=\"Ne\",B111=\"\"),\"\",IF(OR(D111<=VEMA!P$48,C111>=VEMA!Q$48),(D111-C111)*24,(D111-C111)*24-VEMA!R$48)),\"<< zlý čas\")","v":""},null,null,null,null,"",{"$f":"IF(AND(B111=\"So\"),\"\",(IF(AND(B111=\"Ne\"),\"\",(IF(AND(B111=\"\"),\"\",(SUMIF(N21:N48,F16,O21:O48))*E111)))))","v":""},null,null,null,null,null,"4.1.29. VVS: Koordinovanie vzdelávacích skupín.",null,{"$f":"IF(SUM(E111:E113)=0,\"\",SUM(E111:E113))","v":""},null,{"$f":"IF(OR(B111=\"So\",B111=\"Ne\",B111=\"\"),\"dobre\",IF(C111>D111,\"zle\",IF(AND(C111<=VEMA!P$48,VEMA!Q$48<=D111),\"obed\",IF(OR(D111<=VEMA!P$48,VEMA!Q$48<=C111),\"dobre\",\"zle\"))))","v":"dobre"}]
[null,{"$f":"B111","v":""},null,null,{"$f":"IF(OR(U112=\"dobre\",U112=\"obed\"),IF(OR(B112=\"So\",B112=\"Ne\",B112=\"\"),\"\",IF(OR(D112<=VEMA!P$48,C112>=VEMA!Q$48),(D112-C112)*24,(D112-C112)*24-VEMA!R$48)),\"<< zlý čas\")","v":""},null,null,null,null,{"$f":"IF(AND(B112=\"\"),\"\",IF(AND(B112=\"So\"),\"\",(IF(AND(B112=\"Ne\"),\"\",(ROUND(E112-K112,2))))))","v":""},{"$f":"IF(AND(B112=\"So\"),\"\",(IF(AND(B112=\"Ne\"),\"\",(IF(AND(B112=\"\"),\"\",(SUMIF(N21:N48,F16,O21:O48))*E112)))))","v":""},null,null,null,null,null,"4.1.30. L: Príprava na lektorskú činnosť.",null,null,null,{"$f":"IF(OR(B112=\"So\",B112=\"Ne\",B112=\"\"),\"dobre\",IF(C112>D112,\"zle\",IF(AND(C112<=VEMA!P$48,VEMA!Q$48<=D112),\"obed\",IF(OR(D112<=VEMA!P$48,VEMA!Q$48<=C112),\"dobre\",\"zle\"))))","v":"dobre"}]
[null,{"$f":"B112","v":""},null,null,{"$f":"IF(OR(U113=\"dobre\",U113=\"obed\"),IF(OR(B113=\"So\",B113=\"Ne\",B113=\"\"),\"\",IF(OR(D113<=VEMA!P$48,C113>=VEMA!Q$48),(D113-C113)*24,(D113-C113)*24-VEMA!R$48)),\"<< zlý čas\")","v":""},null,null,null,null,{"$f":"IF(AND(B113=\"\"),\"\",IF(AND(B113=\"So\"),\"\",(IF(AND(B113=\"Ne\"),\"\",(ROUND(E113-K113,2))))))","v":""},{"$f":"IF(AND(B113=\"So\"),\"\",(IF(AND(B113=\"Ne\"),\"\",(IF(AND(B113=\"\"),\"\",(SUMIF(N21:N48,F16,O21:O48))*E113)))))","v":""},null,null,null,null,null,"4.1.30. L: Úprava materiálov pre účastníkov vzdelávania.",null,null,null,{"$f":"IF(OR(B113=\"So\",B113=\"Ne\",B113=\"\"),\"dobre\",IF(C113>D113,\"zle\",IF(AND(C113<=VEMA!P$48,VEMA!Q$48<=D113),\"obed\",IF(OR(D113<=VEMA!P$48,VEMA!Q$48<=C113),\"dobre\",\"zle\"))))","v":"dobre"}]
["Spolu:",null,null,null,{"$f":"SUMIF(B21:B111,\"Po\",E21:E113)+SUMIF(B21:B111,\"Ut\",E21:E111)+SUMIF(B21:B111,\"St\",E21:E111)+SUMIF(B21:B111,\"Št\",E21:E111)+SUMIF(B21:B111,\"Pi\",E21:E111)","v":0},null,null,null,null,{"$f":"SUM(J21:J111)","v":0},{"$f":"SUM(K21:K111)","v":0},null,null,null,null,null,"4.1.30. L: Lektorovanie programu vzdelávania."]
["Čestné vyhlásenie:",null,null,null,null,null,null,null,null,null,null,null,null,null,null,null,"4.1.30. L: Ukončovanie  vzdelávacieho programu (člen skúšobnej komisie). "]
[null,null,"❶Ako prijímateľ vyhlasujem, že údaje uvedené v pracovnom výkaze sú pravdivé, reálne a správne a som si vedomý následkov spojených s uvedením/predložením nesprávneho, neúplného alebo falšovaného výkazu.",null,null,null,null,null,null,null,null,null,null,null,null,null,"4.1.30. L: Ukončovanie  vzdelávacieho programu (predseda skúšobnej komisie). "]
["X",null,null,null,null,null,null,null,null,null,null,null,null,"X",null,null,"4.1.30. L: Vyhodnotenie programu vzdelávania za skupinu."]
[null,null,null,null,null,null,null,null,null,null,null,null,null,null,null,null,"4.1.30. L: Príprava na lektorskú činnosť.  Úprava materiálov pre účastníkov vzdelávania."]
[null,null,"❷Svojim podpisom potvrdzujem, že v uvedenom mesiaci som mal iba jediný pracovnoprávny vzťah,  nevykonával som iné činnosti u tohto zamestnávateľa ani u iných zamestnávateľov, údaje uvedené v pracovnom výkaze sú pravdivé, reálne a správne a som si vedomý následkov spojených s uvedením/predložením nesprávneho, neúplného alebo falšovaného pracovného výkazu.",null,null,null,null,null,null,null,null,null,null,null,null,null,"4.1.30. L: Príprava na lektorskú činnosť a lektorovanie programu vzdelávania."]
[null,null,null,null,null,null,null,null,null,null,null,null,null,null,null,null,"4.1.32. P.: Realizácia individuálneho poradenstva pedagogickým zamestnancom s dôrazom na aplikáciu poznatkov zo vzdelávacích programov a aktivít v školskej praxi."]
["Dátum odovzdania: ",null,null,null,null,null,null,"Dátum prevzatia:",null,null,null,null,null,null,null,null,"4.1.32. P.: Poskytovanie spätnej väzby na pozorované edukačné procesy."]
[null,null,null,null,null,null,null,null,null,null,null,null,null,null,null,null,"4.1.32. P.: Realizácia poradenského projektu."]
["Podpis osoby***:",null,null,null,null,null,null,"Podpis štatutárneho orgánu prijímateľa:**",null,null,null,null,null,null,null,null,"4.1.32. P.: Návrh a vypracovanie odporúčaní na zvýšenie kvality výchovno-vzdelávacieho procesu."]
[null,null,null,null,null,null,null,null,null,null,null,null,null,null,null,null,"4.1.32. P.: Vyhodnotenie realizácie poradenského projektu."]
["Poznámka: Osobou sa rozumie zamestnanec v pracovnoprávnom vzťahu (pracovný pomer, dohody) ako aj osoba pracujúca na základe iných ako pracovnoprávnych vzťahov, resp. osoba pracujúca pre dodávateľa, ktorý vykonáva činnosť pre prijímateľa.                                                                                                         \n*Počet hodín je uvádzaný pre 60 minútový interval.",null,null,null,null,null,null,null,null,null,null,null,null,null,null,null,"4.1.32. P: Príprava podkladom na realizáciu poradenského projektu, realizácia poradenského projektu."]
[null,null,null,null,null,null,null,null,null,null,null,null,null,null,null,null,"4.1.32. P: Príprava poradenského projektu."]
["**V prípade splmonocnenia sa uvedia osoba splnomocnená štatutárnym orgánom na podpisovanie pracovných výkazov",null,null,null,null,null,null,null,null,null,null,null,null,null,null,null,"sviatok"]
["***V prípade dodávateľských vzťahov sa uvedie podpis osoby, ktorá vykonala činnosti a výstupy uvádzané v PV a podpis osoby, ktorá zastupuje dodávateľa. Ak osoby sú totožné uvedie sa iba jeden podpis",null,null,null,null,null,null,null,null,null,null,null,null,null,null,null,"dovolenka"]
[null,null,null,null,null,null,null,null,null,null,null,null,null,null,null,null,"iné náhrady"]
["❶",null,"osoba  pracujúca na rôzne pracovnoprávne vzťahy u jedného resp. rôznych zamestnávateľov ",null,null,null,null,null,null,null,null,null,null,null,null,null,"lekár"]
["❷",null,"osoba pracujúca 100% na projekt, ktorá mala iba jediný pracovnoprávny vzťah",null,null,null,null,null,null,null,null,null,null,null,null,null,"sprevádzanie člena rodiny"]
[null,null,null,null,null,null,null,null,null,null,null,null,null,null,null,null,"PN"]
[null,null,null,null,null,null,null,null,null,null,null,null,null,null,null,null,"OČR"]
[null,null,null,null,null,null,null,null,null,null,null,null,null,null,null,null,"neplatené voľno"]
["PRÁCA NADČAS*"]
["Mesiac ",null,null,null,null,null,null,{"$f":"F17","v":"September"}]
["Fond pracovného času v príslušnom mesiaci "]
["Celkový počet odpracovaných hodín v príslušnom mesiaci "]
["Nariadená/dododnutá práca nadčas financovaná v rámci projektu**"]
[]
["* vypĺňa sa iba v prípade, ak sa v rámci projektu v danom mesiaci financuje v projekte práca nadčas"]
["** práca nadčas je oprávnená iba vo výnimočných a odôvodnených prípadoch. musí byť vykonávaná na príkaz zamestnávateľa alebo s jeho súhlasom. Nadčas je oprávneným výdavkom iba v prípade, ak činnosti vykonávané počas práce nadčas priamo súvisia s aktivitami projektu. Pri využívaní nadčas je potrebné dodržiavať platnú legislatívu SR (najmä zákonník práce).\n"]
[]
["Začiatok mesiaca",null,null,{"$f":"VLOOKUP(F17,A163:E174,(VLOOKUP(K17,A177:B180,2,0)),0)","v":2}]
[]
["Počet dní v mesiaci",null,null,{"$f":"VLOOKUP(F17,A183:C194,(VLOOKUP(K17,A196:B199,2,0)),0)","v":30}]
[]
["Vyberte",2019,2020,2021,2022]
["Január","ut","st","pi","so"]
["Február","pi","so","po","ut"]
["Marec","pi","ne","po","ut"]
["Apríl","po","st","št","pi"]
["Máj","st","pi","so","ne"]
["Jún","so","po","ut","st"]
["Júl","po","st","št","pi"]
["August","št","so","ne","po"]
["September","ne","ut","st","št"]
["Október","ut","št","pi","so"]
["November","pi","ne","po","ut"]
["December","ne","ut","st","št"]
[]
[null,2019,2020,2021,2022]
["Január",2,3,5,6]
["Február",5,6,1,2]
["Marec",5,7,1,2]
["Apríl",1,3,4,5]
["Máj",3,5,6,7]
["Jún",6,1,2,3]
["Júl",1,3,4,5]
["August",4,6,7,1]
["September",7,2,3,4]
["Október",2,4,5,6]
["November",5,7,1,2]
["December",7,2,3,4]
[]
[]
[2019,{"$f":"COLUMN(B162)","v":2}]
[2020,{"$f":"COLUMN($C$162)","v":3}]
[2021,{"$f":"COLUMN($D$162)","v":4}]
[2022,{"$f":"COLUMN($E$162)","v":5}]
[]
[null,"ostatné",2020]
["Január",31,31]
["Február",28,29]
["Marec",31,31]
["Apríl",30,30]
["Máj",31,31]
["Jún",30,30]
["Júl",31,31]
["August",31,31]
["September",30,30]
["Október",31,31]
["November",30,30]
["December",31,31]
[]
[2019,{"$f":"COLUMN(B182)","v":2}]
[2020,{"$f":"COLUMN($C$182)","v":3}]
[2021,{"$f":"COLUMN($B$182)","v":2}]
[2022,{"$f":"COLUMN($B$182)","v":2}]

{"sheet":"Vyplnenie PV","index":8,"n_rows":55,"n_cols":1,"rows_kept":55,"cut":false,"hidden":false,"merged":[]}
["Hlavička:"]
["Uvedie názov operačného programu v nasledovnej forme: \"OP Ľudské zdroje\" "]
["Uvedie programové obdobie v nasledovnom tvare: \"2014-2020\""]
["V riadku \"prijímateľ\" sa uvedie názov prijímateľa podľa zmluvy o poskytnutí nenávratného finančného príspevku (ďalej len \"zmluva o NFP\")"]
["V riadku \"Názov projektu\" sa uvedie úplný názov projektu podľa zmluvy NFP, nepoužíva sa skrátený názov projektu !"]
["V riadku \"Kód ITMS projektu\" sa uvedie kód projektu podľa zmluvy NFP, neuvádza sa registračné číslo projektu !"]
["Právny vzťah sa uvedie relevantný údaj z nasledovných možností:"]
["Pracovný pomer (pracovná zmluva) - PP"]
["Dohoda (dohoda o brigádnickej práci študenta, dohoda o vykonaní práce,...) - D"]
["Faktúra (ak osoba vystaví faktúru, resp. ide o zmluvný vzťah - platí iba pre fyzickú osobu) - F"]
["Iný (ak osoba nevystaví faktúru - platí iba pre fyzickú osobu) - I"]
["Dodávka (ak osoba pracuje pre dodávateľa a dodávateľ účtuje dané činnosti prijímateľovi) - DD"]
["V riadku \"Meno a priezvisko\" sa uvedie meno a priezvisko fyzickej osoby, ktorá predmetnú činnosť vykonala. Ak ide o dodávku"]
["za meno a priezvisko osoby sa uvedie aj názov dodávateľa."]
["V riadku \"Funkcia/Právny vzťah\" sa uvedie číslo rozpočtovej položky a názov rozpočtovej položky podľa zmluvy o NFP."]
[]
["V riadku \"Obdobie vykonávania činnosti\" sa uvedie obdobie, kedy sa predmetná činnosť vykonala. Obdobie sa uvádza v nasledovnom"]
["formáte: DD/MM/RRRR - DD/MM/RRRR alebo DD.MM.RRRR - DD.MM.RRRR (napr. 01/03/2016 - 31/03/2016, 01.03.2016 - 31.03.2016). "]
["formáte: Názov mesiaca - vybrte z ponúkaných možností"]
[]
["Pracovný výkaz:"]
[]
["V stĺpci \"Dátum\" sa uvedie deň/dni, kedy sa predmetné činnosti vykonávali. Vyplní sa celý stĺpec podľa počtu dní v danom mesiaci (napr. október bude mať 31 dní, november 30 dní)."]
["V stĺpci \"Čas vykonania prác\" sa uvedie časový úsek, v ktorom daná osoba vykonávala uvedenú činnosť (napr. od 8.00 - 17.00)."]
["Údaje sa uvádzajú vo formáte HH:MM alebo HH.MM (v PV sa uvedie iba jeden formát), je potrebné používať 24 hodinový formát. Čas zahŕňa aj prerušenie pracovného času (napr. prestávka)."]
["V stĺpci \"Počet odpracovaných hodín\" sa uvedie reálny počet odpracovaných hodín na danej činnosti alebo aktivite. "]
["V stĺpci \"Detailný popis činností...\" sa uvedie, čo osoba vykonala (aké činnosti) počas príslušného dňa vrátane výsledkov a výstupov práce, ktoré boli dosiahnuté uvedenou činnosťou."]
["V stĺpci \"Počet odpracovaných hodín MRR\" sa uvedie reálny počet odpracovaných hodín na danej činnosti alebo aktivite za cieľ MRR. "]
["Uvádza sa tu čas zodpovedajúci 1 hod = 60 minútam, t.j. ak činnosť nezodpovedá 60 minútovému intervalu, upraví sa na tento interval na zodpovedajúci čas (napr. prednáška "]
["trvala 45 minút do pracovného výkazu sa uvedie 0,75). Počet odpracovaných hodín za cieľ MRR a VRR nesmie byť väčší ako čas vykonania prác a počet odpracovanaých hodín v stĺpci \"D\" !"]
["V stĺpci \"Počet odpracovaných hodín VRR\" sa uvedie reálny počet odpracovaných hodín na danej činnosti alebo aktivite za cieľ VRR. "]
["Uvádza sa tu čas zodpovedajúci 1 hod = 60 minútam, t.j. ak činnosť nezodpovedá 60 minútovému intervalu, upraví sa na tento interval na zodpovedajúci čas (napr. prednáška "]
["trvala 45 minút do pracovného výkazu sa uvedie 0,75). Počet odpracovaných hodín za cieľ MRR a VRR nesmie byť väčší ako čas vykonania prác počet odpracovanaých hodín v stĺpci \"D\" !"]
["V stĺpci \"Miesto vykonávania činnosti\" sa uvedie miesto, kde sa predmetná činnosť vykonala."]
[]
["Päta:"]
["Čestné vyhlásenie: zaškrtnutím sa vyberie  z možnosti ❶ a ❷ pričom:"]
["❶ osoba pracujúca na rôzne pracovnoprávne vzťahy u jedného resp. rôznych zamestnávateľov. Kumulatívny mesačný výkaz práce, príloha 5b sa predkladá."]
["❷ osoba pracujúca 100% na projekt, ktorá má iba jediný pracovnoprávny vzťah. Kumulatívny mesačný výkaz práce, príloha 5b sa nepredkladá."]
["Dátum odovzdania/prevzatia. Uvedú sa dátumy odovzdania a prevzatia vykonaných činností, resp. prác. Zároveň sa oprávnené osoby vlastnoručne podpíšu (nie je možné použiť faximile pečiatky)."]
["Všeobecné informácie:"]
["1. Pracovný výkaz sa vypracuje na každý mesiac a  pracovnú pozíciu, t.j. nie je možné predložiť pracovný výkaz na viacero mesiacov alebo pracovných pozícií."]
["(napr. v období vykonávania činnosti prijímateľ uvedie 01/03/2016 - 30/04/2016 - takto vypracovaný pracovný výkaz sa považuje za nesprávny)"]
["2. Riadky v časti Pracovný výkaz sa nemôžu vymazať ! Ak osoba pracovala iba časť relevantného obdobia vyplní iba príslušné dni. "]
["Dni, kedy osoba nepracovala sa ponechajú prázdne - nevpisuje sa do nich (s výnimkou stĺpca \"Dátum\")."]
["3. Neúplné, nepresné a nepravdivé informácie môžu mať za následok vznik neoprávnených výdavkov alebo predĺženie lehoty spracovania žiadosti."]
["(napr. umelé vykazovanie odpracovaných hodín - každý mesiac 10 hodín; nejasný a nedostatočný popis činností a výsledkov)"]
["4. V prípade zaokrúhľovania je potrebné zaokrúhľovať na 2 desatinné miesta matematickým spôsobom (pracovný výkaz je prispôsobený na 2 desatinné miesta)."]
["5. Pracovný výkaz je jednoznačne identifikovaný - má svoje číslo. Spôsob číslovania si zvolí sám prijímateľ (napr. každá osoba bude mať svoje pridelené číslo - 01/PM, 02/PM,...)"]
[]
["Práca nadčas - vypĺňa len zamestnanec, ktorý si v príslušnom mesiaci nárokuje na preplatenie prácu nadčas"]
["Mesiac - uvedie sa mesiac, v ktorom si zamestnanec nárokuje preplatenie práce nadčas"]
["Fond pracovného času - uvedie sa celkový fond pracovného času za príslušný mesiac vrátane nárokovaných sviatkov"]
["Celkový počet odpracovaných hodín - uvedie sa skutočný počet odpracovaných hodín súvisiacich s pracovným výkazom"]
["Práca nadčas - uvedie sa počet odpracovaných hodín práce nadčas, ktorú zamestnanec zamestnancovi nariadil alebo na ktorej sa zamestnanec so zamestnancom písomne dohodol  "]

{"sheet":"KMVP","index":9,"n_rows":115,"n_cols":20,"rows_kept":115,"cut":false,"hidden":false,"merged":[[56,0,56,11],[57,12,57,14],[57,15,57,19],[54,0,54,4],[54,5,54,11],[54,12,54,14],[54,15,54,19],[55,0,55,4],[55,5,55,11],[55,12,55,14],[55,15,55,19],[48,0,48,7],[51,0,51,11],[52,0,53,11],[52,12,53,19],[15,12,16,12],[15,13,16,13],[15,14,16,14],[15,15,16,15],[15,16,16,16],[15,17,16,17],[14,0,14,19],[15,0,16,0],[15,2,15,3],[15,4,15,5],[15,6,16,6],[15,7,16,7],[15,8,16,8],[15,9,16,9],[15,10,16,10],[15,11,16,11],[15,18,16,18],[15,19,16,19],[13,0,13,19],[10,0,10,6],[10,7,10,8],[10,9,10,10],[10,11,10,13],[10,14,10,19],[11,0,11,6],[11,7,11,8],[11,9,11,10],[11,11,11,13],[11,14,11,19],[12,0,12,6],[12,7,12,8],[12,9,12,10],[12,11,12,13],[12,14,12,19],[8,0,8,6],[8,7,8,8],[8,9,8,10],[8,11,8,13],[8,14,8,19],[9,0,9,6],[9,7,9,8],[9,9,9,10],[9,11,9,13],[9,14,9,19],[6,0,6,6],[6,7,6,8],[6,9,6,10],[6,11,6,13],[6,14,6,19],[7,0,7,6],[7,7,7,8],[7,9,7,10],[7,11,7,13],[7,14,7,19],[4,0,4,6],[4,7,4,8],[4,9,4,10],[4,11,4,13],[4,14,4,19],[5,0,5,6],[5,7,5,8],[5,9,5,10],[5,11,5,13],[5,14,5,19],[2,0,2,6],[2,7,2,8],[2,9,2,10],[2,11,2,13],[2,14,2,19],[3,0,3,6],[3,7,3,8],[3,9,3,10],[3,11,3,13],[3,14,3,19],[0,0,0,19],[1,0,1,6],[1,7,1,11],[1,12,1,13],[1,14,1,15],[1,16,1,17],[1,18,1,19]]}
["Kumulatívny mesačný výkaz práce "]
["Meno a priezvisko osoby:",null,null,null,null,null,null,{"$f":"PV!F15","v":"Mgr. Meno Priezvisko, PhD."},null,null,null,null,"Rok (RRRR): ",null,{"$f":"PV!K17","v":2020},null,"Mesiac (MM): ",null,{"$f":"PV!F17","v":"September"}]
["Prehľad pracovných činností:",null,null,null,null,null,null,"Prijímateľ/organizácia",null,"Kód ITMS projektu",null,"Právny vzťah",null,null,"Názov pracovnej pozície"]
["Iná činnosť  (mimo EIŠF) 1",null,null,null,null,null,null,"Metodicko-pedagogické centrum",null,null,null,"TPP",null,null,"Učiteľ profesijného rozvoja"]
["Iná činnosť  (mimo EIŠF) 2"]
["Pracovná pozícia EIŠF 1",null,null,null,null,null,null,{"$f":"IF(PV!F16=\"\",\"\",PV!F10)","v":""},null,{"$f":"IF(PV!F16=\"\",\"\",PV!F13)","v":""},null,{"$f":"IF(PV!F16=\"\",\"\",PV!L16)","v":""},null,null,{"$f":"IF(PV!F16=\"\",\"\",PV!F16)","v":""}]
["Pracovná pozícia EIŠF 2",null,null,null,null,null,null,{"$f":"IF('PV2'!F16=\"\",\"\",'PV2'!F10)","v":""},null,{"$f":"IF('PV2'!F16=\"\",\"\",'PV2'!F13)","v":""},null,{"$f":"IF('PV2'!F16=\"\",\"\",'PV2'!L16)","v":""},null,null,{"$f":"IF('PV2'!F16=\"\",\"\",'PV2'!F16)","v":""}]
["Pracovná pozícia EIŠF 3",null,null,null,null,null,null,{"$f":"IF('PV3'!F16=\"\",\"\",'PV3'!F10)","v":""},null,{"$f":"IF('PV3'!F16=\"\",\"\",'PV3'!F13)","v":""},null,{"$f":"IF('PV3'!F16=\"\",\"\",'PV3'!L16)","v":""},null,null,{"$f":"IF('PV3'!F16=\"\",\"\",'PV3'!F16)","v":""}]
["Pracovná pozícia EIŠF 4",null,null,null,null,null,null,{"$f":"IF('PV4'!F$16=\"\",\"\",'PV4'!F$10)","v":""},null,{"$f":"IF('PV4'!F$16=\"\",\"\",'PV4'!F$13)","v":""},null,{"$f":"IF('PV4'!F$16=\"\",\"\",'PV4'!L$16)","v":""},null,null,{"$f":"IF('PV4'!F$16=\"\",\"\",'PV4'!F$16)","v":""}]
["Pracovná pozícia EIŠF 5",null,null,null,null,null,null,{"$f":"IF('PV5'!F$16=\"\",\"\",'PV5'!F$10)","v":""},null,{"$f":"IF('PV5'!F$16=\"\",\"\",'PV5'!F$13)","v":""},null,{"$f":"IF('PV5'!F$16=\"\",\"\",'PV5'!L$16)","v":""},null,null,{"$f":"IF('PV5'!F$16=\"\",\"\",'PV5'!F$16)","v":""}]
["Pracovná pozícia EIŠF 6",null,null,null,null,null,null,{"$f":"IF('PV6'!F$16=\"\",\"\",'PV6'!F$10)","v":""},null,{"$f":"IF('PV6'!F$16=\"\",\"\",'PV6'!F$13)","v":""},null,{"$f":"IF('PV6'!F$16=\"\",\"\",'PV6'!L$16)","v":""},null,null,{"$f":"IF('PV6'!F$16=\"\",\"\",'PV6'!F$16)","v":""}]
["Pracovná pozícia EIŠF 7",null,null,null,null,null,null,{"$f":"IF('PV7'!F$16=\"\",\"\",'PV7'!F$10)","v":""},null,{"$f":"IF('PV7'!F$16=\"\",\"\",'PV7'!F$13)","v":""},null,{"$f":"IF('PV7'!F$16=\"\",\"\",'PV7'!L$16)","v":""},null,null,{"$f":"IF('PV7'!F$16=\"\",\"\",'PV7'!F$16)","v":""}]
["Pracovná pozícia EIŠF 8",null,null,null,null,null,null,{"$f":"IF('PV8'!F$16=\"\",\"\",'PV8'!F$10)","v":""},null,{"$f":"IF('PV8'!F$16=\"\",\"\",'PV8'!F$13)","v":""},null,{"$f":"IF('PV8'!F$16=\"\",\"\",'PV8'!L$16)","v":""},null,null,{"$f":"IF('PV8'!F$16=\"\",\"\",'PV8'!F$16)","v":""}]
[]
["Prehľad odpracovaných hodín"]
["Deň",null,"Od",null,"Do",null,"Max. hodín","Súčet odpracovaných hodín",{"$f":"A4","v":"Iná činnosť  (mimo EIŠF) 1"},{"$f":"A5","v":"Iná činnosť  (mimo EIŠF) 2"},{"$f":"A6","v":"Pracovná pozícia EIŠF 1"},{"$f":"A7","v":"Pracovná pozícia EIŠF 2"},{"$f":"A8","v":"Pracovná pozícia EIŠF 3"},{"$f":"A9","v":"Pracovná pozícia EIŠF 4"},{"$f":"A10","v":"Pracovná pozícia EIŠF 5"},{"$f":"A11","v":"Pracovná pozícia EIŠF 6"},{"$f":"A12","v":"Pracovná pozícia EIŠF 7"},{"$f":"A13","v":"Pracovná pozícia EIŠF 8"},"...","POZNÁMKA"]
[null,null,"HH","MM","HH","MM"]
[1,{"$f":"PV!B21","v":"Ut"},{"$f":"TRUNC(VEMA!N18*24)","v":0},{"$f":"(VEMA!N18*24-KMVP!C18)*60","v":0},{"$f":"TRUNC(VEMA!O18*24)","v":0},{"$f":"(VEMA!O18*24-KMVP!E18)*60","v":0},{"$f":"IF(E18=\"\",\"\",(E18-C18)+((F18-D18)/60))","v":0},{"$f":"IF(G18=\"\",\"\",IF(G18>4,IF(VEMA!P18=\"00:00\",G18,G18-VEMA!R18-VEMA!U18),G18))","v":0},{"$f":"IF(G18=\"\",\"\",IF(G18=0,\"\",IF(PV!Z21=\"obed\",H18-SUM(K18:R18),IF(G18>=4,IF(SUM(K18:R18)=0,H18,G18-SUM(K18:R18)-VEMA!R18),H18-SUM(K18:R18)))))","v":""},null,{"$f":"PV!S21","v":""},{"$f":"IF('PV2'!F16=\"\",\"\",'PV2'!S21)","v":""},{"$f":"IF('PV3'!F16=\"\",\"\",'PV3'!S21)","v":""},{"$f":"IF('PV4'!$F16=\"\",\"\",'PV4'!$S21)","v":""},{"$f":"IF('PV5'!$F16=\"\",\"\",'PV5'!$S21)","v":""},{"$f":"IF('PV6'!$F16=\"\",\"\",'PV6'!$S21)","v":""},{"$f":"IF('PV7'!$F16=\"\",\"\",'PV7'!$S21)","v":""},{"$f":"IF('PV8'!$F16=\"\",\"\",'PV8'!$S21)","v":""},null,{"$f":"IF(VEMA!J18=\"odpra\",IF(AND(VEMA!P18=0,NOT(OR(VEMA!C18=\"So\",VEMA!C18=\"Ne\"))),\"S\",\"\"),IF(VEMA!J18=\"dovol\",\"D\",IF(VEMA!J18=\"dopr.\",\"DOP\",IF(VEMA!J18=\"nemoc\",\"PN\",IF(VEMA!J18=\"lekár\",\"LV\",IF(VEMA!J18=\"necPN\",\"IV\",IF(VEMA!D18=\"\",\"\",IF(LEN(VEMA!D18)<4,VEMA!D18,\"\"))))))))","v":" "}]
[{"$f":"IF(A18=\"\",\"\",IF(A18+1<=$D$62,A18+1,\"\"))","v":2},{"$f":"IF(A19=\"\",\"\",IF(B18=\"Po\",\"Ut\",IF(B18=\"Ut\",\"St\",IF(B18=\"St\",\"Št\",IF(B18=\"Št\",\"Pi\",IF(B18=\"Pi\",\"So\",IF(B18=\"So\",\"Ne\",IF(B18=\"Ne\",\"Po\",\"\"))))))))","v":"St"},{"$f":"TRUNC(VEMA!N19*24)","v":0},{"$f":"(VEMA!N19*24-KMVP!C19)*60","v":0},{"$f":"TRUNC(VEMA!O19*24)","v":0},{"$f":"(VEMA!O19*24-KMVP!E19)*60","v":0},0,{"$f":"IF(G19=\"\",\"\",IF(G19>4,IF(VEMA!P19=\"00:00\",G19,G19-VEMA!R19-VEMA!U19),G19))","v":0},{"$f":"IF(G19=\"\",\"\",IF(G19=0,\"\",IF(PV!Z22=\"obed\",H19-SUM(K19:R19),IF(G19>=4,IF(SUM(K19:R19)=0,H19,G19-SUM(K19:R19)-VEMA!R19),H19-SUM(K19:R19)))))","v":""},null,{"$f":"PV!S24","v":""},{"$f":"IF('PV2'!F16=\"\",\"\",'PV2'!S24)","v":""},{"$f":"IF('PV3'!F16=\"\",\"\",'PV3'!S24)","v":""},{"$f":"IF('PV4'!$F16=\"\",\"\",'PV4'!$S24)","v":""},{"$f":"IF('PV5'!$F16=\"\",\"\",'PV5'!$S24)","v":""},{"$f":"IF('PV6'!$F16=\"\",\"\",'PV6'!$S24)","v":""},{"$f":"IF('PV7'!$F16=\"\",\"\",'PV7'!$S24)","v":""},{"$f":"IF('PV8'!$F16=\"\",\"\",'PV8'!$S24)","v":""},null,{"$f":"IF(VEMA!J19=\"odpra\",IF(AND(VEMA!P19=0,NOT(OR(VEMA!C19=\"So\",VEMA!C19=\"Ne\"))),\"S\",\"\"),IF(VEMA!J19=\"dovol\",\"D\",IF(VEMA!J19=\"dopr.\",\"DOP\",IF(VEMA!J19=\"nemoc\",\"PN\",IF(VEMA!J19=\"lekár\",\"LV\",IF(VEMA!J19=\"necPN\",\"IV\",IF(VEMA!D19=\"\",\"\",IF(LEN(VEMA!D19)<4,VEMA!D19,\"\"))))))))","v":" "}]
[{"$f":"IF(A19=\"\",\"\",IF(A19+1<=$D$62,A19+1,\"\"))","v":3},{"$f":"IF(A20=\"\",\"\",IF(B19=\"Po\",\"Ut\",IF(B19=\"Ut\",\"St\",IF(B19=\"St\",\"Št\",IF(B19=\"Št\",\"Pi\",IF(B19=\"Pi\",\"So\",IF(B19=\"So\",\"Ne\",IF(B19=\"Ne\",\"Po\",\"\"))))))))","v":"Št"},{"$f":"TRUNC(VEMA!N20*24)","v":8},{"$f":"(VEMA!N20*24-KMVP!C20)*60","v":0},{"$f":"TRUNC(VEMA!O20*24)","v":16},{"$f":"(VEMA!O20*24-KMVP!E20)*60","v":0},8,{"$f":"IF(G20=\"\",\"\",IF(G20>4,IF(VEMA!P20=\"00:00\",G20,G20-VEMA!R20-VEMA!U20),G20))","v":7.4999999999999991},{"$f":"IF(G20=\"\",\"\",IF(G20=0,\"\",IF(PV!Z23=\"obed\",H20-SUM(K20:R20),IF(G20>=4,IF(SUM(K20:R20)=0,H20,G20-SUM(K20:R20)-VEMA!R20),H20-SUM(K20:R20)))))","v":7.4999999999999991},null,{"$f":"PV!S27","v":""},{"$f":"IF('PV2'!F16=\"\",\"\",'PV2'!S27)","v":""},{"$f":"IF('PV3'!F16=\"\",\"\",'PV3'!S27)","v":""},{"$f":"IF('PV4'!$F16=\"\",\"\",'PV4'!$S27)","v":""},{"$f":"IF('PV5'!$F16=\"\",\"\",'PV5'!$S27)","v":""},{"$f":"IF('PV6'!$F16=\"\",\"\",'PV6'!$S27)","v":""},{"$f":"IF('PV7'!$F16=\"\",\"\",'PV7'!$S27)","v":""},{"$f":"IF('PV8'!$F16=\"\",\"\",'PV8'!$S27)","v":""},null,{"$f":"IF(VEMA!J20=\"odpra\",IF(AND(VEMA!P20=0,NOT(OR(VEMA!C20=\"So\",VEMA!C20=\"Ne\"))),\"S\",\"\"),IF(VEMA!J20=\"dovol\",\"D\",IF(VEMA!J20=\"dopr.\",\"DOP\",IF(VEMA!J20=\"nemoc\",\"PN\",IF(VEMA!J20=\"lekár\",\"LV\",IF(VEMA!J20=\"necPN\",\"IV\",IF(VEMA!D20=\"\",\"\",IF(LEN(VEMA!D20)<4,VEMA!D20,\"\"))))))))","v":""}]
[{"$f":"IF(A20=\"\",\"\",IF(A20+1<=$D$62,A20+1,\"\"))","v":4},{"$f":"IF(A21=\"\",\"\",IF(B20=\"Po\",\"Ut\",IF(B20=\"Ut\",\"St\",IF(B20=\"St\",\"Št\",IF(B20=\"Št\",\"Pi\",IF(B20=\"Pi\",\"So\",IF(B20=\"So\",\"Ne\",IF(B20=\"Ne\",\"Po\",\"\"))))))))","v":"Pi"},{"$f":"TRUNC(VEMA!N21*24)","v":6},{"$f":"(VEMA!N21*24-KMVP!C21)*60","v":33.999999999999986},{"$f":"TRUNC(VEMA!O21*24)","v":17},{"$f":"(VEMA!O21*24-KMVP!E21)*60","v":2.0000000000000995},10.466666666666669,{"$f":"IF(G21=\"\",\"\",IF(G21>4,IF(VEMA!P21=\"00:00\",G21,G21-VEMA!R21-VEMA!U21),G21))","v":9.9666666666666686},{"$f":"IF(G21=\"\",\"\",IF(G21=0,\"\",IF(PV!Z24=\"obed\",H21-SUM(K21:R21),IF(G21>=4,IF(SUM(K21:R21)=0,H21,G21-SUM(K21:R21)-VEMA!R21),H21-SUM(K21:R21)))))","v":9.9666666666666686},null,{"$f":"PV!S30","v":""},{"$f":"IF('PV2'!F16=\"\",\"\",'PV2'!S30)","v":""},{"$f":"IF('PV3'!F16=\"\",\"\",'PV3'!S30)","v":""},{"$f":"IF('PV4'!$F16=\"\",\"\",'PV4'!$S30)","v":""},{"$f":"IF('PV5'!$F16=\"\",\"\",'PV5'!$S30)","v":""},{"$f":"IF('PV6'!$F16=\"\",\"\",'PV6'!$S30)","v":""},{"$f":"IF('PV7'!$F16=\"\",\"\",'PV7'!$S30)","v":""},{"$f":"IF('PV8'!$F16=\"\",\"\",'PV8'!$S30)","v":""},null,{"$f":"IF(VEMA!J21=\"odpra\",IF(AND(VEMA!P21=0,NOT(OR(VEMA!C21=\"So\",VEMA!C21=\"Ne\"))),\"S\",\"\"),IF(VEMA!J21=\"dovol\",\"D\",IF(VEMA!J21=\"dopr.\",\"DOP\",IF(VEMA!J21=\"nemoc\",\"PN\",IF(VEMA!J21=\"lekár\",\"LV\",IF(VEMA!J21=\"necPN\",\"IV\",IF(VEMA!D21=\"\",\"\",IF(LEN(VEMA!D21)<4,VEMA!D21,\"\"))))))))","v":" "}]
[5,"So",{"$f":"TRUNC(VEMA!N22*24)","v":6},{"$f":"(VEMA!N22*24-KMVP!C22)*60","v":30},{"$f":"TRUNC(VEMA!O22*24)","v":10},{"$f":"(VEMA!O22*24-KMVP!E22)*60","v":41.000000000000014},4.1833333333333336,{"$f":"IF(G22=\"\",\"\",IF(G22>4,IF(VEMA!P22=\"00:00\",G22,G22-VEMA!R22-VEMA!U22),G22))","v":4.1833333333333336},{"$f":"IF(G22=\"\",\"\",IF(G22=0,\"\",IF(PV!Z25=\"obed\",H22-SUM(K22:R22),IF(G22>=4,IF(SUM(K22:R22)=0,H22,G22-SUM(K22:R22)-VEMA!R22),H22-SUM(K22:R22)))))","v":4.1833333333333336},null,{"$f":"PV!S33","v":""},{"$f":"IF('PV2'!F16=\"\",\"\",'PV2'!S33)","v":""},{"$f":"IF('PV3'!F16=\"\",\"\",'PV3'!S33)","v":""},{"$f":"IF('PV4'!$F16=\"\",\"\",'PV4'!$S33)","v":""},{"$f":"IF('PV5'!$F16=\"\",\"\",'PV5'!$S33)","v":""},{"$f":"IF('PV6'!$F16=\"\",\"\",'PV6'!$S33)","v":""},{"$f":"IF('PV7'!$F16=\"\",\"\",'PV7'!$S33)","v":""},{"$f":"IF('PV8'!$F16=\"\",\"\",'PV8'!$S33)","v":""},null,{"$f":"IF(VEMA!J22=\"odpra\",IF(AND(VEMA!P22=0,NOT(OR(VEMA!C22=\"So\",VEMA!C22=\"Ne\"))),\"S\",\"\"),IF(VEMA!J22=\"dovol\",\"D\",IF(VEMA!J22=\"dopr.\",\"DOP\",IF(VEMA!J22=\"nemoc\",\"PN\",IF(VEMA!J22=\"lekár\",\"LV\",IF(VEMA!J22=\"necPN\",\"IV\",IF(VEMA!D22=\"\",\"\",IF(LEN(VEMA!D22)<4,VEMA!D22,\"\"))))))))","v":"LV"}]
[6,"Ne",{"$f":"TRUNC(VEMA!N23*24)","v":8},{"$f":"(VEMA!N23*24-KMVP!C23)*60","v":0},{"$f":"TRUNC(VEMA!O23*24)","v":16},{"$f":"(VEMA!O23*24-KMVP!E23)*60","v":0},8,{"$f":"IF(G23=\"\",\"\",IF(G23>4,IF(VEMA!P23=\"00:00\",G23,G23-VEMA!R23-VEMA!U23),G23))","v":7.4999999999999991},{"$f":"IF(G23=\"\",\"\",IF(G23=0,\"\",IF(PV!Z26=\"obed\",H23-SUM(K23:R23),IF(G23>=4,IF(SUM(K23:R23)=0,H23,G23-SUM(K23:R23)-VEMA!R23),H23-SUM(K23:R23)))))","v":7.4999999999999991},null,{"$f":"PV!S36","v":""},{"$f":"IF('PV2'!F16=\"\",\"\",'PV2'!S36)","v":""},{"$f":"IF('PV3'!F16=\"\",\"\",'PV3'!S36)","v":""},{"$f":"IF('PV4'!$F16=\"\",\"\",'PV4'!$S36)","v":""},{"$f":"IF('PV5'!$F16=\"\",\"\",'PV5'!$S36)","v":""},{"$f":"IF('PV6'!$F16=\"\",\"\",'PV6'!$S36)","v":""},{"$f":"IF('PV7'!$F16=\"\",\"\",'PV7'!$S36)","v":""},{"$f":"IF('PV8'!$F16=\"\",\"\",'PV8'!$S36)","v":""},null,{"$f":"IF(VEMA!J23=\"odpra\",IF(AND(VEMA!P23=0,NOT(OR(VEMA!C23=\"So\",VEMA!C23=\"Ne\"))),\"S\",\"\"),IF(VEMA!J23=\"dovol\",\"D\",IF(VEMA!J23=\"dopr.\",\"DOP\",IF(VEMA!J23=\"nemoc\",\"PN\",IF(VEMA!J23=\"lekár\",\"LV\",IF(VEMA!J23=\"necPN\",\"IV\",IF(VEMA!D23=\"\",\"\",IF(LEN(VEMA!D23)<4,VEMA!D23,\"\"))))))))","v":""}]
[7,"Po",{"$f":"TRUNC(VEMA!N24*24)","v":8},{"$f":"(VEMA!N24*24-KMVP!C24)*60","v":0},{"$f":"TRUNC(VEMA!O24*24)","v":16},{"$f":"(VEMA!O24*24-KMVP!E24)*60","v":0},8,{"$f":"IF(G24=\"\",\"\",IF(G24>4,IF(VEMA!P24=\"00:00\",G24,G24-VEMA!R24-VEMA!U24),G24))","v":7.4999999999999991},{"$f":"IF(G24=\"\",\"\",IF(G24=0,\"\",IF(PV!Z27=\"obed\",H24-SUM(K24:R24),IF(G24>=4,IF(SUM(K24:R24)=0,H24,G24-SUM(K24:R24)-VEMA!R24),H24-SUM(K24:R24)))))","v":7.4999999999999991},null,{"$f":"PV!S39","v":""},{"$f":"IF('PV2'!F16=\"\",\"\",'PV2'!S39)","v":""},{"$f":"IF('PV3'!F16=\"\",\"\",'PV3'!S39)","v":""},{"$f":"IF('PV4'!$F16=\"\",\"\",'PV4'!$S39)","v":""},{"$f":"IF('PV5'!$F16=\"\",\"\",'PV5'!$S39)","v":""},{"$f":"IF('PV6'!$F16=\"\",\"\",'PV6'!$S39)","v":""},{"$f":"IF('PV7'!$F16=\"\",\"\",'PV7'!$S39)","v":""},{"$f":"IF('PV8'!$F16=\"\",\"\",'PV8'!$S39)","v":""},null,{"$f":"IF(VEMA!J24=\"odpra\",IF(AND(VEMA!P24=0,NOT(OR(VEMA!C24=\"So\",VEMA!C24=\"Ne\"))),\"S\",\"\"),IF(VEMA!J24=\"dovol\",\"D\",IF(VEMA!J24=\"dopr.\",\"DOP\",IF(VEMA!J24=\"nemoc\",\"PN\",IF(VEMA!J24=\"lekár\",\"LV\",IF(VEMA!J24=\"necPN\",\"IV\",IF(VEMA!D24=\"\",\"\",IF(LEN(VEMA!D24)<4,VEMA!D24,\"\"))))))))","v":""}]
[8,"Ut",{"$f":"TRUNC(VEMA!N25*24)","v":6},{"$f":"(VEMA!N25*24-KMVP!C25)*60","v":30},{"$f":"TRUNC(VEMA!O25*24)","v":14},{"$f":"(VEMA!O25*24-KMVP!E25)*60","v":30},8,{"$f":"IF(G25=\"\",\"\",IF(G25>4,IF(VEMA!P25=\"00:00\",G25,G25-VEMA!R25-VEMA!U25),G25))","v":7.4999999999999991},{"$f":"IF(G25=\"\",\"\",IF(G25=0,\"\",IF(PV!Z28=\"obed\",H25-SUM(K25:R25),IF(G25>=4,IF(SUM(K25:R25)=0,H25,G25-SUM(K25:R25)-VEMA!R25),H25-SUM(K25:R25)))))","v":7.4999999999999991},null,{"$f":"PV!S42","v":""},{"$f":"IF('PV2'!F16=\"\",\"\",'PV2'!S42)","v":""},{"$f":"IF('PV3'!F16=\"\",\"\",'PV3'!S42)","v":""},{"$f":"IF('PV4'!$F16=\"\",\"\",'PV4'!$S42)","v":""},{"$f":"IF('PV5'!$F16=\"\",\"\",'PV5'!$S42)","v":""},{"$f":"IF('PV6'!$F16=\"\",\"\",'PV6'!$S42)","v":""},{"$f":"IF('PV7'!$F16=\"\",\"\",'PV7'!$S42)","v":""},{"$f":"IF('PV8'!$F16=\"\",\"\",'PV8'!$S42)","v":""},null,{"$f":"IF(VEMA!J25=\"odpra\",IF(AND(VEMA!P25=0,NOT(OR(VEMA!C25=\"So\",VEMA!C25=\"Ne\"))),\"S\",\"\"),IF(VEMA!J25=\"dovol\",\"D\",IF(VEMA!J25=\"dopr.\",\"DOP\",IF(VEMA!J25=\"nemoc\",\"PN\",IF(VEMA!J25=\"lekár\",\"LV\",IF(VEMA!J25=\"necPN\",\"IV\",IF(VEMA!D25=\"\",\"\",IF(LEN(VEMA!D25)<4,VEMA!D25,\"\"))))))))","v":" "}]
[9,"St",{"$f":"TRUNC(VEMA!N26*24)","v":6},{"$f":"(VEMA!N26*24-KMVP!C26)*60","v":30},{"$f":"TRUNC(VEMA!O26*24)","v":14},{"$f":"(VEMA!O26*24-KMVP!E26)*60","v":39.000000000000128},8.1500000000000021,{"$f":"IF(G26=\"\",\"\",IF(G26>4,IF(VEMA!P26=\"00:00\",G26,G26-VEMA!R26-VEMA!U26),G26))","v":7.6500000000000012},{"$f":"IF(G26=\"\",\"\",IF(G26=0,\"\",IF(PV!Z29=\"obed\",H26-SUM(K26:R26),IF(G26>=4,IF(SUM(K26:R26)=0,H26,G26-SUM(K26:R26)-VEMA!R26),H26-SUM(K26:R26)))))","v":7.6500000000000012},null,{"$f":"PV!S45","v":""},{"$f":"IF('PV2'!F16=\"\",\"\",'PV2'!S45)","v":""},{"$f":"IF('PV3'!F16=\"\",\"\",'PV3'!S45)","v":""},{"$f":"IF('PV4'!$F16=\"\",\"\",'PV4'!$S45)","v":""},{"$f":"IF('PV5'!$F16=\"\",\"\",'PV5'!$S45)","v":""},{"$f":"IF('PV6'!$F16=\"\",\"\",'PV6'!$S45)","v":""},{"$f":"IF('PV7'!$F16=\"\",\"\",'PV7'!$S45)","v":""},{"$f":"IF('PV8'!$F16=\"\",\"\",'PV8'!$S45)","v":""},null,{"$f":"IF(VEMA!J26=\"odpra\",IF(AND(VEMA!P26=0,NOT(OR(VEMA!C26=\"So\",VEMA!C26=\"Ne\"))),\"S\",\"\"),IF(VEMA!J26=\"dovol\",\"D\",IF(VEMA!J26=\"dopr.\",\"DOP\",IF(VEMA!J26=\"nemoc\",\"PN\",IF(VEMA!J26=\"lekár\",\"LV\",IF(VEMA!J26=\"necPN\",\"IV\",IF(VEMA!D26=\"\",\"\",IF(LEN(VEMA!D26)<4,VEMA!D26,\"\"))))))))","v":" "}]
[10,"Št",{"$f":"TRUNC(VEMA!N27*24)","v":6},{"$f":"(VEMA!N27*24-KMVP!C27)*60","v":30},{"$f":"TRUNC(VEMA!O27*24)","v":14},{"$f":"(VEMA!O27*24-KMVP!E27)*60","v":33.000000000000043},8.0500000000000007,{"$f":"IF(G27=\"\",\"\",IF(G27>4,IF(VEMA!P27=\"00:00\",G27,G27-VEMA!R27-VEMA!U27),G27))","v":7.55},{"$f":"IF(G27=\"\",\"\",IF(G27=0,\"\",IF(PV!Z30=\"obed\",H27-SUM(K27:R27),IF(G27>=4,IF(SUM(K27:R27)=0,H27,G27-SUM(K27:R27)-VEMA!R27),H27-SUM(K27:R27)))))","v":7.55},null,{"$f":"PV!S48","v":""},{"$f":"IF('PV2'!F16=\"\",\"\",'PV2'!S48)","v":""},{"$f":"IF('PV3'!F16=\"\",\"\",'PV3'!S48)","v":""},{"$f":"IF('PV4'!$F16=\"\",\"\",'PV4'!$S48)","v":""},{"$f":"IF('PV5'!$F16=\"\",\"\",'PV5'!$S48)","v":""},{"$f":"IF('PV6'!$F16=\"\",\"\",'PV6'!$S48)","v":""},{"$f":"IF('PV7'!$F16=\"\",\"\",'PV7'!$S48)","v":""},{"$f":"IF('PV8'!$F16=\"\",\"\",'PV8'!$S48)","v":""},null,{"$f":"IF(VEMA!J27=\"odpra\",IF(AND(VEMA!P27=0,NOT(OR(VEMA!C27=\"So\",VEMA!C27=\"Ne\"))),\"S\",\"\"),IF(VEMA!J27=\"dovol\",\"D\",IF(VEMA!J27=\"dopr.\",\"DOP\",IF(VEMA!J27=\"nemoc\",\"PN\",IF(VEMA!J27=\"lekár\",\"LV\",IF(VEMA!J27=\"necPN\",\"IV\",IF(VEMA!D27=\"\",\"\",IF(LEN(VEMA!D27)<4,VEMA!D27,\"\"))))))))","v":" "}]
[11,"Pi",{"$f":"TRUNC(VEMA!N28*24)","v":0},{"$f":"(VEMA!N28*24-KMVP!C28)*60","v":0},{"$f":"TRUNC(VEMA!O28*24)","v":0},{"$f":"(VEMA!O28*24-KMVP!E28)*60","v":0},0,{"$f":"IF(G28=\"\",\"\",IF(G28>4,IF(VEMA!P28=\"00:00\",G28,G28-VEMA!R28-VEMA!U28),G28))","v":0},{"$f":"IF(G28=\"\",\"\",IF(G28=0,\"\",IF(PV!Z31=\"obed\",H28-SUM(K28:R28),IF(G28>=4,IF(SUM(K28:R28)=0,H28,G28-SUM(K28:R28)-VEMA!R28),H28-SUM(K28:R28)))))","v":""},null,{"$f":"PV!S51","v":""},{"$f":"IF('PV2'!F16=\"\",\"\",'PV2'!S51)","v":""},{"$f":"IF('PV3'!F16=\"\",\"\",'PV3'!S51)","v":""},{"$f":"IF('PV4'!$F16=\"\",\"\",'PV4'!$S51)","v":""},{"$f":"IF('PV5'!$F16=\"\",\"\",'PV5'!$S51)","v":""},{"$f":"IF('PV6'!$F16=\"\",\"\",'PV6'!$S51)","v":""},{"$f":"IF('PV7'!$F16=\"\",\"\",'PV7'!$S51)","v":""},{"$f":"IF('PV8'!$F16=\"\",\"\",'PV8'!$S51)","v":""},null,{"$f":"IF(VEMA!J28=\"odpra\",IF(AND(VEMA!P28=0,NOT(OR(VEMA!C28=\"So\",VEMA!C28=\"Ne\"))),\"S\",\"\"),IF(VEMA!J28=\"dovol\",\"D\",IF(VEMA!J28=\"dopr.\",\"DOP\",IF(VEMA!J28=\"nemoc\",\"PN\",IF(VEMA!J28=\"lekár\",\"LV\",IF(VEMA!J28=\"necPN\",\"IV\",IF(VEMA!D28=\"\",\"\",IF(LEN(VEMA!D28)<4,VEMA!D28,\"\"))))))))","v":"D"}]
[12,"So",{"$f":"TRUNC(VEMA!N29*24)","v":0},{"$f":"(VEMA!N29*24-KMVP!C29)*60","v":0},{"$f":"TRUNC(VEMA!O29*24)","v":0},{"$f":"(VEMA!O29*24-KMVP!E29)*60","v":0},0,{"$f":"IF(G29=\"\",\"\",IF(G29>4,IF(VEMA!P29=\"00:00\",G29,G29-VEMA!R29-VEMA!U29),G29))","v":0},{"$f":"IF(G29=\"\",\"\",IF(G29=0,\"\",IF(PV!Z32=\"obed\",H29-SUM(K29:R29),IF(G29>=4,IF(SUM(K29:R29)=0,H29,G29-SUM(K29:R29)-VEMA!R29),H29-SUM(K29:R29)))))","v":""},null,{"$f":"PV!S54","v":""},{"$f":"IF('PV2'!F16=\"\",\"\",'PV2'!S54)","v":""},{"$f":"IF('PV3'!F16=\"\",\"\",'PV3'!S54)","v":""},{"$f":"IF('PV4'!$F16=\"\",\"\",'PV4'!$S54)","v":""},{"$f":"IF('PV5'!$F16=\"\",\"\",'PV5'!$S54)","v":""},{"$f":"IF('PV6'!$F16=\"\",\"\",'PV6'!$S54)","v":""},{"$f":"IF('PV7'!$F16=\"\",\"\",'PV7'!$S54)","v":""},{"$f":"IF('PV8'!$F16=\"\",\"\",'PV8'!$S54)","v":""},null,{"$f":"IF(VEMA!J29=\"odpra\",IF(AND(VEMA!P29=0,NOT(OR(VEMA!C29=\"So\",VEMA!C29=\"Ne\"))),\"S\",\"\"),IF(VEMA!J29=\"dovol\",\"D\",IF(VEMA!J29=\"dopr.\",\"DOP\",IF(VEMA!J29=\"nemoc\",\"PN\",IF(VEMA!J29=\"lekár\",\"LV\",IF(VEMA!J29=\"necPN\",\"IV\",IF(VEMA!D29=\"\",\"\",IF(LEN(VEMA!D29)<4,VEMA!D29,\"\"))))))))","v":" "}]
[13,"Ne",{"$f":"TRUNC(VEMA!N30*24)","v":0},{"$f":"(VEMA!N30*24-KMVP!C30)*60","v":0},{"$f":"TRUNC(VEMA!O30*24)","v":0},{"$f":"(VEMA!O30*24-KMVP!E30)*60","v":0},0,{"$f":"IF(G30=\"\",\"\",IF(G30>4,IF(VEMA!P30=\"00:00\",G30,G30-VEMA!R30-VEMA!U30),G30))","v":0},{"$f":"IF(G30=\"\",\"\",IF(G30=0,\"\",IF(PV!Z33=\"obed\",H30-SUM(K30:R30),IF(G30>=4,IF(SUM(K30:R30)=0,H30,G30-SUM(K30:R30)-VEMA!R30),H30-SUM(K30:R30)))))","v":""},null,{"$f":"PV!S57","v":""},{"$f":"IF('PV2'!F16=\"\",\"\",'PV2'!S57)","v":""},{"$f":"IF('PV3'!F16=\"\",\"\",'PV3'!S57)","v":""},{"$f":"IF('PV4'!$F16=\"\",\"\",'PV4'!$S57)","v":""},{"$f":"IF('PV5'!$F16=\"\",\"\",'PV5'!$S57)","v":""},{"$f":"IF('PV6'!$F16=\"\",\"\",'PV6'!$S57)","v":""},{"$f":"IF('PV7'!$F16=\"\",\"\",'PV7'!$S57)","v":""},{"$f":"IF('PV8'!$F16=\"\",\"\",'PV8'!$S57)","v":""},null,{"$f":"IF(VEMA!J30=\"odpra\",IF(AND(VEMA!P30=0,NOT(OR(VEMA!C30=\"So\",VEMA!C30=\"Ne\"))),\"S\",\"\"),IF(VEMA!J30=\"dovol\",\"D\",IF(VEMA!J30=\"dopr.\",\"DOP\",IF(VEMA!J30=\"nemoc\",\"PN\",IF(VEMA!J30=\"lekár\",\"LV\",IF(VEMA!J30=\"necPN\",\"IV\",IF(VEMA!D30=\"\",\"\",IF(LEN(VEMA!D30)<4,VEMA!D30,\"\"))))))))","v":" "}]
[14,"Po",{"$f":"TRUNC(VEMA!N31*24)","v":0},{"$f":"(VEMA!N31*24-KMVP!C31)*60","v":0},{"$f":"TRUNC(VEMA!O31*24)","v":0},{"$f":"(VEMA!O31*24-KMVP!E31)*60","v":0},0,{"$f":"IF(G31=\"\",\"\",IF(G31>4,IF(VEMA!P31=\"00:00\",G31,G31-VEMA!R31-VEMA!U31),G31))","v":0},{"$f":"IF(G31=\"\",\"\",IF(G31=0,\"\",IF(PV!Z34=\"obed\",H31-SUM(K31:R31),IF(G31>=4,IF(SUM(K31:R31)=0,H31,G31-SUM(K31:R31)-VEMA!R31),H31-SUM(K31:R31)))))","v":""},null,{"$f":"PV!S60","v":""},{"$f":"IF('PV2'!F16=\"\",\"\",'PV2'!S60)","v":""},{"$f":"IF('PV3'!F16=\"\",\"\",'PV3'!S60)","v":""},{"$f":"IF('PV4'!$F16=\"\",\"\",'PV4'!$S60)","v":""},{"$f":"IF('PV5'!$F16=\"\",\"\",'PV5'!$S60)","v":""},{"$f":"IF('PV6'!$F16=\"\",\"\",'PV6'!$S60)","v":""},{"$f":"IF('PV7'!$F16=\"\",\"\",'PV7'!$S60)","v":""},{"$f":"IF('PV8'!$F16=\"\",\"\",'PV8'!$S60)","v":""},null,{"$f":"IF(VEMA!J31=\"odpra\",IF(AND(VEMA!P31=0,NOT(OR(VEMA!C31=\"So\",VEMA!C31=\"Ne\"))),\"S\",\"\"),IF(VEMA!J31=\"dovol\",\"D\",IF(VEMA!J31=\"dopr.\",\"DOP\",IF(VEMA!J31=\"nemoc\",\"PN\",IF(VEMA!J31=\"lekár\",\"LV\",IF(VEMA!J31=\"necPN\",\"IV\",IF(VEMA!D31=\"\",\"\",IF(LEN(VEMA!D31)<4,VEMA!D31,\"\"))))))))","v":"D"}]
[15,"Ut",{"$f":"TRUNC(VEMA!N32*24)","v":0},{"$f":"(VEMA!N32*24-KMVP!C32)*60","v":0},{"$f":"TRUNC(VEMA!O32*24)","v":0},{"$f":"(VEMA!O32*24-KMVP!E32)*60","v":0},0,{"$f":"IF(G32=\"\",\"\",IF(G32>4,IF(VEMA!P32=\"00:00\",G32,G32-VEMA!R32-VEMA!U32),G32))","v":0},{"$f":"IF(G32=\"\",\"\",IF(G32=0,\"\",IF(PV!Z35=\"obed\",H32-SUM(K32:R32),IF(G32>=4,IF(SUM(K32:R32)=0,H32,G32-SUM(K32:R32)-VEMA!R32),H32-SUM(K32:R32)))))","v":""},null,{"$f":"PV!S63","v":""},{"$f":"IF('PV2'!F16=\"\",\"\",'PV2'!S63)","v":""},{"$f":"IF('PV3'!F16=\"\",\"\",'PV3'!S63)","v":""},{"$f":"IF('PV4'!$F16=\"\",\"\",'PV4'!$S63)","v":""},{"$f":"IF('PV5'!$F16=\"\",\"\",'PV5'!$S63)","v":""},{"$f":"IF('PV6'!$F16=\"\",\"\",'PV6'!$S63)","v":""},{"$f":"IF('PV7'!$F16=\"\",\"\",'PV7'!$S63)","v":""},{"$f":"IF('PV8'!$F16=\"\",\"\",'PV8'!$S63)","v":""},null,{"$f":"IF(VEMA!J32=\"odpra\",IF(AND(VEMA!P32=0,NOT(OR(VEMA!C32=\"So\",VEMA!C32=\"Ne\"))),\"S\",\"\"),IF(VEMA!J32=\"dovol\",\"D\",IF(VEMA!J32=\"dopr.\",\"DOP\",IF(VEMA!J32=\"nemoc\",\"PN\",IF(VEMA!J32=\"lekár\",\"LV\",IF(VEMA!J32=\"necPN\",\"IV\",IF(VEMA!D32=\"\",\"\",IF(LEN(VEMA!D32)<4,VEMA!D32,\"\"))))))))","v":"IV"}]
[16,"St",{"$f":"TRUNC(VEMA!N33*24)","v":6},{"$f":"(VEMA!N33*24-KMVP!C33)*60","v":30},{"$f":"TRUNC(VEMA!O33*24)","v":15},{"$f":"(VEMA!O33*24-KMVP!E33)*60","v":24.000000000000128},8.9000000000000021,{"$f":"IF(G33=\"\",\"\",IF(G33>4,IF(VEMA!P33=\"00:00\",G33,G33-VEMA!R33-VEMA!U33),G33))","v":8.4000000000000021},{"$f":"IF(G33=\"\",\"\",IF(G33=0,\"\",IF(PV!Z36=\"obed\",H33-SUM(K33:R33),IF(G33>=4,IF(SUM(K33:R33)=0,H33,G33-SUM(K33:R33)-VEMA!R33),H33-SUM(K33:R33)))))","v":8.4000000000000021},null,{"$f":"PV!S66","v":""},{"$f":"IF('PV2'!F16=\"\",\"\",'PV2'!S66)","v":""},{"$f":"IF('PV3'!F16=\"\",\"\",'PV3'!S66)","v":""},{"$f":"IF('PV4'!$F16=\"\",\"\",'PV4'!$S66)","v":""},{"$f":"IF('PV5'!$F16=\"\",\"\",'PV5'!$S66)","v":""},{"$f":"IF('PV6'!$F16=\"\",\"\",'PV6'!$S66)","v":""},{"$f":"IF('PV7'!$F16=\"\",\"\",'PV7'!$S66)","v":""},{"$f":"IF('PV8'!$F16=\"\",\"\",'PV8'!$S66)","v":""},null,{"$f":"IF(VEMA!J33=\"odpra\",IF(AND(VEMA!P33=0,NOT(OR(VEMA!C33=\"So\",VEMA!C33=\"Ne\"))),\"S\",\"\"),IF(VEMA!J33=\"dovol\",\"D\",IF(VEMA!J33=\"dopr.\",\"DOP\",IF(VEMA!J33=\"nemoc\",\"PN\",IF(VEMA!J33=\"lekár\",\"LV\",IF(VEMA!J33=\"necPN\",\"IV\",IF(VEMA!D33=\"\",\"\",IF(LEN(VEMA!D33)<4,VEMA!D33,\"\"))))))))","v":" "}]
[17,"Št",{"$f":"TRUNC(VEMA!N34*24)","v":6},{"$f":"(VEMA!N34*24-KMVP!C34)*60","v":30},{"$f":"TRUNC(VEMA!O34*24)","v":14},{"$f":"(VEMA!O34*24-KMVP!E34)*60","v":39.999999999999858},8.1666666666666643,{"$f":"IF(G34=\"\",\"\",IF(G34>4,IF(VEMA!P34=\"00:00\",G34,G34-VEMA!R34-VEMA!U34),G34))","v":7.6666666666666634},{"$f":"IF(G34=\"\",\"\",IF(G34=0,\"\",IF(PV!Z37=\"obed\",H34-SUM(K34:R34),IF(G34>=4,IF(SUM(K34:R34)=0,H34,G34-SUM(K34:R34)-VEMA!R34),H34-SUM(K34:R34)))))","v":7.6666666666666634},null,{"$f":"PV!S69","v":""},{"$f":"IF('PV2'!F16=\"\",\"\",'PV2'!S69)","v":""},{"$f":"IF('PV3'!F16=\"\",\"\",'PV3'!S69)","v":""},{"$f":"IF('PV4'!$F16=\"\",\"\",'PV4'!$S69)","v":""},{"$f":"IF('PV5'!$F16=\"\",\"\",'PV5'!$S69)","v":""},{"$f":"IF('PV6'!$F16=\"\",\"\",'PV6'!$S69)","v":""},{"$f":"IF('PV7'!$F16=\"\",\"\",'PV7'!$S69)","v":""},{"$f":"IF('PV8'!$F16=\"\",\"\",'PV8'!$S69)","v":""},null,{"$f":"IF(VEMA!J34=\"odpra\",IF(AND(VEMA!P34=0,NOT(OR(VEMA!C34=\"So\",VEMA!C34=\"Ne\"))),\"S\",\"\"),IF(VEMA!J34=\"dovol\",\"D\",IF(VEMA!J34=\"dopr.\",\"DOP\",IF(VEMA!J34=\"nemoc\",\"PN\",IF(VEMA!J34=\"lekár\",\"LV\",IF(VEMA!J34=\"necPN\",\"IV\",IF(VEMA!D34=\"\",\"\",IF(LEN(VEMA!D34)<4,VEMA!D34,\"\"))))))))","v":" "}]
[18,"Pi",{"$f":"TRUNC(VEMA!N35*24)","v":6},{"$f":"(VEMA!N35*24-KMVP!C35)*60","v":30},{"$f":"TRUNC(VEMA!O35*24)","v":13},{"$f":"(VEMA!O35*24-KMVP!E35)*60","v":0},6.5,{"$f":"IF(G35=\"\",\"\",IF(G35>4,IF(VEMA!P35=\"00:00\",G35,G35-VEMA!R35-VEMA!U35),G35))","v":5.0833333333333339},{"$f":"IF(G35=\"\",\"\",IF(G35=0,\"\",IF(PV!Z38=\"obed\",H35-SUM(K35:R35),IF(G35>=4,IF(SUM(K35:R35)=0,H35,G35-SUM(K35:R35)-VEMA!R35),H35-SUM(K35:R35)))))","v":5.0833333333333339},null,{"$f":"PV!S72","v":""},{"$f":"IF('PV2'!F16=\"\",\"\",'PV2'!S72)","v":""},{"$f":"IF('PV3'!F16=\"\",\"\",'PV3'!S72)","v":""},{"$f":"IF('PV4'!$F16=\"\",\"\",'PV4'!$S72)","v":""},{"$f":"IF('PV5'!$F16=\"\",\"\",'PV5'!$S72)","v":""},{"$f":"IF('PV6'!$F16=\"\",\"\",'PV6'!$S72)","v":""},{"$f":"IF('PV7'!$F16=\"\",\"\",'PV7'!$S72)","v":""},{"$f":"IF('PV8'!$F16=\"\",\"\",'PV8'!$S72)","v":""},null,{"$f":"IF(VEMA!J35=\"odpra\",IF(AND(VEMA!P35=0,NOT(OR(VEMA!C35=\"So\",VEMA!C35=\"Ne\"))),\"S\",\"\"),IF(VEMA!J35=\"dovol\",\"D\",IF(VEMA!J35=\"dopr.\",\"DOP\",IF(VEMA!J35=\"nemoc\",\"PN\",IF(VEMA!J35=\"lekár\",\"LV\",IF(VEMA!J35=\"necPN\",\"IV\",IF(VEMA!D35=\"\",\"\",IF(LEN(VEMA!D35)<4,VEMA!D35,\"\"))))))))","v":"LV"}]
[19,"So",{"$f":"TRUNC(VEMA!N36*24)","v":0},{"$f":"(VEMA!N36*24-KMVP!C36)*60","v":0},{"$f":"TRUNC(VEMA!O36*24)","v":0},{"$f":"(VEMA!O36*24-KMVP!E36)*60","v":0},0,{"$f":"IF(G36=\"\",\"\",IF(G36>4,IF(VEMA!P36=\"00:00\",G36,G36-VEMA!R36-VEMA!U36),G36))","v":0},{"$f":"IF(G36=\"\",\"\",IF(G36=0,\"\",IF(PV!Z39=\"obed\",H36-SUM(K36:R36),IF(G36>=4,IF(SUM(K36:R36)=0,H36,G36-SUM(K36:R36)-VEMA!R36),H36-SUM(K36:R36)))))","v":""},null,{"$f":"PV!S75","v":""},{"$f":"IF('PV2'!F16=\"\",\"\",'PV2'!S75)","v":""},{"$f":"IF('PV3'!F16=\"\",\"\",'PV3'!S75)","v":""},{"$f":"IF('PV4'!$F16=\"\",\"\",'PV4'!$S75)","v":""},{"$f":"IF('PV5'!$F16=\"\",\"\",'PV5'!$S75)","v":""},{"$f":"IF('PV6'!$F16=\"\",\"\",'PV6'!$S75)","v":""},{"$f":"IF('PV7'!$F16=\"\",\"\",'PV7'!$S75)","v":""},{"$f":"IF('PV8'!$F16=\"\",\"\",'PV8'!$S75)","v":""},null,{"$f":"IF(VEMA!J36=\"odpra\",IF(AND(VEMA!P36=0,NOT(OR(VEMA!C36=\"So\",VEMA!C36=\"Ne\"))),\"S\",\"\"),IF(VEMA!J36=\"dovol\",\"D\",IF(VEMA!J36=\"dopr.\",\"DOP\",IF(VEMA!J36=\"nemoc\",\"PN\",IF(VEMA!J36=\"lekár\",\"LV\",IF(VEMA!J36=\"necPN\",\"IV\",IF(VEMA!D36=\"\",\"\",IF(LEN(VEMA!D36)<4,VEMA!D36,\"\"))))))))","v":" "}]
[20,"Ne",{"$f":"TRUNC(VEMA!N37*24)","v":0},{"$f":"(VEMA!N37*24-KMVP!C37)*60","v":0},{"$f":"TRUNC(VEMA!O37*24)","v":0},{"$f":"(VEMA!O37*24-KMVP!E37)*60","v":0},0,{"$f":"IF(G37=\"\",\"\",IF(G37>4,IF(VEMA!P37=\"00:00\",G37,G37-VEMA!R37-VEMA!U37),G37))","v":0},{"$f":"IF(G37=\"\",\"\",IF(G37=0,\"\",IF(PV!Z40=\"obed\",H37-SUM(K37:R37),IF(G37>=4,IF(SUM(K37:R37)=0,H37,G37-SUM(K37:R37)-VEMA!R37),H37-SUM(K37:R37)))))","v":""},null,{"$f":"PV!S78","v":""},{"$f":"IF('PV2'!F16=\"\",\"\",'PV2'!S78)","v":""},{"$f":"IF('PV3'!F16=\"\",\"\",'PV3'!S78)","v":""},{"$f":"IF('PV4'!$F16=\"\",\"\",'PV4'!$S78)","v":""},{"$f":"IF('PV5'!$F16=\"\",\"\",'PV5'!$S78)","v":""},{"$f":"IF('PV6'!$F16=\"\",\"\",'PV6'!$S78)","v":""},{"$f":"IF('PV7'!$F16=\"\",\"\",'PV7'!$S78)","v":""},{"$f":"IF('PV8'!$F16=\"\",\"\",'PV8'!$S78)","v":""},null,{"$f":"IF(VEMA!J37=\"odpra\",IF(AND(VEMA!P37=0,NOT(OR(VEMA!C37=\"So\",VEMA!C37=\"Ne\"))),\"S\",\"\"),IF(VEMA!J37=\"dovol\",\"D\",IF(VEMA!J37=\"dopr.\",\"DOP\",IF(VEMA!J37=\"nemoc\",\"PN\",IF(VEMA!J37=\"lekár\",\"LV\",IF(VEMA!J37=\"necPN\",\"IV\",IF(VEMA!D37=\"\",\"\",IF(LEN(VEMA!D37)<4,VEMA!D37,\"\"))))))))","v":" "}]
[21,"Po",{"$f":"TRUNC(VEMA!N38*24)","v":6},{"$f":"(VEMA!N38*24-KMVP!C38)*60","v":30},{"$f":"TRUNC(VEMA!O38*24)","v":14},{"$f":"(VEMA!O38*24-KMVP!E38)*60","v":54.000000000000021},8.4,{"$f":"IF(G38=\"\",\"\",IF(G38>4,IF(VEMA!P38=\"00:00\",G38,G38-VEMA!R38-VEMA!U38),G38))","v":7.1666666666666643},{"$f":"IF(G38=\"\",\"\",IF(G38=0,\"\",IF(PV!Z41=\"obed\",H38-SUM(K38:R38),IF(G38>=4,IF(SUM(K38:R38)=0,H38,G38-SUM(K38:R38)-VEMA!R38),H38-SUM(K38:R38)))))","v":7.1666666666666643},null,{"$f":"PV!S81","v":""},{"$f":"IF('PV2'!F16=\"\",\"\",'PV2'!S81)","v":""},{"$f":"IF('PV3'!F16=\"\",\"\",'PV3'!S81)","v":""},{"$f":"IF('PV4'!$F16=\"\",\"\",'PV4'!$S81)","v":""},{"$f":"IF('PV5'!$F16=\"\",\"\",'PV5'!$S81)","v":""},{"$f":"IF('PV6'!$F16=\"\",\"\",'PV6'!$S81)","v":""},{"$f":"IF('PV7'!$F16=\"\",\"\",'PV7'!$S81)","v":""},{"$f":"IF('PV8'!$F16=\"\",\"\",'PV8'!$S81)","v":""},null,{"$f":"IF(VEMA!J38=\"odpra\",IF(AND(VEMA!P38=0,NOT(OR(VEMA!C38=\"So\",VEMA!C38=\"Ne\"))),\"S\",\"\"),IF(VEMA!J38=\"dovol\",\"D\",IF(VEMA!J38=\"dopr.\",\"DOP\",IF(VEMA!J38=\"nemoc\",\"PN\",IF(VEMA!J38=\"lekár\",\"LV\",IF(VEMA!J38=\"necPN\",\"IV\",IF(VEMA!D38=\"\",\"\",IF(LEN(VEMA!D38)<4,VEMA!D38,\"\"))))))))","v":"LV"}]
[22,"Ut",{"$f":"TRUNC(VEMA!N39*24)","v":6},{"$f":"(VEMA!N39*24-KMVP!C39)*60","v":30},{"$f":"TRUNC(VEMA!O39*24)","v":14},{"$f":"(VEMA!O39*24-KMVP!E39)*60","v":31.000000000000156},8.0166666666666693,{"$f":"IF(G39=\"\",\"\",IF(G39>4,IF(VEMA!P39=\"00:00\",G39,G39-VEMA!R39-VEMA!U39),G39))","v":7.5166666666666684},{"$f":"IF(G39=\"\",\"\",IF(G39=0,\"\",IF(PV!Z42=\"obed\",H39-SUM(K39:R39),IF(G39>=4,IF(SUM(K39:R39)=0,H39,G39-SUM(K39:R39)-VEMA!R39),H39-SUM(K39:R39)))))","v":7.5166666666666684},null,{"$f":"PV!S84","v":""},{"$f":"IF('PV2'!F16=\"\",\"\",'PV2'!S84)","v":""},{"$f":"IF('PV3'!F16=\"\",\"\",'PV3'!S84)","v":""},{"$f":"IF('PV4'!$F16=\"\",\"\",'PV4'!$S84)","v":""},{"$f":"IF('PV5'!$F16=\"\",\"\",'PV5'!$S84)","v":""},{"$f":"IF('PV6'!$F16=\"\",\"\",'PV6'!$S84)","v":""},{"$f":"IF('PV7'!$F16=\"\",\"\",'PV7'!$S84)","v":""},{"$f":"IF('PV8'!$F16=\"\",\"\",'PV8'!$S84)","v":""},null,{"$f":"IF(VEMA!J39=\"odpra\",IF(AND(VEMA!P39=0,NOT(OR(VEMA!C39=\"So\",VEMA!C39=\"Ne\"))),\"S\",\"\"),IF(VEMA!J39=\"dovol\",\"D\",IF(VEMA!J39=\"dopr.\",\"DOP\",IF(VEMA!J39=\"nemoc\",\"PN\",IF(VEMA!J39=\"lekár\",\"LV\",IF(VEMA!J39=\"necPN\",\"IV\",IF(VEMA!D39=\"\",\"\",IF(LEN(VEMA!D39)<4,VEMA!D39,\"\"))))))))","v":" "}]
[23,"St",{"$f":"TRUNC(VEMA!N40*24)","v":6},{"$f":"(VEMA!N40*24-KMVP!C40)*60","v":30},{"$f":"TRUNC(VEMA!O40*24)","v":14},{"$f":"(VEMA!O40*24-KMVP!E40)*60","v":43.000000000000114},8.2166666666666686,{"$f":"IF(G40=\"\",\"\",IF(G40>4,IF(VEMA!P40=\"00:00\",G40,G40-VEMA!R40-VEMA!U40),G40))","v":7.7166666666666677},{"$f":"IF(G40=\"\",\"\",IF(G40=0,\"\",IF(PV!Z43=\"obed\",H40-SUM(K40:R40),IF(G40>=4,IF(SUM(K40:R40)=0,H40,G40-SUM(K40:R40)-VEMA!R40),H40-SUM(K40:R40)))))","v":7.7166666666666677},null,{"$f":"PV!S87","v":""},{"$f":"IF('PV2'!F16=\"\",\"\",'PV2'!S87)","v":""},{"$f":"IF('PV3'!F16=\"\",\"\",'PV3'!S87)","v":""},{"$f":"IF('PV4'!$F16=\"\",\"\",'PV4'!$S87)","v":""},{"$f":"IF('PV5'!$F16=\"\",\"\",'PV5'!$S87)","v":""},{"$f":"IF('PV6'!$F16=\"\",\"\",'PV6'!$S87)","v":""},{"$f":"IF('PV7'!$F16=\"\",\"\",'PV7'!$S87)","v":""},{"$f":"IF('PV8'!$F16=\"\",\"\",'PV8'!$S87)","v":""},null,{"$f":"IF(VEMA!J40=\"odpra\",IF(AND(VEMA!P40=0,NOT(OR(VEMA!C40=\"So\",VEMA!C40=\"Ne\"))),\"S\",\"\"),IF(VEMA!J40=\"dovol\",\"D\",IF(VEMA!J40=\"dopr.\",\"DOP\",IF(VEMA!J40=\"nemoc\",\"PN\",IF(VEMA!J40=\"lekár\",\"LV\",IF(VEMA!J40=\"necPN\",\"IV\",IF(VEMA!D40=\"\",\"\",IF(LEN(VEMA!D40)<4,VEMA!D40,\"\"))))))))","v":" "}]
[24,"Št",{"$f":"TRUNC(VEMA!N41*24)","v":6},{"$f":"(VEMA!N41*24-KMVP!C41)*60","v":30},{"$f":"TRUNC(VEMA!O41*24)","v":12},{"$f":"(VEMA!O41*24-KMVP!E41)*60","v":44.000000000000057},6.2333333333333343,{"$f":"IF(G41=\"\",\"\",IF(G41>4,IF(VEMA!P41=\"00:00\",G41,G41-VEMA!R41-VEMA!U41),G41))","v":5.7333333333333334},{"$f":"IF(G41=\"\",\"\",IF(G41=0,\"\",IF(PV!Z44=\"obed\",H41-SUM(K41:R41),IF(G41>=4,IF(SUM(K41:R41)=0,H41,G41-SUM(K41:R41)-VEMA!R41),H41-SUM(K41:R41)))))","v":5.7333333333333334},null,{"$f":"PV!S90","v":""},{"$f":"IF('PV2'!F16=\"\",\"\",'PV2'!S90)","v":""},{"$f":"IF('PV3'!F16=\"\",\"\",'PV3'!S90)","v":""},{"$f":"IF('PV4'!$F16=\"\",\"\",'PV4'!$S90)","v":""},{"$f":"IF('PV5'!$F16=\"\",\"\",'PV5'!$S90)","v":""},{"$f":"IF('PV6'!$F16=\"\",\"\",'PV6'!$S90)","v":""},{"$f":"IF('PV7'!$F16=\"\",\"\",'PV7'!$S90)","v":""},{"$f":"IF('PV8'!$F16=\"\",\"\",'PV8'!$S90)","v":""},null,{"$f":"IF(VEMA!J41=\"odpra\",IF(AND(VEMA!P41=0,NOT(OR(VEMA!C41=\"So\",VEMA!C41=\"Ne\"))),\"S\",\"\"),IF(VEMA!J41=\"dovol\",\"D\",IF(VEMA!J41=\"dopr.\",\"DOP\",IF(VEMA!J41=\"nemoc\",\"PN\",IF(VEMA!J41=\"lekár\",\"LV\",IF(VEMA!J41=\"necPN\",\"IV\",IF(VEMA!D41=\"\",\"\",IF(LEN(VEMA!D41)<4,VEMA!D41,\"\"))))))))","v":" "}]
[25,"Pi",{"$f":"TRUNC(VEMA!N42*24)","v":0},{"$f":"(VEMA!N42*24-KMVP!C42)*60","v":0},{"$f":"TRUNC(VEMA!O42*24)","v":0},{"$f":"(VEMA!O42*24-KMVP!E42)*60","v":0},0,{"$f":"IF(G42=\"\",\"\",IF(G42>4,IF(VEMA!P42=\"00:00\",G42,G42-VEMA!R42-VEMA!U42),G42))","v":0},{"$f":"IF(G42=\"\",\"\",IF(G42=0,\"\",IF(PV!Z45=\"obed\",H42-SUM(K42:R42),IF(G42>=4,IF(SUM(K42:R42)=0,H42,G42-SUM(K42:R42)-VEMA!R42),H42-SUM(K42:R42)))))","v":""},null,{"$f":"PV!S93","v":""},{"$f":"IF('PV2'!F16=\"\",\"\",'PV2'!S93)","v":""},{"$f":"IF('PV3'!F16=\"\",\"\",'PV3'!S93)","v":""},{"$f":"IF('PV4'!$F16=\"\",\"\",'PV4'!$S93)","v":""},{"$f":"IF('PV5'!$F16=\"\",\"\",'PV5'!$S93)","v":""},{"$f":"IF('PV6'!$F16=\"\",\"\",'PV6'!$S93)","v":""},{"$f":"IF('PV7'!$F16=\"\",\"\",'PV7'!$S93)","v":""},{"$f":"IF('PV8'!$F16=\"\",\"\",'PV8'!$S93)","v":""},null,{"$f":"IF(VEMA!J42=\"odpra\",IF(AND(VEMA!P42=0,NOT(OR(VEMA!C42=\"So\",VEMA!C42=\"Ne\"))),\"S\",\"\"),IF(VEMA!J42=\"dovol\",\"D\",IF(VEMA!J42=\"dopr.\",\"DOP\",IF(VEMA!J42=\"nemoc\",\"PN\",IF(VEMA!J42=\"lekár\",\"LV\",IF(VEMA!J42=\"necPN\",\"IV\",IF(VEMA!D42=\"\",\"\",IF(LEN(VEMA!D42)<4,VEMA!D42,\"\"))))))))","v":"D"}]
[26,"So",{"$f":"TRUNC(VEMA!N43*24)","v":0},{"$f":"(VEMA!N43*24-KMVP!C43)*60","v":0},{"$f":"TRUNC(VEMA!O43*24)","v":0},{"$f":"(VEMA!O43*24-KMVP!E43)*60","v":0},0,{"$f":"IF(G43=\"\",\"\",IF(G43>4,IF(VEMA!P43=\"00:00\",G43,G43-VEMA!R43-VEMA!U43),G43))","v":0},{"$f":"IF(G43=\"\",\"\",IF(G43=0,\"\",IF(PV!Z46=\"obed\",H43-SUM(K43:R43),IF(G43>=4,IF(SUM(K43:R43)=0,H43,G43-SUM(K43:R43)-VEMA!R43),H43-SUM(K43:R43)))))","v":""},null,{"$f":"PV!S96","v":""},{"$f":"IF('PV2'!F16=\"\",\"\",'PV2'!S96)","v":""},{"$f":"IF('PV3'!F16=\"\",\"\",'PV3'!S96)","v":""},{"$f":"IF('PV4'!$F16=\"\",\"\",'PV4'!$S96)","v":""},{"$f":"IF('PV5'!$F16=\"\",\"\",'PV5'!$S96)","v":""},{"$f":"IF('PV6'!$F16=\"\",\"\",'PV6'!$S96)","v":""},{"$f":"IF('PV7'!$F16=\"\",\"\",'PV7'!$S96)","v":""},{"$f":"IF('PV8'!$F16=\"\",\"\",'PV8'!$S96)","v":""},null,{"$f":"IF(VEMA!J43=\"odpra\",IF(AND(VEMA!P43=0,NOT(OR(VEMA!C43=\"So\",VEMA!C43=\"Ne\"))),\"S\",\"\"),IF(VEMA!J43=\"dovol\",\"D\",IF(VEMA!J43=\"dopr.\",\"DOP\",IF(VEMA!J43=\"nemoc\",\"PN\",IF(VEMA!J43=\"lekár\",\"LV\",IF(VEMA!J43=\"necPN\",\"IV\",IF(VEMA!D43=\"\",\"\",IF(LEN(VEMA!D43)<4,VEMA!D43,\"\"))))))))","v":" "}]
[27,"Ne",{"$f":"TRUNC(VEMA!N44*24)","v":0},{"$f":"(VEMA!N44*24-KMVP!C44)*60","v":0},{"$f":"TRUNC(VEMA!O44*24)","v":0},{"$f":"(VEMA!O44*24-KMVP!E44)*60","v":0},0,{"$f":"IF(G44=\"\",\"\",IF(G44>4,IF(VEMA!P44=\"00:00\",G44,G44-VEMA!R44-VEMA!U44),G44))","v":0},{"$f":"IF(G44=\"\",\"\",IF(G44=0,\"\",IF(PV!Z47=\"obed\",H44-SUM(K44:R44),IF(G44>=4,IF(SUM(K44:R44)=0,H44,G44-SUM(K44:R44)-VEMA!R44),H44-SUM(K44:R44)))))","v":""},null,{"$f":"PV!S99","v":""},{"$f":"IF('PV2'!F16=\"\",\"\",'PV2'!S99)","v":""},{"$f":"IF('PV3'!F16=\"\",\"\",'PV3'!S99)","v":""},{"$f":"IF('PV4'!$F16=\"\",\"\",'PV4'!$S99)","v":""},{"$f":"IF('PV5'!$F16=\"\",\"\",'PV5'!$S99)","v":""},{"$f":"IF('PV6'!$F16=\"\",\"\",'PV6'!$S99)","v":""},{"$f":"IF('PV7'!$F16=\"\",\"\",'PV7'!$S99)","v":""},{"$f":"IF('PV8'!$F16=\"\",\"\",'PV8'!$S99)","v":""},null,{"$f":"IF(VEMA!J44=\"odpra\",IF(AND(VEMA!P44=0,NOT(OR(VEMA!C44=\"So\",VEMA!C44=\"Ne\"))),\"S\",\"\"),IF(VEMA!J44=\"dovol\",\"D\",IF(VEMA!J44=\"dopr.\",\"DOP\",IF(VEMA!J44=\"nemoc\",\"PN\",IF(VEMA!J44=\"lekár\",\"LV\",IF(VEMA!J44=\"necPN\",\"IV\",IF(VEMA!D44=\"\",\"\",IF(LEN(VEMA!D44)<4,VEMA!D44,\"\"))))))))","v":" "}]
[28,"Po",{"$f":"IF(A45=\"\",\"\",TRUNC(VEMA!N45*24))","v":6},{"$f":"IF(A45=\"\",\"\",(VEMA!N45*24-KMVP!C45)*60)","v":30},{"$f":"IF(A45=\"\",\"\",TRUNC(VEMA!O45*24))","v":14},{"$f":"IF(A45=\"\",\"\",(VEMA!O45*24-KMVP!E45)*60)","v":31.999999999999886},8.0333333333333314,{"$f":"IF(G45=\"\",\"\",IF(G45>4,IF(VEMA!P45=\"00:00\",G45,G45-VEMA!R45-VEMA!U45),G45))","v":7.5333333333333306},{"$f":"IF(G45=\"\",\"\",IF(G45=0,\"\",IF(PV!Z48=\"obed\",H45-SUM(K45:R45),IF(G45>=4,IF(SUM(K45:R45)=0,H45,G45-SUM(K45:R45)-VEMA!R45),H45-SUM(K45:R45)))))","v":7.5333333333333306},null,{"$f":"PV!S102","v":""},{"$f":"IF('PV2'!F16=\"\",\"\",'PV2'!S102)","v":""},{"$f":"IF('PV3'!F16=\"\",\"\",'PV3'!S102)","v":""},{"$f":"IF('PV4'!$F16=\"\",\"\",'PV4'!$S102)","v":""},{"$f":"IF('PV5'!$F16=\"\",\"\",'PV5'!$S102)","v":""},{"$f":"IF('PV6'!$F16=\"\",\"\",'PV6'!$S102)","v":""},{"$f":"IF('PV7'!$F16=\"\",\"\",'PV7'!$S102)","v":""},{"$f":"IF('PV8'!$F16=\"\",\"\",'PV8'!$S102)","v":""},null,{"$f":"IF(VEMA!J45=\"odpra\",IF(AND(VEMA!P45=0,NOT(OR(VEMA!C45=\"So\",VEMA!C45=\"Ne\"))),\"S\",\"\"),IF(VEMA!J45=\"dovol\",\"D\",IF(VEMA!J45=\"dopr.\",\"DOP\",IF(VEMA!J45=\"nemoc\",\"PN\",IF(VEMA!J45=\"lekár\",\"LV\",IF(VEMA!J45=\"necPN\",\"IV\",IF(VEMA!D45=\"\",\"\",IF(LEN(VEMA!D45)<4,VEMA!D45,\"\"))))))))","v":" "}]
[29,"Ut",{"$f":"IF(A46=\"\",\"\",TRUNC(VEMA!N46*24))","v":6},{"$f":"IF(A46=\"\",\"\",(VEMA!N46*24-KMVP!C46)*60)","v":30},{"$f":"IF(A46=\"\",\"\",TRUNC(VEMA!O46*24))","v":14},{"$f":"IF(A46=\"\",\"\",(VEMA!O46*24-KMVP!E46)*60)","v":46.00000000000005},8.2666666666666675,{"$f":"IF(G46=\"\",\"\",IF(G46>4,IF(VEMA!P46=\"00:00\",G46,G46-VEMA!R46-VEMA!U46),G46))","v":7.7666666666666666},{"$f":"IF(G46=\"\",\"\",IF(G46=0,\"\",IF(PV!Z49=\"obed\",H46-SUM(K46:R46),IF(G46>=4,IF(SUM(K46:R46)=0,H46,G46-SUM(K46:R46)-VEMA!R46),H46-SUM(K46:R46)))))","v":7.7666666666666666},null,{"$f":"PV!S105","v":""},{"$f":"IF('PV2'!F16=\"\",\"\",'PV2'!S105)","v":""},{"$f":"IF('PV3'!F16=\"\",\"\",'PV3'!S105)","v":""},{"$f":"IF('PV4'!$F16=\"\",\"\",'PV4'!$S105)","v":""},{"$f":"IF('PV5'!$F16=\"\",\"\",'PV5'!$S105)","v":""},{"$f":"IF('PV6'!$F16=\"\",\"\",'PV6'!$S105)","v":""},{"$f":"IF('PV7'!$F16=\"\",\"\",'PV7'!$S105)","v":""},{"$f":"IF('PV8'!$F16=\"\",\"\",'PV8'!$S105)","v":""},null,{"$f":"IF(VEMA!J46=\"odpra\",IF(AND(VEMA!P46=0,NOT(OR(VEMA!C46=\"So\",VEMA!C46=\"Ne\"))),\"S\",\"\"),IF(VEMA!J46=\"dovol\",\"D\",IF(VEMA!J46=\"dopr.\",\"DOP\",IF(VEMA!J46=\"nemoc\",\"PN\",IF(VEMA!J46=\"lekár\",\"LV\",IF(VEMA!J46=\"necPN\",\"IV\",IF(VEMA!D46=\"\",\"\",IF(LEN(VEMA!D46)<4,VEMA!D46,\"\"))))))))","v":" "}]
[30,"St",{"$f":"IF(A47=\"\",\"\",TRUNC(VEMA!N47*24))","v":6},{"$f":"IF(A47=\"\",\"\",(VEMA!N47*24-KMVP!C47)*60)","v":30},{"$f":"IF(A47=\"\",\"\",TRUNC(VEMA!O47*24))","v":14},{"$f":"IF(A47=\"\",\"\",(VEMA!O47*24-KMVP!E47)*60)","v":35.999999999999872},8.0999999999999979,{"$f":"IF(G47=\"\",\"\",IF(G47>4,IF(VEMA!P47=\"00:00\",G47,G47-VEMA!R47-VEMA!U47),G47))","v":7.599999999999997},{"$f":"IF(G47=\"\",\"\",IF(G47=0,\"\",IF(PV!Z50=\"obed\",H47-SUM(K47:R47),IF(G47>=4,IF(SUM(K47:R47)=0,H47,G47-SUM(K47:R47)-VEMA!R47),H47-SUM(K47:R47)))))","v":7.599999999999997},null,{"$f":"PV!S108","v":""},{"$f":"IF('PV2'!F16=\"\",\"\",'PV2'!S108)","v":""},{"$f":"IF('PV3'!F16=\"\",\"\",'PV3'!S108)","v":""},{"$f":"IF('PV4'!$F16=\"\",\"\",'PV4'!$S108)","v":""},{"$f":"IF('PV5'!$F16=\"\",\"\",'PV5'!$S108)","v":""},{"$f":"IF('PV6'!$F16=\"\",\"\",'PV6'!$S108)","v":""},{"$f":"IF('PV7'!$F16=\"\",\"\",'PV7'!$S108)","v":""},{"$f":"IF('PV8'!$F16=\"\",\"\",'PV8'!$S108)","v":""},null,{"$f":"IF(VEMA!J47=\"odpra\",IF(AND(VEMA!P47=0,NOT(OR(VEMA!C47=\"So\",VEMA!C47=\"Ne\"))),\"S\",\"\"),IF(VEMA!J47=\"dovol\",\"D\",IF(VEMA!J47=\"dopr.\",\"DOP\",IF(VEMA!J47=\"nemoc\",\"PN\",IF(VEMA!J47=\"lekár\",\"LV\",IF(VEMA!J47=\"necPN\",\"IV\",IF(VEMA!D47=\"\",\"\",IF(LEN(VEMA!D47)<4,VEMA!D47,\"\"))))))))","v":" "}]
["","",{"$f":"IF(A48=\"\",\"\",TRUNC(VEMA!N48*24))","v":""},{"$f":"IF(A48=\"\",\"\",(VEMA!N48*24-KMVP!C48)*60)","v":""},{"$f":"IF(A48=\"\",\"\",TRUNC(VEMA!O48*24))","v":""},{"$f":"IF(A48=\"\",\"\",(VEMA!O48*24-KMVP!E48)*60)","v":""},{"$f":"IF(E48=\"\",\"\",(E48-C48)+((F48-D48)/60))","v":""},{"$f":"IF(G48=\"\",\"\",IF(G48>4,IF(VEMA!P48=\"00:00\",G48,G48-VEMA!R48-VEMA!U48),G48))","v":""},{"$f":"IF(G48=\"\",\"\",IF(G48=0,\"\",IF(PV!Z51=\"obed\",H48-SUM(K48:R48),IF(G48>=4,IF(SUM(K48:R48)=0,H48,G48-SUM(K48:R48)-VEMA!R48),H48-SUM(K48:R48)))))","v":""},null,{"$f":"PV!S111","v":""},{"$f":"IF('PV2'!F16=\"\",\"\",'PV2'!S111)","v":""},{"$f":"IF('PV3'!F16=\"\",\"\",'PV3'!S111)","v":""},{"$f":"IF('PV4'!$F16=\"\",\"\",'PV4'!$S111)","v":""},{"$f":"IF('PV5'!$F16=\"\",\"\",'PV5'!$S111)","v":""},{"$f":"IF('PV6'!$F16=\"\",\"\",'PV6'!$S111)","v":""},{"$f":"IF('PV7'!$F16=\"\",\"\",'PV7'!$S111)","v":""},{"$f":"IF('PV8'!$F16=\"\",\"\",'PV8'!$S111)","v":""},null,{"$f":"IF(VEMA!J48=\"odpra\",IF(AND(VEMA!P48=0,NOT(OR(VEMA!C48=\"So\",VEMA!C48=\"Ne\"))),\"S\",\"\"),IF(VEMA!J48=\"dovol\",\"D\",IF(VEMA!J48=\"dopr.\",\"DOP\",IF(VEMA!J48=\"nemoc\",\"PN\",IF(VEMA!J48=\"lekár\",\"LV\",IF(VEMA!J48=\"necPN\",\"IV\",IF(VEMA!D48=\"\",\"\",IF(LEN(VEMA!D48)<4,VEMA!D48,\"\"))))))))","v":""}]
["Súčet hodín pre pracovné činnosti:",null,null,null,null,null,null,null,{"$f":"SUM(I18:I48)","v":131.53333333333333},{"$f":"SUM(J18:J48)","v":0},{"$f":"SUMIF($B18:$B48,\"Po\",K18:K48)+SUMIF($B18:$B48,\"Ut\",K18:K48)+SUMIF($B18:$B48,\"St\",K18:K48)+SUMIF($B18:$B48,\"Št\",K18:K48)+SUMIF($B18:$B48,\"Pi\",K18:K48)","v":0},{"$f":"SUMIF($B18:$B48,\"Po\",L18:L48)+SUMIF($B18:$B48,\"Ut\",L18:L48)+SUMIF($B18:$B48,\"St\",L18:L48)+SUMIF($B18:$B48,\"Št\",L18:L48)+SUMIF($B18:$B48,\"Pi\",L18:L48)","v":0},0,0,0,0,0,0,0]
[]
[]
["Vyhlásenie osoby predkladajúcej kumulatívny mesačný výkaz práce"]
["Vyhlasujem, že údaje uvedené v pracovnom výkaze sú pravdivé, reálne a správne a som si vedomý následkov spojených s uvedením/predložením nesprávneho, neúplného alebo falšovaného výkazu."]
[]
["Dátum vyplnenia výkazu práce:",null,null,null,null,"2020-05-31"]
["Podpis:*"]
["* V prípade pracovného výkazu štatutárneho orgánu prijímateľa podpisuje pracovný výkaz orgán v zmysle osobitného predpisu alebo ak to nevyplýva z osobitného predpisu, RO/SO ustanoví pravidlá tak, aby nedošlo k strate kontrolného prostredia a aby vykonanie činností bolo nespochybniteľné."]
[]
[]
["Začiatok mesiaca",null,null,{"$f":"VLOOKUP(S2,A79:E90,(VLOOKUP(O2,A93:B96,2,0)),0)","v":2}]
[]
["Počet dní v mesiaci",null,null,{"$f":"VLOOKUP(S2,A99:C110,(VLOOKUP(O2,A112:B115,2,0)),0)","v":30}]
[]
["Vyberte",2019,2020,2021,2022]
["Január","ut","st","pi","so"]
["Február","pi","so","po","ut"]
["Marec","pi","ne","po","ut"]
["Apríl","po","st","št","pi"]
["Máj","st","pi","so","ne"]
["Jún","so","po","ut","st"]
["Júl","po","st","št","pi"]
["August","št","so","ne","po"]
["September","ne","ut","st","št"]
["Október","ut","št","pi","so"]
["November","pi","ne","po","ut"]
["December","ne","ut","st","št"]
[]
[null,2019,2020,2021,2022]
["Január",2,3,5,6]
["Február",5,6,1,2]
["Marec",5,7,1,2]
["Apríl",1,3,4,5]
["Máj",3,5,6,7]
["Jún",6,1,2,3]
["Júl",1,3,4,5]
["August",4,6,7,1]
["September",7,2,3,4]
["Október",2,4,5,6]
["November",5,7,1,2]
["December",7,2,3,4]
[]
[]
[2019,{"$f":"COLUMN(B78)","v":2}]
[2020,{"$f":"COLUMN($C$162)","v":3}]
[2021,{"$f":"COLUMN($D$162)","v":4}]
[2022,{"$f":"COLUMN($E$162)","v":5}]
[]
[null,"ostatné",2020]
["Január",31,31]
["Február",28,29]
["Marec",31,31]
["Apríl",30,30]
["Máj",31,31]
["Jún",30,30]
["Júl",31,31]
["August",31,31]
["September",30,30]
["Október",31,31]
["November",30,30]
["December",31,31]
[]
[2019,{"$f":"COLUMN(B98)","v":2}]
[2020,{"$f":"COLUMN($C$182)","v":3}]
[2021,{"$f":"COLUMN($B$182)","v":2}]
[2022,{"$f":"COLUMN($B$182)","v":2}]

{"sheet":"vyplnenie KMVP","index":10,"n_rows":37,"n_cols":1,"rows_kept":37,"cut":false,"hidden":false,"merged":[]}
["Hlavička"]
["\"Meno a priezvisko osoby\" - uvedie sa meno a priezvisko osoby"]
["\"Rok\" a \"Mesiac\" sa vyplnia podľa príslušného formátu - napr. Rok - 2016 a Mesiac - 08."]
["Časť \"Prehľad pracovných činností\" sa vypĺňa nasledovne:"]
["Riadok \"Iná činnosť  (mimo EIŠF) 1 a 2\" - vyplní sa názov organizácie/prijímateľa, pre ktorú osoba vykonáva činnosti mimo štrukturálnych fondov (napr. ako zamestnanec, \"dohodár\", živnostník)"]
["Ďalej sa uvedie právny vzťah podľa nižšie uvedených informácií a názov pracovnej pozície (napr. lektor, metodik, ekonóm a iné). Daná organizácia nemusí byť zapojená do implementácie štrukturálnych fondov."]
["Riadok \"Pracovná pozícia EIŠF 1 až n\" - uvedie sa názov organizácie/prijímateľa, ktorý implementuje predmetný projekt. Ďalej sa uvedie kód ITMS projektu, právny vzťah a názov pracovnej pozície vrátane číselného označenia podľa zmluvy o poskytnutí "]
["nenávratného finančného príspevku (ak v zmluve nie uvedené, uvedie zodpovedajúca pracovná pozícia sa napr. lektor, metodik, pedagóg, psychológ a iné)."]
["Ak je nedostatočný počet riadkov, je možnosť pridať ďalšie riadky podľa potreby (riadok iná činnosť alebo pracovná pozícia)."]
[]
["Pracovný výkaz"]
["V stĺpcoch \"OD\" - \"DO\" sa v danom formáte (HH - MM) uvedie doba, kedy osoba vykonávala všetky činnosti (vrátane prestávok, obedov a iných prerušení pracovného času)."]
["V stĺpcoch \"Iná činnosť (mimo ŠF EÚ) 1\", \"Ina činnosť (mimo EIŠF ) 2\", \"Pracovná pozícia EIŠF 1\" a ďalej sa uvedie reálny odpracovaný čas, ktorý osoba odpracovala na jednotlivých činnostiach."]
["Do jednotlivých stĺpcoch sa uvádza čas zodpovedajúci 1 hod = 60 minútam, t.j. ak činnosť nezodpovedá 60 minútovému intervalu, upraví sa na tento interval na zodpovedajúci čas (napr. prednáška "]
["trvala 45 minút do pracovného výkazu sa uvedie 0,75). Počet odpracovaných hodín nesmie byť väčší ako čas vykonania prác !"]
["Ak osoba je v pracovnom pomere a časť jej mzdy sa refunduje zo EIŠF uvedie odpracovaný čas napríklad nasledovne - \"Iná činnosť (mimo EIŠF ) 1\" 4,0 a \"Pracovná pozícia EIŠF 1\" 3,5. "]
["Spolu osoba odpracovala 7,5 hodín (v prípade, že mala osoba obedovú prestávku v stĺpci \"Max. hodín\" bude uvedených 8 hodín)."]
["Upozornenie: Prestávky sa nezapočítavajú do odpracovaného času, t.j. ak osoba pracuje na plný pracovný úväzok, ktorý je financovaný zo štrukturálnych fondov, prestávku neuvedie do odpracovného času."]
["Osoba uvedie do pracovného výkazu všetky činnosti spolufinancované z verejných prostriedkov (na základe pracovnoprávnych vzťahov, iných ako pracovnoprávnych vzťahov - napr. občiansky zákonník - dodávky služieb) v jednotlivých dňoch. "]
["Ak osoba je  PN alebo OČR v daný deň túto skutočnosť uvedie do POZNÁMKY. V tento deň nárokované hodiny práce zo štrukturálnych fondov nebudú uznané ako oprávnené."]
["Osoby, ktoré vykonávajú činnosti na projekte na základe iných ako pracovnoprávnych vzťahov, tiež vyplňajú stĺpec „Iná činnosť (mimo ŠF EÚ)“."]
["V POZNÁMKE prijímateľ uvedie napríklad aj čerpanie dovolenky, nadčas za zastupovanie učiteľa v škole."]
["Stĺpce \"Max. hodín\" a \"Súčet odpracovaných hodín\" osoba nevypĺňa, bunky sú vyplňované automaticky. Stĺpec \"Max. hodín\" zahŕňa celkový odpracovaný čas danou osobou vrátane prestávok (nielen"]
["činnosti vykonávané na štrukturálnych fondoch, ale všetky činnosti spolufinancované z verejných prostriedkov vykonávané danou osobou na základe pracovnoprávnych a iných ako pracovnoprávnych vzťahov)."]
["Všeobecné informácie"]
["1. Osoba vypĺňa hodiny za všetky dni bez ohľadu nato, či vykonávala práce na štrukturálnych fondoch v daných dňoch."]
["2. Riadky v časti Pracovný výkaz sa nemôžu vymazať !"]
["3. Neúplné, nepresné a nepravdivé informácie môžu mať za následok vznik neoprávnených výdavkov alebo predĺženie lehoty spracovania žiadosti."]
["(napr. umelé vykazovanie odpracovaných hodín - každý mesiac 10 hodín; nejasný a nedostatočný popis činností a výsledkov)"]
["4. V prípade zaokrúhľovania je potrebné zaokrúhľovať na 2 desatinné miesta matematickým spôsobom (pracovný výkaz je prispôsobený na 2 desatinné miesta)."]
[]
["Do stĺpca \"Právny vzťah\" sa uvedie relevantný údaj z nasledovných možností:"]
["Pracovný pomer (pracovná zmluva) - PP"]
["Dohoda (dohoda o brigádnickej práci študenta, dohoda o vykonaní práce,...) - D"]
["Faktúra (ak osoba vystaví faktúru - platí iba pre fyzickú osobu) - F"]
["Iný (ak osoba nevystaví faktúru - platí iba pre fyzickú osobu) - I"]
["Dodávka (ak osoba pracuje pre dodávateľa a dodávateľ účtuje dané činnosti prijímateľovi) - DD"]

{"sheet":"VEMA","index":11,"n_rows":51,"n_cols":21,"rows_kept":51,"cut":false,"hidden":false,"merged":[[15,1,15,8]]}
[]
[]
[]
[]
[]
[]
[]
[]
[]
[]
[]
[]
[]
[]
[]
[null,"Sem (do bunky B18) prekopírovať údaje  - VEMA  - kopírovať stĺpce C19 (DEŇ) - I49 (PRERUŠENIE)\nV prípade, že máte v stĺpci D napísané \"doma\" alebo \"slces\", je potrebné do stĺpca C doplniť čas práce doma a tiež čas obeda v tvare: 11:30-12:00\nAk má tabuľka z Vemy pre niektorý deň 2 riadky, je potrebné nasledujúce riadky označiť, skopírovať a vložiť o 1 riadok vyššie - neodstraňuje \"prázdny riadok\" !\nDo stĺpca ODCH môžete doplniť kódy, ktoré sa prenesú do KMVP do stĺpca Poznámka"]
[null,"DEŇ","PRÍCH","ODCH","DÔVOD","ODPR","SALDO","PRERUŠENIE",null,null,"očistenie medzery",null,null,"príchod","odchod","obed-z","obed-k",null,"lekár odchod","lekár príchod","lekár čas"]
[null,"01 So",".....-....."," ","0:00","0:00"," "," ",null,{"$f":"IF(ISERROR(FIND(\"lekár\",G18)),D18,\"lekár\")","v":" "},{"$f":"SUBSTITUTE(G18,\"- \",\"-\")","v":" "},null,null,{"$f":"IF(ISERROR(FIND(\"...\",C18,1)),IF(C18=\"\",\"\",LEFT(C18,FIND(\"-\",C18)-1)),\"00:00\")","v":"00:00"},{"$f":"IF(ISERROR(FIND(\"...\",C18,1)),IF(C18=\"\",\"\",RIGHT(C18,LEN(C18)-FIND(\"-\",C18))),\"00:00\")","v":"00:00"},{"$f":"IF(ISERROR(FIND(\"...\",C18,1)),IF(K18=\"\",\"00:00\",IF(ISERROR(FIND(\"lekár\",K18)),0+LEFT(K18,FIND(\"-\",K18)-1),0+LEFT(H18,FIND(\"-\",H18)-1))),\"00:00\")","v":"00:00"},{"$f":"IF(ISERROR(FIND(\"...\",C18,1)),IF(K18=\"\",\"00:00\",IF(ISERROR(FIND(\"lekár\",K18)),0+RIGHT(LEFT(K18,11),FIND(\"-\",K18)-1),0+RIGHT(LEFT(H18,LEN(H18)-6),FIND(\"-\",H18)-1))),\"00:00\")","v":"00:00"},{"$f":"IF(N18=\"\",0,IF((O18-N18)*24>=4,IF(Q18-P18>0.0208332,(Q18-P18)*24,0.5),0))","v":0},{"$f":"IF(ISERROR(FIND(\"...\",C18,1)),IF(K18=\"\",\"00:00\",IF(ISERROR(FIND(\"lekár\",K18)),\"00:00\",0+LEFT(K18,FIND(\"-\",K18)-1))),\"00:00\")","v":"00:00"},{"$f":"IF(ISERROR(FIND(\"...\",C18,1)),IF(K18=\"\",\"00:00\",IF(ISERROR(FIND(\"lekár\",K18)),\"00:00\",0+RIGHT(LEFT(K18,LEN(K18)-6),LEN(LEFT(K18,LEN(K18)-6))-FIND(\"-\",K18)))),\"00:00\")","v":"00:00"},{"$f":"IF(S18=\"00:00\",0,IF(T18-S18>0.0208332,(T18-S18)*24,0.5))","v":0}]
[null,"02 Ne",".....-....."," ","0:00","0:00"," "," ",null," "," ",null,null,{"$f":"IF(ISERROR(FIND(\"...\",C19,1)),IF(C19=\"\",\"\",LEFT(C19,FIND(\"-\",C19)-1)),\"00:00\")","v":"00:00"},"00:00","00:00","00:00",0,"00:00","00:00",{"$f":"IF(S19=\"00:00\",0,IF(T19-S19>0.0208332,(T19-S19)*24,0.5))","v":0}]
[null,"03 Po","8:00-16:00","doma","7:30","0:00","11:00-11:30"," ",null,"doma","11:00-11:30",null,null,"8:00","16:00","11:00:00","11:30:00",0.50000000000000089,"00:00","00:00",0]
[null,"04 Ut","6:34-17:02"," ","9:58","2:28","11:00-11:30 strav"," ",null," ","11:00-11:30 strav",null,null,"6:34","17:02","11:00:00","11:30:00",0.50000000000000089,"00:00","00:00",0]
[null,"05 St","6:30-10:41","lekár","4:11","0:00",null,"10:41-14:30 lekár",null,"lekár","",null,null,"6:30","10:41","00:00","00:00",0.5,"00:00","00:00",0]
[null,"06 Št","8:00-16:00","doma","7:30","0:00","11:00-11:30"," ",null,"doma","11:00-11:30",null,null,"8:00","16:00","11:00:00","11:30:00",0.50000000000000089,"00:00","00:00",0]
[null,"07 Pi","8:00-16:00","doma","7:30","0:00","11:00-11:30"," ",null,"doma","11:00-11:30",null,null,"8:00","16:00","11:00:00","11:30:00",0.50000000000000089,"00:00","00:00",0]
[null,"08 Ut","6:30-14:30"," ","7:30","0:00","11:00-11:30 strav"," ",null," ","11:00-11:30 strav",null,null,"6:30","14:30","11:00:00","11:30:00",0.50000000000000089,"00:00","00:00",0]
[null,"09 St","6:30-14:39"," ","7:39","0:09","11:00-11:30 strav"," ",null," ","11:00-11:30 strav",null,null,"6:30","14:39","11:00:00","11:30:00",0.50000000000000089,"00:00","00:00",0]
[null,"10 Št","6:30-14:33"," ","7:33","0:03","11:00-11:30 strav"," ",null," ","11:00-11:30 strav",null,null,"6:30",{"$f":"IF(ISERROR(FIND(\"...\",C27,1)),IF(C27=\"\",\"\",RIGHT(C27,LEN(C27)-FIND(\"-\",C27))),\"00:00\")","v":"14:33"},"11:00:00","11:30:00",0.50000000000000089,"00:00","00:00",0]
[null,"11 Pi",".....-.....","dovol","0:00","0:00"," "," ",null,"dovol"," ",null,null,"00:00","00:00","00:00","00:00",0,"00:00","00:00",0]
[null,"12 So",".....-....."," ","0:00","0:00"," "," ",null," "," ",null,null,"00:00","00:00","00:00","00:00",0,"00:00","00:00",0]
[null,"13 Ne",".....-....."," ","0:00","0:00"," "," ",null," "," ",null,null,"00:00","00:00","00:00","00:00",0,"00:00","00:00",0]
[null,"14 Po",".....-.....","dovol","0:00","0:00"," "," ",null,"dovol"," ",null,null,"00:00","00:00","00:00","00:00",0,"00:00","00:00",0]
[null,"15 Ut",".....-.....","necPN","0:00","0:00"," "," ",null,"necPN"," ",null,null,"00:00","00:00","00:00","00:00",0,"00:00","00:00",0]
[null,"16 St","6:30-15:24"," ","8:24","0:54","11:00-11:30 strav"," ",null," ","11:00-11:30 strav",null,null,"6:30","15:24","11:00:00","11:30:00",0.50000000000000089,"00:00","00:00",0]
[null,"17 Št","6:30-14:40"," ","7:40","0:10","11:00-11:30 strav"," ",null," ","11:00-11:30 strav",null,null,"6:30","14:40","11:00:00","11:30:00",0.50000000000000089,"00:00","00:00",0]
[null,"18 Pi","6:30-13:00"," ","6:00","-1:30","10:00-10:40 lekár","11:00-11:45 strav",null,"lekár","10:00-10:40 lekár",null,null,"6:30","13:00","11:00:00","11:45:00",0.75,"10:00:00",{"$f":"IF(ISERROR(FIND(\"...\",C35,1)),IF(K35=\"\",\"00:00\",IF(ISERROR(FIND(\"lekár\",K35)),\"00:00\",0+RIGHT(LEFT(K35,LEN(K35)-6),LEN(LEFT(K35,LEN(K35)-6))-FIND(\"-\",K35)))),\"00:00\")","v":"10:40:00"},0.66666666666666563]
[null,"19 So",".....-....."," ","0:00","0:00"," "," ",null," "," ",null,null,"00:00","00:00","00:00","00:00",0,"00:00",{"$f":"IF(ISERROR(FIND(\"...\",C36,1)),IF(K36=\"\",\"00:00\",IF(ISERROR(FIND(\"lekár\",K36)),\"00:00\",0+RIGHT(LEFT(K36,LEN(K36)-6),LEN(LEFT(K36,LEN(K36)-6))-FIND(\"-\",K36)))),\"00:00\")","v":"00:00"},0]
[null,"20 Ne",".....-....."," ","0:00","0:00"," "," ",null," "," ",null,null,"00:00","00:00","00:00","00:00",0,"00:00","00:00",0]
[null,"21 Po","6:30-14:54"," ","7:10","0:24","9:08- 9:52 lekár","11:00-11:30 strav",null,{"$f":"IF(ISERROR(FIND(\"lekár\",G38)),D38,\"lekár\")","v":"lekár"},{"$f":"SUBSTITUTE(G38,\"- \",\"-\")","v":"9:08-9:52 lekár"},null,null,"6:30","14:54","11:00:00","11:30:00",0.50000000000000089,"09:08:00","09:52:00",0.73333333333333472]
[null,"22 Ut","6:30-14:31"," ","7:31","0:01","11:00-11:30 strav"," ",null,{"$f":"IF(ISERROR(FIND(\"lekár\",G39)),D39,\"lekár\")","v":" "},"11:00-11:30 strav",null,null,"6:30","14:31","11:00:00","11:30:00",0.50000000000000089,"00:00","00:00",0]
[null,"23 St","6:30-14:43"," ","7:43","0:13","11:00-11:30 strav"," ",null," ","11:00-11:30 strav",null,null,"6:30","14:43","11:00:00","11:30:00",0.50000000000000089,"00:00","00:00",0]
[null,"24 Št","6:30-12:44"," ","5:44","-1:46","11:00-11:30 strav"," ",null," ","11:00-11:30 strav",null,null,"6:30","12:44","11:00:00","11:30:00",0.50000000000000089,"00:00","00:00",0]
[null,"25 Pi",".....-.....","dovol","0:00","0:00"," "," ",null,"dovol"," ",null,null,"00:00","00:00","00:00","00:00",0,"00:00","00:00",0]
[null,"26 So",".....-....."," ","0:00","0:00"," "," ",null," "," ",null,null,"00:00","00:00","00:00","00:00",0,"00:00","00:00",0]
[null,"27 Ne",".....-....."," ","0:00","0:00"," "," ",null," "," ",null,null,"00:00","00:00","00:00","00:00",0,"00:00","00:00",0]
[null,"28 Po","6:30-14:32"," ","7:32","0:02","11:00-11:30 strav"," ",null," ","11:00-11:30 strav",null,null,"6:30","14:32","11:00:00","11:30:00",0.50000000000000089,"00:00","00:00",0]
[null,"29 Ut","6:30-14:46"," ","7:46","0:16","11:00-11:30 strav"," ",null," ","11:00-11:30 strav",null,null,"6:30","14:46","11:00:00","11:30:00",0.50000000000000089,"00:00","00:00",0]
[null,"30 St","6:30-14:36"," ","7:36","0:06","11:00-11:30 strav"," ",null," ","11:00-11:30 strav",null,null,"6:30","14:36","11:00:00","11:30:00",0.50000000000000089,"00:00","00:00",0]
[null,null,null,null,null,null,null,null,null,0,"",null,null,{"$f":"IF(ISERROR(FIND(\"...\",C48,1)),IF(C48=\"\",\"\",LEFT(C48,FIND(\"-\",C48)-1)),\"00:00\")","v":""},{"$f":"IF(ISERROR(FIND(\"...\",C48,1)),IF(C48=\"\",\"\",RIGHT(C48,FIND(\"-\",C48))),\"00:00\")","v":""},"00:00","00:00",{"$f":"IF(N48=\"\",0,IF((O48-N48)*24>=4,IF(Q48-P48>0.0208332,(Q48-P48)*24,0.5),0))","v":0},"00:00","00:00",0]
[null,null,null,null,null,null,"Časy pre obed na skopírovanie"]
[null,null,null,null,null,null,"11:00-11:30"]
[null,null,null,null,null,null,"11:30-12:00"]

{"sheet":"Zoznam činností","index":12,"n_rows":115,"n_cols":1,"rows_kept":115,"cut":false,"hidden":false,"merged":[]}
["Činnosť"]
["4.1.2. ČES: Spracovanie východísk inovácie a tvorby nových profesijných štandardov."]
["4.1.2. ČES: Určenie základných princípov revízie profesijných štandardov."]
["4.1.2. ČES: Stanovenie východísk pre inovovaný a nový profesijný štandard; vypracovanie vzorového profesijného štandardu (modelu) "]
["4.1.2. ČES: Určenie základných princípov  tvorby nových profesijných štandardov."]
["4.1.2. ČES: Účasť na zasadnutí/porade expertnej skupiny."]
["4.1.2. ČES: Plnenie úloh na základe pokynov Hlavného odborného riešiteľa 1.1."]
["4.1.2. ČES: Analýza profesijných štandardov, posúdenie obsahu a formálnej štruktúry, identifikácia nedostatkov, návrh na inováciu"]
["4.1.2.ČES: Koordinácia činností pracovných skupín, usmerňovanie aktivít, konzultácia s členmi pracovných skupín, práca s členmi pracovných skupín, prenos informácií"]
["4.1.4. ČPS: Analýza profesijného štandardu, identifikácia nedostatkov "]
["4.1.4. ČPS: Predloženie návrhu na inováciu resp. tvorbu profesijného štandardu."]
["4.1.4. ČPS: Priebežné spracovávanie profesijného štandardu."]
["4.1.4. ČPS: Finálne spracovanie a odovzdanie profesijného štandardu."]
["4.1.4. ČPS: Plnenie úloh na základe pokynov Hlavného odborného riešiteľa 1.1."]
["4.1.4. ČPS: Účasť na zasadnutí/porade pracovnej skupiny."]
["4.1.4. ČPS: Zapracovanie pripomienok hodnotiteľa profesijného štandardu, úprava profesijného štandardu na základe hodnotiaceho posudku."]
["4.1.8. ROR 1.2: Koordinovanie odborných aktivít realizovaných v národnom projekte."]
["4.1.8. ROR 1.2: Kontrola plnenia čiastkových  úloh na jednotlivých činnostiach/aktivitách."]
["4.1.8. ROR 1.2: Účasť na zasadnutí/porade s hlavným odborným riešiteľom podaktivity."]
["4.1.8. ROR 1.2: Účasť na porade k národnému projektu "]
["4.1.8. ROR 1.2: Koordinovanie odborných aktivít a priebežná kontrola plnenia úloh realizovaných v národnom projekte."]
["4.1.9. OPP:  Výkon odbornej činnosti podľa pokynov hlavného odborného riešiteľa podaktivity1.2."]
["4.1.9. OPP: Výkon odbornej činnosti podľa pokynov regionálneho odborného riešiteľa podaktivity 1.2."]
["4.1.9. OPP: Účasť na zasadnutí/porade s hlavným odborným riešiteľom podaktivity."]
["4.1.9. OPP: Účasť na zasadnutí/porade v MPC k implementácii národného projektu."]
["4.1.9. OPP: Výkon odbornej činnosti (podpora pri plánovaní a realizácií NOPS, vzdelávacích aktivít, konferencií, poradenstva, UF)."]
["4.1.12. OK NOPS: Odborné konzultácie pri prihlasovaní a v procese  spracovania NOPS."]
["4.1.12. OK NOPS: Priebežné pripomienkovanie materiálu  pri procese  spracovania NOPS."]
["4.1.12. OK NOPS: Poskytovanie súčinnosti garantovi NOPS pri tvorbe smernice, vyhlasovaní výzvy na spracovanie NOPS, vyhodnotení doručených prihlášok a podkladov k uzatváraniu zmluvných vzťahov s vybranými spracovateľmi NOPS."]
["4.1.12. OK NOPS: Preberanie odovzdaných NOPS, predkladanie návrhu interných hodnotiteľov."]
["4.1.12. OK NOPS: Odborné konzultácie/podpora  pri procese  spracovania  a finalizácii NOPS."]
["4.1.15. H NOPS: Spracovanie hodnotenia dokumentu NOPS podľa schválenej prihlášky, v danej štruktúre a určenej šablóne dokumentu."]
["4.1.15. H NOPS: Finalizácia hodnotenia dokumentu NOPS podľa schválenej prihlášky, v danej štruktúre a určenej šablóne dokumentu."]
["4.1.17. MK: Odborné zabezpečenie prípravy, programových  zložiek a priebehu konferencie. "]
["4.1.17. MK: Odborné zabezpečenie priebehu konferencie (moderovanie/vedenie). "]
["4.1.17. MK: Odborné vedenie sekcií (diskusných skupín) a workshopov."]
["4.1.17. MK: Odborné zabezpečenie prípravy a celého priebehu konferencie."]
["4.1.18. OPK: Odborné zabezpečenie prípravy konferencie."]
["4.1.18. OPK: Organizačné zabezpečenie prípravy konferencie. "]
["4.1.18. OPK: Odborné/organizačné zabezpečenie  priebehu konferencie."]
["4.1.18. OPK:  Spracovanie výstupov z realizovanej konferencie."]
["4.1.18. OPK:  Spracovanie diskusií z jednotlivých sekcií a  z jednotlivých workshopov."]
["4.1.20. LUF: Výkon činnosti lektora v rámci učiteľského fóra podľa opisu a schváleného plánu práce.  "]
["4.1.20. LUF: Príprava programu a scenára stretnutia učiteľského fóra."]
["4.1.20 LUF: Odborné vedenie diskusie účastníkov fóra v rámci diskusných skupín, diskusných fór."]
["4.1.20. LUF: Príprava programu a dokumentácie, realizácia učiteľského fóra."]
["4.1.22. MUF: Založenie skupiny účastníkov fóra v CIS MPC, Moodle a používaných aplikáciách."]
["4.1.22. MUF: Správa skupiny účastníkov fóra v CIS MPC, Moodle a používaných aplikáciách."]
["4.1.22. MUF: Snímanie aktuálnych potrieb PZ a OZ pred založením a v priebehu činnosti fóra."]
["4.1.22. MUF: Iniciovanie, príprava a realizácia prieskumov realizovaných v rámci fóra učiteľov"]
["4.1.22. MUF: Riadenie pracovnej skupiny lektorov v rámci fóra učiteľov."]
["4.1.22. MUF: Podpora lektorov pri príprave materiálov učiteľského fóra."]
["4.1.22. MUF: Spracovanie výstupov zo stretnutia učiteľského fóra, spracovanie prehľadov a sumárnych výstupov z činnosti fóra učiteľov."]
["4.1.22. MUF: Moderovanie priebehu v rámci prezenčných a on-line stretnutí."]
["4.1.22. MUF: Moderovanie priebehu v rámci  príspevkov v diskusných (on-line) fórach v rámci používaných aplikácií."]
["4.1.22. MUF: Moderovanie v organizovanom virtuálnom mieste asynchrónnych online diskusií."]
["4.1.22. MUF: Konzultovanie tém, ktoré navrhnú účastníci fóra (vrátanej offline formy)."]
["4.1.22. MUF: Moderovanie učiteľského fóra."]
["4.1.23. A: Realizácia prieskumnej činnosti v projekte."]
["4.1.23. A: Návrh zámeru prieskumu, cieľov, metodiky, nástrojov zisťovania a cieľovej skupiny."]
["4.1.23. A: Určenie postupu, termínu a miesta realizácie opytovania."]
["4.1.23. A:  Spracovanie a interpretácia zistenia z opytovania."]
["4.1.23. A: Formulovanie návrhov a odporúčaní vyplývajúcich z prieskumu pre realizáciu projektu."]
["4.1.23. A: Realizácia prieskumnej činnosti v projekte, následne spracovanie a interpretácia zistenia z opytovania, finalizácia prieskumu."]
["4.1.25. T PV a UZ: Návrh programu vzdelávania."]
["4.1.25. T PV a UZ: Spracovanie programu vzdelávania."]
["4.1.25. T PV a UZ: Finálne spracovanie programu vzdelávania."]
["4.1.25. T PV a UZ: Zapracovanie pripomienok do  programu vzdelávania."]
["4.1.25. T PV a UZ: Návrh učebných zdrojov k programu vzdelávania."]
["4.1.25. T PV a UZ: Spracovanie  učebných zdrojov k programu vzdelávania."]
["4.1.25. T PV a UZ: Zapracovanie pripomienok do  programu vzdelávania a do učebných zdrojov."]
["4.1.25. T PV a UZ:  Návrh  a spracovanie programu vzdelávania a učebných zdrojov."]
["4.1.25. T PV a UZ: Finalizácia vzdelávacieho programu a učebných zdrojov."]
["4.1.25. T PV a UZ: Konzultovanie pripomienok s konzultantom obsahu PV a UZ."]
["4.1.28. OG IV: Dohľad pri realizácii vzdelávacích aktivít v inovačných programoch vzdelávania."]
["4.1.28. OG IV: Príprava a vedie lektorov."]
["4.1.28. OG IV: Kontrola priebehu  realizácie vzdelávacích programov."]
["4.1.28. OG IV: Kontrola ukončenia realizácie vzdelávacích programov."]
["4.1.28. OG IV: Vyhodnotenie realizácie programu vzdelávania."]
["4.1.28. OG IV: Príprava podkladov na archiváciu v zmysle interných a projektových pokynov."]
["4.1.28. OG IV: Kontrola zapracovaných pripomienok."]
["4.1.28. OG IV: Účasť na porade k vzdelávacím programom v rámci národného projektu."]
["4.1.28. OG IV: Priebežné vyhodnocovanie výstupov z realizovaných vzdelávacích programov."]
["4.1.28. OG IV: Vyhodnotenie programu vzdelávania."]
["4.1.28. OG IV: Účasť na porade k vzdelávacím programom v rámci národného projektu a vyhodnotenie programu vzdelávania."]
["4.1.29 VVS: Zakladanie vzdelávacej skupiny."]
["4.1.29. VVS: Správa databázy účastníkov, tvorba materiálov (pozvánky, prezenčné listiny, triednu knihu skupiny)."]
["4.1.29. VVS: Sumarizácia dištančných úloh."]
["4.1.29. VVS: Plánovanie a príprava harmonogramu vzdelávacích aktivít."]
["4.1.29. VVS: Sumarizácia dištančných úloh a záverečných prezentácii, príprava a spracovanie záverov, vrátane podkladov na spracovanie osvedčení a protokolov. "]
["4.1.29. VVS: Príprava podkladov na archiváciu v zmysle interných a projektových pokynov."]
["4.1.29. VVS: Koordinovanie vzdelávacích skupín."]
["4.1.30. L: Príprava na lektorskú činnosť."]
["4.1.30. L: Úprava materiálov pre účastníkov vzdelávania."]
["4.1.30. L: Lektorovanie programu vzdelávania."]
["4.1.30. L: Ukončovanie  vzdelávacieho programu (člen skúšobnej komisie). "]
["4.1.30. L: Ukončovanie  vzdelávacieho programu (predseda skúšobnej komisie). "]
["4.1.30. L: Vyhodnotenie programu vzdelávania za skupinu."]
["4.1.30. L: Príprava na lektorskú činnosť.  Úprava materiálov pre účastníkov vzdelávania."]
["4.1.30. L: Príprava na lektorskú činnosť a lektorovanie programu vzdelávania."]
["4.1.32. P.: Realizácia individuálneho poradenstva pedagogickým zamestnancom s dôrazom na aplikáciu poznatkov zo vzdelávacích programov a aktivít v školskej praxi."]
["4.1.32. P.: Poskytovanie spätnej väzby na pozorované edukačné procesy."]
["4.1.32. P.: Realizácia poradenského projektu."]
["4.1.32. P.: Návrh a vypracovanie odporúčaní na zvýšenie kvality výchovno-vzdelávacieho procesu."]
["4.1.32. P.: Vyhodnotenie realizácie poradenského projektu."]
["4.1.32. P: Príprava podkladom na realizáciu poradenského projektu, realizácia poradenského projektu."]
["4.1.32. P: Príprava poradenského projektu."]
["sviatok"]
["dovolenka"]
["iné náhrady"]
["lekár"]
["sprevádzanie člena rodiny"]
["PN"]
["OČR"]
["neplatené voľno"]

{"sheet":"Číselníky","index":13,"n_rows":17,"n_cols":4,"rows_kept":17,"cut":false,"hidden":false,"merged":[]}
["Pozícia","VRR","Miesto","Pracovný pomer"]
["4.1.2. Člen expertnej skupiny",0.13689999999999999,"Bratislava","PP"]
["4.1.4. Člen pracovnej skupiny",null,"Banská Bystrica","D"]
["4.1.8. Regionálny odborný riešiteľ 1.2",null,"Prešov","F"]
["4.1.9. Odborný personál podaktivity 1.2",null,"Košice","I"]
["4.1.12. Odborný konzultant NOPS",null,"Komárno","DD"]
["4.1.15. Hodnotiteľ NOPS",null,"Nitra"]
["4.1.17. Moderátor konferencie",null,"Trenčín"]
["4.1.18. Odborný personál konfrencie",null,"Trnava"]
["4.1.20. Lektor učiteľských fór",null,"Žilina"]
["4.1.22. Moderátor učiteľských fór",null,"home office "]
["4.1.23. Analytik",null,"home office (miesto trvalého bydliska)"]
["4.1. 25. Tvorca PV a UZ"]
["4.1.28. Odborný garant PV - inovačné programy (podľa zákona č. 138/2019 Z.z.)"]
["4.1.29. Vedúci vzdelávacej skupiny"]
["4.1.30. Lektor PV"]
["4.1.32. Poradcovia v školách "]